{"text_format":"1","workbook":"xlsx","n_sheets":7,"sheets":["vantHoff_EOS","Isobaric Results","Isothermal Results","Adiabatic Plug Flow Reactor","Reaction Progress","Thermochemical Database","Function List"],"not_rendered":{"charts":19,"images":6,"macros":1,"external_links":0,"defined_names":40,"comments":0,"pivot_tables":0},"unopened":[],"bounds":{"document_bytes":16777216,"sheet_cells":100000,"rows_first":2000,"rows_last":500,"rows_between":2000,"halvings":0,"cell_chars":16384,"cell_head_chars":4096},"cells_cut":0,"cells_raw":0,"read":"whole","date_system":"1900"}

{"sheet":"vantHoff_EOS","index":0,"n_rows":31,"n_cols":40,"rows_kept":31,"cut":false,"hidden":false,"merged":[]}
[null,null,null,null,null,null,null,null,null,null,null,null,null,{"$f":"COLUMN()","v":14},{"$f":"COLUMN()","v":15},{"$f":"COLUMN()","v":16},{"$f":"COLUMN()","v":17},{"$f":"COLUMN()","v":18},{"$f":"COLUMN()","v":19},{"$f":"COLUMN()","v":20},{"$f":"COLUMN()","v":21},{"$f":"COLUMN()","v":22},{"$f":"COLUMN()","v":23},{"$f":"COLUMN()","v":24},{"$f":"COLUMN()","v":25},{"$f":"COLUMN()","v":26},{"$f":"COLUMN()","v":27},{"$f":"COLUMN()","v":28},{"$f":"COLUMN()","v":29},{"$f":"COLUMN()","v":30},{"$f":"COLUMN()","v":31},{"$f":"COLUMN()","v":32},{"$f":"COLUMN()","v":33},{"$f":"COLUMN()","v":34},{"$f":"COLUMN()","v":35},{"$f":"COLUMN()","v":36},{"$f":"COLUMN()","v":37},{"$f":"COLUMN()","v":38},{"$f":"COLUMN()","v":39},{"$f":"COLUMN()","v":40}]
[null,null,null,"Chemical Equilibria with Non-ideal gas phase v1.1",null,null,null,null,null,null,null,null,null,null,"Chemical species list and thermophysical properties",null,null,null,null,null,null,null,null,"Properties for the equation of state"]
[null,null,"Report problems to: smith@scf.che.tohoku.ac.jp",null,null,null,null,null,null,null,null,null,null,null,null,null,"Cp [J/mol K]",null,null,null,null,null,null,null,null,null,null,null,null,null,null,"kij matrix, kijm"]
[null,null,null,null,null,null,null,null,null,null,null,"Component","Substance","Formula","a","b","c","d","e","DHo [J/mol]","DGo  [J/mol]",null,"Mw","Tc [K]","Pc [Pa]","w [-]",null,null,null,null,"j=1",2,3,4,5,6,7,8,9,10]
["Reaction thermochemistry",null,null,null,null,null,"Equations used:",null,null,null,null,1,"carbon monoxide ","CO ",29.556000000000001,-6.5807000000000001E-3,2.0129999999999999E-5,-1.2226999999999999E-8,2.2616999999999999E-12,-110500,-137200,null,28.01,132.91999999999999,3499000,6.6000000000000003E-2,null,null,null,"i=1",0,0,0,0,0]
["dHrxn0_Tref [J/mol]:",{"$f":"dHrxnTref_NS_vi_dHfi($N$19,$O$23:$X$23,$T$5:$T$14)","v":-114940},null,"Number of Species:",{"$f":"$N$19","v":5},null,null,null,null,null,null,2,"hydrogen ","H2 ",25.399000000000001,2.0178000000000001E-2,-3.8549E-5,3.1879999999999998E-8,-8.7585000000000007E-12,0,0,null,2.016,33.18,1313000,-0.22,null,null,null,2,null,0,0,0,0]
["dGrxn0_Tref [J/mol]:",{"$f":"dGrxn0_NS_vi_dGfi($N$19,$O$23:$X$23,$U$5:$U$14)","v":-40290},null,"Tref [C]:",25,null,null,null,null,null,null,3,"propylene ","C3H6 ",31.297999999999998,7.2449E-2,1.9481000000000001E-4,-2.1582000000000001E-7,6.2973999999999999E-11,20420,62720,null,42.081000000000003,364.76,4613000,0.14199999999999999,null,null,null,3,null,null,0,0,0]
["Ka0_Tref :",{"$f":"EXP(lnKaTref_Tref_dG($E$7,$B$7))","v":11452370.066304654},null,"Xlimiting",{"$f":"Xlimiting_NS_n0i_vi($N$19,O31:X31,O23:X23)","v":1},null,null,null,null,null,null,4,"n-butyraldehyde ","C4H8O ",64.373999999999995,6.4776E-2,3.5143000000000001E-4,-3.5371000000000001E-7,1.0081999999999999E-10,-205020,-114770,null,72.106999999999999,525,4000000,0.34499999999999997,null,null,null,4,null,null,null,0,0]
["ln Ka0_Tref:",{"$f":"lnKaTref_Tref_dG($E$7,$B$7)","v":16.253707259234854},null,"nT",{"$f":"nT_NS_n0i_vi_X(N19,O31:X31,O23:X23,1)","v":8.34},null,null,null,null,null,null,5,"carbon dioxide ","CO2 ",27.437000000000001,4.2314999999999998E-2,-1.9555000000000002E-5,3.9968000000000001E-9,-2.9872000000000001E-13,-393500,-394400,null,44.01,304.19,7382000,0.22800000000000001,null,null,null,5,null,null,null,null,0]
[null,null,null,"Total moles",{"$f":"SUM(O31:X31)","v":10.34},null,null,null,null,null,null,null,null,null,null,null,null,null,null,null,null,null,null,null,null,null,null,null,null,6]
["T [C]:",60,null,"Species No.","Cp0 [J/(mol K)]","Cp0 [J/(kg K)]",null,null,null,null,null,null,null,null,null,null,null,null,null,null,null,null,null,null,null,null,null,null,null,7]
["dHrxn0_T [J/mol]:",{"$f":"dHrxnT_Tref_dHrxnref_TinC_da_db_dc_dd_de($E$7,$B$6,$B$11,$O$27,$P$27,$Q$27,$R$27,$S$27)","v":-115488.17422500822},null,{"$f":"IF(L5>=1,L5,\"-\")","v":1},{"$f":"IF(L5>=1,Cp_TinC_a_b_c_d_e($B$11,O5,P5,Q5,R5,S5),\"-\")","v":29.145741747740992},{"$f":"IF(L5>=1,E12/W5*1000,\"-\")","v":1040.5477239464831},null,null,null,null,null,null,null,null,null,null,null,null,null,null,null,null,null,null,null,null,null,null,null,8]
["dGrxn0_T [J/mol]:",{"$f":"dGrxnT_Tref_lnKaTref_dHTref_da_db_dc_dd_de_TinC($E$7,$B$9,$B$6,$O$27,$P$27,$Q$27,$R$27,$S$27,$B$11)","v":-31495.23750463008},null,2,{"$f":"IF(L6>=1,Cp_TinC_a_b_c_d_e($B$11,O6,P6,Q6,R6,S6),\"-\")","v":29.021582316391793},14395.626149003865,null,null,null,null,null,null,null,null,null,null,null,null,null,null,null,null,null,null,null,null,null,null,null,9]
["Ka0_T :",{"$f":"EXP(lnKaT_Tref_lnKaTref_dHTref_da_db_dc_dd_de_TinC($E$7,$B$9,$B$6,$O$27,$P$27,$Q$27,$R$27,$S$27,$B$11))","v":86760.392694887007},null,3,{"$f":"IF(L7>=1,Cp_TinC_a_b_c_d_e($B$11,O7,P7,Q7,R7,S7),\"-\")","v":69.075984756271552},1641.5005526549166,null,null,null,null,null,null,null,null,null,null,null,null,null,null,null,null,null,null,null,null,null,null,null,10]
["ln Ka0_T:",{"$f":"LN(B14)","v":11.370905491151026},null,4,{"$f":"IF(L8>=1,Cp_TinC_a_b_c_d_e($B$11,O8,P8,Q8,R8,S8),\"-\")","v":111.8801947885092},1551.5857654389893]
[null,null,null,5,{"$f":"IF(L9>=1,Cp_TinC_a_b_c_d_e($B$11,O9,P9,Q9,R9,S9),\"-\")","v":39.511639385565502},897.78776154431955]
["Equilibrium conversion",null,null,"-",{"$f":"IF(L10>=1,Cp_TinC_a_b_c_d_e($B$11,O10,P10,Q10,R10,S10),\"-\")","v":"-"},"-",null,null,null,null,null,null,null,null,"Chemical Species Table:",null,null,"(CO2, H2O, inerts, etc.)"]
["T [C]:",47,null,"-",{"$f":"IF(L11>=1,Cp_TinC_a_b_c_d_e($B$11,O11,P11,Q11,R11,S11),\"-\")","v":"-"},"-",null,null,null,null,null,null,null,null,1,2,3,4,5,6,7,8,9,10]
["P [MPa]:",0.1,null,"-",{"$f":"IF(L12>=1,Cp_TinC_a_b_c_d_e($B$11,O12,P12,Q12,R12,S12),\"-\")","v":"-"},"-",null,null,null,null,null,null,"Number of Species (NS):",{"$f":"COUNTA(O19:X19)","v":5},"CO ","H2 ","C3H6 ","C4H8O ","CO2 "]
["X [mol]:",{"$f":"MolarExtentX_NS_vi_n0i_dHfi_dGfi_TrefinC_da_db_dc_dd_de_Tci_Pci_wi_kijm_TinC_PinPa($N$19,$O$23:$X$23,$O$31:$X$31,$T$5:$T$14,$U$5:$U$14,$E$7,$O$27,$P$27,$Q$27,$R$27,$S$27,$X$5:$X$14,$Y$5:$Y$14,$Z$5:$Z$14,$AE$5:$AN$14,$B$18,$B$19*1000000)","v":0.94803746240364439},null,"-",{"$f":"IF(L13>=1,Cp_TinC_a_b_c_d_e($B$11,O13,P13,Q13,R13,S13),\"-\")","v":"-"},"-"]
["X/Xlimiting [-]:",{"$f":"B20/E8","v":0.94803746240364439},null,"-",{"$f":"IF(L14>=1,Cp_TinC_a_b_c_d_e($B$11,O14,P14,Q14,R14,S14),\"-\")","v":"-"},"-",null,null,null,null,null,null,null,null,"Reaction Equations Table.  Enter +1, +2, +3 etc. for products and -1, -2, -3, etc. for reactants, 0 for inerts or nonreactant participants"]
[null,null,null,null,null,null,null,null,null,null,null,null,null,null,1,2,3,4,5,6,7,8,9,10]
["Isobar 1 (50 point curves)",null,null,"Isothermal 1 (50 point curves)",null,null,null,null,null,null,null,null,null,"Stoichiometric coefficients (vi):",-1,-1,-1,1,0]
["P [MPa]:",0.1,null,"T [C]:",47]
["T_start [C]:",0,null,"P_start [MPa]:",8,null,null,null,null,null,null,null,null,null,"Delta Cp values [J/mol K]"]
["dT [C]:",2,null,"dP [MPa]:",0.2,null,null,null,null,null,null,null,null,null,"Da","Db","Dc","Dd","De"]
[null,null,null,null,null,null,null,null,null,null,null,null,null,"dCp values: (da, db, dc, dd, de):",{"$f":"daCP_NS_vi_ai($N$19,O23:X23,O5:O14)","v":-21.879000000000005},{"$f":"dbCp_NS_vi_bi($N$19,O23:X23,P5:P14)","v":-2.1270300000000006E-2},{"$f":"dcCp_NS_vi_ci($N$19,O23:X23,Q5:Q14)","v":1.7503899999999999E-4},{"$f":"ddCp_NS_vi_di($N$19,O23:X23,R5:R14)","v":-1.57543E-7},{"$f":"deCp_NS_vi_ei($N$19,O23:X23,S5:S14)","v":4.43428E-11}]
["Isobar 2 (50 point curves)",null,null,"Isothermal 2 (50 point curves)"]
["P [MPa]:",12,null,"T [C]:",60,null,null,null,null,null,null,null,null,null,"Initial moles of each chemical species"]
["T_start [C]:",0,null,"P_start [MPa]:",8,null,null,null,null,null,null,null,null,null,1,2,3,4,5,6,7,8,9,10]
["dT [C]:",2,null,"dP [MPa]:",0.2,null,null,null,null,null,null,null,null,"Initial moles (n0,i):",1,1,1,0,7.34]

{"sheet":"Isobaric Results","index":1,"n_rows":110,"n_cols":35,"rows_kept":110,"cut":false,"hidden":false,"merged":[]}
[null,null,null,null,null,null,null,null,null,null,null,null,null,null,null,null,null,null,"Mole fractions yi"]
[null,"P [Pa]",{"$f":"vantHoff_EOS!$B$24*1000000","v":100000},{"$f":"TEXT(C2/1000000,\"?????.?\")&\" MPa\"","v":"     .1 MPa"},null,null,null,null,null,null,null,null,null,null,{"$f":"\"y\"&TEXT(O3,\"##\")","v":"y1"},{"$f":"\"y\"&TEXT(P3,\"##\")","v":"y2"},"y3","y4","y5","y6","y7","y8","y9","y10",null,null,null,null,"Fugacity coefficients"]
[null,"T [C]","T [K]","1/T [1/K]","ln Ka_T","Ka_T","X","Ky","Kp","Kphi","ln Ky","ln Kp","ln Kphi (P1)","nT [mol]",1,2,3,4,5,6,7,8,9,10,"Sum y",1,2,3,4,5,6,7,8,9,10]
[1,{"$f":"vantHoff_EOS!B25","v":0},{"$f":"B4+273.15","v":273.14999999999998},{"$f":"1/C4","v":3.6609921288669233E-3},{"$f":"lnKaT_Tref_lnKaTref_dHTref_da_db_dc_dd_de_TinC(vantHoff_EOS!$E$7,vantHoff_EOS!$B$9,vantHoff_EOS!$B$6,vantHoff_EOS!$O$27,vantHoff_EOS!$P$27,vantHoff_EOS!$Q$27,vantHoff_EOS!$R$27,vantHoff_EOS!$S$27,B4)","v":20.48959566238808},{"$f":"EXP(E4)","v":791622870.20484126},{"$f":"MolarExtentX_NS_vi_n0i_dHfi_dGfi_TrefinC_da_db_dc_dd_de_Tci_Pci_wi_kijm_TinC_PinPa(vantHoff_EOS!$N$19,vantHoff_EOS!$O$23:$X$23,vantHoff_EOS!$O$31:$X$31,vantHoff_EOS!$T$5:$T$14,vantHoff_EOS!$U$5:$U$14,vantHoff_EOS!$E$7,vantHoff_EOS!$O$27,vantHoff_EOS!$P$27,vantHoff_EOS!$Q$27,vantHoff_EOS!$R$27,vantHoff_EOS!$S$27,vantHoff_EOS!$X$5:$X$14,vantHoff_EOS!$Y$5:$Y$14,vantHoff_EOS!$Z$5:$Z$14,vantHoff_EOS!$AE$5:$AN$14,B4,$C$2)","v":0.99560979382900794},{"$f":"Ky_NS_n0i_vi_X(vantHoff_EOS!$N$19,vantHoff_EOS!$O$31:$X$31,vantHoff_EOS!$O$23:$X$23,G4)","v":820125828.479954},{"$f":"Kp_NS_vi_PinPa(vantHoff_EOS!$N$19,vantHoff_EOS!$O$23:$X$23,$C$2)","v":1},{"$f":"Kphi_NS_n0i_vi_X_Tci_Pci_wi_kijm_TinC_PinPa(vantHoff_EOS!$N$19,vantHoff_EOS!$O$31:$X$31,vantHoff_EOS!$O$23:$X$23,G4,vantHoff_EOS!$X$5:$X$14,vantHoff_EOS!$Y$5:$Y$14,vantHoff_EOS!$Z$5:$Z$14,vantHoff_EOS!$AE$5:$AN$14,B4,$C$2)","v":0.96524560420126515},{"$f":"LN(H4)","v":20.524968335816222},{"$f":"LN(I4)","v":0},{"$f":"LN(J4)","v":-3.5372697900204399E-2},{"$f":"nT_NS_n0i_vi_X(vantHoff_EOS!$N$19,vantHoff_EOS!$O$31:$X$31,vantHoff_EOS!$O$23:$X$23,G4)","v":8.3487804123419842},{"$f":"IF(O$3<=vantHoff_EOS!$N$19,y_iindex_NS_n0i_vi_X(O$3,vantHoff_EOS!$N$19,vantHoff_EOS!$O$31:$X$31,vantHoff_EOS!$O$23:$X$23,$G4),\"-\")","v":5.2584999894140572E-4},{"$f":"IF(P$3<=vantHoff_EOS!$N$19,y_iindex_NS_n0i_vi_X(P$3,vantHoff_EOS!$N$19,vantHoff_EOS!$O$31:$X$31,vantHoff_EOS!$O$23:$X$23,$G4),\"-\")","v":5.2584999894140572E-4},{"$f":"IF(Q$3<=vantHoff_EOS!$N$19,y_iindex_NS_n0i_vi_X(Q$3,vantHoff_EOS!$N$19,vantHoff_EOS!$O$31:$X$31,vantHoff_EOS!$O$23:$X$23,$G4),\"-\")","v":5.2584999894140572E-4},{"$f":"IF(R$3<=vantHoff_EOS!$N$19,y_iindex_NS_n0i_vi_X(R$3,vantHoff_EOS!$N$19,vantHoff_EOS!$O$31:$X$31,vantHoff_EOS!$O$23:$X$23,$G4),\"-\")","v":0.11925212362241557},{"$f":"IF(S$3<=vantHoff_EOS!$N$19,y_iindex_NS_n0i_vi_X(S$3,vantHoff_EOS!$N$19,vantHoff_EOS!$O$31:$X$31,vantHoff_EOS!$O$23:$X$23,$G4),\"-\")","v":0.8791703263807602},{"$f":"IF(T$3<=vantHoff_EOS!$N$19,y_iindex_NS_n0i_vi_X(T$3,vantHoff_EOS!$N$19,vantHoff_EOS!$O$31:$X$31,vantHoff_EOS!$O$23:$X$23,$G4),\"-\")","v":"-"},{"$f":"IF(U$3<=vantHoff_EOS!$N$19,y_iindex_NS_n0i_vi_X(U$3,vantHoff_EOS!$N$19,vantHoff_EOS!$O$31:$X$31,vantHoff_EOS!$O$23:$X$23,$G4),\"-\")","v":"-"},{"$f":"IF(V$3<=vantHoff_EOS!$N$19,y_iindex_NS_n0i_vi_X(V$3,vantHoff_EOS!$N$19,vantHoff_EOS!$O$31:$X$31,vantHoff_EOS!$O$23:$X$23,$G4),\"-\")","v":"-"},{"$f":"IF(W$3<=vantHoff_EOS!$N$19,y_iindex_NS_n0i_vi_X(W$3,vantHoff_EOS!$N$19,vantHoff_EOS!$O$31:$X$31,vantHoff_EOS!$O$23:$X$23,$G4),\"-\")","v":"-"},{"$f":"IF(X$3<=vantHoff_EOS!$N$19,y_iindex_NS_n0i_vi_X(X$3,vantHoff_EOS!$N$19,vantHoff_EOS!$O$31:$X$31,vantHoff_EOS!$O$23:$X$23,$G4),\"-\")","v":"-"},{"$f":"SUM(O4:X4)","v":1},{"$f":"IF(Z$3<=vantHoff_EOS!$N$19,Phi_i_NS_Tci_Pci_wi_kijm_TinC_PinPa_yi(Z$3,vantHoff_EOS!$N$19,vantHoff_EOS!$X$5:$X$14,vantHoff_EOS!$Y$5:$Y$14,vantHoff_EOS!$Z$5:$Z$14,vantHoff_EOS!$AE$5:$AN$14,B4,$C$2,$O4:$X4),\"-\")","v":1.0036300400139386},{"$f":"IF(AA$3<=vantHoff_EOS!$N$19,Phi_i_NS_Tci_Pci_wi_kijm_TinC_PinPa_yi(AA$3,vantHoff_EOS!$N$19,vantHoff_EOS!$X$5:$X$14,vantHoff_EOS!$Y$5:$Y$14,vantHoff_EOS!$Z$5:$Z$14,vantHoff_EOS!$AE$5:$AN$14,C4,$C$2,$O4:$X4),\"-\")","v":1.0011926915921889},{"$f":"IF(AB$3<=vantHoff_EOS!$N$19,Phi_i_NS_Tci_Pci_wi_kijm_TinC_PinPa_yi(AB$3,vantHoff_EOS!$N$19,vantHoff_EOS!$X$5:$X$14,vantHoff_EOS!$Y$5:$Y$14,vantHoff_EOS!$Z$5:$Z$14,vantHoff_EOS!$AE$5:$AN$14,D4,$C$2,$O4:$X4),\"-\")","v":0.98281410974127426},{"$f":"IF(AC$3<=vantHoff_EOS!$N$19,Phi_i_NS_Tci_Pci_wi_kijm_TinC_PinPa_yi(AC$3,vantHoff_EOS!$N$19,vantHoff_EOS!$X$5:$X$14,vantHoff_EOS!$Y$5:$Y$14,vantHoff_EOS!$Z$5:$Z$14,vantHoff_EOS!$AE$5:$AN$14,E4,$C$2,$O4:$X4),\"-\")","v":0.96706001934519803},{"$f":"IF(AD$3<=vantHoff_EOS!$N$19,Phi_i_NS_Tci_Pci_wi_kijm_TinC_PinPa_yi(AD$3,vantHoff_EOS!$N$19,vantHoff_EOS!$X$5:$X$14,vantHoff_EOS!$Y$5:$Y$14,vantHoff_EOS!$Z$5:$Z$14,vantHoff_EOS!$AE$5:$AN$14,F4,$C$2,$O4:$X4),\"-\")","v":0.99999999922523408},{"$f":"IF(AE$3<=vantHoff_EOS!$N$19,Phi_i_NS_Tci_Pci_wi_kijm_TinC_PinPa_yi(AE$3,vantHoff_EOS!$N$19,vantHoff_EOS!$X$5:$X$14,vantHoff_EOS!$Y$5:$Y$14,vantHoff_EOS!$Z$5:$Z$14,vantHoff_EOS!$AE$5:$AN$14,G4,$C$2,$O4:$X4),\"-\")","v":"-"},{"$f":"IF(AF$3<=vantHoff_EOS!$N$19,Phi_i_NS_Tci_Pci_wi_kijm_TinC_PinPa_yi(AF$3,vantHoff_EOS!$N$19,vantHoff_EOS!$X$5:$X$14,vantHoff_EOS!$Y$5:$Y$14,vantHoff_EOS!$Z$5:$Z$14,vantHoff_EOS!$AE$5:$AN$14,H4,$C$2,$O4:$X4),\"-\")","v":"-"},{"$f":"IF(AG$3<=vantHoff_EOS!$N$19,Phi_i_NS_Tci_Pci_wi_kijm_TinC_PinPa_yi(AG$3,vantHoff_EOS!$N$19,vantHoff_EOS!$X$5:$X$14,vantHoff_EOS!$Y$5:$Y$14,vantHoff_EOS!$Z$5:$Z$14,vantHoff_EOS!$AE$5:$AN$14,I4,$C$2,$O4:$X4),\"-\")","v":"-"},{"$f":"IF(AH$3<=vantHoff_EOS!$N$19,Phi_i_NS_Tci_Pci_wi_kijm_TinC_PinPa_yi(AH$3,vantHoff_EOS!$N$19,vantHoff_EOS!$X$5:$X$14,vantHoff_EOS!$Y$5:$Y$14,vantHoff_EOS!$Z$5:$Z$14,vantHoff_EOS!$AE$5:$AN$14,J4,$C$2,$O4:$X4),\"-\")","v":"-"},{"$f":"IF(AI$3<=vantHoff_EOS!$N$19,Phi_i_NS_Tci_Pci_wi_kijm_TinC_PinPa_yi(AI$3,vantHoff_EOS!$N$19,vantHoff_EOS!$X$5:$X$14,vantHoff_EOS!$Y$5:$Y$14,vantHoff_EOS!$Z$5:$Z$14,vantHoff_EOS!$AE$5:$AN$14,K4,$C$2,$O4:$X4),\"-\")","v":"-"}]
[2,{"$f":"B4+vantHoff_EOS!$B$26","v":2},{"$f":"B5+273.15","v":275.14999999999998},{"$f":"1/C5","v":3.6343812465927678E-3},{"$f":"lnKaT_Tref_lnKaTref_dHTref_da_db_dc_dd_de_TinC(vantHoff_EOS!$E$7,vantHoff_EOS!$B$9,vantHoff_EOS!$B$6,vantHoff_EOS!$O$27,vantHoff_EOS!$P$27,vantHoff_EOS!$Q$27,vantHoff_EOS!$R$27,vantHoff_EOS!$S$27,B5)","v":20.123011479912652},{"$f":"EXP(E5)","v":548672059.74604237},{"$f":"MolarExtentX_NS_vi_n0i_dHfi_dGfi_TrefinC_da_db_dc_dd_de_Tci_Pci_wi_kijm_TinC_PinPa(vantHoff_EOS!$N$19,vantHoff_EOS!$O$23:$X$23,vantHoff_EOS!$O$31:$X$31,vantHoff_EOS!$T$5:$T$14,vantHoff_EOS!$U$5:$U$14,vantHoff_EOS!$E$7,vantHoff_EOS!$O$27,vantHoff_EOS!$P$27,vantHoff_EOS!$Q$27,vantHoff_EOS!$R$27,vantHoff_EOS!$S$27,vantHoff_EOS!$X$5:$X$14,vantHoff_EOS!$Y$5:$Y$14,vantHoff_EOS!$Z$5:$Z$14,vantHoff_EOS!$AE$5:$AN$14,B5,$C$2)","v":0.99503855375933914},{"$f":"Ky_NS_n0i_vi_X(vantHoff_EOS!$N$19,vantHoff_EOS!$O$31:$X$31,vantHoff_EOS!$O$23:$X$23,G5)","v":568041372.87480056},{"$f":"Kp_NS_vi_PinPa(vantHoff_EOS!$N$19,vantHoff_EOS!$O$23:$X$23,$C$2)","v":1},{"$f":"Kphi_NS_n0i_vi_X_Tci_Pci_wi_kijm_TinC_PinPa(vantHoff_EOS!$N$19,vantHoff_EOS!$O$31:$X$31,vantHoff_EOS!$O$23:$X$23,G5,vantHoff_EOS!$X$5:$X$14,vantHoff_EOS!$Y$5:$Y$14,vantHoff_EOS!$Z$5:$Z$14,vantHoff_EOS!$AE$5:$AN$14,B5,$C$2)","v":0.96590154962000252},{"$f":"LN(H5)","v":20.157704813601065},{"$f":"LN(I5)","v":0},{"$f":"LN(J5)","v":-3.4693365470601013E-2},{"$f":"nT_NS_n0i_vi_X(vantHoff_EOS!$N$19,vantHoff_EOS!$O$31:$X$31,vantHoff_EOS!$O$23:$X$23,G5)","v":8.349922892481322},{"$f":"IF(O$3<=vantHoff_EOS!$N$19,y_iindex_NS_n0i_vi_X(O$3,vantHoff_EOS!$N$19,vantHoff_EOS!$O$31:$X$31,vantHoff_EOS!$O$23:$X$23,$G5),\"-\")","v":5.9419066553637143E-4},{"$f":"IF(P$3<=vantHoff_EOS!$N$19,y_iindex_NS_n0i_vi_X(P$3,vantHoff_EOS!$N$19,vantHoff_EOS!$O$31:$X$31,vantHoff_EOS!$O$23:$X$23,$G5),\"-\")","v":5.9419066553637143E-4},{"$f":"IF(Q$3<=vantHoff_EOS!$N$19,y_iindex_NS_n0i_vi_X(Q$3,vantHoff_EOS!$N$19,vantHoff_EOS!$O$31:$X$31,vantHoff_EOS!$O$23:$X$23,$G5),\"-\")","v":5.9419066553637143E-4},{"$f":"IF(R$3<=vantHoff_EOS!$N$19,y_iindex_NS_n0i_vi_X(R$3,vantHoff_EOS!$N$19,vantHoff_EOS!$O$31:$X$31,vantHoff_EOS!$O$23:$X$23,$G5),\"-\")","v":0.11916739430675706},{"$f":"IF(S$3<=vantHoff_EOS!$N$19,y_iindex_NS_n0i_vi_X(S$3,vantHoff_EOS!$N$19,vantHoff_EOS!$O$31:$X$31,vantHoff_EOS!$O$23:$X$23,$G5),\"-\")","v":0.87905003369663381},{"$f":"IF(T$3<=vantHoff_EOS!$N$19,y_iindex_NS_n0i_vi_X(T$3,vantHoff_EOS!$N$19,vantHoff_EOS!$O$31:$X$31,vantHoff_EOS!$O$23:$X$23,$G5),\"-\")","v":"-"},{"$f":"IF(U$3<=vantHoff_EOS!$N$19,y_iindex_NS_n0i_vi_X(U$3,vantHoff_EOS!$N$19,vantHoff_EOS!$O$31:$X$31,vantHoff_EOS!$O$23:$X$23,$G5),\"-\")","v":"-"},{"$f":"IF(V$3<=vantHoff_EOS!$N$19,y_iindex_NS_n0i_vi_X(V$3,vantHoff_EOS!$N$19,vantHoff_EOS!$O$31:$X$31,vantHoff_EOS!$O$23:$X$23,$G5),\"-\")","v":"-"},{"$f":"IF(W$3<=vantHoff_EOS!$N$19,y_iindex_NS_n0i_vi_X(W$3,vantHoff_EOS!$N$19,vantHoff_EOS!$O$31:$X$31,vantHoff_EOS!$O$23:$X$23,$G5),\"-\")","v":"-"},{"$f":"IF(X$3<=vantHoff_EOS!$N$19,y_iindex_NS_n0i_vi_X(X$3,vantHoff_EOS!$N$19,vantHoff_EOS!$O$31:$X$31,vantHoff_EOS!$O$23:$X$23,$G5),\"-\")","v":"-"},{"$f":"SUM(O5:X5)","v":1},{"$f":"IF(Z$3<=vantHoff_EOS!$N$19,Phi_i_NS_Tci_Pci_wi_kijm_TinC_PinPa_yi(Z$3,vantHoff_EOS!$N$19,vantHoff_EOS!$X$5:$X$14,vantHoff_EOS!$Y$5:$Y$14,vantHoff_EOS!$Z$5:$Z$14,vantHoff_EOS!$AE$5:$AN$14,B5,$C$2,$O5:$X5),\"-\")","v":1.003578402469687},{"$f":"IF(AA$3<=vantHoff_EOS!$N$19,Phi_i_NS_Tci_Pci_wi_kijm_TinC_PinPa_yi(AA$3,vantHoff_EOS!$N$19,vantHoff_EOS!$X$5:$X$14,vantHoff_EOS!$Y$5:$Y$14,vantHoff_EOS!$Z$5:$Z$14,vantHoff_EOS!$AE$5:$AN$14,C5,$C$2,$O5:$X5),\"-\")","v":1.0011796953565038},{"$f":"IF(AB$3<=vantHoff_EOS!$N$19,Phi_i_NS_Tci_Pci_wi_kijm_TinC_PinPa_yi(AB$3,vantHoff_EOS!$N$19,vantHoff_EOS!$X$5:$X$14,vantHoff_EOS!$Y$5:$Y$14,vantHoff_EOS!$Z$5:$Z$14,vantHoff_EOS!$AE$5:$AN$14,D5,$C$2,$O5:$X5),\"-\")","v":0.98281532213950962},{"$f":"IF(AC$3<=vantHoff_EOS!$N$19,Phi_i_NS_Tci_Pci_wi_kijm_TinC_PinPa_yi(AC$3,vantHoff_EOS!$N$19,vantHoff_EOS!$X$5:$X$14,vantHoff_EOS!$Y$5:$Y$14,vantHoff_EOS!$Z$5:$Z$14,vantHoff_EOS!$AE$5:$AN$14,E5,$C$2,$O5:$X5),\"-\")","v":0.96695249164082064},{"$f":"IF(AD$3<=vantHoff_EOS!$N$19,Phi_i_NS_Tci_Pci_wi_kijm_TinC_PinPa_yi(AD$3,vantHoff_EOS!$N$19,vantHoff_EOS!$X$5:$X$14,vantHoff_EOS!$Y$5:$Y$14,vantHoff_EOS!$Z$5:$Z$14,vantHoff_EOS!$AE$5:$AN$14,F5,$C$2,$O5:$X5),\"-\")","v":0.99999999888309554},{"$f":"IF(AE$3<=vantHoff_EOS!$N$19,Phi_i_NS_Tci_Pci_wi_kijm_TinC_PinPa_yi(AE$3,vantHoff_EOS!$N$19,vantHoff_EOS!$X$5:$X$14,vantHoff_EOS!$Y$5:$Y$14,vantHoff_EOS!$Z$5:$Z$14,vantHoff_EOS!$AE$5:$AN$14,G5,$C$2,$O5:$X5),\"-\")","v":"-"},{"$f":"IF(AF$3<=vantHoff_EOS!$N$19,Phi_i_NS_Tci_Pci_wi_kijm_TinC_PinPa_yi(AF$3,vantHoff_EOS!$N$19,vantHoff_EOS!$X$5:$X$14,vantHoff_EOS!$Y$5:$Y$14,vantHoff_EOS!$Z$5:$Z$14,vantHoff_EOS!$AE$5:$AN$14,H5,$C$2,$O5:$X5),\"-\")","v":"-"},{"$f":"IF(AG$3<=vantHoff_EOS!$N$19,Phi_i_NS_Tci_Pci_wi_kijm_TinC_PinPa_yi(AG$3,vantHoff_EOS!$N$19,vantHoff_EOS!$X$5:$X$14,vantHoff_EOS!$Y$5:$Y$14,vantHoff_EOS!$Z$5:$Z$14,vantHoff_EOS!$AE$5:$AN$14,I5,$C$2,$O5:$X5),\"-\")","v":"-"},{"$f":"IF(AH$3<=vantHoff_EOS!$N$19,Phi_i_NS_Tci_Pci_wi_kijm_TinC_PinPa_yi(AH$3,vantHoff_EOS!$N$19,vantHoff_EOS!$X$5:$X$14,vantHoff_EOS!$Y$5:$Y$14,vantHoff_EOS!$Z$5:$Z$14,vantHoff_EOS!$AE$5:$AN$14,J5,$C$2,$O5:$X5),\"-\")","v":"-"},{"$f":"IF(AI$3<=vantHoff_EOS!$N$19,Phi_i_NS_Tci_Pci_wi_kijm_TinC_PinPa_yi(AI$3,vantHoff_EOS!$N$19,vantHoff_EOS!$X$5:$X$14,vantHoff_EOS!$Y$5:$Y$14,vantHoff_EOS!$Z$5:$Z$14,vantHoff_EOS!$AE$5:$AN$14,K5,$C$2,$O5:$X5),\"-\")","v":"-"}]
[3,{"$f":"B5+vantHoff_EOS!$B$26","v":4},277.14999999999998,3.608154429009562E-3,{"$f":"lnKaT_Tref_lnKaTref_dHTref_da_db_dc_dd_de_TinC(vantHoff_EOS!$E$7,vantHoff_EOS!$B$9,vantHoff_EOS!$B$6,vantHoff_EOS!$O$27,vantHoff_EOS!$P$27,vantHoff_EOS!$Q$27,vantHoff_EOS!$R$27,vantHoff_EOS!$S$27,B6)","v":19.761607610206365},382258488.88549125,{"$f":"MolarExtentX_NS_vi_n0i_dHfi_dGfi_TrefinC_da_db_dc_dd_de_Tci_Pci_wi_kijm_TinC_PinPa(vantHoff_EOS!$N$19,vantHoff_EOS!$O$23:$X$23,vantHoff_EOS!$O$31:$X$31,vantHoff_EOS!$T$5:$T$14,vantHoff_EOS!$U$5:$U$14,vantHoff_EOS!$E$7,vantHoff_EOS!$O$27,vantHoff_EOS!$P$27,vantHoff_EOS!$Q$27,vantHoff_EOS!$R$27,vantHoff_EOS!$S$27,vantHoff_EOS!$X$5:$X$14,vantHoff_EOS!$Y$5:$Y$14,vantHoff_EOS!$Z$5:$Z$14,vantHoff_EOS!$AE$5:$AN$14,B6,$C$2)","v":0.99440275344288842},{"$f":"Ky_NS_n0i_vi_X(vantHoff_EOS!$N$19,vantHoff_EOS!$O$31:$X$31,vantHoff_EOS!$O$23:$X$23,G6)","v":395490632.12046754},{"$f":"Kp_NS_vi_PinPa(vantHoff_EOS!$N$19,vantHoff_EOS!$O$23:$X$23,$C$2)","v":1},{"$f":"Kphi_NS_n0i_vi_X_Tci_Pci_wi_kijm_TinC_PinPa(vantHoff_EOS!$N$19,vantHoff_EOS!$O$31:$X$31,vantHoff_EOS!$O$23:$X$23,G6,vantHoff_EOS!$X$5:$X$14,vantHoff_EOS!$Y$5:$Y$14,vantHoff_EOS!$Z$5:$Z$14,vantHoff_EOS!$AE$5:$AN$14,B6,$C$2)","v":0.96654242323839379},19.795637658723237,0,-3.40300876204922E-2,{"$f":"nT_NS_n0i_vi_X(vantHoff_EOS!$N$19,vantHoff_EOS!$O$31:$X$31,vantHoff_EOS!$O$23:$X$23,G6)","v":8.3511944931142228},{"$f":"IF(O$3<=vantHoff_EOS!$N$19,y_iindex_NS_n0i_vi_X(O$3,vantHoff_EOS!$N$19,vantHoff_EOS!$O$31:$X$31,vantHoff_EOS!$O$23:$X$23,$G6),\"-\")","v":6.7023305010159378E-4},{"$f":"IF(P$3<=vantHoff_EOS!$N$19,y_iindex_NS_n0i_vi_X(P$3,vantHoff_EOS!$N$19,vantHoff_EOS!$O$31:$X$31,vantHoff_EOS!$O$23:$X$23,$G6),\"-\")","v":6.7023305010159378E-4},{"$f":"IF(Q$3<=vantHoff_EOS!$N$19,y_iindex_NS_n0i_vi_X(Q$3,vantHoff_EOS!$N$19,vantHoff_EOS!$O$31:$X$31,vantHoff_EOS!$O$23:$X$23,$G6),\"-\")","v":6.7023305010159378E-4},{"$f":"IF(R$3<=vantHoff_EOS!$N$19,y_iindex_NS_n0i_vi_X(R$3,vantHoff_EOS!$N$19,vantHoff_EOS!$O$31:$X$31,vantHoff_EOS!$O$23:$X$23,$G6),\"-\")","v":0.11907311633836326},{"$f":"IF(S$3<=vantHoff_EOS!$N$19,y_iindex_NS_n0i_vi_X(S$3,vantHoff_EOS!$N$19,vantHoff_EOS!$O$31:$X$31,vantHoff_EOS!$O$23:$X$23,$G6),\"-\")","v":0.87891618451133202},{"$f":"IF(T$3<=vantHoff_EOS!$N$19,y_iindex_NS_n0i_vi_X(T$3,vantHoff_EOS!$N$19,vantHoff_EOS!$O$31:$X$31,vantHoff_EOS!$O$23:$X$23,$G6),\"-\")","v":"-"},{"$f":"IF(U$3<=vantHoff_EOS!$N$19,y_iindex_NS_n0i_vi_X(U$3,vantHoff_EOS!$N$19,vantHoff_EOS!$O$31:$X$31,vantHoff_EOS!$O$23:$X$23,$G6),\"-\")","v":"-"},{"$f":"IF(V$3<=vantHoff_EOS!$N$19,y_iindex_NS_n0i_vi_X(V$3,vantHoff_EOS!$N$19,vantHoff_EOS!$O$31:$X$31,vantHoff_EOS!$O$23:$X$23,$G6),\"-\")","v":"-"},{"$f":"IF(W$3<=vantHoff_EOS!$N$19,y_iindex_NS_n0i_vi_X(W$3,vantHoff_EOS!$N$19,vantHoff_EOS!$O$31:$X$31,vantHoff_EOS!$O$23:$X$23,$G6),\"-\")","v":"-"},{"$f":"IF(X$3<=vantHoff_EOS!$N$19,y_iindex_NS_n0i_vi_X(X$3,vantHoff_EOS!$N$19,vantHoff_EOS!$O$31:$X$31,vantHoff_EOS!$O$23:$X$23,$G6),\"-\")","v":"-"},1,{"$f":"IF(Z$3<=vantHoff_EOS!$N$19,Phi_i_NS_Tci_Pci_wi_kijm_TinC_PinPa_yi(Z$3,vantHoff_EOS!$N$19,vantHoff_EOS!$X$5:$X$14,vantHoff_EOS!$Y$5:$Y$14,vantHoff_EOS!$Z$5:$Z$14,vantHoff_EOS!$AE$5:$AN$14,B6,$C$2,$O6:$X6),\"-\")","v":1.0035276808064386},{"$f":"IF(AA$3<=vantHoff_EOS!$N$19,Phi_i_NS_Tci_Pci_wi_kijm_TinC_PinPa_yi(AA$3,vantHoff_EOS!$N$19,vantHoff_EOS!$X$5:$X$14,vantHoff_EOS!$Y$5:$Y$14,vantHoff_EOS!$Z$5:$Z$14,vantHoff_EOS!$AE$5:$AN$14,C6,$C$2,$O6:$X6),\"-\")","v":1.00116683804816},{"$f":"IF(AB$3<=vantHoff_EOS!$N$19,Phi_i_NS_Tci_Pci_wi_kijm_TinC_PinPa_yi(AB$3,vantHoff_EOS!$N$19,vantHoff_EOS!$X$5:$X$14,vantHoff_EOS!$Y$5:$Y$14,vantHoff_EOS!$Z$5:$Z$14,vantHoff_EOS!$AE$5:$AN$14,D6,$C$2,$O6:$X6),\"-\")","v":0.98281667252486093},{"$f":"IF(AC$3<=vantHoff_EOS!$N$19,Phi_i_NS_Tci_Pci_wi_kijm_TinC_PinPa_yi(AC$3,vantHoff_EOS!$N$19,vantHoff_EOS!$X$5:$X$14,vantHoff_EOS!$Y$5:$Y$14,vantHoff_EOS!$Z$5:$Z$14,vantHoff_EOS!$AE$5:$AN$14,E6,$C$2,$O6:$X6),\"-\")","v":0.96684660228377084},{"$f":"IF(AD$3<=vantHoff_EOS!$N$19,Phi_i_NS_Tci_Pci_wi_kijm_TinC_PinPa_yi(AD$3,vantHoff_EOS!$N$19,vantHoff_EOS!$X$5:$X$14,vantHoff_EOS!$Y$5:$Y$14,vantHoff_EOS!$Z$5:$Z$14,vantHoff_EOS!$AE$5:$AN$14,F6,$C$2,$O6:$X6),\"-\")","v":0.99999999839843989},{"$f":"IF(AE$3<=vantHoff_EOS!$N$19,Phi_i_NS_Tci_Pci_wi_kijm_TinC_PinPa_yi(AE$3,vantHoff_EOS!$N$19,vantHoff_EOS!$X$5:$X$14,vantHoff_EOS!$Y$5:$Y$14,vantHoff_EOS!$Z$5:$Z$14,vantHoff_EOS!$AE$5:$AN$14,G6,$C$2,$O6:$X6),\"-\")","v":"-"},{"$f":"IF(AF$3<=vantHoff_EOS!$N$19,Phi_i_NS_Tci_Pci_wi_kijm_TinC_PinPa_yi(AF$3,vantHoff_EOS!$N$19,vantHoff_EOS!$X$5:$X$14,vantHoff_EOS!$Y$5:$Y$14,vantHoff_EOS!$Z$5:$Z$14,vantHoff_EOS!$AE$5:$AN$14,H6,$C$2,$O6:$X6),\"-\")","v":"-"},{"$f":"IF(AG$3<=vantHoff_EOS!$N$19,Phi_i_NS_Tci_Pci_wi_kijm_TinC_PinPa_yi(AG$3,vantHoff_EOS!$N$19,vantHoff_EOS!$X$5:$X$14,vantHoff_EOS!$Y$5:$Y$14,vantHoff_EOS!$Z$5:$Z$14,vantHoff_EOS!$AE$5:$AN$14,I6,$C$2,$O6:$X6),\"-\")","v":"-"},{"$f":"IF(AH$3<=vantHoff_EOS!$N$19,Phi_i_NS_Tci_Pci_wi_kijm_TinC_PinPa_yi(AH$3,vantHoff_EOS!$N$19,vantHoff_EOS!$X$5:$X$14,vantHoff_EOS!$Y$5:$Y$14,vantHoff_EOS!$Z$5:$Z$14,vantHoff_EOS!$AE$5:$AN$14,J6,$C$2,$O6:$X6),\"-\")","v":"-"},{"$f":"IF(AI$3<=vantHoff_EOS!$N$19,Phi_i_NS_Tci_Pci_wi_kijm_TinC_PinPa_yi(AI$3,vantHoff_EOS!$N$19,vantHoff_EOS!$X$5:$X$14,vantHoff_EOS!$Y$5:$Y$14,vantHoff_EOS!$Z$5:$Z$14,vantHoff_EOS!$AE$5:$AN$14,K6,$C$2,$O6:$X6),\"-\")","v":"-"}]
[4,{"$f":"B6+vantHoff_EOS!$B$26","v":6},279.14999999999998,3.5823034210997673E-3,{"$f":"lnKaT_Tref_lnKaTref_dHTref_da_db_dc_dd_de_TinC(vantHoff_EOS!$E$7,vantHoff_EOS!$B$9,vantHoff_EOS!$B$6,vantHoff_EOS!$O$27,vantHoff_EOS!$P$27,vantHoff_EOS!$Q$27,vantHoff_EOS!$R$27,vantHoff_EOS!$S$27,B7)","v":19.405274035959618},267672301.83648545,{"$f":"MolarExtentX_NS_vi_n0i_dHfi_dGfi_TrefinC_da_db_dc_dd_de_Tci_Pci_wi_kijm_TinC_PinPa(vantHoff_EOS!$N$19,vantHoff_EOS!$O$23:$X$23,vantHoff_EOS!$O$31:$X$31,vantHoff_EOS!$T$5:$T$14,vantHoff_EOS!$U$5:$U$14,vantHoff_EOS!$E$7,vantHoff_EOS!$O$27,vantHoff_EOS!$P$27,vantHoff_EOS!$Q$27,vantHoff_EOS!$R$27,vantHoff_EOS!$S$27,vantHoff_EOS!$X$5:$X$14,vantHoff_EOS!$Y$5:$Y$14,vantHoff_EOS!$Z$5:$Z$14,vantHoff_EOS!$AE$5:$AN$14,B7,$C$2)","v":0.99369625144012874},{"$f":"Ky_NS_n0i_vi_X(vantHoff_EOS!$N$19,vantHoff_EOS!$O$31:$X$31,vantHoff_EOS!$O$23:$X$23,G7)","v":276758617.82354748},{"$f":"Kp_NS_vi_PinPa(vantHoff_EOS!$N$19,vantHoff_EOS!$O$23:$X$23,$C$2)","v":1},{"$f":"Kphi_NS_n0i_vi_X_Tci_Pci_wi_kijm_TinC_PinPa(vantHoff_EOS!$N$19,vantHoff_EOS!$O$31:$X$31,vantHoff_EOS!$O$23:$X$23,G7,vantHoff_EOS!$X$5:$X$14,vantHoff_EOS!$Y$5:$Y$14,vantHoff_EOS!$Z$5:$Z$14,vantHoff_EOS!$AE$5:$AN$14,B7,$C$2)","v":0.96716876113176431},19.438656268448678,0,-3.3382278454017901E-2,{"$f":"nT_NS_n0i_vi_X(vantHoff_EOS!$N$19,vantHoff_EOS!$O$31:$X$31,vantHoff_EOS!$O$23:$X$23,G7)","v":8.3526074971197417},{"$f":"IF(O$3<=vantHoff_EOS!$N$19,y_iindex_NS_n0i_vi_X(O$3,vantHoff_EOS!$N$19,vantHoff_EOS!$O$31:$X$31,vantHoff_EOS!$O$23:$X$23,$G7),\"-\")","v":7.5470427193484208E-4},{"$f":"IF(P$3<=vantHoff_EOS!$N$19,y_iindex_NS_n0i_vi_X(P$3,vantHoff_EOS!$N$19,vantHoff_EOS!$O$31:$X$31,vantHoff_EOS!$O$23:$X$23,$G7),\"-\")","v":7.5470427193484208E-4},{"$f":"IF(Q$3<=vantHoff_EOS!$N$19,y_iindex_NS_n0i_vi_X(Q$3,vantHoff_EOS!$N$19,vantHoff_EOS!$O$31:$X$31,vantHoff_EOS!$O$23:$X$23,$G7),\"-\")","v":7.5470427193484208E-4},{"$f":"IF(R$3<=vantHoff_EOS!$N$19,y_iindex_NS_n0i_vi_X(R$3,vantHoff_EOS!$N$19,vantHoff_EOS!$O$31:$X$31,vantHoff_EOS!$O$23:$X$23,$G7),\"-\")","v":0.11896838822880022},{"$f":"IF(S$3<=vantHoff_EOS!$N$19,y_iindex_NS_n0i_vi_X(S$3,vantHoff_EOS!$N$19,vantHoff_EOS!$O$31:$X$31,vantHoff_EOS!$O$23:$X$23,$G7),\"-\")","v":0.8787674989553953},{"$f":"IF(T$3<=vantHoff_EOS!$N$19,y_iindex_NS_n0i_vi_X(T$3,vantHoff_EOS!$N$19,vantHoff_EOS!$O$31:$X$31,vantHoff_EOS!$O$23:$X$23,$G7),\"-\")","v":"-"},{"$f":"IF(U$3<=vantHoff_EOS!$N$19,y_iindex_NS_n0i_vi_X(U$3,vantHoff_EOS!$N$19,vantHoff_EOS!$O$31:$X$31,vantHoff_EOS!$O$23:$X$23,$G7),\"-\")","v":"-"},{"$f":"IF(V$3<=vantHoff_EOS!$N$19,y_iindex_NS_n0i_vi_X(V$3,vantHoff_EOS!$N$19,vantHoff_EOS!$O$31:$X$31,vantHoff_EOS!$O$23:$X$23,$G7),\"-\")","v":"-"},{"$f":"IF(W$3<=vantHoff_EOS!$N$19,y_iindex_NS_n0i_vi_X(W$3,vantHoff_EOS!$N$19,vantHoff_EOS!$O$31:$X$31,vantHoff_EOS!$O$23:$X$23,$G7),\"-\")","v":"-"},{"$f":"IF(X$3<=vantHoff_EOS!$N$19,y_iindex_NS_n0i_vi_X(X$3,vantHoff_EOS!$N$19,vantHoff_EOS!$O$31:$X$31,vantHoff_EOS!$O$23:$X$23,$G7),\"-\")","v":"-"},1,{"$f":"IF(Z$3<=vantHoff_EOS!$N$19,Phi_i_NS_Tci_Pci_wi_kijm_TinC_PinPa_yi(Z$3,vantHoff_EOS!$N$19,vantHoff_EOS!$X$5:$X$14,vantHoff_EOS!$Y$5:$Y$14,vantHoff_EOS!$Z$5:$Z$14,vantHoff_EOS!$AE$5:$AN$14,B7,$C$2,$O7:$X7),\"-\")","v":1.0034778277963665},{"$f":"IF(AA$3<=vantHoff_EOS!$N$19,Phi_i_NS_Tci_Pci_wi_kijm_TinC_PinPa_yi(AA$3,vantHoff_EOS!$N$19,vantHoff_EOS!$X$5:$X$14,vantHoff_EOS!$Y$5:$Y$14,vantHoff_EOS!$Z$5:$Z$14,vantHoff_EOS!$AE$5:$AN$14,C7,$C$2,$O7:$X7),\"-\")","v":1.0011541138539919},{"$f":"IF(AB$3<=vantHoff_EOS!$N$19,Phi_i_NS_Tci_Pci_wi_kijm_TinC_PinPa_yi(AB$3,vantHoff_EOS!$N$19,vantHoff_EOS!$X$5:$X$14,vantHoff_EOS!$Y$5:$Y$14,vantHoff_EOS!$Z$5:$Z$14,vantHoff_EOS!$AE$5:$AN$14,D7,$C$2,$O7:$X7),\"-\")","v":0.9828181741137062},{"$f":"IF(AC$3<=vantHoff_EOS!$N$19,Phi_i_NS_Tci_Pci_wi_kijm_TinC_PinPa_yi(AC$3,vantHoff_EOS!$N$19,vantHoff_EOS!$X$5:$X$14,vantHoff_EOS!$Y$5:$Y$14,vantHoff_EOS!$Z$5:$Z$14,vantHoff_EOS!$AE$5:$AN$14,E7,$C$2,$O7:$X7),\"-\")","v":0.96674238621108421},{"$f":"IF(AD$3<=vantHoff_EOS!$N$19,Phi_i_NS_Tci_Pci_wi_kijm_TinC_PinPa_yi(AD$3,vantHoff_EOS!$N$19,vantHoff_EOS!$X$5:$X$14,vantHoff_EOS!$Y$5:$Y$14,vantHoff_EOS!$Z$5:$Z$14,vantHoff_EOS!$AE$5:$AN$14,F7,$C$2,$O7:$X7),\"-\")","v":0.99999999771551473},{"$f":"IF(AE$3<=vantHoff_EOS!$N$19,Phi_i_NS_Tci_Pci_wi_kijm_TinC_PinPa_yi(AE$3,vantHoff_EOS!$N$19,vantHoff_EOS!$X$5:$X$14,vantHoff_EOS!$Y$5:$Y$14,vantHoff_EOS!$Z$5:$Z$14,vantHoff_EOS!$AE$5:$AN$14,G7,$C$2,$O7:$X7),\"-\")","v":"-"},{"$f":"IF(AF$3<=vantHoff_EOS!$N$19,Phi_i_NS_Tci_Pci_wi_kijm_TinC_PinPa_yi(AF$3,vantHoff_EOS!$N$19,vantHoff_EOS!$X$5:$X$14,vantHoff_EOS!$Y$5:$Y$14,vantHoff_EOS!$Z$5:$Z$14,vantHoff_EOS!$AE$5:$AN$14,H7,$C$2,$O7:$X7),\"-\")","v":"-"},{"$f":"IF(AG$3<=vantHoff_EOS!$N$19,Phi_i_NS_Tci_Pci_wi_kijm_TinC_PinPa_yi(AG$3,vantHoff_EOS!$N$19,vantHoff_EOS!$X$5:$X$14,vantHoff_EOS!$Y$5:$Y$14,vantHoff_EOS!$Z$5:$Z$14,vantHoff_EOS!$AE$5:$AN$14,I7,$C$2,$O7:$X7),\"-\")","v":"-"},{"$f":"IF(AH$3<=vantHoff_EOS!$N$19,Phi_i_NS_Tci_Pci_wi_kijm_TinC_PinPa_yi(AH$3,vantHoff_EOS!$N$19,vantHoff_EOS!$X$5:$X$14,vantHoff_EOS!$Y$5:$Y$14,vantHoff_EOS!$Z$5:$Z$14,vantHoff_EOS!$AE$5:$AN$14,J7,$C$2,$O7:$X7),\"-\")","v":"-"},{"$f":"IF(AI$3<=vantHoff_EOS!$N$19,Phi_i_NS_Tci_Pci_wi_kijm_TinC_PinPa_yi(AI$3,vantHoff_EOS!$N$19,vantHoff_EOS!$X$5:$X$14,vantHoff_EOS!$Y$5:$Y$14,vantHoff_EOS!$Z$5:$Z$14,vantHoff_EOS!$AE$5:$AN$14,K7,$C$2,$O7:$X7),\"-\")","v":"-"}]
[5,{"$f":"B7+vantHoff_EOS!$B$26","v":8},281.14999999999998,3.556820202738752E-3,{"$f":"lnKaT_Tref_lnKaTref_dHTref_da_db_dc_dd_de_TinC(vantHoff_EOS!$E$7,vantHoff_EOS!$B$9,vantHoff_EOS!$B$6,vantHoff_EOS!$O$27,vantHoff_EOS!$P$27,vantHoff_EOS!$Q$27,vantHoff_EOS!$R$27,vantHoff_EOS!$S$27,B8)","v":19.053903854633955},188367208.91894585,{"$f":"MolarExtentX_NS_vi_n0i_dHfi_dGfi_TrefinC_da_db_dc_dd_de_Tci_Pci_wi_kijm_TinC_PinPa(vantHoff_EOS!$N$19,vantHoff_EOS!$O$23:$X$23,vantHoff_EOS!$O$31:$X$31,vantHoff_EOS!$T$5:$T$14,vantHoff_EOS!$U$5:$U$14,vantHoff_EOS!$E$7,vantHoff_EOS!$O$27,vantHoff_EOS!$P$27,vantHoff_EOS!$Q$27,vantHoff_EOS!$R$27,vantHoff_EOS!$S$27,vantHoff_EOS!$X$5:$X$14,vantHoff_EOS!$Y$5:$Y$14,vantHoff_EOS!$Z$5:$Z$14,vantHoff_EOS!$AE$5:$AN$14,B8,$C$2)","v":0.99291244160420178},{"$f":"Ky_NS_n0i_vi_X(vantHoff_EOS!$N$19,vantHoff_EOS!$O$31:$X$31,vantHoff_EOS!$O$23:$X$23,G8)","v":194638232.0866698},{"$f":"Kp_NS_vi_PinPa(vantHoff_EOS!$N$19,vantHoff_EOS!$O$23:$X$23,$C$2)","v":1},{"$f":"Kphi_NS_n0i_vi_X_Tci_Pci_wi_kijm_TinC_PinPa(vantHoff_EOS!$N$19,vantHoff_EOS!$O$31:$X$31,vantHoff_EOS!$O$23:$X$23,G8,vantHoff_EOS!$X$5:$X$14,vantHoff_EOS!$Y$5:$Y$14,vantHoff_EOS!$Z$5:$Z$14,vantHoff_EOS!$AE$5:$AN$14,B8,$C$2)","v":0.96778108346709735},19.086653173407488,0,-3.2749370725187417E-2,{"$f":"nT_NS_n0i_vi_X(vantHoff_EOS!$N$19,vantHoff_EOS!$O$31:$X$31,vantHoff_EOS!$O$23:$X$23,G8)","v":8.3541751167915965},{"$f":"IF(O$3<=vantHoff_EOS!$N$19,y_iindex_NS_n0i_vi_X(O$3,vantHoff_EOS!$N$19,vantHoff_EOS!$O$31:$X$31,vantHoff_EOS!$O$23:$X$23,$G8),\"-\")","v":8.4838518425984144E-4},{"$f":"IF(P$3<=vantHoff_EOS!$N$19,y_iindex_NS_n0i_vi_X(P$3,vantHoff_EOS!$N$19,vantHoff_EOS!$O$31:$X$31,vantHoff_EOS!$O$23:$X$23,$G8),\"-\")","v":8.4838518425984144E-4},{"$f":"IF(Q$3<=vantHoff_EOS!$N$19,y_iindex_NS_n0i_vi_X(Q$3,vantHoff_EOS!$N$19,vantHoff_EOS!$O$31:$X$31,vantHoff_EOS!$O$23:$X$23,$G8),\"-\")","v":8.4838518425984144E-4},{"$f":"IF(R$3<=vantHoff_EOS!$N$19,y_iindex_NS_n0i_vi_X(R$3,vantHoff_EOS!$N$19,vantHoff_EOS!$O$31:$X$31,vantHoff_EOS!$O$23:$X$23,$G8),\"-\")","v":0.11885224186987449},{"$f":"IF(S$3<=vantHoff_EOS!$N$19,y_iindex_NS_n0i_vi_X(S$3,vantHoff_EOS!$N$19,vantHoff_EOS!$O$31:$X$31,vantHoff_EOS!$O$23:$X$23,$G8),\"-\")","v":0.87860260257734601},{"$f":"IF(T$3<=vantHoff_EOS!$N$19,y_iindex_NS_n0i_vi_X(T$3,vantHoff_EOS!$N$19,vantHoff_EOS!$O$31:$X$31,vantHoff_EOS!$O$23:$X$23,$G8),\"-\")","v":"-"},{"$f":"IF(U$3<=vantHoff_EOS!$N$19,y_iindex_NS_n0i_vi_X(U$3,vantHoff_EOS!$N$19,vantHoff_EOS!$O$31:$X$31,vantHoff_EOS!$O$23:$X$23,$G8),\"-\")","v":"-"},{"$f":"IF(V$3<=vantHoff_EOS!$N$19,y_iindex_NS_n0i_vi_X(V$3,vantHoff_EOS!$N$19,vantHoff_EOS!$O$31:$X$31,vantHoff_EOS!$O$23:$X$23,$G8),\"-\")","v":"-"},{"$f":"IF(W$3<=vantHoff_EOS!$N$19,y_iindex_NS_n0i_vi_X(W$3,vantHoff_EOS!$N$19,vantHoff_EOS!$O$31:$X$31,vantHoff_EOS!$O$23:$X$23,$G8),\"-\")","v":"-"},{"$f":"IF(X$3<=vantHoff_EOS!$N$19,y_iindex_NS_n0i_vi_X(X$3,vantHoff_EOS!$N$19,vantHoff_EOS!$O$31:$X$31,vantHoff_EOS!$O$23:$X$23,$G8),\"-\")","v":"-"},1,{"$f":"IF(Z$3<=vantHoff_EOS!$N$19,Phi_i_NS_Tci_Pci_wi_kijm_TinC_PinPa_yi(Z$3,vantHoff_EOS!$N$19,vantHoff_EOS!$X$5:$X$14,vantHoff_EOS!$Y$5:$Y$14,vantHoff_EOS!$Z$5:$Z$14,vantHoff_EOS!$AE$5:$AN$14,B8,$C$2,$O8:$X8),\"-\")","v":1.0034287970383016},{"$f":"IF(AA$3<=vantHoff_EOS!$N$19,Phi_i_NS_Tci_Pci_wi_kijm_TinC_PinPa_yi(AA$3,vantHoff_EOS!$N$19,vantHoff_EOS!$X$5:$X$14,vantHoff_EOS!$Y$5:$Y$14,vantHoff_EOS!$Z$5:$Z$14,vantHoff_EOS!$AE$5:$AN$14,C8,$C$2,$O8:$X8),\"-\")","v":1.0011415168766038},{"$f":"IF(AB$3<=vantHoff_EOS!$N$19,Phi_i_NS_Tci_Pci_wi_kijm_TinC_PinPa_yi(AB$3,vantHoff_EOS!$N$19,vantHoff_EOS!$X$5:$X$14,vantHoff_EOS!$Y$5:$Y$14,vantHoff_EOS!$Z$5:$Z$14,vantHoff_EOS!$AE$5:$AN$14,D8,$C$2,$O8:$X8),\"-\")","v":0.98281984114514909},{"$f":"IF(AC$3<=vantHoff_EOS!$N$19,Phi_i_NS_Tci_Pci_wi_kijm_TinC_PinPa_yi(AC$3,vantHoff_EOS!$N$19,vantHoff_EOS!$X$5:$X$14,vantHoff_EOS!$Y$5:$Y$14,vantHoff_EOS!$Z$5:$Z$14,vantHoff_EOS!$AE$5:$AN$14,E8,$C$2,$O8:$X8),\"-\")","v":0.96663988269607204},{"$f":"IF(AD$3<=vantHoff_EOS!$N$19,Phi_i_NS_Tci_Pci_wi_kijm_TinC_PinPa_yi(AD$3,vantHoff_EOS!$N$19,vantHoff_EOS!$X$5:$X$14,vantHoff_EOS!$Y$5:$Y$14,vantHoff_EOS!$Z$5:$Z$14,vantHoff_EOS!$AE$5:$AN$14,F8,$C$2,$O8:$X8),\"-\")","v":0.99999999675821394},{"$f":"IF(AE$3<=vantHoff_EOS!$N$19,Phi_i_NS_Tci_Pci_wi_kijm_TinC_PinPa_yi(AE$3,vantHoff_EOS!$N$19,vantHoff_EOS!$X$5:$X$14,vantHoff_EOS!$Y$5:$Y$14,vantHoff_EOS!$Z$5:$Z$14,vantHoff_EOS!$AE$5:$AN$14,G8,$C$2,$O8:$X8),\"-\")","v":"-"},{"$f":"IF(AF$3<=vantHoff_EOS!$N$19,Phi_i_NS_Tci_Pci_wi_kijm_TinC_PinPa_yi(AF$3,vantHoff_EOS!$N$19,vantHoff_EOS!$X$5:$X$14,vantHoff_EOS!$Y$5:$Y$14,vantHoff_EOS!$Z$5:$Z$14,vantHoff_EOS!$AE$5:$AN$14,H8,$C$2,$O8:$X8),\"-\")","v":"-"},{"$f":"IF(AG$3<=vantHoff_EOS!$N$19,Phi_i_NS_Tci_Pci_wi_kijm_TinC_PinPa_yi(AG$3,vantHoff_EOS!$N$19,vantHoff_EOS!$X$5:$X$14,vantHoff_EOS!$Y$5:$Y$14,vantHoff_EOS!$Z$5:$Z$14,vantHoff_EOS!$AE$5:$AN$14,I8,$C$2,$O8:$X8),\"-\")","v":"-"},{"$f":"IF(AH$3<=vantHoff_EOS!$N$19,Phi_i_NS_Tci_Pci_wi_kijm_TinC_PinPa_yi(AH$3,vantHoff_EOS!$N$19,vantHoff_EOS!$X$5:$X$14,vantHoff_EOS!$Y$5:$Y$14,vantHoff_EOS!$Z$5:$Z$14,vantHoff_EOS!$AE$5:$AN$14,J8,$C$2,$O8:$X8),\"-\")","v":"-"},{"$f":"IF(AI$3<=vantHoff_EOS!$N$19,Phi_i_NS_Tci_Pci_wi_kijm_TinC_PinPa_yi(AI$3,vantHoff_EOS!$N$19,vantHoff_EOS!$X$5:$X$14,vantHoff_EOS!$Y$5:$Y$14,vantHoff_EOS!$Z$5:$Z$14,vantHoff_EOS!$AE$5:$AN$14,K8,$C$2,$O8:$X8),\"-\")","v":"-"}]
[6,{"$f":"B8+vantHoff_EOS!$B$26","v":10},283.14999999999998,3.5316969803990822E-3,{"$f":"lnKaT_Tref_lnKaTref_dHTref_da_db_dc_dd_de_TinC(vantHoff_EOS!$E$7,vantHoff_EOS!$B$9,vantHoff_EOS!$B$6,vantHoff_EOS!$O$27,vantHoff_EOS!$P$27,vantHoff_EOS!$Q$27,vantHoff_EOS!$R$27,vantHoff_EOS!$S$27,B9)","v":18.707393168759548},133204109.64156927,{"$f":"MolarExtentX_NS_vi_n0i_dHfi_dGfi_TrefinC_da_db_dc_dd_de_Tci_Pci_wi_kijm_TinC_PinPa(vantHoff_EOS!$N$19,vantHoff_EOS!$O$23:$X$23,vantHoff_EOS!$O$31:$X$31,vantHoff_EOS!$T$5:$T$14,vantHoff_EOS!$U$5:$U$14,vantHoff_EOS!$E$7,vantHoff_EOS!$O$27,vantHoff_EOS!$P$27,vantHoff_EOS!$Q$27,vantHoff_EOS!$R$27,vantHoff_EOS!$S$27,vantHoff_EOS!$X$5:$X$14,vantHoff_EOS!$Y$5:$Y$14,vantHoff_EOS!$Z$5:$Z$14,vantHoff_EOS!$AE$5:$AN$14,B9,$C$2)","v":0.99204422871887799},{"$f":"Ky_NS_n0i_vi_X(vantHoff_EOS!$N$19,vantHoff_EOS!$O$31:$X$31,vantHoff_EOS!$O$23:$X$23,G9)","v":137553560.05845711},{"$f":"Kp_NS_vi_PinPa(vantHoff_EOS!$N$19,vantHoff_EOS!$O$23:$X$23,$C$2)","v":1},{"$f":"Kphi_NS_n0i_vi_X_Tci_Pci_wi_kijm_TinC_PinPa(vantHoff_EOS!$N$19,vantHoff_EOS!$O$31:$X$31,vantHoff_EOS!$O$23:$X$23,G9,vantHoff_EOS!$X$5:$X$14,vantHoff_EOS!$Y$5:$Y$14,vantHoff_EOS!$Z$5:$Z$14,vantHoff_EOS!$AE$5:$AN$14,B9,$C$2)","v":0.96837989526962909},18.739523926922551,0,-3.2130814904467259E-2,{"$f":"nT_NS_n0i_vi_X(vantHoff_EOS!$N$19,vantHoff_EOS!$O$31:$X$31,vantHoff_EOS!$O$23:$X$23,G9)","v":8.355911542562243},{"$f":"IF(O$3<=vantHoff_EOS!$N$19,y_iindex_NS_n0i_vi_X(O$3,vantHoff_EOS!$N$19,vantHoff_EOS!$O$31:$X$31,vantHoff_EOS!$O$23:$X$23,$G9),\"-\")","v":9.521129131870238E-4},{"$f":"IF(P$3<=vantHoff_EOS!$N$19,y_iindex_NS_n0i_vi_X(P$3,vantHoff_EOS!$N$19,vantHoff_EOS!$O$31:$X$31,vantHoff_EOS!$O$23:$X$23,$G9),\"-\")","v":9.521129131870238E-4},{"$f":"IF(Q$3<=vantHoff_EOS!$N$19,y_iindex_NS_n0i_vi_X(Q$3,vantHoff_EOS!$N$19,vantHoff_EOS!$O$31:$X$31,vantHoff_EOS!$O$23:$X$23,$G9),\"-\")","v":9.521129131870238E-4},{"$f":"IF(R$3<=vantHoff_EOS!$N$19,y_iindex_NS_n0i_vi_X(R$3,vantHoff_EOS!$N$19,vantHoff_EOS!$O$31:$X$31,vantHoff_EOS!$O$23:$X$23,$G9),\"-\")","v":0.1187236393858089},{"$f":"IF(S$3<=vantHoff_EOS!$N$19,y_iindex_NS_n0i_vi_X(S$3,vantHoff_EOS!$N$19,vantHoff_EOS!$O$31:$X$31,vantHoff_EOS!$O$23:$X$23,$G9),\"-\")","v":0.87842002187463009},{"$f":"IF(T$3<=vantHoff_EOS!$N$19,y_iindex_NS_n0i_vi_X(T$3,vantHoff_EOS!$N$19,vantHoff_EOS!$O$31:$X$31,vantHoff_EOS!$O$23:$X$23,$G9),\"-\")","v":"-"},{"$f":"IF(U$3<=vantHoff_EOS!$N$19,y_iindex_NS_n0i_vi_X(U$3,vantHoff_EOS!$N$19,vantHoff_EOS!$O$31:$X$31,vantHoff_EOS!$O$23:$X$23,$G9),\"-\")","v":"-"},{"$f":"IF(V$3<=vantHoff_EOS!$N$19,y_iindex_NS_n0i_vi_X(V$3,vantHoff_EOS!$N$19,vantHoff_EOS!$O$31:$X$31,vantHoff_EOS!$O$23:$X$23,$G9),\"-\")","v":"-"},{"$f":"IF(W$3<=vantHoff_EOS!$N$19,y_iindex_NS_n0i_vi_X(W$3,vantHoff_EOS!$N$19,vantHoff_EOS!$O$31:$X$31,vantHoff_EOS!$O$23:$X$23,$G9),\"-\")","v":"-"},{"$f":"IF(X$3<=vantHoff_EOS!$N$19,y_iindex_NS_n0i_vi_X(X$3,vantHoff_EOS!$N$19,vantHoff_EOS!$O$31:$X$31,vantHoff_EOS!$O$23:$X$23,$G9),\"-\")","v":"-"},1,{"$f":"IF(Z$3<=vantHoff_EOS!$N$19,Phi_i_NS_Tci_Pci_wi_kijm_TinC_PinPa_yi(Z$3,vantHoff_EOS!$N$19,vantHoff_EOS!$X$5:$X$14,vantHoff_EOS!$Y$5:$Y$14,vantHoff_EOS!$Z$5:$Z$14,vantHoff_EOS!$AE$5:$AN$14,B9,$C$2,$O9:$X9),\"-\")","v":1.0033805429001423},{"$f":"IF(AA$3<=vantHoff_EOS!$N$19,Phi_i_NS_Tci_Pci_wi_kijm_TinC_PinPa_yi(AA$3,vantHoff_EOS!$N$19,vantHoff_EOS!$X$5:$X$14,vantHoff_EOS!$Y$5:$Y$14,vantHoff_EOS!$Z$5:$Z$14,vantHoff_EOS!$AE$5:$AN$14,C9,$C$2,$O9:$X9),\"-\")","v":1.0011290411324583},{"$f":"IF(AB$3<=vantHoff_EOS!$N$19,Phi_i_NS_Tci_Pci_wi_kijm_TinC_PinPa_yi(AB$3,vantHoff_EOS!$N$19,vantHoff_EOS!$X$5:$X$14,vantHoff_EOS!$Y$5:$Y$14,vantHoff_EOS!$Z$5:$Z$14,vantHoff_EOS!$AE$5:$AN$14,D9,$C$2,$O9:$X9),\"-\")","v":0.98282168893942934},{"$f":"IF(AC$3<=vantHoff_EOS!$N$19,Phi_i_NS_Tci_Pci_wi_kijm_TinC_PinPa_yi(AC$3,vantHoff_EOS!$N$19,vantHoff_EOS!$X$5:$X$14,vantHoff_EOS!$Y$5:$Y$14,vantHoff_EOS!$Z$5:$Z$14,vantHoff_EOS!$AE$5:$AN$14,E9,$C$2,$O9:$X9),\"-\")","v":0.96653913555747784},{"$f":"IF(AD$3<=vantHoff_EOS!$N$19,Phi_i_NS_Tci_Pci_wi_kijm_TinC_PinPa_yi(AD$3,vantHoff_EOS!$N$19,vantHoff_EOS!$X$5:$X$14,vantHoff_EOS!$Y$5:$Y$14,vantHoff_EOS!$Z$5:$Z$14,vantHoff_EOS!$AE$5:$AN$14,F9,$C$2,$O9:$X9),\"-\")","v":0.99999999542321105},{"$f":"IF(AE$3<=vantHoff_EOS!$N$19,Phi_i_NS_Tci_Pci_wi_kijm_TinC_PinPa_yi(AE$3,vantHoff_EOS!$N$19,vantHoff_EOS!$X$5:$X$14,vantHoff_EOS!$Y$5:$Y$14,vantHoff_EOS!$Z$5:$Z$14,vantHoff_EOS!$AE$5:$AN$14,G9,$C$2,$O9:$X9),\"-\")","v":"-"},{"$f":"IF(AF$3<=vantHoff_EOS!$N$19,Phi_i_NS_Tci_Pci_wi_kijm_TinC_PinPa_yi(AF$3,vantHoff_EOS!$N$19,vantHoff_EOS!$X$5:$X$14,vantHoff_EOS!$Y$5:$Y$14,vantHoff_EOS!$Z$5:$Z$14,vantHoff_EOS!$AE$5:$AN$14,H9,$C$2,$O9:$X9),\"-\")","v":"-"},{"$f":"IF(AG$3<=vantHoff_EOS!$N$19,Phi_i_NS_Tci_Pci_wi_kijm_TinC_PinPa_yi(AG$3,vantHoff_EOS!$N$19,vantHoff_EOS!$X$5:$X$14,vantHoff_EOS!$Y$5:$Y$14,vantHoff_EOS!$Z$5:$Z$14,vantHoff_EOS!$AE$5:$AN$14,I9,$C$2,$O9:$X9),\"-\")","v":"-"},{"$f":"IF(AH$3<=vantHoff_EOS!$N$19,Phi_i_NS_Tci_Pci_wi_kijm_TinC_PinPa_yi(AH$3,vantHoff_EOS!$N$19,vantHoff_EOS!$X$5:$X$14,vantHoff_EOS!$Y$5:$Y$14,vantHoff_EOS!$Z$5:$Z$14,vantHoff_EOS!$AE$5:$AN$14,J9,$C$2,$O9:$X9),\"-\")","v":"-"},{"$f":"IF(AI$3<=vantHoff_EOS!$N$19,Phi_i_NS_Tci_Pci_wi_kijm_TinC_PinPa_yi(AI$3,vantHoff_EOS!$N$19,vantHoff_EOS!$X$5:$X$14,vantHoff_EOS!$Y$5:$Y$14,vantHoff_EOS!$Z$5:$Z$14,vantHoff_EOS!$AE$5:$AN$14,K9,$C$2,$O9:$X9),\"-\")","v":"-"}]
[7,{"$f":"B9+vantHoff_EOS!$B$26","v":12},285.14999999999998,3.5069261792039282E-3,{"$f":"lnKaT_Tref_lnKaTref_dHTref_da_db_dc_dd_de_TinC(vantHoff_EOS!$E$7,vantHoff_EOS!$B$9,vantHoff_EOS!$B$6,vantHoff_EOS!$O$27,vantHoff_EOS!$P$27,vantHoff_EOS!$Q$27,vantHoff_EOS!$R$27,vantHoff_EOS!$S$27,B10)","v":18.365640980841029},94644751.350740358,{"$f":"MolarExtentX_NS_vi_n0i_dHfi_dGfi_TrefinC_da_db_dc_dd_de_Tci_Pci_wi_kijm_TinC_PinPa(vantHoff_EOS!$N$19,vantHoff_EOS!$O$23:$X$23,vantHoff_EOS!$O$31:$X$31,vantHoff_EOS!$T$5:$T$14,vantHoff_EOS!$U$5:$U$14,vantHoff_EOS!$E$7,vantHoff_EOS!$O$27,vantHoff_EOS!$P$27,vantHoff_EOS!$Q$27,vantHoff_EOS!$R$27,vantHoff_EOS!$S$27,vantHoff_EOS!$X$5:$X$14,vantHoff_EOS!$Y$5:$Y$14,vantHoff_EOS!$Z$5:$Z$14,vantHoff_EOS!$AE$5:$AN$14,B10,$C$2)","v":0.99108400376075279},{"$f":"Ky_NS_n0i_vi_X(vantHoff_EOS!$N$19,vantHoff_EOS!$O$31:$X$31,vantHoff_EOS!$O$23:$X$23,G10)","v":97676054.907768264},{"$f":"Kp_NS_vi_PinPa(vantHoff_EOS!$N$19,vantHoff_EOS!$O$23:$X$23,$C$2)","v":1},{"$f":"Kphi_NS_n0i_vi_X_Tci_Pci_wi_kijm_TinC_PinPa(vantHoff_EOS!$N$19,vantHoff_EOS!$O$31:$X$31,vantHoff_EOS!$O$23:$X$23,G10,vantHoff_EOS!$X$5:$X$14,vantHoff_EOS!$Y$5:$Y$14,vantHoff_EOS!$Z$5:$Z$14,vantHoff_EOS!$AE$5:$AN$14,B10,$C$2)","v":0.9689656871364094},18.397166999029,0,-3.152607831028139E-2,{"$f":"nT_NS_n0i_vi_X(vantHoff_EOS!$N$19,vantHoff_EOS!$O$31:$X$31,vantHoff_EOS!$O$23:$X$23,G10)","v":8.357831992478495},{"$f":"IF(O$3<=vantHoff_EOS!$N$19,y_iindex_NS_n0i_vi_X(O$3,vantHoff_EOS!$N$19,vantHoff_EOS!$O$31:$X$31,vantHoff_EOS!$O$23:$X$23,$G10),\"-\")","v":1.0667833772288113E-3},{"$f":"IF(P$3<=vantHoff_EOS!$N$19,y_iindex_NS_n0i_vi_X(P$3,vantHoff_EOS!$N$19,vantHoff_EOS!$O$31:$X$31,vantHoff_EOS!$O$23:$X$23,$G10),\"-\")","v":1.0667833772288113E-3},{"$f":"IF(Q$3<=vantHoff_EOS!$N$19,y_iindex_NS_n0i_vi_X(Q$3,vantHoff_EOS!$N$19,vantHoff_EOS!$O$31:$X$31,vantHoff_EOS!$O$23:$X$23,$G10),\"-\")","v":1.0667833772288113E-3},{"$f":"IF(R$3<=vantHoff_EOS!$N$19,y_iindex_NS_n0i_vi_X(R$3,vantHoff_EOS!$N$19,vantHoff_EOS!$O$31:$X$31,vantHoff_EOS!$O$23:$X$23,$G10),\"-\")","v":0.11858147000952686},{"$f":"IF(S$3<=vantHoff_EOS!$N$19,y_iindex_NS_n0i_vi_X(S$3,vantHoff_EOS!$N$19,vantHoff_EOS!$O$31:$X$31,vantHoff_EOS!$O$23:$X$23,$G10),\"-\")","v":0.87821817985878659},{"$f":"IF(T$3<=vantHoff_EOS!$N$19,y_iindex_NS_n0i_vi_X(T$3,vantHoff_EOS!$N$19,vantHoff_EOS!$O$31:$X$31,vantHoff_EOS!$O$23:$X$23,$G10),\"-\")","v":"-"},{"$f":"IF(U$3<=vantHoff_EOS!$N$19,y_iindex_NS_n0i_vi_X(U$3,vantHoff_EOS!$N$19,vantHoff_EOS!$O$31:$X$31,vantHoff_EOS!$O$23:$X$23,$G10),\"-\")","v":"-"},{"$f":"IF(V$3<=vantHoff_EOS!$N$19,y_iindex_NS_n0i_vi_X(V$3,vantHoff_EOS!$N$19,vantHoff_EOS!$O$31:$X$31,vantHoff_EOS!$O$23:$X$23,$G10),\"-\")","v":"-"},{"$f":"IF(W$3<=vantHoff_EOS!$N$19,y_iindex_NS_n0i_vi_X(W$3,vantHoff_EOS!$N$19,vantHoff_EOS!$O$31:$X$31,vantHoff_EOS!$O$23:$X$23,$G10),\"-\")","v":"-"},{"$f":"IF(X$3<=vantHoff_EOS!$N$19,y_iindex_NS_n0i_vi_X(X$3,vantHoff_EOS!$N$19,vantHoff_EOS!$O$31:$X$31,vantHoff_EOS!$O$23:$X$23,$G10),\"-\")","v":"-"},0.99999999999999989,{"$f":"IF(Z$3<=vantHoff_EOS!$N$19,Phi_i_NS_Tci_Pci_wi_kijm_TinC_PinPa_yi(Z$3,vantHoff_EOS!$N$19,vantHoff_EOS!$X$5:$X$14,vantHoff_EOS!$Y$5:$Y$14,vantHoff_EOS!$Z$5:$Z$14,vantHoff_EOS!$AE$5:$AN$14,B10,$C$2,$O10:$X10),\"-\")","v":1.0033330204690047},{"$f":"IF(AA$3<=vantHoff_EOS!$N$19,Phi_i_NS_Tci_Pci_wi_kijm_TinC_PinPa_yi(AA$3,vantHoff_EOS!$N$19,vantHoff_EOS!$X$5:$X$14,vantHoff_EOS!$Y$5:$Y$14,vantHoff_EOS!$Z$5:$Z$14,vantHoff_EOS!$AE$5:$AN$14,C10,$C$2,$O10:$X10),\"-\")","v":1.0011166805507894},{"$f":"IF(AB$3<=vantHoff_EOS!$N$19,Phi_i_NS_Tci_Pci_wi_kijm_TinC_PinPa_yi(AB$3,vantHoff_EOS!$N$19,vantHoff_EOS!$X$5:$X$14,vantHoff_EOS!$Y$5:$Y$14,vantHoff_EOS!$Z$5:$Z$14,vantHoff_EOS!$AE$5:$AN$14,D10,$C$2,$O10:$X10),\"-\")","v":0.98282373395823142},{"$f":"IF(AC$3<=vantHoff_EOS!$N$19,Phi_i_NS_Tci_Pci_wi_kijm_TinC_PinPa_yi(AC$3,vantHoff_EOS!$N$19,vantHoff_EOS!$X$5:$X$14,vantHoff_EOS!$Y$5:$Y$14,vantHoff_EOS!$Z$5:$Z$14,vantHoff_EOS!$AE$5:$AN$14,E10,$C$2,$O10:$X10),\"-\")","v":0.9664401933712472},{"$f":"IF(AD$3<=vantHoff_EOS!$N$19,Phi_i_NS_Tci_Pci_wi_kijm_TinC_PinPa_yi(AD$3,vantHoff_EOS!$N$19,vantHoff_EOS!$X$5:$X$14,vantHoff_EOS!$Y$5:$Y$14,vantHoff_EOS!$Z$5:$Z$14,vantHoff_EOS!$AE$5:$AN$14,F10,$C$2,$O10:$X10),\"-\")","v":0.9999999935709879},{"$f":"IF(AE$3<=vantHoff_EOS!$N$19,Phi_i_NS_Tci_Pci_wi_kijm_TinC_PinPa_yi(AE$3,vantHoff_EOS!$N$19,vantHoff_EOS!$X$5:$X$14,vantHoff_EOS!$Y$5:$Y$14,vantHoff_EOS!$Z$5:$Z$14,vantHoff_EOS!$AE$5:$AN$14,G10,$C$2,$O10:$X10),\"-\")","v":"-"},{"$f":"IF(AF$3<=vantHoff_EOS!$N$19,Phi_i_NS_Tci_Pci_wi_kijm_TinC_PinPa_yi(AF$3,vantHoff_EOS!$N$19,vantHoff_EOS!$X$5:$X$14,vantHoff_EOS!$Y$5:$Y$14,vantHoff_EOS!$Z$5:$Z$14,vantHoff_EOS!$AE$5:$AN$14,H10,$C$2,$O10:$X10),\"-\")","v":"-"},{"$f":"IF(AG$3<=vantHoff_EOS!$N$19,Phi_i_NS_Tci_Pci_wi_kijm_TinC_PinPa_yi(AG$3,vantHoff_EOS!$N$19,vantHoff_EOS!$X$5:$X$14,vantHoff_EOS!$Y$5:$Y$14,vantHoff_EOS!$Z$5:$Z$14,vantHoff_EOS!$AE$5:$AN$14,I10,$C$2,$O10:$X10),\"-\")","v":"-"},{"$f":"IF(AH$3<=vantHoff_EOS!$N$19,Phi_i_NS_Tci_Pci_wi_kijm_TinC_PinPa_yi(AH$3,vantHoff_EOS!$N$19,vantHoff_EOS!$X$5:$X$14,vantHoff_EOS!$Y$5:$Y$14,vantHoff_EOS!$Z$5:$Z$14,vantHoff_EOS!$AE$5:$AN$14,J10,$C$2,$O10:$X10),\"-\")","v":"-"},{"$f":"IF(AI$3<=vantHoff_EOS!$N$19,Phi_i_NS_Tci_Pci_wi_kijm_TinC_PinPa_yi(AI$3,vantHoff_EOS!$N$19,vantHoff_EOS!$X$5:$X$14,vantHoff_EOS!$Y$5:$Y$14,vantHoff_EOS!$Z$5:$Z$14,vantHoff_EOS!$AE$5:$AN$14,K10,$C$2,$O10:$X10),\"-\")","v":"-"}]
[8,{"$f":"B10+vantHoff_EOS!$B$26","v":14},287.14999999999998,3.4825004353125546E-3,{"$f":"lnKaT_Tref_lnKaTref_dHTref_da_db_dc_dd_de_TinC(vantHoff_EOS!$E$7,vantHoff_EOS!$B$9,vantHoff_EOS!$B$6,vantHoff_EOS!$O$27,vantHoff_EOS!$P$27,vantHoff_EOS!$Q$27,vantHoff_EOS!$R$27,vantHoff_EOS!$S$27,B11)","v":18.02854909264709},67561516.248746037,{"$f":"MolarExtentX_NS_vi_n0i_dHfi_dGfi_TrefinC_da_db_dc_dd_de_Tci_Pci_wi_kijm_TinC_PinPa(vantHoff_EOS!$N$19,vantHoff_EOS!$O$23:$X$23,vantHoff_EOS!$O$31:$X$31,vantHoff_EOS!$T$5:$T$14,vantHoff_EOS!$U$5:$U$14,vantHoff_EOS!$E$7,vantHoff_EOS!$O$27,vantHoff_EOS!$P$27,vantHoff_EOS!$Q$27,vantHoff_EOS!$R$27,vantHoff_EOS!$S$27,vantHoff_EOS!$X$5:$X$14,vantHoff_EOS!$Y$5:$Y$14,vantHoff_EOS!$Z$5:$Z$14,vantHoff_EOS!$AE$5:$AN$14,B11,$C$2)","v":0.9900236188715037},{"$f":"Ky_NS_n0i_vi_X(vantHoff_EOS!$N$19,vantHoff_EOS!$O$31:$X$31,vantHoff_EOS!$O$23:$X$23,G11)","v":69684165.904733866},{"$f":"Kp_NS_vi_PinPa(vantHoff_EOS!$N$19,vantHoff_EOS!$O$23:$X$23,$C$2)","v":1},{"$f":"Kphi_NS_n0i_vi_X_Tci_Pci_wi_kijm_TinC_PinPa(vantHoff_EOS!$N$19,vantHoff_EOS!$O$31:$X$31,vantHoff_EOS!$O$23:$X$23,G11,vantHoff_EOS!$X$5:$X$14,vantHoff_EOS!$Y$5:$Y$14,vantHoff_EOS!$Z$5:$Z$14,vantHoff_EOS!$AE$5:$AN$14,B11,$C$2)","v":0.96953893589772722},18.059483674954659,0,-3.0934644303659845E-2,{"$f":"nT_NS_n0i_vi_X(vantHoff_EOS!$N$19,vantHoff_EOS!$O$31:$X$31,vantHoff_EOS!$O$23:$X$23,G11)","v":8.3599527622569916},{"$f":"IF(O$3<=vantHoff_EOS!$N$19,y_iindex_NS_n0i_vi_X(O$3,vantHoff_EOS!$N$19,vantHoff_EOS!$O$31:$X$31,vantHoff_EOS!$O$23:$X$23,$G11),\"-\")","v":1.1933537679228363E-3},{"$f":"IF(P$3<=vantHoff_EOS!$N$19,y_iindex_NS_n0i_vi_X(P$3,vantHoff_EOS!$N$19,vantHoff_EOS!$O$31:$X$31,vantHoff_EOS!$O$23:$X$23,$G11),\"-\")","v":1.1933537679228363E-3},{"$f":"IF(Q$3<=vantHoff_EOS!$N$19,y_iindex_NS_n0i_vi_X(Q$3,vantHoff_EOS!$N$19,vantHoff_EOS!$O$31:$X$31,vantHoff_EOS!$O$23:$X$23,$G11),\"-\")","v":1.1933537679228363E-3},{"$f":"IF(R$3<=vantHoff_EOS!$N$19,y_iindex_NS_n0i_vi_X(R$3,vantHoff_EOS!$N$19,vantHoff_EOS!$O$31:$X$31,vantHoff_EOS!$O$23:$X$23,$G11),\"-\")","v":0.11842454700715563},{"$f":"IF(S$3<=vantHoff_EOS!$N$19,y_iindex_NS_n0i_vi_X(S$3,vantHoff_EOS!$N$19,vantHoff_EOS!$O$31:$X$31,vantHoff_EOS!$O$23:$X$23,$G11),\"-\")","v":0.87799539168907592},{"$f":"IF(T$3<=vantHoff_EOS!$N$19,y_iindex_NS_n0i_vi_X(T$3,vantHoff_EOS!$N$19,vantHoff_EOS!$O$31:$X$31,vantHoff_EOS!$O$23:$X$23,$G11),\"-\")","v":"-"},{"$f":"IF(U$3<=vantHoff_EOS!$N$19,y_iindex_NS_n0i_vi_X(U$3,vantHoff_EOS!$N$19,vantHoff_EOS!$O$31:$X$31,vantHoff_EOS!$O$23:$X$23,$G11),\"-\")","v":"-"},{"$f":"IF(V$3<=vantHoff_EOS!$N$19,y_iindex_NS_n0i_vi_X(V$3,vantHoff_EOS!$N$19,vantHoff_EOS!$O$31:$X$31,vantHoff_EOS!$O$23:$X$23,$G11),\"-\")","v":"-"},{"$f":"IF(W$3<=vantHoff_EOS!$N$19,y_iindex_NS_n0i_vi_X(W$3,vantHoff_EOS!$N$19,vantHoff_EOS!$O$31:$X$31,vantHoff_EOS!$O$23:$X$23,$G11),\"-\")","v":"-"},{"$f":"IF(X$3<=vantHoff_EOS!$N$19,y_iindex_NS_n0i_vi_X(X$3,vantHoff_EOS!$N$19,vantHoff_EOS!$O$31:$X$31,vantHoff_EOS!$O$23:$X$23,$G11),\"-\")","v":"-"},1,{"$f":"IF(Z$3<=vantHoff_EOS!$N$19,Phi_i_NS_Tci_Pci_wi_kijm_TinC_PinPa_yi(Z$3,vantHoff_EOS!$N$19,vantHoff_EOS!$X$5:$X$14,vantHoff_EOS!$Y$5:$Y$14,vantHoff_EOS!$Z$5:$Z$14,vantHoff_EOS!$AE$5:$AN$14,B11,$C$2,$O11:$X11),\"-\")","v":1.003286185509263},{"$f":"IF(AA$3<=vantHoff_EOS!$N$19,Phi_i_NS_Tci_Pci_wi_kijm_TinC_PinPa_yi(AA$3,vantHoff_EOS!$N$19,vantHoff_EOS!$X$5:$X$14,vantHoff_EOS!$Y$5:$Y$14,vantHoff_EOS!$Z$5:$Z$14,vantHoff_EOS!$AE$5:$AN$14,C11,$C$2,$O11:$X11),\"-\")","v":1.0011044289734461},{"$f":"IF(AB$3<=vantHoff_EOS!$N$19,Phi_i_NS_Tci_Pci_wi_kijm_TinC_PinPa_yi(AB$3,vantHoff_EOS!$N$19,vantHoff_EOS!$X$5:$X$14,vantHoff_EOS!$Y$5:$Y$14,vantHoff_EOS!$Z$5:$Z$14,vantHoff_EOS!$AE$5:$AN$14,D11,$C$2,$O11:$X11),\"-\")","v":0.98282599386683567},{"$f":"IF(AC$3<=vantHoff_EOS!$N$19,Phi_i_NS_Tci_Pci_wi_kijm_TinC_PinPa_yi(AC$3,vantHoff_EOS!$N$19,vantHoff_EOS!$X$5:$X$14,vantHoff_EOS!$Y$5:$Y$14,vantHoff_EOS!$Z$5:$Z$14,vantHoff_EOS!$AE$5:$AN$14,E11,$C$2,$O11:$X11),\"-\")","v":0.9663431096838645},{"$f":"IF(AD$3<=vantHoff_EOS!$N$19,Phi_i_NS_Tci_Pci_wi_kijm_TinC_PinPa_yi(AD$3,vantHoff_EOS!$N$19,vantHoff_EOS!$X$5:$X$14,vantHoff_EOS!$Y$5:$Y$14,vantHoff_EOS!$Z$5:$Z$14,vantHoff_EOS!$AE$5:$AN$14,F11,$C$2,$O11:$X11),\"-\")","v":0.99999999101420023},{"$f":"IF(AE$3<=vantHoff_EOS!$N$19,Phi_i_NS_Tci_Pci_wi_kijm_TinC_PinPa_yi(AE$3,vantHoff_EOS!$N$19,vantHoff_EOS!$X$5:$X$14,vantHoff_EOS!$Y$5:$Y$14,vantHoff_EOS!$Z$5:$Z$14,vantHoff_EOS!$AE$5:$AN$14,G11,$C$2,$O11:$X11),\"-\")","v":"-"},{"$f":"IF(AF$3<=vantHoff_EOS!$N$19,Phi_i_NS_Tci_Pci_wi_kijm_TinC_PinPa_yi(AF$3,vantHoff_EOS!$N$19,vantHoff_EOS!$X$5:$X$14,vantHoff_EOS!$Y$5:$Y$14,vantHoff_EOS!$Z$5:$Z$14,vantHoff_EOS!$AE$5:$AN$14,H11,$C$2,$O11:$X11),\"-\")","v":"-"},{"$f":"IF(AG$3<=vantHoff_EOS!$N$19,Phi_i_NS_Tci_Pci_wi_kijm_TinC_PinPa_yi(AG$3,vantHoff_EOS!$N$19,vantHoff_EOS!$X$5:$X$14,vantHoff_EOS!$Y$5:$Y$14,vantHoff_EOS!$Z$5:$Z$14,vantHoff_EOS!$AE$5:$AN$14,I11,$C$2,$O11:$X11),\"-\")","v":"-"},{"$f":"IF(AH$3<=vantHoff_EOS!$N$19,Phi_i_NS_Tci_Pci_wi_kijm_TinC_PinPa_yi(AH$3,vantHoff_EOS!$N$19,vantHoff_EOS!$X$5:$X$14,vantHoff_EOS!$Y$5:$Y$14,vantHoff_EOS!$Z$5:$Z$14,vantHoff_EOS!$AE$5:$AN$14,J11,$C$2,$O11:$X11),\"-\")","v":"-"},{"$f":"IF(AI$3<=vantHoff_EOS!$N$19,Phi_i_NS_Tci_Pci_wi_kijm_TinC_PinPa_yi(AI$3,vantHoff_EOS!$N$19,vantHoff_EOS!$X$5:$X$14,vantHoff_EOS!$Y$5:$Y$14,vantHoff_EOS!$Z$5:$Z$14,vantHoff_EOS!$AE$5:$AN$14,K11,$C$2,$O11:$X11),\"-\")","v":"-"}]
[9,{"$f":"B11+vantHoff_EOS!$B$26","v":16},289.14999999999998,3.4584125886218228E-3,{"$f":"lnKaT_Tref_lnKaTref_dHTref_da_db_dc_dd_de_TinC(vantHoff_EOS!$E$7,vantHoff_EOS!$B$9,vantHoff_EOS!$B$6,vantHoff_EOS!$O$27,vantHoff_EOS!$P$27,vantHoff_EOS!$Q$27,vantHoff_EOS!$R$27,vantHoff_EOS!$S$27,B12)","v":17.696022008671999},48448988.00494165,{"$f":"MolarExtentX_NS_vi_n0i_dHfi_dGfi_TrefinC_da_db_dc_dd_de_Tci_Pci_wi_kijm_TinC_PinPa(vantHoff_EOS!$N$19,vantHoff_EOS!$O$23:$X$23,vantHoff_EOS!$O$31:$X$31,vantHoff_EOS!$T$5:$T$14,vantHoff_EOS!$U$5:$U$14,vantHoff_EOS!$E$7,vantHoff_EOS!$O$27,vantHoff_EOS!$P$27,vantHoff_EOS!$Q$27,vantHoff_EOS!$R$27,vantHoff_EOS!$S$27,vantHoff_EOS!$X$5:$X$14,vantHoff_EOS!$Y$5:$Y$14,vantHoff_EOS!$Z$5:$Z$14,vantHoff_EOS!$AE$5:$AN$14,B12,$C$2)","v":0.98885436213904165},{"$f":"Ky_NS_n0i_vi_X(vantHoff_EOS!$N$19,vantHoff_EOS!$O$31:$X$31,vantHoff_EOS!$O$23:$X$23,G12)","v":49942253.095426537},{"$f":"Kp_NS_vi_PinPa(vantHoff_EOS!$N$19,vantHoff_EOS!$O$23:$X$23,$C$2)","v":1},{"$f":"Kphi_NS_n0i_vi_X_Tci_Pci_wi_kijm_TinC_PinPa(vantHoff_EOS!$N$19,vantHoff_EOS!$O$31:$X$31,vantHoff_EOS!$O$23:$X$23,G12,vantHoff_EOS!$X$5:$X$14,vantHoff_EOS!$Y$5:$Y$14,vantHoff_EOS!$Z$5:$Z$14,vantHoff_EOS!$AE$5:$AN$14,B12,$C$2)","v":0.97010010522709811},17.72637795784599,0,-3.0356011544543149E-2,{"$f":"nT_NS_n0i_vi_X(vantHoff_EOS!$N$19,vantHoff_EOS!$O$31:$X$31,vantHoff_EOS!$O$23:$X$23,G12)","v":8.3622912757219172},{"$f":"IF(O$3<=vantHoff_EOS!$N$19,y_iindex_NS_n0i_vi_X(O$3,vantHoff_EOS!$N$19,vantHoff_EOS!$O$31:$X$31,vantHoff_EOS!$O$23:$X$23,$G12),\"-\")","v":1.3328449695739811E-3},{"$f":"IF(P$3<=vantHoff_EOS!$N$19,y_iindex_NS_n0i_vi_X(P$3,vantHoff_EOS!$N$19,vantHoff_EOS!$O$31:$X$31,vantHoff_EOS!$O$23:$X$23,$G12),\"-\")","v":1.3328449695739811E-3},{"$f":"IF(Q$3<=vantHoff_EOS!$N$19,y_iindex_NS_n0i_vi_X(Q$3,vantHoff_EOS!$N$19,vantHoff_EOS!$O$31:$X$31,vantHoff_EOS!$O$23:$X$23,$G12),\"-\")","v":1.3328449695739811E-3},{"$f":"IF(R$3<=vantHoff_EOS!$N$19,y_iindex_NS_n0i_vi_X(R$3,vantHoff_EOS!$N$19,vantHoff_EOS!$O$31:$X$31,vantHoff_EOS!$O$23:$X$23,$G12),\"-\")","v":0.11825160467801019},{"$f":"IF(S$3<=vantHoff_EOS!$N$19,y_iindex_NS_n0i_vi_X(S$3,vantHoff_EOS!$N$19,vantHoff_EOS!$O$31:$X$31,vantHoff_EOS!$O$23:$X$23,$G12),\"-\")","v":0.87774986041326775},{"$f":"IF(T$3<=vantHoff_EOS!$N$19,y_iindex_NS_n0i_vi_X(T$3,vantHoff_EOS!$N$19,vantHoff_EOS!$O$31:$X$31,vantHoff_EOS!$O$23:$X$23,$G12),\"-\")","v":"-"},{"$f":"IF(U$3<=vantHoff_EOS!$N$19,y_iindex_NS_n0i_vi_X(U$3,vantHoff_EOS!$N$19,vantHoff_EOS!$O$31:$X$31,vantHoff_EOS!$O$23:$X$23,$G12),\"-\")","v":"-"},{"$f":"IF(V$3<=vantHoff_EOS!$N$19,y_iindex_NS_n0i_vi_X(V$3,vantHoff_EOS!$N$19,vantHoff_EOS!$O$31:$X$31,vantHoff_EOS!$O$23:$X$23,$G12),\"-\")","v":"-"},{"$f":"IF(W$3<=vantHoff_EOS!$N$19,y_iindex_NS_n0i_vi_X(W$3,vantHoff_EOS!$N$19,vantHoff_EOS!$O$31:$X$31,vantHoff_EOS!$O$23:$X$23,$G12),\"-\")","v":"-"},{"$f":"IF(X$3<=vantHoff_EOS!$N$19,y_iindex_NS_n0i_vi_X(X$3,vantHoff_EOS!$N$19,vantHoff_EOS!$O$31:$X$31,vantHoff_EOS!$O$23:$X$23,$G12),\"-\")","v":"-"},0.99999999999999989,{"$f":"IF(Z$3<=vantHoff_EOS!$N$19,Phi_i_NS_Tci_Pci_wi_kijm_TinC_PinPa_yi(Z$3,vantHoff_EOS!$N$19,vantHoff_EOS!$X$5:$X$14,vantHoff_EOS!$Y$5:$Y$14,vantHoff_EOS!$Z$5:$Z$14,vantHoff_EOS!$AE$5:$AN$14,B12,$C$2,$O12:$X12),\"-\")","v":1.0032399944286634},{"$f":"IF(AA$3<=vantHoff_EOS!$N$19,Phi_i_NS_Tci_Pci_wi_kijm_TinC_PinPa_yi(AA$3,vantHoff_EOS!$N$19,vantHoff_EOS!$X$5:$X$14,vantHoff_EOS!$Y$5:$Y$14,vantHoff_EOS!$Z$5:$Z$14,vantHoff_EOS!$AE$5:$AN$14,C12,$C$2,$O12:$X12),\"-\")","v":1.0010922801557556},{"$f":"IF(AB$3<=vantHoff_EOS!$N$19,Phi_i_NS_Tci_Pci_wi_kijm_TinC_PinPa_yi(AB$3,vantHoff_EOS!$N$19,vantHoff_EOS!$X$5:$X$14,vantHoff_EOS!$Y$5:$Y$14,vantHoff_EOS!$Z$5:$Z$14,vantHoff_EOS!$AE$5:$AN$14,D12,$C$2,$O12:$X12),\"-\")","v":0.98282848759807218},{"$f":"IF(AC$3<=vantHoff_EOS!$N$19,Phi_i_NS_Tci_Pci_wi_kijm_TinC_PinPa_yi(AC$3,vantHoff_EOS!$N$19,vantHoff_EOS!$X$5:$X$14,vantHoff_EOS!$Y$5:$Y$14,vantHoff_EOS!$Z$5:$Z$14,vantHoff_EOS!$AE$5:$AN$14,E12,$C$2,$O12:$X12),\"-\")","v":0.96624794322598118},{"$f":"IF(AD$3<=vantHoff_EOS!$N$19,Phi_i_NS_Tci_Pci_wi_kijm_TinC_PinPa_yi(AD$3,vantHoff_EOS!$N$19,vantHoff_EOS!$X$5:$X$14,vantHoff_EOS!$Y$5:$Y$14,vantHoff_EOS!$Z$5:$Z$14,vantHoff_EOS!$AE$5:$AN$14,F12,$C$2,$O12:$X12),\"-\")","v":0.99999998750268604},{"$f":"IF(AE$3<=vantHoff_EOS!$N$19,Phi_i_NS_Tci_Pci_wi_kijm_TinC_PinPa_yi(AE$3,vantHoff_EOS!$N$19,vantHoff_EOS!$X$5:$X$14,vantHoff_EOS!$Y$5:$Y$14,vantHoff_EOS!$Z$5:$Z$14,vantHoff_EOS!$AE$5:$AN$14,G12,$C$2,$O12:$X12),\"-\")","v":"-"},{"$f":"IF(AF$3<=vantHoff_EOS!$N$19,Phi_i_NS_Tci_Pci_wi_kijm_TinC_PinPa_yi(AF$3,vantHoff_EOS!$N$19,vantHoff_EOS!$X$5:$X$14,vantHoff_EOS!$Y$5:$Y$14,vantHoff_EOS!$Z$5:$Z$14,vantHoff_EOS!$AE$5:$AN$14,H12,$C$2,$O12:$X12),\"-\")","v":"-"},{"$f":"IF(AG$3<=vantHoff_EOS!$N$19,Phi_i_NS_Tci_Pci_wi_kijm_TinC_PinPa_yi(AG$3,vantHoff_EOS!$N$19,vantHoff_EOS!$X$5:$X$14,vantHoff_EOS!$Y$5:$Y$14,vantHoff_EOS!$Z$5:$Z$14,vantHoff_EOS!$AE$5:$AN$14,I12,$C$2,$O12:$X12),\"-\")","v":"-"},{"$f":"IF(AH$3<=vantHoff_EOS!$N$19,Phi_i_NS_Tci_Pci_wi_kijm_TinC_PinPa_yi(AH$3,vantHoff_EOS!$N$19,vantHoff_EOS!$X$5:$X$14,vantHoff_EOS!$Y$5:$Y$14,vantHoff_EOS!$Z$5:$Z$14,vantHoff_EOS!$AE$5:$AN$14,J12,$C$2,$O12:$X12),\"-\")","v":"-"},{"$f":"IF(AI$3<=vantHoff_EOS!$N$19,Phi_i_NS_Tci_Pci_wi_kijm_TinC_PinPa_yi(AI$3,vantHoff_EOS!$N$19,vantHoff_EOS!$X$5:$X$14,vantHoff_EOS!$Y$5:$Y$14,vantHoff_EOS!$Z$5:$Z$14,vantHoff_EOS!$AE$5:$AN$14,K12,$C$2,$O12:$X12),\"-\")","v":"-"}]
[10,{"$f":"B12+vantHoff_EOS!$B$26","v":18},291.14999999999998,3.4346556757685045E-3,{"$f":"lnKaT_Tref_lnKaTref_dHTref_da_db_dc_dd_de_TinC(vantHoff_EOS!$E$7,vantHoff_EOS!$B$9,vantHoff_EOS!$B$6,vantHoff_EOS!$O$27,vantHoff_EOS!$P$27,vantHoff_EOS!$Q$27,vantHoff_EOS!$R$27,vantHoff_EOS!$S$27,B13)","v":17.367966843568791},34898934.044504263,{"$f":"MolarExtentX_NS_vi_n0i_dHfi_dGfi_TrefinC_da_db_dc_dd_de_Tci_Pci_wi_kijm_TinC_PinPa(vantHoff_EOS!$N$19,vantHoff_EOS!$O$23:$X$23,vantHoff_EOS!$O$31:$X$31,vantHoff_EOS!$T$5:$T$14,vantHoff_EOS!$U$5:$U$14,vantHoff_EOS!$E$7,vantHoff_EOS!$O$27,vantHoff_EOS!$P$27,vantHoff_EOS!$Q$27,vantHoff_EOS!$R$27,vantHoff_EOS!$S$27,vantHoff_EOS!$X$5:$X$14,vantHoff_EOS!$Y$5:$Y$14,vantHoff_EOS!$Z$5:$Z$14,vantHoff_EOS!$AE$5:$AN$14,B13,$C$2)","v":0.98756693230096848},{"$f":"Ky_NS_n0i_vi_X(vantHoff_EOS!$N$19,vantHoff_EOS!$O$31:$X$31,vantHoff_EOS!$O$23:$X$23,G13)","v":35954200.406210802},{"$f":"Kp_NS_vi_PinPa(vantHoff_EOS!$N$19,vantHoff_EOS!$O$23:$X$23,$C$2)","v":1},{"$f":"Kphi_NS_n0i_vi_X_Tci_Pci_wi_kijm_TinC_PinPa(vantHoff_EOS!$N$19,vantHoff_EOS!$O$31:$X$31,vantHoff_EOS!$O$23:$X$23,G13,vantHoff_EOS!$X$5:$X$14,vantHoff_EOS!$Y$5:$Y$14,vantHoff_EOS!$Z$5:$Z$14,vantHoff_EOS!$AE$5:$AN$14,B13,$C$2)","v":0.97064964620028937},17.397756475534436,0,-2.9789693308537382E-2,{"$f":"nT_NS_n0i_vi_X(vantHoff_EOS!$N$19,vantHoff_EOS!$O$31:$X$31,vantHoff_EOS!$O$23:$X$23,G13)","v":8.3648661353980636},{"$f":"IF(O$3<=vantHoff_EOS!$N$19,y_iindex_NS_n0i_vi_X(O$3,vantHoff_EOS!$N$19,vantHoff_EOS!$O$31:$X$31,vantHoff_EOS!$O$23:$X$23,$G13),\"-\")","v":1.4863438933490907E-3},{"$f":"IF(P$3<=vantHoff_EOS!$N$19,y_iindex_NS_n0i_vi_X(P$3,vantHoff_EOS!$N$19,vantHoff_EOS!$O$31:$X$31,vantHoff_EOS!$O$23:$X$23,$G13),\"-\")","v":1.4863438933490907E-3},{"$f":"IF(Q$3<=vantHoff_EOS!$N$19,y_iindex_NS_n0i_vi_X(Q$3,vantHoff_EOS!$N$19,vantHoff_EOS!$O$31:$X$31,vantHoff_EOS!$O$23:$X$23,$G13),\"-\")","v":1.4863438933490907E-3},{"$f":"IF(R$3<=vantHoff_EOS!$N$19,y_iindex_NS_n0i_vi_X(R$3,vantHoff_EOS!$N$19,vantHoff_EOS!$O$31:$X$31,vantHoff_EOS!$O$23:$X$23,$G13),\"-\")","v":0.11806129546076383},{"$f":"IF(S$3<=vantHoff_EOS!$N$19,y_iindex_NS_n0i_vi_X(S$3,vantHoff_EOS!$N$19,vantHoff_EOS!$O$31:$X$31,vantHoff_EOS!$O$23:$X$23,$G13),\"-\")","v":0.87747967285918882},{"$f":"IF(T$3<=vantHoff_EOS!$N$19,y_iindex_NS_n0i_vi_X(T$3,vantHoff_EOS!$N$19,vantHoff_EOS!$O$31:$X$31,vantHoff_EOS!$O$23:$X$23,$G13),\"-\")","v":"-"},{"$f":"IF(U$3<=vantHoff_EOS!$N$19,y_iindex_NS_n0i_vi_X(U$3,vantHoff_EOS!$N$19,vantHoff_EOS!$O$31:$X$31,vantHoff_EOS!$O$23:$X$23,$G13),\"-\")","v":"-"},{"$f":"IF(V$3<=vantHoff_EOS!$N$19,y_iindex_NS_n0i_vi_X(V$3,vantHoff_EOS!$N$19,vantHoff_EOS!$O$31:$X$31,vantHoff_EOS!$O$23:$X$23,$G13),\"-\")","v":"-"},{"$f":"IF(W$3<=vantHoff_EOS!$N$19,y_iindex_NS_n0i_vi_X(W$3,vantHoff_EOS!$N$19,vantHoff_EOS!$O$31:$X$31,vantHoff_EOS!$O$23:$X$23,$G13),\"-\")","v":"-"},{"$f":"IF(X$3<=vantHoff_EOS!$N$19,y_iindex_NS_n0i_vi_X(X$3,vantHoff_EOS!$N$19,vantHoff_EOS!$O$31:$X$31,vantHoff_EOS!$O$23:$X$23,$G13),\"-\")","v":"-"},0.99999999999999989,{"$f":"IF(Z$3<=vantHoff_EOS!$N$19,Phi_i_NS_Tci_Pci_wi_kijm_TinC_PinPa_yi(Z$3,vantHoff_EOS!$N$19,vantHoff_EOS!$X$5:$X$14,vantHoff_EOS!$Y$5:$Y$14,vantHoff_EOS!$Z$5:$Z$14,vantHoff_EOS!$AE$5:$AN$14,B13,$C$2,$O13:$X13),\"-\")","v":1.0031944042527521},{"$f":"IF(AA$3<=vantHoff_EOS!$N$19,Phi_i_NS_Tci_Pci_wi_kijm_TinC_PinPa_yi(AA$3,vantHoff_EOS!$N$19,vantHoff_EOS!$X$5:$X$14,vantHoff_EOS!$Y$5:$Y$14,vantHoff_EOS!$Z$5:$Z$14,vantHoff_EOS!$AE$5:$AN$14,C13,$C$2,$O13:$X13),\"-\")","v":1.0010802277685278},{"$f":"IF(AB$3<=vantHoff_EOS!$N$19,Phi_i_NS_Tci_Pci_wi_kijm_TinC_PinPa_yi(AB$3,vantHoff_EOS!$N$19,vantHoff_EOS!$X$5:$X$14,vantHoff_EOS!$Y$5:$Y$14,vantHoff_EOS!$Z$5:$Z$14,vantHoff_EOS!$AE$5:$AN$14,D13,$C$2,$O13:$X13),\"-\")","v":0.98283123541800477},{"$f":"IF(AC$3<=vantHoff_EOS!$N$19,Phi_i_NS_Tci_Pci_wi_kijm_TinC_PinPa_yi(AC$3,vantHoff_EOS!$N$19,vantHoff_EOS!$X$5:$X$14,vantHoff_EOS!$Y$5:$Y$14,vantHoff_EOS!$Z$5:$Z$14,vantHoff_EOS!$AE$5:$AN$14,E13,$C$2,$O13:$X13),\"-\")","v":0.96615475812493334},{"$f":"IF(AD$3<=vantHoff_EOS!$N$19,Phi_i_NS_Tci_Pci_wi_kijm_TinC_PinPa_yi(AD$3,vantHoff_EOS!$N$19,vantHoff_EOS!$X$5:$X$14,vantHoff_EOS!$Y$5:$Y$14,vantHoff_EOS!$Z$5:$Z$14,vantHoff_EOS!$AE$5:$AN$14,F13,$C$2,$O13:$X13),\"-\")","v":0.99999998270431123},{"$f":"IF(AE$3<=vantHoff_EOS!$N$19,Phi_i_NS_Tci_Pci_wi_kijm_TinC_PinPa_yi(AE$3,vantHoff_EOS!$N$19,vantHoff_EOS!$X$5:$X$14,vantHoff_EOS!$Y$5:$Y$14,vantHoff_EOS!$Z$5:$Z$14,vantHoff_EOS!$AE$5:$AN$14,G13,$C$2,$O13:$X13),\"-\")","v":"-"},{"$f":"IF(AF$3<=vantHoff_EOS!$N$19,Phi_i_NS_Tci_Pci_wi_kijm_TinC_PinPa_yi(AF$3,vantHoff_EOS!$N$19,vantHoff_EOS!$X$5:$X$14,vantHoff_EOS!$Y$5:$Y$14,vantHoff_EOS!$Z$5:$Z$14,vantHoff_EOS!$AE$5:$AN$14,H13,$C$2,$O13:$X13),\"-\")","v":"-"},{"$f":"IF(AG$3<=vantHoff_EOS!$N$19,Phi_i_NS_Tci_Pci_wi_kijm_TinC_PinPa_yi(AG$3,vantHoff_EOS!$N$19,vantHoff_EOS!$X$5:$X$14,vantHoff_EOS!$Y$5:$Y$14,vantHoff_EOS!$Z$5:$Z$14,vantHoff_EOS!$AE$5:$AN$14,I13,$C$2,$O13:$X13),\"-\")","v":"-"},{"$f":"IF(AH$3<=vantHoff_EOS!$N$19,Phi_i_NS_Tci_Pci_wi_kijm_TinC_PinPa_yi(AH$3,vantHoff_EOS!$N$19,vantHoff_EOS!$X$5:$X$14,vantHoff_EOS!$Y$5:$Y$14,vantHoff_EOS!$Z$5:$Z$14,vantHoff_EOS!$AE$5:$AN$14,J13,$C$2,$O13:$X13),\"-\")","v":"-"},{"$f":"IF(AI$3<=vantHoff_EOS!$N$19,Phi_i_NS_Tci_Pci_wi_kijm_TinC_PinPa_yi(AI$3,vantHoff_EOS!$N$19,vantHoff_EOS!$X$5:$X$14,vantHoff_EOS!$Y$5:$Y$14,vantHoff_EOS!$Z$5:$Z$14,vantHoff_EOS!$AE$5:$AN$14,K13,$C$2,$O13:$X13),\"-\")","v":"-"}]
[11,{"$f":"B13+vantHoff_EOS!$B$26","v":20},293.14999999999998,3.4112229234180458E-3,{"$f":"lnKaT_Tref_lnKaTref_dHTref_da_db_dc_dd_de_TinC(vantHoff_EOS!$E$7,vantHoff_EOS!$B$9,vantHoff_EOS!$B$6,vantHoff_EOS!$O$27,vantHoff_EOS!$P$27,vantHoff_EOS!$Q$27,vantHoff_EOS!$R$27,vantHoff_EOS!$S$27,B14)","v":17.044293233364375},25248902.145755675,{"$f":"MolarExtentX_NS_vi_n0i_dHfi_dGfi_TrefinC_da_db_dc_dd_de_Tci_Pci_wi_kijm_TinC_PinPa(vantHoff_EOS!$N$19,vantHoff_EOS!$O$23:$X$23,vantHoff_EOS!$O$31:$X$31,vantHoff_EOS!$T$5:$T$14,vantHoff_EOS!$U$5:$U$14,vantHoff_EOS!$E$7,vantHoff_EOS!$O$27,vantHoff_EOS!$P$27,vantHoff_EOS!$Q$27,vantHoff_EOS!$R$27,vantHoff_EOS!$S$27,vantHoff_EOS!$X$5:$X$14,vantHoff_EOS!$Y$5:$Y$14,vantHoff_EOS!$Z$5:$Z$14,vantHoff_EOS!$AE$5:$AN$14,B14,$C$2)","v":0.98615141350013114},{"$f":"Ky_NS_n0i_vi_X(vantHoff_EOS!$N$19,vantHoff_EOS!$O$31:$X$31,vantHoff_EOS!$O$23:$X$23,G14)","v":25997953.754756674},{"$f":"Kp_NS_vi_PinPa(vantHoff_EOS!$N$19,vantHoff_EOS!$O$23:$X$23,$C$2)","v":1},{"$f":"Kphi_NS_n0i_vi_X_Tci_Pci_wi_kijm_TinC_PinPa(vantHoff_EOS!$N$19,vantHoff_EOS!$O$31:$X$31,vantHoff_EOS!$O$23:$X$23,G14,vantHoff_EOS!$X$5:$X$14,vantHoff_EOS!$Y$5:$Y$14,vantHoff_EOS!$Z$5:$Z$14,vantHoff_EOS!$AE$5:$AN$14,B14,$C$2)","v":0.97118799780360254},17.073528391148482,0,-2.9235216863229739E-2,{"$f":"nT_NS_n0i_vi_X(vantHoff_EOS!$N$19,vantHoff_EOS!$O$31:$X$31,vantHoff_EOS!$O$23:$X$23,G14)","v":8.3676971729997369},{"$f":"IF(O$3<=vantHoff_EOS!$N$19,y_iindex_NS_n0i_vi_X(O$3,vantHoff_EOS!$N$19,vantHoff_EOS!$O$31:$X$31,vantHoff_EOS!$O$23:$X$23,$G14),\"-\")","v":1.655005697930185E-3},{"$f":"IF(P$3<=vantHoff_EOS!$N$19,y_iindex_NS_n0i_vi_X(P$3,vantHoff_EOS!$N$19,vantHoff_EOS!$O$31:$X$31,vantHoff_EOS!$O$23:$X$23,$G14),\"-\")","v":1.655005697930185E-3},{"$f":"IF(Q$3<=vantHoff_EOS!$N$19,y_iindex_NS_n0i_vi_X(Q$3,vantHoff_EOS!$N$19,vantHoff_EOS!$O$31:$X$31,vantHoff_EOS!$O$23:$X$23,$G14),\"-\")","v":1.655005697930185E-3},{"$f":"IF(R$3<=vantHoff_EOS!$N$19,y_iindex_NS_n0i_vi_X(R$3,vantHoff_EOS!$N$19,vantHoff_EOS!$O$31:$X$31,vantHoff_EOS!$O$23:$X$23,$G14),\"-\")","v":0.11785218718026402},{"$f":"IF(S$3<=vantHoff_EOS!$N$19,y_iindex_NS_n0i_vi_X(S$3,vantHoff_EOS!$N$19,vantHoff_EOS!$O$31:$X$31,vantHoff_EOS!$O$23:$X$23,$G14),\"-\")","v":0.87718279572594549},{"$f":"IF(T$3<=vantHoff_EOS!$N$19,y_iindex_NS_n0i_vi_X(T$3,vantHoff_EOS!$N$19,vantHoff_EOS!$O$31:$X$31,vantHoff_EOS!$O$23:$X$23,$G14),\"-\")","v":"-"},{"$f":"IF(U$3<=vantHoff_EOS!$N$19,y_iindex_NS_n0i_vi_X(U$3,vantHoff_EOS!$N$19,vantHoff_EOS!$O$31:$X$31,vantHoff_EOS!$O$23:$X$23,$G14),\"-\")","v":"-"},{"$f":"IF(V$3<=vantHoff_EOS!$N$19,y_iindex_NS_n0i_vi_X(V$3,vantHoff_EOS!$N$19,vantHoff_EOS!$O$31:$X$31,vantHoff_EOS!$O$23:$X$23,$G14),\"-\")","v":"-"},{"$f":"IF(W$3<=vantHoff_EOS!$N$19,y_iindex_NS_n0i_vi_X(W$3,vantHoff_EOS!$N$19,vantHoff_EOS!$O$31:$X$31,vantHoff_EOS!$O$23:$X$23,$G14),\"-\")","v":"-"},{"$f":"IF(X$3<=vantHoff_EOS!$N$19,y_iindex_NS_n0i_vi_X(X$3,vantHoff_EOS!$N$19,vantHoff_EOS!$O$31:$X$31,vantHoff_EOS!$O$23:$X$23,$G14),\"-\")","v":"-"},1,{"$f":"IF(Z$3<=vantHoff_EOS!$N$19,Phi_i_NS_Tci_Pci_wi_kijm_TinC_PinPa_yi(Z$3,vantHoff_EOS!$N$19,vantHoff_EOS!$X$5:$X$14,vantHoff_EOS!$Y$5:$Y$14,vantHoff_EOS!$Z$5:$Z$14,vantHoff_EOS!$AE$5:$AN$14,B14,$C$2,$O14:$X14),\"-\")","v":1.0031493726078831},{"$f":"IF(AA$3<=vantHoff_EOS!$N$19,Phi_i_NS_Tci_Pci_wi_kijm_TinC_PinPa_yi(AA$3,vantHoff_EOS!$N$19,vantHoff_EOS!$X$5:$X$14,vantHoff_EOS!$Y$5:$Y$14,vantHoff_EOS!$Z$5:$Z$14,vantHoff_EOS!$AE$5:$AN$14,C14,$C$2,$O14:$X14),\"-\")","v":1.0010682654013077},{"$f":"IF(AB$3<=vantHoff_EOS!$N$19,Phi_i_NS_Tci_Pci_wi_kijm_TinC_PinPa_yi(AB$3,vantHoff_EOS!$N$19,vantHoff_EOS!$X$5:$X$14,vantHoff_EOS!$Y$5:$Y$14,vantHoff_EOS!$Z$5:$Z$14,vantHoff_EOS!$AE$5:$AN$14,D14,$C$2,$O14:$X14),\"-\")","v":0.9828342589932485},{"$f":"IF(AC$3<=vantHoff_EOS!$N$19,Phi_i_NS_Tci_Pci_wi_kijm_TinC_PinPa_yi(AC$3,vantHoff_EOS!$N$19,vantHoff_EOS!$X$5:$X$14,vantHoff_EOS!$Y$5:$Y$14,vantHoff_EOS!$Z$5:$Z$14,vantHoff_EOS!$AE$5:$AN$14,E14,$C$2,$O14:$X14),\"-\")","v":0.96606362411452129},{"$f":"IF(AD$3<=vantHoff_EOS!$N$19,Phi_i_NS_Tci_Pci_wi_kijm_TinC_PinPa_yi(AD$3,vantHoff_EOS!$N$19,vantHoff_EOS!$X$5:$X$14,vantHoff_EOS!$Y$5:$Y$14,vantHoff_EOS!$Z$5:$Z$14,vantHoff_EOS!$AE$5:$AN$14,F14,$C$2,$O14:$X14),\"-\")","v":0.99999997618068914},{"$f":"IF(AE$3<=vantHoff_EOS!$N$19,Phi_i_NS_Tci_Pci_wi_kijm_TinC_PinPa_yi(AE$3,vantHoff_EOS!$N$19,vantHoff_EOS!$X$5:$X$14,vantHoff_EOS!$Y$5:$Y$14,vantHoff_EOS!$Z$5:$Z$14,vantHoff_EOS!$AE$5:$AN$14,G14,$C$2,$O14:$X14),\"-\")","v":"-"},{"$f":"IF(AF$3<=vantHoff_EOS!$N$19,Phi_i_NS_Tci_Pci_wi_kijm_TinC_PinPa_yi(AF$3,vantHoff_EOS!$N$19,vantHoff_EOS!$X$5:$X$14,vantHoff_EOS!$Y$5:$Y$14,vantHoff_EOS!$Z$5:$Z$14,vantHoff_EOS!$AE$5:$AN$14,H14,$C$2,$O14:$X14),\"-\")","v":"-"},{"$f":"IF(AG$3<=vantHoff_EOS!$N$19,Phi_i_NS_Tci_Pci_wi_kijm_TinC_PinPa_yi(AG$3,vantHoff_EOS!$N$19,vantHoff_EOS!$X$5:$X$14,vantHoff_EOS!$Y$5:$Y$14,vantHoff_EOS!$Z$5:$Z$14,vantHoff_EOS!$AE$5:$AN$14,I14,$C$2,$O14:$X14),\"-\")","v":"-"},{"$f":"IF(AH$3<=vantHoff_EOS!$N$19,Phi_i_NS_Tci_Pci_wi_kijm_TinC_PinPa_yi(AH$3,vantHoff_EOS!$N$19,vantHoff_EOS!$X$5:$X$14,vantHoff_EOS!$Y$5:$Y$14,vantHoff_EOS!$Z$5:$Z$14,vantHoff_EOS!$AE$5:$AN$14,J14,$C$2,$O14:$X14),\"-\")","v":"-"},{"$f":"IF(AI$3<=vantHoff_EOS!$N$19,Phi_i_NS_Tci_Pci_wi_kijm_TinC_PinPa_yi(AI$3,vantHoff_EOS!$N$19,vantHoff_EOS!$X$5:$X$14,vantHoff_EOS!$Y$5:$Y$14,vantHoff_EOS!$Z$5:$Z$14,vantHoff_EOS!$AE$5:$AN$14,K14,$C$2,$O14:$X14),\"-\")","v":"-"}]
[12,{"$f":"B14+vantHoff_EOS!$B$26","v":22},295.14999999999998,3.3881077418261903E-3,{"$f":"lnKaT_Tref_lnKaTref_dHTref_da_db_dc_dd_de_TinC(vantHoff_EOS!$E$7,vantHoff_EOS!$B$9,vantHoff_EOS!$B$6,vantHoff_EOS!$O$27,vantHoff_EOS!$P$27,vantHoff_EOS!$Q$27,vantHoff_EOS!$R$27,vantHoff_EOS!$S$27,B15)","v":16.724913250277762},18345837.184119117,{"$f":"MolarExtentX_NS_vi_n0i_dHfi_dGfi_TrefinC_da_db_dc_dd_de_Tci_Pci_wi_kijm_TinC_PinPa(vantHoff_EOS!$N$19,vantHoff_EOS!$O$23:$X$23,vantHoff_EOS!$O$31:$X$31,vantHoff_EOS!$T$5:$T$14,vantHoff_EOS!$U$5:$U$14,vantHoff_EOS!$E$7,vantHoff_EOS!$O$27,vantHoff_EOS!$P$27,vantHoff_EOS!$Q$27,vantHoff_EOS!$R$27,vantHoff_EOS!$S$27,vantHoff_EOS!$X$5:$X$14,vantHoff_EOS!$Y$5:$Y$14,vantHoff_EOS!$Z$5:$Z$14,vantHoff_EOS!$AE$5:$AN$14,B15,$C$2)","v":0.9845972502405218},{"$f":"Ky_NS_n0i_vi_X(vantHoff_EOS!$N$19,vantHoff_EOS!$O$31:$X$31,vantHoff_EOS!$O$23:$X$23,G15)","v":18879841.384272907},{"$f":"Kp_NS_vi_PinPa(vantHoff_EOS!$N$19,vantHoff_EOS!$O$23:$X$23,$C$2)","v":1},{"$f":"Kphi_NS_n0i_vi_X_Tci_Pci_wi_kijm_TinC_PinPa(vantHoff_EOS!$N$19,vantHoff_EOS!$O$31:$X$31,vantHoff_EOS!$O$23:$X$23,G15,vantHoff_EOS!$X$5:$X$14,vantHoff_EOS!$Y$5:$Y$14,vantHoff_EOS!$Z$5:$Z$14,vantHoff_EOS!$AE$5:$AN$14,B15,$C$2)","v":0.97171558739148645},16.753605317389606,0,-2.8692122903373068E-2,{"$f":"nT_NS_n0i_vi_X(vantHoff_EOS!$N$19,vantHoff_EOS!$O$31:$X$31,vantHoff_EOS!$O$23:$X$23,G15)","v":8.3708054995189567},{"$f":"IF(O$3<=vantHoff_EOS!$N$19,y_iindex_NS_n0i_vi_X(O$3,vantHoff_EOS!$N$19,vantHoff_EOS!$O$31:$X$31,vantHoff_EOS!$O$23:$X$23,$G15),\"-\")","v":1.8400558656348355E-3},{"$f":"IF(P$3<=vantHoff_EOS!$N$19,y_iindex_NS_n0i_vi_X(P$3,vantHoff_EOS!$N$19,vantHoff_EOS!$O$31:$X$31,vantHoff_EOS!$O$23:$X$23,$G15),\"-\")","v":1.8400558656348355E-3},{"$f":"IF(Q$3<=vantHoff_EOS!$N$19,y_iindex_NS_n0i_vi_X(Q$3,vantHoff_EOS!$N$19,vantHoff_EOS!$O$31:$X$31,vantHoff_EOS!$O$23:$X$23,$G15),\"-\")","v":1.8400558656348355E-3},{"$f":"IF(R$3<=vantHoff_EOS!$N$19,y_iindex_NS_n0i_vi_X(R$3,vantHoff_EOS!$N$19,vantHoff_EOS!$O$31:$X$31,vantHoff_EOS!$O$23:$X$23,$G15),\"-\")","v":0.11762276047354146},{"$f":"IF(S$3<=vantHoff_EOS!$N$19,y_iindex_NS_n0i_vi_X(S$3,vantHoff_EOS!$N$19,vantHoff_EOS!$O$31:$X$31,vantHoff_EOS!$O$23:$X$23,$G15),\"-\")","v":0.87685707192955398},{"$f":"IF(T$3<=vantHoff_EOS!$N$19,y_iindex_NS_n0i_vi_X(T$3,vantHoff_EOS!$N$19,vantHoff_EOS!$O$31:$X$31,vantHoff_EOS!$O$23:$X$23,$G15),\"-\")","v":"-"},{"$f":"IF(U$3<=vantHoff_EOS!$N$19,y_iindex_NS_n0i_vi_X(U$3,vantHoff_EOS!$N$19,vantHoff_EOS!$O$31:$X$31,vantHoff_EOS!$O$23:$X$23,$G15),\"-\")","v":"-"},{"$f":"IF(V$3<=vantHoff_EOS!$N$19,y_iindex_NS_n0i_vi_X(V$3,vantHoff_EOS!$N$19,vantHoff_EOS!$O$31:$X$31,vantHoff_EOS!$O$23:$X$23,$G15),\"-\")","v":"-"},{"$f":"IF(W$3<=vantHoff_EOS!$N$19,y_iindex_NS_n0i_vi_X(W$3,vantHoff_EOS!$N$19,vantHoff_EOS!$O$31:$X$31,vantHoff_EOS!$O$23:$X$23,$G15),\"-\")","v":"-"},{"$f":"IF(X$3<=vantHoff_EOS!$N$19,y_iindex_NS_n0i_vi_X(X$3,vantHoff_EOS!$N$19,vantHoff_EOS!$O$31:$X$31,vantHoff_EOS!$O$23:$X$23,$G15),\"-\")","v":"-"},1,{"$f":"IF(Z$3<=vantHoff_EOS!$N$19,Phi_i_NS_Tci_Pci_wi_kijm_TinC_PinPa_yi(Z$3,vantHoff_EOS!$N$19,vantHoff_EOS!$X$5:$X$14,vantHoff_EOS!$Y$5:$Y$14,vantHoff_EOS!$Z$5:$Z$14,vantHoff_EOS!$AE$5:$AN$14,B15,$C$2,$O15:$X15),\"-\")","v":1.0031048577131212},{"$f":"IF(AA$3<=vantHoff_EOS!$N$19,Phi_i_NS_Tci_Pci_wi_kijm_TinC_PinPa_yi(AA$3,vantHoff_EOS!$N$19,vantHoff_EOS!$X$5:$X$14,vantHoff_EOS!$Y$5:$Y$14,vantHoff_EOS!$Z$5:$Z$14,vantHoff_EOS!$AE$5:$AN$14,C15,$C$2,$O15:$X15),\"-\")","v":1.0010563865670059},{"$f":"IF(AB$3<=vantHoff_EOS!$N$19,Phi_i_NS_Tci_Pci_wi_kijm_TinC_PinPa_yi(AB$3,vantHoff_EOS!$N$19,vantHoff_EOS!$X$5:$X$14,vantHoff_EOS!$Y$5:$Y$14,vantHoff_EOS!$Z$5:$Z$14,vantHoff_EOS!$AE$5:$AN$14,D15,$C$2,$O15:$X15),\"-\")","v":0.9828375814597895},{"$f":"IF(AC$3<=vantHoff_EOS!$N$19,Phi_i_NS_Tci_Pci_wi_kijm_TinC_PinPa_yi(AC$3,vantHoff_EOS!$N$19,vantHoff_EOS!$X$5:$X$14,vantHoff_EOS!$Y$5:$Y$14,vantHoff_EOS!$Z$5:$Z$14,vantHoff_EOS!$AE$5:$AN$14,E15,$C$2,$O15:$X15),\"-\")","v":0.96597461674020435},{"$f":"IF(AD$3<=vantHoff_EOS!$N$19,Phi_i_NS_Tci_Pci_wi_kijm_TinC_PinPa_yi(AD$3,vantHoff_EOS!$N$19,vantHoff_EOS!$X$5:$X$14,vantHoff_EOS!$Y$5:$Y$14,vantHoff_EOS!$Z$5:$Z$14,vantHoff_EOS!$AE$5:$AN$14,F15,$C$2,$O15:$X15),\"-\")","v":0.99999996735668939},{"$f":"IF(AE$3<=vantHoff_EOS!$N$19,Phi_i_NS_Tci_Pci_wi_kijm_TinC_PinPa_yi(AE$3,vantHoff_EOS!$N$19,vantHoff_EOS!$X$5:$X$14,vantHoff_EOS!$Y$5:$Y$14,vantHoff_EOS!$Z$5:$Z$14,vantHoff_EOS!$AE$5:$AN$14,G15,$C$2,$O15:$X15),\"-\")","v":"-"},{"$f":"IF(AF$3<=vantHoff_EOS!$N$19,Phi_i_NS_Tci_Pci_wi_kijm_TinC_PinPa_yi(AF$3,vantHoff_EOS!$N$19,vantHoff_EOS!$X$5:$X$14,vantHoff_EOS!$Y$5:$Y$14,vantHoff_EOS!$Z$5:$Z$14,vantHoff_EOS!$AE$5:$AN$14,H15,$C$2,$O15:$X15),\"-\")","v":"-"},{"$f":"IF(AG$3<=vantHoff_EOS!$N$19,Phi_i_NS_Tci_Pci_wi_kijm_TinC_PinPa_yi(AG$3,vantHoff_EOS!$N$19,vantHoff_EOS!$X$5:$X$14,vantHoff_EOS!$Y$5:$Y$14,vantHoff_EOS!$Z$5:$Z$14,vantHoff_EOS!$AE$5:$AN$14,I15,$C$2,$O15:$X15),\"-\")","v":"-"},{"$f":"IF(AH$3<=vantHoff_EOS!$N$19,Phi_i_NS_Tci_Pci_wi_kijm_TinC_PinPa_yi(AH$3,vantHoff_EOS!$N$19,vantHoff_EOS!$X$5:$X$14,vantHoff_EOS!$Y$5:$Y$14,vantHoff_EOS!$Z$5:$Z$14,vantHoff_EOS!$AE$5:$AN$14,J15,$C$2,$O15:$X15),\"-\")","v":"-"},{"$f":"IF(AI$3<=vantHoff_EOS!$N$19,Phi_i_NS_Tci_Pci_wi_kijm_TinC_PinPa_yi(AI$3,vantHoff_EOS!$N$19,vantHoff_EOS!$X$5:$X$14,vantHoff_EOS!$Y$5:$Y$14,vantHoff_EOS!$Z$5:$Z$14,vantHoff_EOS!$AE$5:$AN$14,K15,$C$2,$O15:$X15),\"-\")","v":"-"}]
[13,{"$f":"B15+vantHoff_EOS!$B$26","v":24},297.14999999999998,3.3653037186606094E-3,{"$f":"lnKaT_Tref_lnKaTref_dHTref_da_db_dc_dd_de_TinC(vantHoff_EOS!$E$7,vantHoff_EOS!$B$9,vantHoff_EOS!$B$6,vantHoff_EOS!$O$27,vantHoff_EOS!$P$27,vantHoff_EOS!$Q$27,vantHoff_EOS!$R$27,vantHoff_EOS!$S$27,B16)","v":16.409741320971751},13386286.173371289,{"$f":"MolarExtentX_NS_vi_n0i_dHfi_dGfi_TrefinC_da_db_dc_dd_de_Tci_Pci_wi_kijm_TinC_PinPa(vantHoff_EOS!$N$19,vantHoff_EOS!$O$23:$X$23,vantHoff_EOS!$O$31:$X$31,vantHoff_EOS!$T$5:$T$14,vantHoff_EOS!$U$5:$U$14,vantHoff_EOS!$E$7,vantHoff_EOS!$O$27,vantHoff_EOS!$P$27,vantHoff_EOS!$Q$27,vantHoff_EOS!$R$27,vantHoff_EOS!$S$27,vantHoff_EOS!$X$5:$X$14,vantHoff_EOS!$Y$5:$Y$14,vantHoff_EOS!$Z$5:$Z$14,vantHoff_EOS!$AE$5:$AN$14,B16,$C$2)","v":0.98289322271259183},{"$f":"Ky_NS_n0i_vi_X(vantHoff_EOS!$N$19,vantHoff_EOS!$O$31:$X$31,vantHoff_EOS!$O$23:$X$23,G16)","v":13768600.537813352},{"$f":"Kp_NS_vi_PinPa(vantHoff_EOS!$N$19,vantHoff_EOS!$O$23:$X$23,$C$2)","v":1},{"$f":"Kphi_NS_n0i_vi_X_Tci_Pci_wi_kijm_TinC_PinPa(vantHoff_EOS!$N$19,vantHoff_EOS!$O$31:$X$31,vantHoff_EOS!$O$23:$X$23,G16,vantHoff_EOS!$X$5:$X$14,vantHoff_EOS!$Y$5:$Y$14,vantHoff_EOS!$Z$5:$Z$14,vantHoff_EOS!$AE$5:$AN$14,B16,$C$2)","v":0.97223283109329617},16.437901234299172,0,-2.8159965044555504E-2,{"$f":"nT_NS_n0i_vi_X(vantHoff_EOS!$N$19,vantHoff_EOS!$O$31:$X$31,vantHoff_EOS!$O$23:$X$23,G16)","v":8.3742135545748155},{"$f":"IF(O$3<=vantHoff_EOS!$N$19,y_iindex_NS_n0i_vi_X(O$3,vantHoff_EOS!$N$19,vantHoff_EOS!$O$31:$X$31,vantHoff_EOS!$O$23:$X$23,$G16),\"-\")","v":2.0427920993324527E-3},{"$f":"IF(P$3<=vantHoff_EOS!$N$19,y_iindex_NS_n0i_vi_X(P$3,vantHoff_EOS!$N$19,vantHoff_EOS!$O$31:$X$31,vantHoff_EOS!$O$23:$X$23,$G16),\"-\")","v":2.0427920993324527E-3},{"$f":"IF(Q$3<=vantHoff_EOS!$N$19,y_iindex_NS_n0i_vi_X(Q$3,vantHoff_EOS!$N$19,vantHoff_EOS!$O$31:$X$31,vantHoff_EOS!$O$23:$X$23,$G16),\"-\")","v":2.0427920993324527E-3},{"$f":"IF(R$3<=vantHoff_EOS!$N$19,y_iindex_NS_n0i_vi_X(R$3,vantHoff_EOS!$N$19,vantHoff_EOS!$O$31:$X$31,vantHoff_EOS!$O$23:$X$23,$G16),\"-\")","v":0.1173714064379979},{"$f":"IF(S$3<=vantHoff_EOS!$N$19,y_iindex_NS_n0i_vi_X(S$3,vantHoff_EOS!$N$19,vantHoff_EOS!$O$31:$X$31,vantHoff_EOS!$O$23:$X$23,$G16),\"-\")","v":0.87650021726400484},{"$f":"IF(T$3<=vantHoff_EOS!$N$19,y_iindex_NS_n0i_vi_X(T$3,vantHoff_EOS!$N$19,vantHoff_EOS!$O$31:$X$31,vantHoff_EOS!$O$23:$X$23,$G16),\"-\")","v":"-"},{"$f":"IF(U$3<=vantHoff_EOS!$N$19,y_iindex_NS_n0i_vi_X(U$3,vantHoff_EOS!$N$19,vantHoff_EOS!$O$31:$X$31,vantHoff_EOS!$O$23:$X$23,$G16),\"-\")","v":"-"},{"$f":"IF(V$3<=vantHoff_EOS!$N$19,y_iindex_NS_n0i_vi_X(V$3,vantHoff_EOS!$N$19,vantHoff_EOS!$O$31:$X$31,vantHoff_EOS!$O$23:$X$23,$G16),\"-\")","v":"-"},{"$f":"IF(W$3<=vantHoff_EOS!$N$19,y_iindex_NS_n0i_vi_X(W$3,vantHoff_EOS!$N$19,vantHoff_EOS!$O$31:$X$31,vantHoff_EOS!$O$23:$X$23,$G16),\"-\")","v":"-"},{"$f":"IF(X$3<=vantHoff_EOS!$N$19,y_iindex_NS_n0i_vi_X(X$3,vantHoff_EOS!$N$19,vantHoff_EOS!$O$31:$X$31,vantHoff_EOS!$O$23:$X$23,$G16),\"-\")","v":"-"},1,{"$f":"IF(Z$3<=vantHoff_EOS!$N$19,Phi_i_NS_Tci_Pci_wi_kijm_TinC_PinPa_yi(Z$3,vantHoff_EOS!$N$19,vantHoff_EOS!$X$5:$X$14,vantHoff_EOS!$Y$5:$Y$14,vantHoff_EOS!$Z$5:$Z$14,vantHoff_EOS!$AE$5:$AN$14,B16,$C$2,$O16:$X16),\"-\")","v":1.0030608183813876},{"$f":"IF(AA$3<=vantHoff_EOS!$N$19,Phi_i_NS_Tci_Pci_wi_kijm_TinC_PinPa_yi(AA$3,vantHoff_EOS!$N$19,vantHoff_EOS!$X$5:$X$14,vantHoff_EOS!$Y$5:$Y$14,vantHoff_EOS!$Z$5:$Z$14,vantHoff_EOS!$AE$5:$AN$14,C16,$C$2,$O16:$X16),\"-\")","v":1.001044584708036},{"$f":"IF(AB$3<=vantHoff_EOS!$N$19,Phi_i_NS_Tci_Pci_wi_kijm_TinC_PinPa_yi(AB$3,vantHoff_EOS!$N$19,vantHoff_EOS!$X$5:$X$14,vantHoff_EOS!$Y$5:$Y$14,vantHoff_EOS!$Z$5:$Z$14,vantHoff_EOS!$AE$5:$AN$14,D16,$C$2,$O16:$X16),\"-\")","v":0.98284122749317437},{"$f":"IF(AC$3<=vantHoff_EOS!$N$19,Phi_i_NS_Tci_Pci_wi_kijm_TinC_PinPa_yi(AC$3,vantHoff_EOS!$N$19,vantHoff_EOS!$X$5:$X$14,vantHoff_EOS!$Y$5:$Y$14,vantHoff_EOS!$Z$5:$Z$14,vantHoff_EOS!$AE$5:$AN$14,E16,$C$2,$O16:$X16),\"-\")","v":0.96588781755762076},{"$f":"IF(AD$3<=vantHoff_EOS!$N$19,Phi_i_NS_Tci_Pci_wi_kijm_TinC_PinPa_yi(AD$3,vantHoff_EOS!$N$19,vantHoff_EOS!$X$5:$X$14,vantHoff_EOS!$Y$5:$Y$14,vantHoff_EOS!$Z$5:$Z$14,vantHoff_EOS!$AE$5:$AN$14,F16,$C$2,$O16:$X16),\"-\")","v":0.99999995548253506},{"$f":"IF(AE$3<=vantHoff_EOS!$N$19,Phi_i_NS_Tci_Pci_wi_kijm_TinC_PinPa_yi(AE$3,vantHoff_EOS!$N$19,vantHoff_EOS!$X$5:$X$14,vantHoff_EOS!$Y$5:$Y$14,vantHoff_EOS!$Z$5:$Z$14,vantHoff_EOS!$AE$5:$AN$14,G16,$C$2,$O16:$X16),\"-\")","v":"-"},{"$f":"IF(AF$3<=vantHoff_EOS!$N$19,Phi_i_NS_Tci_Pci_wi_kijm_TinC_PinPa_yi(AF$3,vantHoff_EOS!$N$19,vantHoff_EOS!$X$5:$X$14,vantHoff_EOS!$Y$5:$Y$14,vantHoff_EOS!$Z$5:$Z$14,vantHoff_EOS!$AE$5:$AN$14,H16,$C$2,$O16:$X16),\"-\")","v":"-"},{"$f":"IF(AG$3<=vantHoff_EOS!$N$19,Phi_i_NS_Tci_Pci_wi_kijm_TinC_PinPa_yi(AG$3,vantHoff_EOS!$N$19,vantHoff_EOS!$X$5:$X$14,vantHoff_EOS!$Y$5:$Y$14,vantHoff_EOS!$Z$5:$Z$14,vantHoff_EOS!$AE$5:$AN$14,I16,$C$2,$O16:$X16),\"-\")","v":"-"},{"$f":"IF(AH$3<=vantHoff_EOS!$N$19,Phi_i_NS_Tci_Pci_wi_kijm_TinC_PinPa_yi(AH$3,vantHoff_EOS!$N$19,vantHoff_EOS!$X$5:$X$14,vantHoff_EOS!$Y$5:$Y$14,vantHoff_EOS!$Z$5:$Z$14,vantHoff_EOS!$AE$5:$AN$14,J16,$C$2,$O16:$X16),\"-\")","v":"-"},{"$f":"IF(AI$3<=vantHoff_EOS!$N$19,Phi_i_NS_Tci_Pci_wi_kijm_TinC_PinPa_yi(AI$3,vantHoff_EOS!$N$19,vantHoff_EOS!$X$5:$X$14,vantHoff_EOS!$Y$5:$Y$14,vantHoff_EOS!$Z$5:$Z$14,vantHoff_EOS!$AE$5:$AN$14,K16,$C$2,$O16:$X16),\"-\")","v":"-"}]
[14,{"$f":"B16+vantHoff_EOS!$B$26","v":26},299.14999999999998,3.3428046130703662E-3,{"$f":"lnKaT_Tref_lnKaTref_dHTref_da_db_dc_dd_de_TinC(vantHoff_EOS!$E$7,vantHoff_EOS!$B$9,vantHoff_EOS!$B$6,vantHoff_EOS!$O$27,vantHoff_EOS!$P$27,vantHoff_EOS!$Q$27,vantHoff_EOS!$R$27,vantHoff_EOS!$S$27,B17)","v":16.098694148077481},9807854.9497695807,{"$f":"MolarExtentX_NS_vi_n0i_dHfi_dGfi_TrefinC_da_db_dc_dd_de_Tci_Pci_wi_kijm_TinC_PinPa(vantHoff_EOS!$N$19,vantHoff_EOS!$O$23:$X$23,vantHoff_EOS!$O$31:$X$31,vantHoff_EOS!$T$5:$T$14,vantHoff_EOS!$U$5:$U$14,vantHoff_EOS!$E$7,vantHoff_EOS!$O$27,vantHoff_EOS!$P$27,vantHoff_EOS!$Q$27,vantHoff_EOS!$R$27,vantHoff_EOS!$S$27,vantHoff_EOS!$X$5:$X$14,vantHoff_EOS!$Y$5:$Y$14,vantHoff_EOS!$Z$5:$Z$14,vantHoff_EOS!$AE$5:$AN$14,B17,$C$2)","v":0.98102742268060117},{"$f":"Ky_NS_n0i_vi_X(vantHoff_EOS!$N$19,vantHoff_EOS!$O$31:$X$31,vantHoff_EOS!$O$23:$X$23,G17)","v":10082707.748268116},{"$f":"Kp_NS_vi_PinPa(vantHoff_EOS!$N$19,vantHoff_EOS!$O$23:$X$23,$C$2)","v":1},{"$f":"Kphi_NS_n0i_vi_X_Tci_Pci_wi_kijm_TinC_PinPa(vantHoff_EOS!$N$19,vantHoff_EOS!$O$31:$X$31,vantHoff_EOS!$O$23:$X$23,G17,vantHoff_EOS!$X$5:$X$14,vantHoff_EOS!$Y$5:$Y$14,vantHoff_EOS!$Z$5:$Z$14,vantHoff_EOS!$AE$5:$AN$14,B17,$C$2)","v":0.97274013416887184},16.126332410354291,0,-2.7638309375155049E-2,{"$f":"nT_NS_n0i_vi_X(vantHoff_EOS!$N$19,vantHoff_EOS!$O$31:$X$31,vantHoff_EOS!$O$23:$X$23,G17)","v":8.3779451546387982},{"$f":"IF(O$3<=vantHoff_EOS!$N$19,y_iindex_NS_n0i_vi_X(O$3,vantHoff_EOS!$N$19,vantHoff_EOS!$O$31:$X$31,vantHoff_EOS!$O$23:$X$23,$G17),\"-\")","v":2.2645860016037313E-3},{"$f":"IF(P$3<=vantHoff_EOS!$N$19,y_iindex_NS_n0i_vi_X(P$3,vantHoff_EOS!$N$19,vantHoff_EOS!$O$31:$X$31,vantHoff_EOS!$O$23:$X$23,$G17),\"-\")","v":2.2645860016037313E-3},{"$f":"IF(Q$3<=vantHoff_EOS!$N$19,y_iindex_NS_n0i_vi_X(Q$3,vantHoff_EOS!$N$19,vantHoff_EOS!$O$31:$X$31,vantHoff_EOS!$O$23:$X$23,$G17),\"-\")","v":2.2645860016037313E-3},{"$f":"IF(R$3<=vantHoff_EOS!$N$19,y_iindex_NS_n0i_vi_X(R$3,vantHoff_EOS!$N$19,vantHoff_EOS!$O$31:$X$31,vantHoff_EOS!$O$23:$X$23,$G17),\"-\")","v":0.11709642454957042},{"$f":"IF(S$3<=vantHoff_EOS!$N$19,y_iindex_NS_n0i_vi_X(S$3,vantHoff_EOS!$N$19,vantHoff_EOS!$O$31:$X$31,vantHoff_EOS!$O$23:$X$23,$G17),\"-\")","v":0.87610981744561833},{"$f":"IF(T$3<=vantHoff_EOS!$N$19,y_iindex_NS_n0i_vi_X(T$3,vantHoff_EOS!$N$19,vantHoff_EOS!$O$31:$X$31,vantHoff_EOS!$O$23:$X$23,$G17),\"-\")","v":"-"},{"$f":"IF(U$3<=vantHoff_EOS!$N$19,y_iindex_NS_n0i_vi_X(U$3,vantHoff_EOS!$N$19,vantHoff_EOS!$O$31:$X$31,vantHoff_EOS!$O$23:$X$23,$G17),\"-\")","v":"-"},{"$f":"IF(V$3<=vantHoff_EOS!$N$19,y_iindex_NS_n0i_vi_X(V$3,vantHoff_EOS!$N$19,vantHoff_EOS!$O$31:$X$31,vantHoff_EOS!$O$23:$X$23,$G17),\"-\")","v":"-"},{"$f":"IF(W$3<=vantHoff_EOS!$N$19,y_iindex_NS_n0i_vi_X(W$3,vantHoff_EOS!$N$19,vantHoff_EOS!$O$31:$X$31,vantHoff_EOS!$O$23:$X$23,$G17),\"-\")","v":"-"},{"$f":"IF(X$3<=vantHoff_EOS!$N$19,y_iindex_NS_n0i_vi_X(X$3,vantHoff_EOS!$N$19,vantHoff_EOS!$O$31:$X$31,vantHoff_EOS!$O$23:$X$23,$G17),\"-\")","v":"-"},1,{"$f":"IF(Z$3<=vantHoff_EOS!$N$19,Phi_i_NS_Tci_Pci_wi_kijm_TinC_PinPa_yi(Z$3,vantHoff_EOS!$N$19,vantHoff_EOS!$X$5:$X$14,vantHoff_EOS!$Y$5:$Y$14,vantHoff_EOS!$Z$5:$Z$14,vantHoff_EOS!$AE$5:$AN$14,B17,$C$2,$O17:$X17),\"-\")","v":1.0030172140302263},{"$f":"IF(AA$3<=vantHoff_EOS!$N$19,Phi_i_NS_Tci_Pci_wi_kijm_TinC_PinPa_yi(AA$3,vantHoff_EOS!$N$19,vantHoff_EOS!$X$5:$X$14,vantHoff_EOS!$Y$5:$Y$14,vantHoff_EOS!$Z$5:$Z$14,vantHoff_EOS!$AE$5:$AN$14,C17,$C$2,$O17:$X17),\"-\")","v":1.0010328532040962},{"$f":"IF(AB$3<=vantHoff_EOS!$N$19,Phi_i_NS_Tci_Pci_wi_kijm_TinC_PinPa_yi(AB$3,vantHoff_EOS!$N$19,vantHoff_EOS!$X$5:$X$14,vantHoff_EOS!$Y$5:$Y$14,vantHoff_EOS!$Z$5:$Z$14,vantHoff_EOS!$AE$5:$AN$14,D17,$C$2,$O17:$X17),\"-\")","v":0.98284522337982605},{"$f":"IF(AC$3<=vantHoff_EOS!$N$19,Phi_i_NS_Tci_Pci_wi_kijm_TinC_PinPa_yi(AC$3,vantHoff_EOS!$N$19,vantHoff_EOS!$X$5:$X$14,vantHoff_EOS!$Y$5:$Y$14,vantHoff_EOS!$Z$5:$Z$14,vantHoff_EOS!$AE$5:$AN$14,E17,$C$2,$O17:$X17),\"-\")","v":0.96580331432207467},{"$f":"IF(AD$3<=vantHoff_EOS!$N$19,Phi_i_NS_Tci_Pci_wi_kijm_TinC_PinPa_yi(AD$3,vantHoff_EOS!$N$19,vantHoff_EOS!$X$5:$X$14,vantHoff_EOS!$Y$5:$Y$14,vantHoff_EOS!$Z$5:$Z$14,vantHoff_EOS!$AE$5:$AN$14,F17,$C$2,$O17:$X17),\"-\")","v":0.99999993958722411},{"$f":"IF(AE$3<=vantHoff_EOS!$N$19,Phi_i_NS_Tci_Pci_wi_kijm_TinC_PinPa_yi(AE$3,vantHoff_EOS!$N$19,vantHoff_EOS!$X$5:$X$14,vantHoff_EOS!$Y$5:$Y$14,vantHoff_EOS!$Z$5:$Z$14,vantHoff_EOS!$AE$5:$AN$14,G17,$C$2,$O17:$X17),\"-\")","v":"-"},{"$f":"IF(AF$3<=vantHoff_EOS!$N$19,Phi_i_NS_Tci_Pci_wi_kijm_TinC_PinPa_yi(AF$3,vantHoff_EOS!$N$19,vantHoff_EOS!$X$5:$X$14,vantHoff_EOS!$Y$5:$Y$14,vantHoff_EOS!$Z$5:$Z$14,vantHoff_EOS!$AE$5:$AN$14,H17,$C$2,$O17:$X17),\"-\")","v":"-"},{"$f":"IF(AG$3<=vantHoff_EOS!$N$19,Phi_i_NS_Tci_Pci_wi_kijm_TinC_PinPa_yi(AG$3,vantHoff_EOS!$N$19,vantHoff_EOS!$X$5:$X$14,vantHoff_EOS!$Y$5:$Y$14,vantHoff_EOS!$Z$5:$Z$14,vantHoff_EOS!$AE$5:$AN$14,I17,$C$2,$O17:$X17),\"-\")","v":"-"},{"$f":"IF(AH$3<=vantHoff_EOS!$N$19,Phi_i_NS_Tci_Pci_wi_kijm_TinC_PinPa_yi(AH$3,vantHoff_EOS!$N$19,vantHoff_EOS!$X$5:$X$14,vantHoff_EOS!$Y$5:$Y$14,vantHoff_EOS!$Z$5:$Z$14,vantHoff_EOS!$AE$5:$AN$14,J17,$C$2,$O17:$X17),\"-\")","v":"-"},{"$f":"IF(AI$3<=vantHoff_EOS!$N$19,Phi_i_NS_Tci_Pci_wi_kijm_TinC_PinPa_yi(AI$3,vantHoff_EOS!$N$19,vantHoff_EOS!$X$5:$X$14,vantHoff_EOS!$Y$5:$Y$14,vantHoff_EOS!$Z$5:$Z$14,vantHoff_EOS!$AE$5:$AN$14,K17,$C$2,$O17:$X17),\"-\")","v":"-"}]
[15,{"$f":"B17+vantHoff_EOS!$B$26","v":28},301.14999999999998,3.3206043499916988E-3,{"$f":"lnKaT_Tref_lnKaTref_dHTref_da_db_dc_dd_de_TinC(vantHoff_EOS!$E$7,vantHoff_EOS!$B$9,vantHoff_EOS!$B$6,vantHoff_EOS!$O$27,vantHoff_EOS!$P$27,vantHoff_EOS!$Q$27,vantHoff_EOS!$R$27,vantHoff_EOS!$S$27,B18)","v":15.791690634840132},7215129.0389038222,{"$f":"MolarExtentX_NS_vi_n0i_dHfi_dGfi_TrefinC_da_db_dc_dd_de_Tci_Pci_wi_kijm_TinC_PinPa(vantHoff_EOS!$N$19,vantHoff_EOS!$O$23:$X$23,vantHoff_EOS!$O$31:$X$31,vantHoff_EOS!$T$5:$T$14,vantHoff_EOS!$U$5:$U$14,vantHoff_EOS!$E$7,vantHoff_EOS!$O$27,vantHoff_EOS!$P$27,vantHoff_EOS!$Q$27,vantHoff_EOS!$R$27,vantHoff_EOS!$S$27,vantHoff_EOS!$X$5:$X$14,vantHoff_EOS!$Y$5:$Y$14,vantHoff_EOS!$Z$5:$Z$14,vantHoff_EOS!$AE$5:$AN$14,B18,$C$2)","v":0.97898723015130595},{"$f":"Ky_NS_n0i_vi_X(vantHoff_EOS!$N$19,vantHoff_EOS!$O$31:$X$31,vantHoff_EOS!$O$23:$X$23,G18)","v":7413530.442112647},{"$f":"Kp_NS_vi_PinPa(vantHoff_EOS!$N$19,vantHoff_EOS!$O$23:$X$23,$C$2)","v":1},{"$f":"Kphi_NS_n0i_vi_X_Tci_Pci_wi_kijm_TinC_PinPa(vantHoff_EOS!$N$19,vantHoff_EOS!$O$31:$X$31,vantHoff_EOS!$O$23:$X$23,G18,vantHoff_EOS!$X$5:$X$14,vantHoff_EOS!$Y$5:$Y$14,vantHoff_EOS!$Z$5:$Z$14,vantHoff_EOS!$AE$5:$AN$14,B18,$C$2)","v":0.97323789131238903},15.818817326739556,0,-2.7126734066641765E-2,{"$f":"nT_NS_n0i_vi_X(vantHoff_EOS!$N$19,vantHoff_EOS!$O$31:$X$31,vantHoff_EOS!$O$23:$X$23,G18)","v":8.3820255396973877},{"$f":"IF(O$3<=vantHoff_EOS!$N$19,y_iindex_NS_n0i_vi_X(O$3,vantHoff_EOS!$N$19,vantHoff_EOS!$O$31:$X$31,vantHoff_EOS!$O$23:$X$23,$G18),\"-\")","v":2.5068844933933071E-3},{"$f":"IF(P$3<=vantHoff_EOS!$N$19,y_iindex_NS_n0i_vi_X(P$3,vantHoff_EOS!$N$19,vantHoff_EOS!$O$31:$X$31,vantHoff_EOS!$O$23:$X$23,$G18),\"-\")","v":2.5068844933933071E-3},{"$f":"IF(Q$3<=vantHoff_EOS!$N$19,y_iindex_NS_n0i_vi_X(Q$3,vantHoff_EOS!$N$19,vantHoff_EOS!$O$31:$X$31,vantHoff_EOS!$O$23:$X$23,$G18),\"-\")","v":2.5068844933933071E-3},{"$f":"IF(R$3<=vantHoff_EOS!$N$19,y_iindex_NS_n0i_vi_X(R$3,vantHoff_EOS!$N$19,vantHoff_EOS!$O$31:$X$31,vantHoff_EOS!$O$23:$X$23,$G18),\"-\")","v":0.11679602090387449},{"$f":"IF(S$3<=vantHoff_EOS!$N$19,y_iindex_NS_n0i_vi_X(S$3,vantHoff_EOS!$N$19,vantHoff_EOS!$O$31:$X$31,vantHoff_EOS!$O$23:$X$23,$G18),\"-\")","v":0.87568332561594564},{"$f":"IF(T$3<=vantHoff_EOS!$N$19,y_iindex_NS_n0i_vi_X(T$3,vantHoff_EOS!$N$19,vantHoff_EOS!$O$31:$X$31,vantHoff_EOS!$O$23:$X$23,$G18),\"-\")","v":"-"},{"$f":"IF(U$3<=vantHoff_EOS!$N$19,y_iindex_NS_n0i_vi_X(U$3,vantHoff_EOS!$N$19,vantHoff_EOS!$O$31:$X$31,vantHoff_EOS!$O$23:$X$23,$G18),\"-\")","v":"-"},{"$f":"IF(V$3<=vantHoff_EOS!$N$19,y_iindex_NS_n0i_vi_X(V$3,vantHoff_EOS!$N$19,vantHoff_EOS!$O$31:$X$31,vantHoff_EOS!$O$23:$X$23,$G18),\"-\")","v":"-"},{"$f":"IF(W$3<=vantHoff_EOS!$N$19,y_iindex_NS_n0i_vi_X(W$3,vantHoff_EOS!$N$19,vantHoff_EOS!$O$31:$X$31,vantHoff_EOS!$O$23:$X$23,$G18),\"-\")","v":"-"},{"$f":"IF(X$3<=vantHoff_EOS!$N$19,y_iindex_NS_n0i_vi_X(X$3,vantHoff_EOS!$N$19,vantHoff_EOS!$O$31:$X$31,vantHoff_EOS!$O$23:$X$23,$G18),\"-\")","v":"-"},1,{"$f":"IF(Z$3<=vantHoff_EOS!$N$19,Phi_i_NS_Tci_Pci_wi_kijm_TinC_PinPa_yi(Z$3,vantHoff_EOS!$N$19,vantHoff_EOS!$X$5:$X$14,vantHoff_EOS!$Y$5:$Y$14,vantHoff_EOS!$Z$5:$Z$14,vantHoff_EOS!$AE$5:$AN$14,B18,$C$2,$O18:$X18),\"-\")","v":1.0029740047026023},{"$f":"IF(AA$3<=vantHoff_EOS!$N$19,Phi_i_NS_Tci_Pci_wi_kijm_TinC_PinPa_yi(AA$3,vantHoff_EOS!$N$19,vantHoff_EOS!$X$5:$X$14,vantHoff_EOS!$Y$5:$Y$14,vantHoff_EOS!$Z$5:$Z$14,vantHoff_EOS!$AE$5:$AN$14,C18,$C$2,$O18:$X18),\"-\")","v":1.0010211853817439},{"$f":"IF(AB$3<=vantHoff_EOS!$N$19,Phi_i_NS_Tci_Pci_wi_kijm_TinC_PinPa_yi(AB$3,vantHoff_EOS!$N$19,vantHoff_EOS!$X$5:$X$14,vantHoff_EOS!$Y$5:$Y$14,vantHoff_EOS!$Z$5:$Z$14,vantHoff_EOS!$AE$5:$AN$14,D18,$C$2,$O18:$X18),\"-\")","v":0.982849597089271},{"$f":"IF(AC$3<=vantHoff_EOS!$N$19,Phi_i_NS_Tci_Pci_wi_kijm_TinC_PinPa_yi(AC$3,vantHoff_EOS!$N$19,vantHoff_EOS!$X$5:$X$14,vantHoff_EOS!$Y$5:$Y$14,vantHoff_EOS!$Z$5:$Z$14,vantHoff_EOS!$AE$5:$AN$14,E18,$C$2,$O18:$X18),\"-\")","v":0.96572120116631655},{"$f":"IF(AD$3<=vantHoff_EOS!$N$19,Phi_i_NS_Tci_Pci_wi_kijm_TinC_PinPa_yi(AD$3,vantHoff_EOS!$N$19,vantHoff_EOS!$X$5:$X$14,vantHoff_EOS!$Y$5:$Y$14,vantHoff_EOS!$Z$5:$Z$14,vantHoff_EOS!$AE$5:$AN$14,F18,$C$2,$O18:$X18),\"-\")","v":0.99999991842205505},{"$f":"IF(AE$3<=vantHoff_EOS!$N$19,Phi_i_NS_Tci_Pci_wi_kijm_TinC_PinPa_yi(AE$3,vantHoff_EOS!$N$19,vantHoff_EOS!$X$5:$X$14,vantHoff_EOS!$Y$5:$Y$14,vantHoff_EOS!$Z$5:$Z$14,vantHoff_EOS!$AE$5:$AN$14,G18,$C$2,$O18:$X18),\"-\")","v":"-"},{"$f":"IF(AF$3<=vantHoff_EOS!$N$19,Phi_i_NS_Tci_Pci_wi_kijm_TinC_PinPa_yi(AF$3,vantHoff_EOS!$N$19,vantHoff_EOS!$X$5:$X$14,vantHoff_EOS!$Y$5:$Y$14,vantHoff_EOS!$Z$5:$Z$14,vantHoff_EOS!$AE$5:$AN$14,H18,$C$2,$O18:$X18),\"-\")","v":"-"},{"$f":"IF(AG$3<=vantHoff_EOS!$N$19,Phi_i_NS_Tci_Pci_wi_kijm_TinC_PinPa_yi(AG$3,vantHoff_EOS!$N$19,vantHoff_EOS!$X$5:$X$14,vantHoff_EOS!$Y$5:$Y$14,vantHoff_EOS!$Z$5:$Z$14,vantHoff_EOS!$AE$5:$AN$14,I18,$C$2,$O18:$X18),\"-\")","v":"-"},{"$f":"IF(AH$3<=vantHoff_EOS!$N$19,Phi_i_NS_Tci_Pci_wi_kijm_TinC_PinPa_yi(AH$3,vantHoff_EOS!$N$19,vantHoff_EOS!$X$5:$X$14,vantHoff_EOS!$Y$5:$Y$14,vantHoff_EOS!$Z$5:$Z$14,vantHoff_EOS!$AE$5:$AN$14,J18,$C$2,$O18:$X18),\"-\")","v":"-"},{"$f":"IF(AI$3<=vantHoff_EOS!$N$19,Phi_i_NS_Tci_Pci_wi_kijm_TinC_PinPa_yi(AI$3,vantHoff_EOS!$N$19,vantHoff_EOS!$X$5:$X$14,vantHoff_EOS!$Y$5:$Y$14,vantHoff_EOS!$Z$5:$Z$14,vantHoff_EOS!$AE$5:$AN$14,K18,$C$2,$O18:$X18),\"-\")","v":"-"}]
[16,{"$f":"B18+vantHoff_EOS!$B$26","v":30},303.14999999999998,3.298697014679202E-3,{"$f":"lnKaT_Tref_lnKaTref_dHTref_da_db_dc_dd_de_TinC(vantHoff_EOS!$E$7,vantHoff_EOS!$B$9,vantHoff_EOS!$B$6,vantHoff_EOS!$O$27,vantHoff_EOS!$P$27,vantHoff_EOS!$Q$27,vantHoff_EOS!$R$27,vantHoff_EOS!$S$27,B19)","v":15.48865181274164},5328880.9059756333,{"$f":"MolarExtentX_NS_vi_n0i_dHfi_dGfi_TrefinC_da_db_dc_dd_de_Tci_Pci_wi_kijm_TinC_PinPa(vantHoff_EOS!$N$19,vantHoff_EOS!$O$23:$X$23,vantHoff_EOS!$O$31:$X$31,vantHoff_EOS!$T$5:$T$14,vantHoff_EOS!$U$5:$U$14,vantHoff_EOS!$E$7,vantHoff_EOS!$O$27,vantHoff_EOS!$P$27,vantHoff_EOS!$Q$27,vantHoff_EOS!$R$27,vantHoff_EOS!$S$27,vantHoff_EOS!$X$5:$X$14,vantHoff_EOS!$Y$5:$Y$14,vantHoff_EOS!$Z$5:$Z$14,vantHoff_EOS!$AE$5:$AN$14,B19,$C$2)","v":0.97675929107356907},{"$f":"Ky_NS_n0i_vi_X(vantHoff_EOS!$N$19,vantHoff_EOS!$O$31:$X$31,vantHoff_EOS!$O$23:$X$23,G19)","v":5472666.8933904357},{"$f":"Kp_NS_vi_PinPa(vantHoff_EOS!$N$19,vantHoff_EOS!$O$23:$X$23,$C$2)","v":1},{"$f":"Kphi_NS_n0i_vi_X_Tci_Pci_wi_kijm_TinC_PinPa(vantHoff_EOS!$N$19,vantHoff_EOS!$O$31:$X$31,vantHoff_EOS!$O$23:$X$23,G19,vantHoff_EOS!$X$5:$X$14,vantHoff_EOS!$Y$5:$Y$14,vantHoff_EOS!$Z$5:$Z$14,vantHoff_EOS!$AE$5:$AN$14,B19,$C$2)","v":0.97372648690379038},15.515276604650628,0,-2.6624829042466852E-2,{"$f":"nT_NS_n0i_vi_X(vantHoff_EOS!$N$19,vantHoff_EOS!$O$31:$X$31,vantHoff_EOS!$O$23:$X$23,G19)","v":8.3864814178528615},{"$f":"IF(O$3<=vantHoff_EOS!$N$19,y_iindex_NS_n0i_vi_X(O$3,vantHoff_EOS!$N$19,vantHoff_EOS!$O$31:$X$31,vantHoff_EOS!$O$23:$X$23,$G19),\"-\")","v":2.7712109248768961E-3},{"$f":"IF(P$3<=vantHoff_EOS!$N$19,y_iindex_NS_n0i_vi_X(P$3,vantHoff_EOS!$N$19,vantHoff_EOS!$O$31:$X$31,vantHoff_EOS!$O$23:$X$23,$G19),\"-\")","v":2.7712109248768961E-3},{"$f":"IF(Q$3<=vantHoff_EOS!$N$19,y_iindex_NS_n0i_vi_X(Q$3,vantHoff_EOS!$N$19,vantHoff_EOS!$O$31:$X$31,vantHoff_EOS!$O$23:$X$23,$G19),\"-\")","v":2.7712109248768961E-3},{"$f":"IF(R$3<=vantHoff_EOS!$N$19,y_iindex_NS_n0i_vi_X(R$3,vantHoff_EOS!$N$19,vantHoff_EOS!$O$31:$X$31,vantHoff_EOS!$O$23:$X$23,$G19),\"-\")","v":0.1164683068389416},{"$f":"IF(S$3<=vantHoff_EOS!$N$19,y_iindex_NS_n0i_vi_X(S$3,vantHoff_EOS!$N$19,vantHoff_EOS!$O$31:$X$31,vantHoff_EOS!$O$23:$X$23,$G19),\"-\")","v":0.87521806038642769},{"$f":"IF(T$3<=vantHoff_EOS!$N$19,y_iindex_NS_n0i_vi_X(T$3,vantHoff_EOS!$N$19,vantHoff_EOS!$O$31:$X$31,vantHoff_EOS!$O$23:$X$23,$G19),\"-\")","v":"-"},{"$f":"IF(U$3<=vantHoff_EOS!$N$19,y_iindex_NS_n0i_vi_X(U$3,vantHoff_EOS!$N$19,vantHoff_EOS!$O$31:$X$31,vantHoff_EOS!$O$23:$X$23,$G19),\"-\")","v":"-"},{"$f":"IF(V$3<=vantHoff_EOS!$N$19,y_iindex_NS_n0i_vi_X(V$3,vantHoff_EOS!$N$19,vantHoff_EOS!$O$31:$X$31,vantHoff_EOS!$O$23:$X$23,$G19),\"-\")","v":"-"},{"$f":"IF(W$3<=vantHoff_EOS!$N$19,y_iindex_NS_n0i_vi_X(W$3,vantHoff_EOS!$N$19,vantHoff_EOS!$O$31:$X$31,vantHoff_EOS!$O$23:$X$23,$G19),\"-\")","v":"-"},{"$f":"IF(X$3<=vantHoff_EOS!$N$19,y_iindex_NS_n0i_vi_X(X$3,vantHoff_EOS!$N$19,vantHoff_EOS!$O$31:$X$31,vantHoff_EOS!$O$23:$X$23,$G19),\"-\")","v":"-"},1,{"$f":"IF(Z$3<=vantHoff_EOS!$N$19,Phi_i_NS_Tci_Pci_wi_kijm_TinC_PinPa_yi(Z$3,vantHoff_EOS!$N$19,vantHoff_EOS!$X$5:$X$14,vantHoff_EOS!$Y$5:$Y$14,vantHoff_EOS!$Z$5:$Z$14,vantHoff_EOS!$AE$5:$AN$14,B19,$C$2,$O19:$X19),\"-\")","v":1.0029311510981671},{"$f":"IF(AA$3<=vantHoff_EOS!$N$19,Phi_i_NS_Tci_Pci_wi_kijm_TinC_PinPa_yi(AA$3,vantHoff_EOS!$N$19,vantHoff_EOS!$X$5:$X$14,vantHoff_EOS!$Y$5:$Y$14,vantHoff_EOS!$Z$5:$Z$14,vantHoff_EOS!$AE$5:$AN$14,C19,$C$2,$O19:$X19),\"-\")","v":1.0010095745259093},{"$f":"IF(AB$3<=vantHoff_EOS!$N$19,Phi_i_NS_Tci_Pci_wi_kijm_TinC_PinPa_yi(AB$3,vantHoff_EOS!$N$19,vantHoff_EOS!$X$5:$X$14,vantHoff_EOS!$Y$5:$Y$14,vantHoff_EOS!$Z$5:$Z$14,vantHoff_EOS!$AE$5:$AN$14,D19,$C$2,$O19:$X19),\"-\")","v":0.98285437834691836},{"$f":"IF(AC$3<=vantHoff_EOS!$N$19,Phi_i_NS_Tci_Pci_wi_kijm_TinC_PinPa_yi(AC$3,vantHoff_EOS!$N$19,vantHoff_EOS!$X$5:$X$14,vantHoff_EOS!$Y$5:$Y$14,vantHoff_EOS!$Z$5:$Z$14,vantHoff_EOS!$AE$5:$AN$14,E19,$C$2,$O19:$X19),\"-\")","v":0.96564157876362811},{"$f":"IF(AD$3<=vantHoff_EOS!$N$19,Phi_i_NS_Tci_Pci_wi_kijm_TinC_PinPa_yi(AD$3,vantHoff_EOS!$N$19,vantHoff_EOS!$X$5:$X$14,vantHoff_EOS!$Y$5:$Y$14,vantHoff_EOS!$Z$5:$Z$14,vantHoff_EOS!$AE$5:$AN$14,F19,$C$2,$O19:$X19),\"-\")","v":0.99999989039322446},{"$f":"IF(AE$3<=vantHoff_EOS!$N$19,Phi_i_NS_Tci_Pci_wi_kijm_TinC_PinPa_yi(AE$3,vantHoff_EOS!$N$19,vantHoff_EOS!$X$5:$X$14,vantHoff_EOS!$Y$5:$Y$14,vantHoff_EOS!$Z$5:$Z$14,vantHoff_EOS!$AE$5:$AN$14,G19,$C$2,$O19:$X19),\"-\")","v":"-"},{"$f":"IF(AF$3<=vantHoff_EOS!$N$19,Phi_i_NS_Tci_Pci_wi_kijm_TinC_PinPa_yi(AF$3,vantHoff_EOS!$N$19,vantHoff_EOS!$X$5:$X$14,vantHoff_EOS!$Y$5:$Y$14,vantHoff_EOS!$Z$5:$Z$14,vantHoff_EOS!$AE$5:$AN$14,H19,$C$2,$O19:$X19),\"-\")","v":"-"},{"$f":"IF(AG$3<=vantHoff_EOS!$N$19,Phi_i_NS_Tci_Pci_wi_kijm_TinC_PinPa_yi(AG$3,vantHoff_EOS!$N$19,vantHoff_EOS!$X$5:$X$14,vantHoff_EOS!$Y$5:$Y$14,vantHoff_EOS!$Z$5:$Z$14,vantHoff_EOS!$AE$5:$AN$14,I19,$C$2,$O19:$X19),\"-\")","v":"-"},{"$f":"IF(AH$3<=vantHoff_EOS!$N$19,Phi_i_NS_Tci_Pci_wi_kijm_TinC_PinPa_yi(AH$3,vantHoff_EOS!$N$19,vantHoff_EOS!$X$5:$X$14,vantHoff_EOS!$Y$5:$Y$14,vantHoff_EOS!$Z$5:$Z$14,vantHoff_EOS!$AE$5:$AN$14,J19,$C$2,$O19:$X19),\"-\")","v":"-"},{"$f":"IF(AI$3<=vantHoff_EOS!$N$19,Phi_i_NS_Tci_Pci_wi_kijm_TinC_PinPa_yi(AI$3,vantHoff_EOS!$N$19,vantHoff_EOS!$X$5:$X$14,vantHoff_EOS!$Y$5:$Y$14,vantHoff_EOS!$Z$5:$Z$14,vantHoff_EOS!$AE$5:$AN$14,K19,$C$2,$O19:$X19),\"-\")","v":"-"}]
[17,{"$f":"B19+vantHoff_EOS!$B$26","v":32},305.14999999999998,3.2770768474520728E-3,{"$f":"lnKaT_Tref_lnKaTref_dHTref_da_db_dc_dd_de_TinC(vantHoff_EOS!$E$7,vantHoff_EOS!$B$9,vantHoff_EOS!$B$6,vantHoff_EOS!$O$27,vantHoff_EOS!$P$27,vantHoff_EOS!$Q$27,vantHoff_EOS!$R$27,vantHoff_EOS!$S$27,B20)","v":15.189500771964154},3951084.9575699428,{"$f":"MolarExtentX_NS_vi_n0i_dHfi_dGfi_TrefinC_da_db_dc_dd_de_Tci_Pci_wi_kijm_TinC_PinPa(vantHoff_EOS!$N$19,vantHoff_EOS!$O$23:$X$23,vantHoff_EOS!$O$31:$X$31,vantHoff_EOS!$T$5:$T$14,vantHoff_EOS!$U$5:$U$14,vantHoff_EOS!$E$7,vantHoff_EOS!$O$27,vantHoff_EOS!$P$27,vantHoff_EOS!$Q$27,vantHoff_EOS!$R$27,vantHoff_EOS!$S$27,vantHoff_EOS!$X$5:$X$14,vantHoff_EOS!$Y$5:$Y$14,vantHoff_EOS!$Z$5:$Z$14,vantHoff_EOS!$AE$5:$AN$14,B20,$C$2)","v":0.9743294963528939},{"$f":"Ky_NS_n0i_vi_X(vantHoff_EOS!$N$19,vantHoff_EOS!$O$31:$X$31,vantHoff_EOS!$O$23:$X$23,G20)","v":4055696.2625641944},{"$f":"Kp_NS_vi_PinPa(vantHoff_EOS!$N$19,vantHoff_EOS!$O$23:$X$23,$C$2)","v":1},{"$f":"Kphi_NS_n0i_vi_X_Tci_Pci_wi_kijm_TinC_PinPa(vantHoff_EOS!$N$19,vantHoff_EOS!$O$31:$X$31,vantHoff_EOS!$O$23:$X$23,G20,vantHoff_EOS!$X$5:$X$14,vantHoff_EOS!$Y$5:$Y$14,vantHoff_EOS!$Z$5:$Z$14,vantHoff_EOS!$AE$5:$AN$14,B20,$C$2)","v":0.9742062952069469},15.21563293549349,0,-2.6132195705971285E-2,{"$f":"nT_NS_n0i_vi_X(vantHoff_EOS!$N$19,vantHoff_EOS!$O$31:$X$31,vantHoff_EOS!$O$23:$X$23,G20)","v":8.3913410072942121},{"$f":"IF(O$3<=vantHoff_EOS!$N$19,y_iindex_NS_n0i_vi_X(O$3,vantHoff_EOS!$N$19,vantHoff_EOS!$O$31:$X$31,vantHoff_EOS!$O$23:$X$23,$G20),\"-\")","v":3.0591658263907874E-3},{"$f":"IF(P$3<=vantHoff_EOS!$N$19,y_iindex_NS_n0i_vi_X(P$3,vantHoff_EOS!$N$19,vantHoff_EOS!$O$31:$X$31,vantHoff_EOS!$O$23:$X$23,$G20),\"-\")","v":3.0591658263907874E-3},{"$f":"IF(Q$3<=vantHoff_EOS!$N$19,y_iindex_NS_n0i_vi_X(Q$3,vantHoff_EOS!$N$19,vantHoff_EOS!$O$31:$X$31,vantHoff_EOS!$O$23:$X$23,$G20),\"-\")","v":3.0591658263907874E-3},{"$f":"IF(R$3<=vantHoff_EOS!$N$19,y_iindex_NS_n0i_vi_X(R$3,vantHoff_EOS!$N$19,vantHoff_EOS!$O$31:$X$31,vantHoff_EOS!$O$23:$X$23,$G20),\"-\")","v":0.11611129800421094},{"$f":"IF(S$3<=vantHoff_EOS!$N$19,y_iindex_NS_n0i_vi_X(S$3,vantHoff_EOS!$N$19,vantHoff_EOS!$O$31:$X$31,vantHoff_EOS!$O$23:$X$23,$G20),\"-\")","v":0.87471120451661666},{"$f":"IF(T$3<=vantHoff_EOS!$N$19,y_iindex_NS_n0i_vi_X(T$3,vantHoff_EOS!$N$19,vantHoff_EOS!$O$31:$X$31,vantHoff_EOS!$O$23:$X$23,$G20),\"-\")","v":"-"},{"$f":"IF(U$3<=vantHoff_EOS!$N$19,y_iindex_NS_n0i_vi_X(U$3,vantHoff_EOS!$N$19,vantHoff_EOS!$O$31:$X$31,vantHoff_EOS!$O$23:$X$23,$G20),\"-\")","v":"-"},{"$f":"IF(V$3<=vantHoff_EOS!$N$19,y_iindex_NS_n0i_vi_X(V$3,vantHoff_EOS!$N$19,vantHoff_EOS!$O$31:$X$31,vantHoff_EOS!$O$23:$X$23,$G20),\"-\")","v":"-"},{"$f":"IF(W$3<=vantHoff_EOS!$N$19,y_iindex_NS_n0i_vi_X(W$3,vantHoff_EOS!$N$19,vantHoff_EOS!$O$31:$X$31,vantHoff_EOS!$O$23:$X$23,$G20),\"-\")","v":"-"},{"$f":"IF(X$3<=vantHoff_EOS!$N$19,y_iindex_NS_n0i_vi_X(X$3,vantHoff_EOS!$N$19,vantHoff_EOS!$O$31:$X$31,vantHoff_EOS!$O$23:$X$23,$G20),\"-\")","v":"-"},1,{"$f":"IF(Z$3<=vantHoff_EOS!$N$19,Phi_i_NS_Tci_Pci_wi_kijm_TinC_PinPa_yi(Z$3,vantHoff_EOS!$N$19,vantHoff_EOS!$X$5:$X$14,vantHoff_EOS!$Y$5:$Y$14,vantHoff_EOS!$Z$5:$Z$14,vantHoff_EOS!$AE$5:$AN$14,B20,$C$2,$O20:$X20),\"-\")","v":1.0028886146154432},{"$f":"IF(AA$3<=vantHoff_EOS!$N$19,Phi_i_NS_Tci_Pci_wi_kijm_TinC_PinPa_yi(AA$3,vantHoff_EOS!$N$19,vantHoff_EOS!$X$5:$X$14,vantHoff_EOS!$Y$5:$Y$14,vantHoff_EOS!$Z$5:$Z$14,vantHoff_EOS!$AE$5:$AN$14,C20,$C$2,$O20:$X20),\"-\")","v":1.0009980138935102},{"$f":"IF(AB$3<=vantHoff_EOS!$N$19,Phi_i_NS_Tci_Pci_wi_kijm_TinC_PinPa_yi(AB$3,vantHoff_EOS!$N$19,vantHoff_EOS!$X$5:$X$14,vantHoff_EOS!$Y$5:$Y$14,vantHoff_EOS!$Z$5:$Z$14,vantHoff_EOS!$AE$5:$AN$14,D20,$C$2,$O20:$X20),\"-\")","v":0.98285959870700224},{"$f":"IF(AC$3<=vantHoff_EOS!$N$19,Phi_i_NS_Tci_Pci_wi_kijm_TinC_PinPa_yi(AC$3,vantHoff_EOS!$N$19,vantHoff_EOS!$X$5:$X$14,vantHoff_EOS!$Y$5:$Y$14,vantHoff_EOS!$Z$5:$Z$14,vantHoff_EOS!$AE$5:$AN$14,E20,$C$2,$O20:$X20),\"-\")","v":0.96556455447285916},{"$f":"IF(AD$3<=vantHoff_EOS!$N$19,Phi_i_NS_Tci_Pci_wi_kijm_TinC_PinPa_yi(AD$3,vantHoff_EOS!$N$19,vantHoff_EOS!$X$5:$X$14,vantHoff_EOS!$Y$5:$Y$14,vantHoff_EOS!$Z$5:$Z$14,vantHoff_EOS!$AE$5:$AN$14,F20,$C$2,$O20:$X20),\"-\")","v":0.99999985348292475},{"$f":"IF(AE$3<=vantHoff_EOS!$N$19,Phi_i_NS_Tci_Pci_wi_kijm_TinC_PinPa_yi(AE$3,vantHoff_EOS!$N$19,vantHoff_EOS!$X$5:$X$14,vantHoff_EOS!$Y$5:$Y$14,vantHoff_EOS!$Z$5:$Z$14,vantHoff_EOS!$AE$5:$AN$14,G20,$C$2,$O20:$X20),\"-\")","v":"-"},{"$f":"IF(AF$3<=vantHoff_EOS!$N$19,Phi_i_NS_Tci_Pci_wi_kijm_TinC_PinPa_yi(AF$3,vantHoff_EOS!$N$19,vantHoff_EOS!$X$5:$X$14,vantHoff_EOS!$Y$5:$Y$14,vantHoff_EOS!$Z$5:$Z$14,vantHoff_EOS!$AE$5:$AN$14,H20,$C$2,$O20:$X20),\"-\")","v":"-"},{"$f":"IF(AG$3<=vantHoff_EOS!$N$19,Phi_i_NS_Tci_Pci_wi_kijm_TinC_PinPa_yi(AG$3,vantHoff_EOS!$N$19,vantHoff_EOS!$X$5:$X$14,vantHoff_EOS!$Y$5:$Y$14,vantHoff_EOS!$Z$5:$Z$14,vantHoff_EOS!$AE$5:$AN$14,I20,$C$2,$O20:$X20),\"-\")","v":"-"},{"$f":"IF(AH$3<=vantHoff_EOS!$N$19,Phi_i_NS_Tci_Pci_wi_kijm_TinC_PinPa_yi(AH$3,vantHoff_EOS!$N$19,vantHoff_EOS!$X$5:$X$14,vantHoff_EOS!$Y$5:$Y$14,vantHoff_EOS!$Z$5:$Z$14,vantHoff_EOS!$AE$5:$AN$14,J20,$C$2,$O20:$X20),\"-\")","v":"-"},{"$f":"IF(AI$3<=vantHoff_EOS!$N$19,Phi_i_NS_Tci_Pci_wi_kijm_TinC_PinPa_yi(AI$3,vantHoff_EOS!$N$19,vantHoff_EOS!$X$5:$X$14,vantHoff_EOS!$Y$5:$Y$14,vantHoff_EOS!$Z$5:$Z$14,vantHoff_EOS!$AE$5:$AN$14,K20,$C$2,$O20:$X20),\"-\")","v":"-"}]
[18,{"$f":"B20+vantHoff_EOS!$B$26","v":34},307.14999999999998,3.255738238645613E-3,{"$f":"lnKaT_Tref_lnKaTref_dHTref_da_db_dc_dd_de_TinC(vantHoff_EOS!$E$7,vantHoff_EOS!$B$9,vantHoff_EOS!$B$6,vantHoff_EOS!$O$27,vantHoff_EOS!$P$27,vantHoff_EOS!$Q$27,vantHoff_EOS!$R$27,vantHoff_EOS!$S$27,B21)","v":14.894162594564932},2940712.9048554692,{"$f":"MolarExtentX_NS_vi_n0i_dHfi_dGfi_TrefinC_da_db_dc_dd_de_Tci_Pci_wi_kijm_TinC_PinPa(vantHoff_EOS!$N$19,vantHoff_EOS!$O$23:$X$23,vantHoff_EOS!$O$31:$X$31,vantHoff_EOS!$T$5:$T$14,vantHoff_EOS!$U$5:$U$14,vantHoff_EOS!$E$7,vantHoff_EOS!$O$27,vantHoff_EOS!$P$27,vantHoff_EOS!$Q$27,vantHoff_EOS!$R$27,vantHoff_EOS!$S$27,vantHoff_EOS!$X$5:$X$14,vantHoff_EOS!$Y$5:$Y$14,vantHoff_EOS!$Z$5:$Z$14,vantHoff_EOS!$AE$5:$AN$14,B21,$C$2)","v":0.97168296250404973},{"$f":"Ky_NS_n0i_vi_X(vantHoff_EOS!$N$19,vantHoff_EOS!$O$31:$X$31,vantHoff_EOS!$O$23:$X$23,G21)","v":3017113.1266784593},{"$f":"Kp_NS_vi_PinPa(vantHoff_EOS!$N$19,vantHoff_EOS!$O$23:$X$23,$C$2)","v":1},{"$f":"Kphi_NS_n0i_vi_X_Tci_Pci_wi_kijm_TinC_PinPa(vantHoff_EOS!$N$19,vantHoff_EOS!$O$31:$X$31,vantHoff_EOS!$O$23:$X$23,G21,vantHoff_EOS!$X$5:$X$14,vantHoff_EOS!$Y$5:$Y$14,vantHoff_EOS!$Z$5:$Z$14,vantHoff_EOS!$AE$5:$AN$14,B21,$C$2)","v":0.97467768051354564},14.919811013851371,0,-2.5648446727926561E-2,{"$f":"nT_NS_n0i_vi_X(vantHoff_EOS!$N$19,vantHoff_EOS!$O$31:$X$31,vantHoff_EOS!$O$23:$X$23,G21)","v":8.3966340749919013},{"$f":"IF(O$3<=vantHoff_EOS!$N$19,y_iindex_NS_n0i_vi_X(O$3,vantHoff_EOS!$N$19,vantHoff_EOS!$O$31:$X$31,vantHoff_EOS!$O$23:$X$23,$G21),\"-\")","v":3.3724272420407437E-3},{"$f":"IF(P$3<=vantHoff_EOS!$N$19,y_iindex_NS_n0i_vi_X(P$3,vantHoff_EOS!$N$19,vantHoff_EOS!$O$31:$X$31,vantHoff_EOS!$O$23:$X$23,$G21),\"-\")","v":3.3724272420407437E-3},{"$f":"IF(Q$3<=vantHoff_EOS!$N$19,y_iindex_NS_n0i_vi_X(Q$3,vantHoff_EOS!$N$19,vantHoff_EOS!$O$31:$X$31,vantHoff_EOS!$O$23:$X$23,$G21),\"-\")","v":3.3724272420407437E-3},{"$f":"IF(R$3<=vantHoff_EOS!$N$19,y_iindex_NS_n0i_vi_X(R$3,vantHoff_EOS!$N$19,vantHoff_EOS!$O$31:$X$31,vantHoff_EOS!$O$23:$X$23,$G21),\"-\")","v":0.1157229139469183},{"$f":"IF(S$3<=vantHoff_EOS!$N$19,y_iindex_NS_n0i_vi_X(S$3,vantHoff_EOS!$N$19,vantHoff_EOS!$O$31:$X$31,vantHoff_EOS!$O$23:$X$23,$G21),\"-\")","v":0.87415980432695939},{"$f":"IF(T$3<=vantHoff_EOS!$N$19,y_iindex_NS_n0i_vi_X(T$3,vantHoff_EOS!$N$19,vantHoff_EOS!$O$31:$X$31,vantHoff_EOS!$O$23:$X$23,$G21),\"-\")","v":"-"},{"$f":"IF(U$3<=vantHoff_EOS!$N$19,y_iindex_NS_n0i_vi_X(U$3,vantHoff_EOS!$N$19,vantHoff_EOS!$O$31:$X$31,vantHoff_EOS!$O$23:$X$23,$G21),\"-\")","v":"-"},{"$f":"IF(V$3<=vantHoff_EOS!$N$19,y_iindex_NS_n0i_vi_X(V$3,vantHoff_EOS!$N$19,vantHoff_EOS!$O$31:$X$31,vantHoff_EOS!$O$23:$X$23,$G21),\"-\")","v":"-"},{"$f":"IF(W$3<=vantHoff_EOS!$N$19,y_iindex_NS_n0i_vi_X(W$3,vantHoff_EOS!$N$19,vantHoff_EOS!$O$31:$X$31,vantHoff_EOS!$O$23:$X$23,$G21),\"-\")","v":"-"},{"$f":"IF(X$3<=vantHoff_EOS!$N$19,y_iindex_NS_n0i_vi_X(X$3,vantHoff_EOS!$N$19,vantHoff_EOS!$O$31:$X$31,vantHoff_EOS!$O$23:$X$23,$G21),\"-\")","v":"-"},0.99999999999999989,{"$f":"IF(Z$3<=vantHoff_EOS!$N$19,Phi_i_NS_Tci_Pci_wi_kijm_TinC_PinPa_yi(Z$3,vantHoff_EOS!$N$19,vantHoff_EOS!$X$5:$X$14,vantHoff_EOS!$Y$5:$Y$14,vantHoff_EOS!$Z$5:$Z$14,vantHoff_EOS!$AE$5:$AN$14,B21,$C$2,$O21:$X21),\"-\")","v":1.0028463574053976},{"$f":"IF(AA$3<=vantHoff_EOS!$N$19,Phi_i_NS_Tci_Pci_wi_kijm_TinC_PinPa_yi(AA$3,vantHoff_EOS!$N$19,vantHoff_EOS!$X$5:$X$14,vantHoff_EOS!$Y$5:$Y$14,vantHoff_EOS!$Z$5:$Z$14,vantHoff_EOS!$AE$5:$AN$14,C21,$C$2,$O21:$X21),\"-\")","v":1.0009864967293265},{"$f":"IF(AB$3<=vantHoff_EOS!$N$19,Phi_i_NS_Tci_Pci_wi_kijm_TinC_PinPa_yi(AB$3,vantHoff_EOS!$N$19,vantHoff_EOS!$X$5:$X$14,vantHoff_EOS!$Y$5:$Y$14,vantHoff_EOS!$Z$5:$Z$14,vantHoff_EOS!$AE$5:$AN$14,D21,$C$2,$O21:$X21),\"-\")","v":0.98286529162517544},{"$f":"IF(AC$3<=vantHoff_EOS!$N$19,Phi_i_NS_Tci_Pci_wi_kijm_TinC_PinPa_yi(AC$3,vantHoff_EOS!$N$19,vantHoff_EOS!$X$5:$X$14,vantHoff_EOS!$Y$5:$Y$14,vantHoff_EOS!$Z$5:$Z$14,vantHoff_EOS!$AE$5:$AN$14,E21,$C$2,$O21:$X21),\"-\")","v":0.96549024246160098},{"$f":"IF(AD$3<=vantHoff_EOS!$N$19,Phi_i_NS_Tci_Pci_wi_kijm_TinC_PinPa_yi(AD$3,vantHoff_EOS!$N$19,vantHoff_EOS!$X$5:$X$14,vantHoff_EOS!$Y$5:$Y$14,vantHoff_EOS!$Z$5:$Z$14,vantHoff_EOS!$AE$5:$AN$14,F21,$C$2,$O21:$X21),\"-\")","v":0.99999980515920495},{"$f":"IF(AE$3<=vantHoff_EOS!$N$19,Phi_i_NS_Tci_Pci_wi_kijm_TinC_PinPa_yi(AE$3,vantHoff_EOS!$N$19,vantHoff_EOS!$X$5:$X$14,vantHoff_EOS!$Y$5:$Y$14,vantHoff_EOS!$Z$5:$Z$14,vantHoff_EOS!$AE$5:$AN$14,G21,$C$2,$O21:$X21),\"-\")","v":"-"},{"$f":"IF(AF$3<=vantHoff_EOS!$N$19,Phi_i_NS_Tci_Pci_wi_kijm_TinC_PinPa_yi(AF$3,vantHoff_EOS!$N$19,vantHoff_EOS!$X$5:$X$14,vantHoff_EOS!$Y$5:$Y$14,vantHoff_EOS!$Z$5:$Z$14,vantHoff_EOS!$AE$5:$AN$14,H21,$C$2,$O21:$X21),\"-\")","v":"-"},{"$f":"IF(AG$3<=vantHoff_EOS!$N$19,Phi_i_NS_Tci_Pci_wi_kijm_TinC_PinPa_yi(AG$3,vantHoff_EOS!$N$19,vantHoff_EOS!$X$5:$X$14,vantHoff_EOS!$Y$5:$Y$14,vantHoff_EOS!$Z$5:$Z$14,vantHoff_EOS!$AE$5:$AN$14,I21,$C$2,$O21:$X21),\"-\")","v":"-"},{"$f":"IF(AH$3<=vantHoff_EOS!$N$19,Phi_i_NS_Tci_Pci_wi_kijm_TinC_PinPa_yi(AH$3,vantHoff_EOS!$N$19,vantHoff_EOS!$X$5:$X$14,vantHoff_EOS!$Y$5:$Y$14,vantHoff_EOS!$Z$5:$Z$14,vantHoff_EOS!$AE$5:$AN$14,J21,$C$2,$O21:$X21),\"-\")","v":"-"},{"$f":"IF(AI$3<=vantHoff_EOS!$N$19,Phi_i_NS_Tci_Pci_wi_kijm_TinC_PinPa_yi(AI$3,vantHoff_EOS!$N$19,vantHoff_EOS!$X$5:$X$14,vantHoff_EOS!$Y$5:$Y$14,vantHoff_EOS!$Z$5:$Z$14,vantHoff_EOS!$AE$5:$AN$14,K21,$C$2,$O21:$X21),\"-\")","v":"-"}]
[19,{"$f":"B21+vantHoff_EOS!$B$26","v":36},309.14999999999998,3.2346757237586934E-3,{"$f":"lnKaT_Tref_lnKaTref_dHTref_da_db_dc_dd_de_TinC(vantHoff_EOS!$E$7,vantHoff_EOS!$B$9,vantHoff_EOS!$B$6,vantHoff_EOS!$O$27,vantHoff_EOS!$P$27,vantHoff_EOS!$Q$27,vantHoff_EOS!$R$27,vantHoff_EOS!$S$27,B22)","v":14.602564290239913},2196914.1843803837,{"$f":"MolarExtentX_NS_vi_n0i_dHfi_dGfi_TrefinC_da_db_dc_dd_de_Tci_Pci_wi_kijm_TinC_PinPa(vantHoff_EOS!$N$19,vantHoff_EOS!$O$23:$X$23,vantHoff_EOS!$O$31:$X$31,vantHoff_EOS!$T$5:$T$14,vantHoff_EOS!$U$5:$U$14,vantHoff_EOS!$E$7,vantHoff_EOS!$O$27,vantHoff_EOS!$P$27,vantHoff_EOS!$Q$27,vantHoff_EOS!$R$27,vantHoff_EOS!$S$27,vantHoff_EOS!$X$5:$X$14,vantHoff_EOS!$Y$5:$Y$14,vantHoff_EOS!$Z$5:$Z$14,vantHoff_EOS!$AE$5:$AN$14,B22,$C$2)","v":0.9688040143095612},{"$f":"Ky_NS_n0i_vi_X(vantHoff_EOS!$N$19,vantHoff_EOS!$O$31:$X$31,vantHoff_EOS!$O$23:$X$23,G22)","v":2252919.4649873273},{"$f":"Kp_NS_vi_PinPa(vantHoff_EOS!$N$19,vantHoff_EOS!$O$23:$X$23,$C$2)","v":1},{"$f":"Kphi_NS_n0i_vi_X_Tci_Pci_wi_kijm_TinC_PinPa(vantHoff_EOS!$N$19,vantHoff_EOS!$O$31:$X$31,vantHoff_EOS!$O$23:$X$23,G22,vantHoff_EOS!$X$5:$X$14,vantHoff_EOS!$Y$5:$Y$14,vantHoff_EOS!$Z$5:$Z$14,vantHoff_EOS!$AE$5:$AN$14,B22,$C$2)","v":0.97514099723158576},14.627737473097428,0,-2.5173205894459854E-2,{"$f":"nT_NS_n0i_vi_X(vantHoff_EOS!$N$19,vantHoff_EOS!$O$31:$X$31,vantHoff_EOS!$O$23:$X$23,G22)","v":8.4023919713808777},{"$f":"IF(O$3<=vantHoff_EOS!$N$19,y_iindex_NS_n0i_vi_X(O$3,vantHoff_EOS!$N$19,vantHoff_EOS!$O$31:$X$31,vantHoff_EOS!$O$23:$X$23,$G22),\"-\")","v":3.7127505830118926E-3},{"$f":"IF(P$3<=vantHoff_EOS!$N$19,y_iindex_NS_n0i_vi_X(P$3,vantHoff_EOS!$N$19,vantHoff_EOS!$O$31:$X$31,vantHoff_EOS!$O$23:$X$23,$G22),\"-\")","v":3.7127505830118926E-3},{"$f":"IF(Q$3<=vantHoff_EOS!$N$19,y_iindex_NS_n0i_vi_X(Q$3,vantHoff_EOS!$N$19,vantHoff_EOS!$O$31:$X$31,vantHoff_EOS!$O$23:$X$23,$G22),\"-\")","v":3.7127505830118926E-3},{"$f":"IF(R$3<=vantHoff_EOS!$N$19,y_iindex_NS_n0i_vi_X(R$3,vantHoff_EOS!$N$19,vantHoff_EOS!$O$31:$X$31,vantHoff_EOS!$O$23:$X$23,$G22),\"-\")","v":0.11530097829396367},{"$f":"IF(S$3<=vantHoff_EOS!$N$19,y_iindex_NS_n0i_vi_X(S$3,vantHoff_EOS!$N$19,vantHoff_EOS!$O$31:$X$31,vantHoff_EOS!$O$23:$X$23,$G22),\"-\")","v":0.8735607699570006},{"$f":"IF(T$3<=vantHoff_EOS!$N$19,y_iindex_NS_n0i_vi_X(T$3,vantHoff_EOS!$N$19,vantHoff_EOS!$O$31:$X$31,vantHoff_EOS!$O$23:$X$23,$G22),\"-\")","v":"-"},{"$f":"IF(U$3<=vantHoff_EOS!$N$19,y_iindex_NS_n0i_vi_X(U$3,vantHoff_EOS!$N$19,vantHoff_EOS!$O$31:$X$31,vantHoff_EOS!$O$23:$X$23,$G22),\"-\")","v":"-"},{"$f":"IF(V$3<=vantHoff_EOS!$N$19,y_iindex_NS_n0i_vi_X(V$3,vantHoff_EOS!$N$19,vantHoff_EOS!$O$31:$X$31,vantHoff_EOS!$O$23:$X$23,$G22),\"-\")","v":"-"},{"$f":"IF(W$3<=vantHoff_EOS!$N$19,y_iindex_NS_n0i_vi_X(W$3,vantHoff_EOS!$N$19,vantHoff_EOS!$O$31:$X$31,vantHoff_EOS!$O$23:$X$23,$G22),\"-\")","v":"-"},{"$f":"IF(X$3<=vantHoff_EOS!$N$19,y_iindex_NS_n0i_vi_X(X$3,vantHoff_EOS!$N$19,vantHoff_EOS!$O$31:$X$31,vantHoff_EOS!$O$23:$X$23,$G22),\"-\")","v":"-"},1,{"$f":"IF(Z$3<=vantHoff_EOS!$N$19,Phi_i_NS_Tci_Pci_wi_kijm_TinC_PinPa_yi(Z$3,vantHoff_EOS!$N$19,vantHoff_EOS!$X$5:$X$14,vantHoff_EOS!$Y$5:$Y$14,vantHoff_EOS!$Z$5:$Z$14,vantHoff_EOS!$AE$5:$AN$14,B22,$C$2,$O22:$X22),\"-\")","v":1.0028043424368758},{"$f":"IF(AA$3<=vantHoff_EOS!$N$19,Phi_i_NS_Tci_Pci_wi_kijm_TinC_PinPa_yi(AA$3,vantHoff_EOS!$N$19,vantHoff_EOS!$X$5:$X$14,vantHoff_EOS!$Y$5:$Y$14,vantHoff_EOS!$Z$5:$Z$14,vantHoff_EOS!$AE$5:$AN$14,C22,$C$2,$O22:$X22),\"-\")","v":1.0009750162843007},{"$f":"IF(AB$3<=vantHoff_EOS!$N$19,Phi_i_NS_Tci_Pci_wi_kijm_TinC_PinPa_yi(AB$3,vantHoff_EOS!$N$19,vantHoff_EOS!$X$5:$X$14,vantHoff_EOS!$Y$5:$Y$14,vantHoff_EOS!$Z$5:$Z$14,vantHoff_EOS!$AE$5:$AN$14,D22,$C$2,$O22:$X22),\"-\")","v":0.98287149253012907},{"$f":"IF(AC$3<=vantHoff_EOS!$N$19,Phi_i_NS_Tci_Pci_wi_kijm_TinC_PinPa_yi(AC$3,vantHoff_EOS!$N$19,vantHoff_EOS!$X$5:$X$14,vantHoff_EOS!$Y$5:$Y$14,vantHoff_EOS!$Z$5:$Z$14,vantHoff_EOS!$AE$5:$AN$14,E22,$C$2,$O22:$X22),\"-\")","v":0.96541876380334557},{"$f":"IF(AD$3<=vantHoff_EOS!$N$19,Phi_i_NS_Tci_Pci_wi_kijm_TinC_PinPa_yi(AD$3,vantHoff_EOS!$N$19,vantHoff_EOS!$X$5:$X$14,vantHoff_EOS!$Y$5:$Y$14,vantHoff_EOS!$Z$5:$Z$14,vantHoff_EOS!$AE$5:$AN$14,F22,$C$2,$O22:$X22),\"-\")","v":0.99999974227627886},{"$f":"IF(AE$3<=vantHoff_EOS!$N$19,Phi_i_NS_Tci_Pci_wi_kijm_TinC_PinPa_yi(AE$3,vantHoff_EOS!$N$19,vantHoff_EOS!$X$5:$X$14,vantHoff_EOS!$Y$5:$Y$14,vantHoff_EOS!$Z$5:$Z$14,vantHoff_EOS!$AE$5:$AN$14,G22,$C$2,$O22:$X22),\"-\")","v":"-"},{"$f":"IF(AF$3<=vantHoff_EOS!$N$19,Phi_i_NS_Tci_Pci_wi_kijm_TinC_PinPa_yi(AF$3,vantHoff_EOS!$N$19,vantHoff_EOS!$X$5:$X$14,vantHoff_EOS!$Y$5:$Y$14,vantHoff_EOS!$Z$5:$Z$14,vantHoff_EOS!$AE$5:$AN$14,H22,$C$2,$O22:$X22),\"-\")","v":"-"},{"$f":"IF(AG$3<=vantHoff_EOS!$N$19,Phi_i_NS_Tci_Pci_wi_kijm_TinC_PinPa_yi(AG$3,vantHoff_EOS!$N$19,vantHoff_EOS!$X$5:$X$14,vantHoff_EOS!$Y$5:$Y$14,vantHoff_EOS!$Z$5:$Z$14,vantHoff_EOS!$AE$5:$AN$14,I22,$C$2,$O22:$X22),\"-\")","v":"-"},{"$f":"IF(AH$3<=vantHoff_EOS!$N$19,Phi_i_NS_Tci_Pci_wi_kijm_TinC_PinPa_yi(AH$3,vantHoff_EOS!$N$19,vantHoff_EOS!$X$5:$X$14,vantHoff_EOS!$Y$5:$Y$14,vantHoff_EOS!$Z$5:$Z$14,vantHoff_EOS!$AE$5:$AN$14,J22,$C$2,$O22:$X22),\"-\")","v":"-"},{"$f":"IF(AI$3<=vantHoff_EOS!$N$19,Phi_i_NS_Tci_Pci_wi_kijm_TinC_PinPa_yi(AI$3,vantHoff_EOS!$N$19,vantHoff_EOS!$X$5:$X$14,vantHoff_EOS!$Y$5:$Y$14,vantHoff_EOS!$Z$5:$Z$14,vantHoff_EOS!$AE$5:$AN$14,K22,$C$2,$O22:$X22),\"-\")","v":"-"}]
[20,{"$f":"B22+vantHoff_EOS!$B$26","v":38},311.14999999999998,3.2138839787883662E-3,{"$f":"lnKaT_Tref_lnKaTref_dHTref_da_db_dc_dd_de_TinC(vantHoff_EOS!$E$7,vantHoff_EOS!$B$9,vantHoff_EOS!$B$6,vantHoff_EOS!$O$27,vantHoff_EOS!$P$27,vantHoff_EOS!$Q$27,vantHoff_EOS!$R$27,vantHoff_EOS!$S$27,B23)","v":14.314634734559823},1647277.9141788057,{"$f":"MolarExtentX_NS_vi_n0i_dHfi_dGfi_TrefinC_da_db_dc_dd_de_Tci_Pci_wi_kijm_TinC_PinPa(vantHoff_EOS!$N$19,vantHoff_EOS!$O$23:$X$23,vantHoff_EOS!$O$31:$X$31,vantHoff_EOS!$T$5:$T$14,vantHoff_EOS!$U$5:$U$14,vantHoff_EOS!$E$7,vantHoff_EOS!$O$27,vantHoff_EOS!$P$27,vantHoff_EOS!$Q$27,vantHoff_EOS!$R$27,vantHoff_EOS!$S$27,vantHoff_EOS!$X$5:$X$14,vantHoff_EOS!$Y$5:$Y$14,vantHoff_EOS!$Z$5:$Z$14,vantHoff_EOS!$AE$5:$AN$14,B23,$C$2)","v":0.96567616990268934},{"$f":"Ky_NS_n0i_vi_X(vantHoff_EOS!$N$19,vantHoff_EOS!$O$31:$X$31,vantHoff_EOS!$O$23:$X$23,G23)","v":1688482.6165278689},{"$f":"Kp_NS_vi_PinPa(vantHoff_EOS!$N$19,vantHoff_EOS!$O$23:$X$23,$C$2)","v":1},{"$f":"Kphi_NS_n0i_vi_X_Tci_Pci_wi_kijm_TinC_PinPa(vantHoff_EOS!$N$19,vantHoff_EOS!$O$31:$X$31,vantHoff_EOS!$O$23:$X$23,G23,vantHoff_EOS!$X$5:$X$14,vantHoff_EOS!$Y$5:$Y$14,vantHoff_EOS!$Z$5:$Z$14,vantHoff_EOS!$AE$5:$AN$14,B23,$C$2)","v":0.97559658991727283},14.339340823538814,0,-2.4706108016229703E-2,{"$f":"nT_NS_n0i_vi_X(vantHoff_EOS!$N$19,vantHoff_EOS!$O$31:$X$31,vantHoff_EOS!$O$23:$X$23,G23)","v":8.408647660194621},{"$f":"IF(O$3<=vantHoff_EOS!$N$19,y_iindex_NS_n0i_vi_X(O$3,vantHoff_EOS!$N$19,vantHoff_EOS!$O$31:$X$31,vantHoff_EOS!$O$23:$X$23,$G23),\"-\")","v":4.081967931632448E-3},{"$f":"IF(P$3<=vantHoff_EOS!$N$19,y_iindex_NS_n0i_vi_X(P$3,vantHoff_EOS!$N$19,vantHoff_EOS!$O$31:$X$31,vantHoff_EOS!$O$23:$X$23,$G23),\"-\")","v":4.081967931632448E-3},{"$f":"IF(Q$3<=vantHoff_EOS!$N$19,y_iindex_NS_n0i_vi_X(Q$3,vantHoff_EOS!$N$19,vantHoff_EOS!$O$31:$X$31,vantHoff_EOS!$O$23:$X$23,$G23),\"-\")","v":4.081967931632448E-3},{"$f":"IF(R$3<=vantHoff_EOS!$N$19,y_iindex_NS_n0i_vi_X(R$3,vantHoff_EOS!$N$19,vantHoff_EOS!$O$31:$X$31,vantHoff_EOS!$O$23:$X$23,$G23),\"-\")","v":0.11484321961473867},{"$f":"IF(S$3<=vantHoff_EOS!$N$19,y_iindex_NS_n0i_vi_X(S$3,vantHoff_EOS!$N$19,vantHoff_EOS!$O$31:$X$31,vantHoff_EOS!$O$23:$X$23,$G23),\"-\")","v":0.87291087659036404},{"$f":"IF(T$3<=vantHoff_EOS!$N$19,y_iindex_NS_n0i_vi_X(T$3,vantHoff_EOS!$N$19,vantHoff_EOS!$O$31:$X$31,vantHoff_EOS!$O$23:$X$23,$G23),\"-\")","v":"-"},{"$f":"IF(U$3<=vantHoff_EOS!$N$19,y_iindex_NS_n0i_vi_X(U$3,vantHoff_EOS!$N$19,vantHoff_EOS!$O$31:$X$31,vantHoff_EOS!$O$23:$X$23,$G23),\"-\")","v":"-"},{"$f":"IF(V$3<=vantHoff_EOS!$N$19,y_iindex_NS_n0i_vi_X(V$3,vantHoff_EOS!$N$19,vantHoff_EOS!$O$31:$X$31,vantHoff_EOS!$O$23:$X$23,$G23),\"-\")","v":"-"},{"$f":"IF(W$3<=vantHoff_EOS!$N$19,y_iindex_NS_n0i_vi_X(W$3,vantHoff_EOS!$N$19,vantHoff_EOS!$O$31:$X$31,vantHoff_EOS!$O$23:$X$23,$G23),\"-\")","v":"-"},{"$f":"IF(X$3<=vantHoff_EOS!$N$19,y_iindex_NS_n0i_vi_X(X$3,vantHoff_EOS!$N$19,vantHoff_EOS!$O$31:$X$31,vantHoff_EOS!$O$23:$X$23,$G23),\"-\")","v":"-"},1,{"$f":"IF(Z$3<=vantHoff_EOS!$N$19,Phi_i_NS_Tci_Pci_wi_kijm_TinC_PinPa_yi(Z$3,vantHoff_EOS!$N$19,vantHoff_EOS!$X$5:$X$14,vantHoff_EOS!$Y$5:$Y$14,vantHoff_EOS!$Z$5:$Z$14,vantHoff_EOS!$AE$5:$AN$14,B23,$C$2,$O23:$X23),\"-\")","v":1.0027625335743664},{"$f":"IF(AA$3<=vantHoff_EOS!$N$19,Phi_i_NS_Tci_Pci_wi_kijm_TinC_PinPa_yi(AA$3,vantHoff_EOS!$N$19,vantHoff_EOS!$X$5:$X$14,vantHoff_EOS!$Y$5:$Y$14,vantHoff_EOS!$Z$5:$Z$14,vantHoff_EOS!$AE$5:$AN$14,C23,$C$2,$O23:$X23),\"-\")","v":1.0009635658364302},{"$f":"IF(AB$3<=vantHoff_EOS!$N$19,Phi_i_NS_Tci_Pci_wi_kijm_TinC_PinPa_yi(AB$3,vantHoff_EOS!$N$19,vantHoff_EOS!$X$5:$X$14,vantHoff_EOS!$Y$5:$Y$14,vantHoff_EOS!$Z$5:$Z$14,vantHoff_EOS!$AE$5:$AN$14,D23,$C$2,$O23:$X23),\"-\")","v":0.98287823889346693},{"$f":"IF(AC$3<=vantHoff_EOS!$N$19,Phi_i_NS_Tci_Pci_wi_kijm_TinC_PinPa_yi(AC$3,vantHoff_EOS!$N$19,vantHoff_EOS!$X$5:$X$14,vantHoff_EOS!$Y$5:$Y$14,vantHoff_EOS!$Z$5:$Z$14,vantHoff_EOS!$AE$5:$AN$14,E23,$C$2,$O23:$X23),\"-\")","v":0.96535024654383417},{"$f":"IF(AD$3<=vantHoff_EOS!$N$19,Phi_i_NS_Tci_Pci_wi_kijm_TinC_PinPa_yi(AD$3,vantHoff_EOS!$N$19,vantHoff_EOS!$X$5:$X$14,vantHoff_EOS!$Y$5:$Y$14,vantHoff_EOS!$Z$5:$Z$14,vantHoff_EOS!$AE$5:$AN$14,F23,$C$2,$O23:$X23),\"-\")","v":0.99999966096920412},{"$f":"IF(AE$3<=vantHoff_EOS!$N$19,Phi_i_NS_Tci_Pci_wi_kijm_TinC_PinPa_yi(AE$3,vantHoff_EOS!$N$19,vantHoff_EOS!$X$5:$X$14,vantHoff_EOS!$Y$5:$Y$14,vantHoff_EOS!$Z$5:$Z$14,vantHoff_EOS!$AE$5:$AN$14,G23,$C$2,$O23:$X23),\"-\")","v":"-"},{"$f":"IF(AF$3<=vantHoff_EOS!$N$19,Phi_i_NS_Tci_Pci_wi_kijm_TinC_PinPa_yi(AF$3,vantHoff_EOS!$N$19,vantHoff_EOS!$X$5:$X$14,vantHoff_EOS!$Y$5:$Y$14,vantHoff_EOS!$Z$5:$Z$14,vantHoff_EOS!$AE$5:$AN$14,H23,$C$2,$O23:$X23),\"-\")","v":"-"},{"$f":"IF(AG$3<=vantHoff_EOS!$N$19,Phi_i_NS_Tci_Pci_wi_kijm_TinC_PinPa_yi(AG$3,vantHoff_EOS!$N$19,vantHoff_EOS!$X$5:$X$14,vantHoff_EOS!$Y$5:$Y$14,vantHoff_EOS!$Z$5:$Z$14,vantHoff_EOS!$AE$5:$AN$14,I23,$C$2,$O23:$X23),\"-\")","v":"-"},{"$f":"IF(AH$3<=vantHoff_EOS!$N$19,Phi_i_NS_Tci_Pci_wi_kijm_TinC_PinPa_yi(AH$3,vantHoff_EOS!$N$19,vantHoff_EOS!$X$5:$X$14,vantHoff_EOS!$Y$5:$Y$14,vantHoff_EOS!$Z$5:$Z$14,vantHoff_EOS!$AE$5:$AN$14,J23,$C$2,$O23:$X23),\"-\")","v":"-"},{"$f":"IF(AI$3<=vantHoff_EOS!$N$19,Phi_i_NS_Tci_Pci_wi_kijm_TinC_PinPa_yi(AI$3,vantHoff_EOS!$N$19,vantHoff_EOS!$X$5:$X$14,vantHoff_EOS!$Y$5:$Y$14,vantHoff_EOS!$Z$5:$Z$14,vantHoff_EOS!$AE$5:$AN$14,K23,$C$2,$O23:$X23),\"-\")","v":"-"}]
[21,{"$f":"B23+vantHoff_EOS!$B$26","v":40},313.14999999999998,3.1933578157432542E-3,{"$f":"lnKaT_Tref_lnKaTref_dHTref_da_db_dc_dd_de_TinC(vantHoff_EOS!$E$7,vantHoff_EOS!$B$9,vantHoff_EOS!$B$6,vantHoff_EOS!$O$27,vantHoff_EOS!$P$27,vantHoff_EOS!$Q$27,vantHoff_EOS!$R$27,vantHoff_EOS!$S$27,B24)","v":14.030304609568391},1239606.5756896718,{"$f":"MolarExtentX_NS_vi_n0i_dHfi_dGfi_TrefinC_da_db_dc_dd_de_Tci_Pci_wi_kijm_TinC_PinPa(vantHoff_EOS!$N$19,vantHoff_EOS!$O$23:$X$23,vantHoff_EOS!$O$31:$X$31,vantHoff_EOS!$T$5:$T$14,vantHoff_EOS!$U$5:$U$14,vantHoff_EOS!$E$7,vantHoff_EOS!$O$27,vantHoff_EOS!$P$27,vantHoff_EOS!$Q$27,vantHoff_EOS!$R$27,vantHoff_EOS!$S$27,vantHoff_EOS!$X$5:$X$14,vantHoff_EOS!$Y$5:$Y$14,vantHoff_EOS!$Z$5:$Z$14,vantHoff_EOS!$AE$5:$AN$14,B24,$C$2)","v":0.96228212875150576},{"$f":"Ky_NS_n0i_vi_X(vantHoff_EOS!$N$19,vantHoff_EOS!$O$31:$X$31,vantHoff_EOS!$O$23:$X$23,G24)","v":1270030.3972402532},{"$f":"Kp_NS_vi_PinPa(vantHoff_EOS!$N$19,vantHoff_EOS!$O$23:$X$23,$C$2)","v":1},{"$f":"Kphi_NS_n0i_vi_X_Tci_Pci_wi_kijm_TinC_PinPa(vantHoff_EOS!$N$19,vantHoff_EOS!$O$31:$X$31,vantHoff_EOS!$O$23:$X$23,G24,vantHoff_EOS!$X$5:$X$14,vantHoff_EOS!$Y$5:$Y$14,vantHoff_EOS!$Z$5:$Z$14,vantHoff_EOS!$AE$5:$AN$14,B24,$C$2)","v":0.97604479324899251},14.054551392983186,0,-2.4246798899846714E-2,{"$f":"nT_NS_n0i_vi_X(vantHoff_EOS!$N$19,vantHoff_EOS!$O$31:$X$31,vantHoff_EOS!$O$23:$X$23,G24)","v":8.4154357424969888},{"$f":"IF(O$3<=vantHoff_EOS!$N$19,y_iindex_NS_n0i_vi_X(O$3,vantHoff_EOS!$N$19,vantHoff_EOS!$O$31:$X$31,vantHoff_EOS!$O$23:$X$23,$G24),\"-\")","v":4.4819867209042186E-3},{"$f":"IF(P$3<=vantHoff_EOS!$N$19,y_iindex_NS_n0i_vi_X(P$3,vantHoff_EOS!$N$19,vantHoff_EOS!$O$31:$X$31,vantHoff_EOS!$O$23:$X$23,$G24),\"-\")","v":4.4819867209042186E-3},{"$f":"IF(Q$3<=vantHoff_EOS!$N$19,y_iindex_NS_n0i_vi_X(Q$3,vantHoff_EOS!$N$19,vantHoff_EOS!$O$31:$X$31,vantHoff_EOS!$O$23:$X$23,$G24),\"-\")","v":4.4819867209042186E-3},{"$f":"IF(R$3<=vantHoff_EOS!$N$19,y_iindex_NS_n0i_vi_X(R$3,vantHoff_EOS!$N$19,vantHoff_EOS!$O$31:$X$31,vantHoff_EOS!$O$23:$X$23,$G24),\"-\")","v":0.11434727305825544},{"$f":"IF(S$3<=vantHoff_EOS!$N$19,y_iindex_NS_n0i_vi_X(S$3,vantHoff_EOS!$N$19,vantHoff_EOS!$O$31:$X$31,vantHoff_EOS!$O$23:$X$23,$G24),\"-\")","v":0.87220676677903186},{"$f":"IF(T$3<=vantHoff_EOS!$N$19,y_iindex_NS_n0i_vi_X(T$3,vantHoff_EOS!$N$19,vantHoff_EOS!$O$31:$X$31,vantHoff_EOS!$O$23:$X$23,$G24),\"-\")","v":"-"},{"$f":"IF(U$3<=vantHoff_EOS!$N$19,y_iindex_NS_n0i_vi_X(U$3,vantHoff_EOS!$N$19,vantHoff_EOS!$O$31:$X$31,vantHoff_EOS!$O$23:$X$23,$G24),\"-\")","v":"-"},{"$f":"IF(V$3<=vantHoff_EOS!$N$19,y_iindex_NS_n0i_vi_X(V$3,vantHoff_EOS!$N$19,vantHoff_EOS!$O$31:$X$31,vantHoff_EOS!$O$23:$X$23,$G24),\"-\")","v":"-"},{"$f":"IF(W$3<=vantHoff_EOS!$N$19,y_iindex_NS_n0i_vi_X(W$3,vantHoff_EOS!$N$19,vantHoff_EOS!$O$31:$X$31,vantHoff_EOS!$O$23:$X$23,$G24),\"-\")","v":"-"},{"$f":"IF(X$3<=vantHoff_EOS!$N$19,y_iindex_NS_n0i_vi_X(X$3,vantHoff_EOS!$N$19,vantHoff_EOS!$O$31:$X$31,vantHoff_EOS!$O$23:$X$23,$G24),\"-\")","v":"-"},1,{"$f":"IF(Z$3<=vantHoff_EOS!$N$19,Phi_i_NS_Tci_Pci_wi_kijm_TinC_PinPa_yi(Z$3,vantHoff_EOS!$N$19,vantHoff_EOS!$X$5:$X$14,vantHoff_EOS!$Y$5:$Y$14,vantHoff_EOS!$Z$5:$Z$14,vantHoff_EOS!$AE$5:$AN$14,B24,$C$2,$O24:$X24),\"-\")","v":1.0027208956685545},{"$f":"IF(AA$3<=vantHoff_EOS!$N$19,Phi_i_NS_Tci_Pci_wi_kijm_TinC_PinPa_yi(AA$3,vantHoff_EOS!$N$19,vantHoff_EOS!$X$5:$X$14,vantHoff_EOS!$Y$5:$Y$14,vantHoff_EOS!$Z$5:$Z$14,vantHoff_EOS!$AE$5:$AN$14,C24,$C$2,$O24:$X24),\"-\")","v":1.0009521387144222},{"$f":"IF(AB$3<=vantHoff_EOS!$N$19,Phi_i_NS_Tci_Pci_wi_kijm_TinC_PinPa_yi(AB$3,vantHoff_EOS!$N$19,vantHoff_EOS!$X$5:$X$14,vantHoff_EOS!$Y$5:$Y$14,vantHoff_EOS!$Z$5:$Z$14,vantHoff_EOS!$AE$5:$AN$14,D24,$C$2,$O24:$X24),\"-\")","v":0.98288557029688517},{"$f":"IF(AC$3<=vantHoff_EOS!$N$19,Phi_i_NS_Tci_Pci_wi_kijm_TinC_PinPa_yi(AC$3,vantHoff_EOS!$N$19,vantHoff_EOS!$X$5:$X$14,vantHoff_EOS!$Y$5:$Y$14,vantHoff_EOS!$Z$5:$Z$14,vantHoff_EOS!$AE$5:$AN$14,E24,$C$2,$O24:$X24),\"-\")","v":0.96528482573140473},{"$f":"IF(AD$3<=vantHoff_EOS!$N$19,Phi_i_NS_Tci_Pci_wi_kijm_TinC_PinPa_yi(AD$3,vantHoff_EOS!$N$19,vantHoff_EOS!$X$5:$X$14,vantHoff_EOS!$Y$5:$Y$14,vantHoff_EOS!$Z$5:$Z$14,vantHoff_EOS!$AE$5:$AN$14,F24,$C$2,$O24:$X24),\"-\")","v":0.99999955655025052},{"$f":"IF(AE$3<=vantHoff_EOS!$N$19,Phi_i_NS_Tci_Pci_wi_kijm_TinC_PinPa_yi(AE$3,vantHoff_EOS!$N$19,vantHoff_EOS!$X$5:$X$14,vantHoff_EOS!$Y$5:$Y$14,vantHoff_EOS!$Z$5:$Z$14,vantHoff_EOS!$AE$5:$AN$14,G24,$C$2,$O24:$X24),\"-\")","v":"-"},{"$f":"IF(AF$3<=vantHoff_EOS!$N$19,Phi_i_NS_Tci_Pci_wi_kijm_TinC_PinPa_yi(AF$3,vantHoff_EOS!$N$19,vantHoff_EOS!$X$5:$X$14,vantHoff_EOS!$Y$5:$Y$14,vantHoff_EOS!$Z$5:$Z$14,vantHoff_EOS!$AE$5:$AN$14,H24,$C$2,$O24:$X24),\"-\")","v":"-"},{"$f":"IF(AG$3<=vantHoff_EOS!$N$19,Phi_i_NS_Tci_Pci_wi_kijm_TinC_PinPa_yi(AG$3,vantHoff_EOS!$N$19,vantHoff_EOS!$X$5:$X$14,vantHoff_EOS!$Y$5:$Y$14,vantHoff_EOS!$Z$5:$Z$14,vantHoff_EOS!$AE$5:$AN$14,I24,$C$2,$O24:$X24),\"-\")","v":"-"},{"$f":"IF(AH$3<=vantHoff_EOS!$N$19,Phi_i_NS_Tci_Pci_wi_kijm_TinC_PinPa_yi(AH$3,vantHoff_EOS!$N$19,vantHoff_EOS!$X$5:$X$14,vantHoff_EOS!$Y$5:$Y$14,vantHoff_EOS!$Z$5:$Z$14,vantHoff_EOS!$AE$5:$AN$14,J24,$C$2,$O24:$X24),\"-\")","v":"-"},{"$f":"IF(AI$3<=vantHoff_EOS!$N$19,Phi_i_NS_Tci_Pci_wi_kijm_TinC_PinPa_yi(AI$3,vantHoff_EOS!$N$19,vantHoff_EOS!$X$5:$X$14,vantHoff_EOS!$Y$5:$Y$14,vantHoff_EOS!$Z$5:$Z$14,vantHoff_EOS!$AE$5:$AN$14,K24,$C$2,$O24:$X24),\"-\")","v":"-"}]
[22,{"$f":"B24+vantHoff_EOS!$B$26","v":42},315.14999999999998,3.1730921783277807E-3,{"$f":"lnKaT_Tref_lnKaTref_dHTref_da_db_dc_dd_de_TinC(vantHoff_EOS!$E$7,vantHoff_EOS!$B$9,vantHoff_EOS!$B$6,vantHoff_EOS!$O$27,vantHoff_EOS!$P$27,vantHoff_EOS!$Q$27,vantHoff_EOS!$R$27,vantHoff_EOS!$S$27,B25)","v":13.749506346637844},936126.92194726923,{"$f":"MolarExtentX_NS_vi_n0i_dHfi_dGfi_TrefinC_da_db_dc_dd_de_Tci_Pci_wi_kijm_TinC_PinPa(vantHoff_EOS!$N$19,vantHoff_EOS!$O$23:$X$23,vantHoff_EOS!$O$31:$X$31,vantHoff_EOS!$T$5:$T$14,vantHoff_EOS!$U$5:$U$14,vantHoff_EOS!$E$7,vantHoff_EOS!$O$27,vantHoff_EOS!$P$27,vantHoff_EOS!$Q$27,vantHoff_EOS!$R$27,vantHoff_EOS!$S$27,vantHoff_EOS!$X$5:$X$14,vantHoff_EOS!$Y$5:$Y$14,vantHoff_EOS!$Z$5:$Z$14,vantHoff_EOS!$AE$5:$AN$14,B25,$C$2)","v":0.95860376308677209},{"$f":"Ky_NS_n0i_vi_X(vantHoff_EOS!$N$19,vantHoff_EOS!$O$31:$X$31,vantHoff_EOS!$O$23:$X$23,G25)","v":958669.1213066557},{"$f":"Kp_NS_vi_PinPa(vantHoff_EOS!$N$19,vantHoff_EOS!$O$23:$X$23,$C$2)","v":1},{"$f":"Kphi_NS_n0i_vi_X_Tci_Pci_wi_kijm_TinC_PinPa(vantHoff_EOS!$N$19,vantHoff_EOS!$O$31:$X$31,vantHoff_EOS!$O$23:$X$23,G25,vantHoff_EOS!$X$5:$X$14,vantHoff_EOS!$Y$5:$Y$14,vantHoff_EOS!$Z$5:$Z$14,vantHoff_EOS!$AE$5:$AN$14,B25,$C$2)","v":0.97648593194202304},13.773301269624554,0,-2.3794935382571339E-2,{"$f":"nT_NS_n0i_vi_X(vantHoff_EOS!$N$19,vantHoff_EOS!$O$31:$X$31,vantHoff_EOS!$O$23:$X$23,G25)","v":8.4227924738264548},{"$f":"IF(O$3<=vantHoff_EOS!$N$19,y_iindex_NS_n0i_vi_X(O$3,vantHoff_EOS!$N$19,vantHoff_EOS!$O$31:$X$31,vantHoff_EOS!$O$23:$X$23,$G25),\"-\")","v":4.9147877075050028E-3},{"$f":"IF(P$3<=vantHoff_EOS!$N$19,y_iindex_NS_n0i_vi_X(P$3,vantHoff_EOS!$N$19,vantHoff_EOS!$O$31:$X$31,vantHoff_EOS!$O$23:$X$23,$G25),\"-\")","v":4.9147877075050028E-3},{"$f":"IF(Q$3<=vantHoff_EOS!$N$19,y_iindex_NS_n0i_vi_X(Q$3,vantHoff_EOS!$N$19,vantHoff_EOS!$O$31:$X$31,vantHoff_EOS!$O$23:$X$23,$G25),\"-\")","v":4.9147877075050028E-3},{"$f":"IF(R$3<=vantHoff_EOS!$N$19,y_iindex_NS_n0i_vi_X(R$3,vantHoff_EOS!$N$19,vantHoff_EOS!$O$31:$X$31,vantHoff_EOS!$O$23:$X$23,$G25),\"-\")","v":0.11381068286623482},{"$f":"IF(S$3<=vantHoff_EOS!$N$19,y_iindex_NS_n0i_vi_X(S$3,vantHoff_EOS!$N$19,vantHoff_EOS!$O$31:$X$31,vantHoff_EOS!$O$23:$X$23,$G25),\"-\")","v":0.87144495401125033},{"$f":"IF(T$3<=vantHoff_EOS!$N$19,y_iindex_NS_n0i_vi_X(T$3,vantHoff_EOS!$N$19,vantHoff_EOS!$O$31:$X$31,vantHoff_EOS!$O$23:$X$23,$G25),\"-\")","v":"-"},{"$f":"IF(U$3<=vantHoff_EOS!$N$19,y_iindex_NS_n0i_vi_X(U$3,vantHoff_EOS!$N$19,vantHoff_EOS!$O$31:$X$31,vantHoff_EOS!$O$23:$X$23,$G25),\"-\")","v":"-"},{"$f":"IF(V$3<=vantHoff_EOS!$N$19,y_iindex_NS_n0i_vi_X(V$3,vantHoff_EOS!$N$19,vantHoff_EOS!$O$31:$X$31,vantHoff_EOS!$O$23:$X$23,$G25),\"-\")","v":"-"},{"$f":"IF(W$3<=vantHoff_EOS!$N$19,y_iindex_NS_n0i_vi_X(W$3,vantHoff_EOS!$N$19,vantHoff_EOS!$O$31:$X$31,vantHoff_EOS!$O$23:$X$23,$G25),\"-\")","v":"-"},{"$f":"IF(X$3<=vantHoff_EOS!$N$19,y_iindex_NS_n0i_vi_X(X$3,vantHoff_EOS!$N$19,vantHoff_EOS!$O$31:$X$31,vantHoff_EOS!$O$23:$X$23,$G25),\"-\")","v":"-"},1.0000000000000002,{"$f":"IF(Z$3<=vantHoff_EOS!$N$19,Phi_i_NS_Tci_Pci_wi_kijm_TinC_PinPa_yi(Z$3,vantHoff_EOS!$N$19,vantHoff_EOS!$X$5:$X$14,vantHoff_EOS!$Y$5:$Y$14,vantHoff_EOS!$Z$5:$Z$14,vantHoff_EOS!$AE$5:$AN$14,B25,$C$2,$O25:$X25),\"-\")","v":1.0026793946600945},{"$f":"IF(AA$3<=vantHoff_EOS!$N$19,Phi_i_NS_Tci_Pci_wi_kijm_TinC_PinPa_yi(AA$3,vantHoff_EOS!$N$19,vantHoff_EOS!$X$5:$X$14,vantHoff_EOS!$Y$5:$Y$14,vantHoff_EOS!$Z$5:$Z$14,vantHoff_EOS!$AE$5:$AN$14,C25,$C$2,$O25:$X25),\"-\")","v":1.0009407283242726},{"$f":"IF(AB$3<=vantHoff_EOS!$N$19,Phi_i_NS_Tci_Pci_wi_kijm_TinC_PinPa_yi(AB$3,vantHoff_EOS!$N$19,vantHoff_EOS!$X$5:$X$14,vantHoff_EOS!$Y$5:$Y$14,vantHoff_EOS!$Z$5:$Z$14,vantHoff_EOS!$AE$5:$AN$14,D25,$C$2,$O25:$X25),\"-\")","v":0.98289352849551237},{"$f":"IF(AC$3<=vantHoff_EOS!$N$19,Phi_i_NS_Tci_Pci_wi_kijm_TinC_PinPa_yi(AC$3,vantHoff_EOS!$N$19,vantHoff_EOS!$X$5:$X$14,vantHoff_EOS!$Y$5:$Y$14,vantHoff_EOS!$Z$5:$Z$14,vantHoff_EOS!$AE$5:$AN$14,E25,$C$2,$O25:$X25),\"-\")","v":0.96522264340542507},{"$f":"IF(AD$3<=vantHoff_EOS!$N$19,Phi_i_NS_Tci_Pci_wi_kijm_TinC_PinPa_yi(AD$3,vantHoff_EOS!$N$19,vantHoff_EOS!$X$5:$X$14,vantHoff_EOS!$Y$5:$Y$14,vantHoff_EOS!$Z$5:$Z$14,vantHoff_EOS!$AE$5:$AN$14,F25,$C$2,$O25:$X25),\"-\")","v":0.99999942341928494},{"$f":"IF(AE$3<=vantHoff_EOS!$N$19,Phi_i_NS_Tci_Pci_wi_kijm_TinC_PinPa_yi(AE$3,vantHoff_EOS!$N$19,vantHoff_EOS!$X$5:$X$14,vantHoff_EOS!$Y$5:$Y$14,vantHoff_EOS!$Z$5:$Z$14,vantHoff_EOS!$AE$5:$AN$14,G25,$C$2,$O25:$X25),\"-\")","v":"-"},{"$f":"IF(AF$3<=vantHoff_EOS!$N$19,Phi_i_NS_Tci_Pci_wi_kijm_TinC_PinPa_yi(AF$3,vantHoff_EOS!$N$19,vantHoff_EOS!$X$5:$X$14,vantHoff_EOS!$Y$5:$Y$14,vantHoff_EOS!$Z$5:$Z$14,vantHoff_EOS!$AE$5:$AN$14,H25,$C$2,$O25:$X25),\"-\")","v":"-"},{"$f":"IF(AG$3<=vantHoff_EOS!$N$19,Phi_i_NS_Tci_Pci_wi_kijm_TinC_PinPa_yi(AG$3,vantHoff_EOS!$N$19,vantHoff_EOS!$X$5:$X$14,vantHoff_EOS!$Y$5:$Y$14,vantHoff_EOS!$Z$5:$Z$14,vantHoff_EOS!$AE$5:$AN$14,I25,$C$2,$O25:$X25),\"-\")","v":"-"},{"$f":"IF(AH$3<=vantHoff_EOS!$N$19,Phi_i_NS_Tci_Pci_wi_kijm_TinC_PinPa_yi(AH$3,vantHoff_EOS!$N$19,vantHoff_EOS!$X$5:$X$14,vantHoff_EOS!$Y$5:$Y$14,vantHoff_EOS!$Z$5:$Z$14,vantHoff_EOS!$AE$5:$AN$14,J25,$C$2,$O25:$X25),\"-\")","v":"-"},{"$f":"IF(AI$3<=vantHoff_EOS!$N$19,Phi_i_NS_Tci_Pci_wi_kijm_TinC_PinPa_yi(AI$3,vantHoff_EOS!$N$19,vantHoff_EOS!$X$5:$X$14,vantHoff_EOS!$Y$5:$Y$14,vantHoff_EOS!$Z$5:$Z$14,vantHoff_EOS!$AE$5:$AN$14,K25,$C$2,$O25:$X25),\"-\")","v":"-"}]
[23,{"$f":"B25+vantHoff_EOS!$B$26","v":44},317.14999999999998,3.1530821377896896E-3,{"$f":"lnKaT_Tref_lnKaTref_dHTref_da_db_dc_dd_de_TinC(vantHoff_EOS!$E$7,vantHoff_EOS!$B$9,vantHoff_EOS!$B$6,vantHoff_EOS!$O$27,vantHoff_EOS!$P$27,vantHoff_EOS!$Q$27,vantHoff_EOS!$R$27,vantHoff_EOS!$S$27,B26)","v":13.472174071482151},709399.46806405263,{"$f":"MolarExtentX_NS_vi_n0i_dHfi_dGfi_TrefinC_da_db_dc_dd_de_Tci_Pci_wi_kijm_TinC_PinPa(vantHoff_EOS!$N$19,vantHoff_EOS!$O$23:$X$23,vantHoff_EOS!$O$31:$X$31,vantHoff_EOS!$T$5:$T$14,vantHoff_EOS!$U$5:$U$14,vantHoff_EOS!$E$7,vantHoff_EOS!$O$27,vantHoff_EOS!$P$27,vantHoff_EOS!$Q$27,vantHoff_EOS!$R$27,vantHoff_EOS!$S$27,vantHoff_EOS!$X$5:$X$14,vantHoff_EOS!$Y$5:$Y$14,vantHoff_EOS!$Z$5:$Z$14,vantHoff_EOS!$AE$5:$AN$14,B26,$C$2)","v":0.95462211339168945},{"$f":"Ky_NS_n0i_vi_X(vantHoff_EOS!$N$19,vantHoff_EOS!$O$31:$X$31,vantHoff_EOS!$O$23:$X$23,G26)","v":726158.97753118281},{"$f":"Kp_NS_vi_PinPa(vantHoff_EOS!$N$19,vantHoff_EOS!$O$23:$X$23,$C$2)","v":1},{"$f":"Kphi_NS_n0i_vi_X_Tci_Pci_wi_kijm_TinC_PinPa(vantHoff_EOS!$N$19,vantHoff_EOS!$O$31:$X$31,vantHoff_EOS!$O$23:$X$23,G26,vantHoff_EOS!$X$5:$X$14,vantHoff_EOS!$Y$5:$Y$14,vantHoff_EOS!$Z$5:$Z$14,vantHoff_EOS!$AE$5:$AN$14,B26,$C$2)","v":0.97692032060263156},13.495524247150579,0,-2.3350185431348529E-2,{"$f":"nT_NS_n0i_vi_X(vantHoff_EOS!$N$19,vantHoff_EOS!$O$31:$X$31,vantHoff_EOS!$O$23:$X$23,G26)","v":8.430755773216621},{"$f":"IF(O$3<=vantHoff_EOS!$N$19,y_iindex_NS_n0i_vi_X(O$3,vantHoff_EOS!$N$19,vantHoff_EOS!$O$31:$X$31,vantHoff_EOS!$O$23:$X$23,$G26),\"-\")","v":5.3824221492063621E-3},{"$f":"IF(P$3<=vantHoff_EOS!$N$19,y_iindex_NS_n0i_vi_X(P$3,vantHoff_EOS!$N$19,vantHoff_EOS!$O$31:$X$31,vantHoff_EOS!$O$23:$X$23,$G26),\"-\")","v":5.3824221492063621E-3},{"$f":"IF(Q$3<=vantHoff_EOS!$N$19,y_iindex_NS_n0i_vi_X(Q$3,vantHoff_EOS!$N$19,vantHoff_EOS!$O$31:$X$31,vantHoff_EOS!$O$23:$X$23,$G26),\"-\")","v":5.3824221492063621E-3},{"$f":"IF(R$3<=vantHoff_EOS!$N$19,y_iindex_NS_n0i_vi_X(R$3,vantHoff_EOS!$N$19,vantHoff_EOS!$O$31:$X$31,vantHoff_EOS!$O$23:$X$23,$G26),\"-\")","v":0.11323090587256669},{"$f":"IF(S$3<=vantHoff_EOS!$N$19,y_iindex_NS_n0i_vi_X(S$3,vantHoff_EOS!$N$19,vantHoff_EOS!$O$31:$X$31,vantHoff_EOS!$O$23:$X$23,$G26),\"-\")","v":0.87062182767981422},{"$f":"IF(T$3<=vantHoff_EOS!$N$19,y_iindex_NS_n0i_vi_X(T$3,vantHoff_EOS!$N$19,vantHoff_EOS!$O$31:$X$31,vantHoff_EOS!$O$23:$X$23,$G26),\"-\")","v":"-"},{"$f":"IF(U$3<=vantHoff_EOS!$N$19,y_iindex_NS_n0i_vi_X(U$3,vantHoff_EOS!$N$19,vantHoff_EOS!$O$31:$X$31,vantHoff_EOS!$O$23:$X$23,$G26),\"-\")","v":"-"},{"$f":"IF(V$3<=vantHoff_EOS!$N$19,y_iindex_NS_n0i_vi_X(V$3,vantHoff_EOS!$N$19,vantHoff_EOS!$O$31:$X$31,vantHoff_EOS!$O$23:$X$23,$G26),\"-\")","v":"-"},{"$f":"IF(W$3<=vantHoff_EOS!$N$19,y_iindex_NS_n0i_vi_X(W$3,vantHoff_EOS!$N$19,vantHoff_EOS!$O$31:$X$31,vantHoff_EOS!$O$23:$X$23,$G26),\"-\")","v":"-"},{"$f":"IF(X$3<=vantHoff_EOS!$N$19,y_iindex_NS_n0i_vi_X(X$3,vantHoff_EOS!$N$19,vantHoff_EOS!$O$31:$X$31,vantHoff_EOS!$O$23:$X$23,$G26),\"-\")","v":"-"},1,{"$f":"IF(Z$3<=vantHoff_EOS!$N$19,Phi_i_NS_Tci_Pci_wi_kijm_TinC_PinPa_yi(Z$3,vantHoff_EOS!$N$19,vantHoff_EOS!$X$5:$X$14,vantHoff_EOS!$Y$5:$Y$14,vantHoff_EOS!$Z$5:$Z$14,vantHoff_EOS!$AE$5:$AN$14,B26,$C$2,$O26:$X26),\"-\")","v":1.0026379976969941},{"$f":"IF(AA$3<=vantHoff_EOS!$N$19,Phi_i_NS_Tci_Pci_wi_kijm_TinC_PinPa_yi(AA$3,vantHoff_EOS!$N$19,vantHoff_EOS!$X$5:$X$14,vantHoff_EOS!$Y$5:$Y$14,vantHoff_EOS!$Z$5:$Z$14,vantHoff_EOS!$AE$5:$AN$14,C26,$C$2,$O26:$X26),\"-\")","v":1.0009293281789313},{"$f":"IF(AB$3<=vantHoff_EOS!$N$19,Phi_i_NS_Tci_Pci_wi_kijm_TinC_PinPa_yi(AB$3,vantHoff_EOS!$N$19,vantHoff_EOS!$X$5:$X$14,vantHoff_EOS!$Y$5:$Y$14,vantHoff_EOS!$Z$5:$Z$14,vantHoff_EOS!$AE$5:$AN$14,D26,$C$2,$O26:$X26),\"-\")","v":0.98290215747601162},{"$f":"IF(AC$3<=vantHoff_EOS!$N$19,Phi_i_NS_Tci_Pci_wi_kijm_TinC_PinPa_yi(AC$3,vantHoff_EOS!$N$19,vantHoff_EOS!$X$5:$X$14,vantHoff_EOS!$Y$5:$Y$14,vantHoff_EOS!$Z$5:$Z$14,vantHoff_EOS!$AE$5:$AN$14,E26,$C$2,$O26:$X26),\"-\")","v":0.96516384853632209},{"$f":"IF(AD$3<=vantHoff_EOS!$N$19,Phi_i_NS_Tci_Pci_wi_kijm_TinC_PinPa_yi(AD$3,vantHoff_EOS!$N$19,vantHoff_EOS!$X$5:$X$14,vantHoff_EOS!$Y$5:$Y$14,vantHoff_EOS!$Z$5:$Z$14,vantHoff_EOS!$AE$5:$AN$14,F26,$C$2,$O26:$X26),\"-\")","v":0.99999925500761755},{"$f":"IF(AE$3<=vantHoff_EOS!$N$19,Phi_i_NS_Tci_Pci_wi_kijm_TinC_PinPa_yi(AE$3,vantHoff_EOS!$N$19,vantHoff_EOS!$X$5:$X$14,vantHoff_EOS!$Y$5:$Y$14,vantHoff_EOS!$Z$5:$Z$14,vantHoff_EOS!$AE$5:$AN$14,G26,$C$2,$O26:$X26),\"-\")","v":"-"},{"$f":"IF(AF$3<=vantHoff_EOS!$N$19,Phi_i_NS_Tci_Pci_wi_kijm_TinC_PinPa_yi(AF$3,vantHoff_EOS!$N$19,vantHoff_EOS!$X$5:$X$14,vantHoff_EOS!$Y$5:$Y$14,vantHoff_EOS!$Z$5:$Z$14,vantHoff_EOS!$AE$5:$AN$14,H26,$C$2,$O26:$X26),\"-\")","v":"-"},{"$f":"IF(AG$3<=vantHoff_EOS!$N$19,Phi_i_NS_Tci_Pci_wi_kijm_TinC_PinPa_yi(AG$3,vantHoff_EOS!$N$19,vantHoff_EOS!$X$5:$X$14,vantHoff_EOS!$Y$5:$Y$14,vantHoff_EOS!$Z$5:$Z$14,vantHoff_EOS!$AE$5:$AN$14,I26,$C$2,$O26:$X26),\"-\")","v":"-"},{"$f":"IF(AH$3<=vantHoff_EOS!$N$19,Phi_i_NS_Tci_Pci_wi_kijm_TinC_PinPa_yi(AH$3,vantHoff_EOS!$N$19,vantHoff_EOS!$X$5:$X$14,vantHoff_EOS!$Y$5:$Y$14,vantHoff_EOS!$Z$5:$Z$14,vantHoff_EOS!$AE$5:$AN$14,J26,$C$2,$O26:$X26),\"-\")","v":"-"},{"$f":"IF(AI$3<=vantHoff_EOS!$N$19,Phi_i_NS_Tci_Pci_wi_kijm_TinC_PinPa_yi(AI$3,vantHoff_EOS!$N$19,vantHoff_EOS!$X$5:$X$14,vantHoff_EOS!$Y$5:$Y$14,vantHoff_EOS!$Z$5:$Z$14,vantHoff_EOS!$AE$5:$AN$14,K26,$C$2,$O26:$X26),\"-\")","v":"-"}]
[24,{"$f":"B26+vantHoff_EOS!$B$26","v":46},319.14999999999998,3.1333228889237038E-3,{"$f":"lnKaT_Tref_lnKaTref_dHTref_da_db_dc_dd_de_TinC(vantHoff_EOS!$E$7,vantHoff_EOS!$B$9,vantHoff_EOS!$B$6,vantHoff_EOS!$O$27,vantHoff_EOS!$P$27,vantHoff_EOS!$Q$27,vantHoff_EOS!$R$27,vantHoff_EOS!$S$27,B27)","v":13.198243551233677},539416.64697473845,{"$f":"MolarExtentX_NS_vi_n0i_dHfi_dGfi_TrefinC_da_db_dc_dd_de_Tci_Pci_wi_kijm_TinC_PinPa(vantHoff_EOS!$N$19,vantHoff_EOS!$O$23:$X$23,vantHoff_EOS!$O$31:$X$31,vantHoff_EOS!$T$5:$T$14,vantHoff_EOS!$U$5:$U$14,vantHoff_EOS!$E$7,vantHoff_EOS!$O$27,vantHoff_EOS!$P$27,vantHoff_EOS!$Q$27,vantHoff_EOS!$R$27,vantHoff_EOS!$S$27,vantHoff_EOS!$X$5:$X$14,vantHoff_EOS!$Y$5:$Y$14,vantHoff_EOS!$Z$5:$Z$14,vantHoff_EOS!$AE$5:$AN$14,B27,$C$2)","v":0.95031738865741033},{"$f":"Ky_NS_n0i_vi_X(vantHoff_EOS!$N$19,vantHoff_EOS!$O$31:$X$31,vantHoff_EOS!$O$23:$X$23,G27)","v":551918.55659779941},{"$f":"Kp_NS_vi_PinPa(vantHoff_EOS!$N$19,vantHoff_EOS!$O$23:$X$23,$C$2)","v":1},{"$f":"Kphi_NS_n0i_vi_X_Tci_Pci_wi_kijm_TinC_PinPa(vantHoff_EOS!$N$19,vantHoff_EOS!$O$31:$X$31,vantHoff_EOS!$O$23:$X$23,G27,vantHoff_EOS!$X$5:$X$14,vantHoff_EOS!$Y$5:$Y$14,vantHoff_EOS!$Z$5:$Z$14,vantHoff_EOS!$AE$5:$AN$14,B27,$C$2)","v":0.97734826352017468},13.221155771978491,0,-2.2912228307276575E-2,{"$f":"nT_NS_n0i_vi_X(vantHoff_EOS!$N$19,vantHoff_EOS!$O$31:$X$31,vantHoff_EOS!$O$23:$X$23,G27)","v":8.4393652226851792},{"$f":"IF(O$3<=vantHoff_EOS!$N$19,y_iindex_NS_n0i_vi_X(O$3,vantHoff_EOS!$N$19,vantHoff_EOS!$O$31:$X$31,vantHoff_EOS!$O$23:$X$23,$G27),\"-\")","v":5.8870080902580007E-3},{"$f":"IF(P$3<=vantHoff_EOS!$N$19,y_iindex_NS_n0i_vi_X(P$3,vantHoff_EOS!$N$19,vantHoff_EOS!$O$31:$X$31,vantHoff_EOS!$O$23:$X$23,$G27),\"-\")","v":5.8870080902580007E-3},{"$f":"IF(Q$3<=vantHoff_EOS!$N$19,y_iindex_NS_n0i_vi_X(Q$3,vantHoff_EOS!$N$19,vantHoff_EOS!$O$31:$X$31,vantHoff_EOS!$O$23:$X$23,$G27),\"-\")","v":5.8870080902580007E-3},{"$f":"IF(R$3<=vantHoff_EOS!$N$19,y_iindex_NS_n0i_vi_X(R$3,vantHoff_EOS!$N$19,vantHoff_EOS!$O$31:$X$31,vantHoff_EOS!$O$23:$X$23,$G27),\"-\")","v":0.1126053161087209},{"$f":"IF(S$3<=vantHoff_EOS!$N$19,y_iindex_NS_n0i_vi_X(S$3,vantHoff_EOS!$N$19,vantHoff_EOS!$O$31:$X$31,vantHoff_EOS!$O$23:$X$23,$G27),\"-\")","v":0.86973365962050508},{"$f":"IF(T$3<=vantHoff_EOS!$N$19,y_iindex_NS_n0i_vi_X(T$3,vantHoff_EOS!$N$19,vantHoff_EOS!$O$31:$X$31,vantHoff_EOS!$O$23:$X$23,$G27),\"-\")","v":"-"},{"$f":"IF(U$3<=vantHoff_EOS!$N$19,y_iindex_NS_n0i_vi_X(U$3,vantHoff_EOS!$N$19,vantHoff_EOS!$O$31:$X$31,vantHoff_EOS!$O$23:$X$23,$G27),\"-\")","v":"-"},{"$f":"IF(V$3<=vantHoff_EOS!$N$19,y_iindex_NS_n0i_vi_X(V$3,vantHoff_EOS!$N$19,vantHoff_EOS!$O$31:$X$31,vantHoff_EOS!$O$23:$X$23,$G27),\"-\")","v":"-"},{"$f":"IF(W$3<=vantHoff_EOS!$N$19,y_iindex_NS_n0i_vi_X(W$3,vantHoff_EOS!$N$19,vantHoff_EOS!$O$31:$X$31,vantHoff_EOS!$O$23:$X$23,$G27),\"-\")","v":"-"},{"$f":"IF(X$3<=vantHoff_EOS!$N$19,y_iindex_NS_n0i_vi_X(X$3,vantHoff_EOS!$N$19,vantHoff_EOS!$O$31:$X$31,vantHoff_EOS!$O$23:$X$23,$G27),\"-\")","v":"-"},1,{"$f":"IF(Z$3<=vantHoff_EOS!$N$19,Phi_i_NS_Tci_Pci_wi_kijm_TinC_PinPa_yi(Z$3,vantHoff_EOS!$N$19,vantHoff_EOS!$X$5:$X$14,vantHoff_EOS!$Y$5:$Y$14,vantHoff_EOS!$Z$5:$Z$14,vantHoff_EOS!$AE$5:$AN$14,B27,$C$2,$O27:$X27),\"-\")","v":1.0025966732659486},{"$f":"IF(AA$3<=vantHoff_EOS!$N$19,Phi_i_NS_Tci_Pci_wi_kijm_TinC_PinPa_yi(AA$3,vantHoff_EOS!$N$19,vantHoff_EOS!$X$5:$X$14,vantHoff_EOS!$Y$5:$Y$14,vantHoff_EOS!$Z$5:$Z$14,vantHoff_EOS!$AE$5:$AN$14,C27,$C$2,$O27:$X27),\"-\")","v":1.000917931931206},{"$f":"IF(AB$3<=vantHoff_EOS!$N$19,Phi_i_NS_Tci_Pci_wi_kijm_TinC_PinPa_yi(AB$3,vantHoff_EOS!$N$19,vantHoff_EOS!$X$5:$X$14,vantHoff_EOS!$Y$5:$Y$14,vantHoff_EOS!$Z$5:$Z$14,vantHoff_EOS!$AE$5:$AN$14,D27,$C$2,$O27:$X27),\"-\")","v":0.98291150350776735},{"$f":"IF(AC$3<=vantHoff_EOS!$N$19,Phi_i_NS_Tci_Pci_wi_kijm_TinC_PinPa_yi(AC$3,vantHoff_EOS!$N$19,vantHoff_EOS!$X$5:$X$14,vantHoff_EOS!$Y$5:$Y$14,vantHoff_EOS!$Z$5:$Z$14,vantHoff_EOS!$AE$5:$AN$14,E27,$C$2,$O27:$X27),\"-\")","v":0.96510859690992257},{"$f":"IF(AD$3<=vantHoff_EOS!$N$19,Phi_i_NS_Tci_Pci_wi_kijm_TinC_PinPa_yi(AD$3,vantHoff_EOS!$N$19,vantHoff_EOS!$X$5:$X$14,vantHoff_EOS!$Y$5:$Y$14,vantHoff_EOS!$Z$5:$Z$14,vantHoff_EOS!$AE$5:$AN$14,F27,$C$2,$O27:$X27),\"-\")","v":0.99999904378474358},{"$f":"IF(AE$3<=vantHoff_EOS!$N$19,Phi_i_NS_Tci_Pci_wi_kijm_TinC_PinPa_yi(AE$3,vantHoff_EOS!$N$19,vantHoff_EOS!$X$5:$X$14,vantHoff_EOS!$Y$5:$Y$14,vantHoff_EOS!$Z$5:$Z$14,vantHoff_EOS!$AE$5:$AN$14,G27,$C$2,$O27:$X27),\"-\")","v":"-"},{"$f":"IF(AF$3<=vantHoff_EOS!$N$19,Phi_i_NS_Tci_Pci_wi_kijm_TinC_PinPa_yi(AF$3,vantHoff_EOS!$N$19,vantHoff_EOS!$X$5:$X$14,vantHoff_EOS!$Y$5:$Y$14,vantHoff_EOS!$Z$5:$Z$14,vantHoff_EOS!$AE$5:$AN$14,H27,$C$2,$O27:$X27),\"-\")","v":"-"},{"$f":"IF(AG$3<=vantHoff_EOS!$N$19,Phi_i_NS_Tci_Pci_wi_kijm_TinC_PinPa_yi(AG$3,vantHoff_EOS!$N$19,vantHoff_EOS!$X$5:$X$14,vantHoff_EOS!$Y$5:$Y$14,vantHoff_EOS!$Z$5:$Z$14,vantHoff_EOS!$AE$5:$AN$14,I27,$C$2,$O27:$X27),\"-\")","v":"-"},{"$f":"IF(AH$3<=vantHoff_EOS!$N$19,Phi_i_NS_Tci_Pci_wi_kijm_TinC_PinPa_yi(AH$3,vantHoff_EOS!$N$19,vantHoff_EOS!$X$5:$X$14,vantHoff_EOS!$Y$5:$Y$14,vantHoff_EOS!$Z$5:$Z$14,vantHoff_EOS!$AE$5:$AN$14,J27,$C$2,$O27:$X27),\"-\")","v":"-"},{"$f":"IF(AI$3<=vantHoff_EOS!$N$19,Phi_i_NS_Tci_Pci_wi_kijm_TinC_PinPa_yi(AI$3,vantHoff_EOS!$N$19,vantHoff_EOS!$X$5:$X$14,vantHoff_EOS!$Y$5:$Y$14,vantHoff_EOS!$Z$5:$Z$14,vantHoff_EOS!$AE$5:$AN$14,K27,$C$2,$O27:$X27),\"-\")","v":"-"}]
[25,{"$f":"B27+vantHoff_EOS!$B$26","v":48},321.14999999999998,3.1138097462245057E-3,{"$f":"lnKaT_Tref_lnKaTref_dHTref_da_db_dc_dd_de_TinC(vantHoff_EOS!$E$7,vantHoff_EOS!$B$9,vantHoff_EOS!$B$6,vantHoff_EOS!$O$27,vantHoff_EOS!$P$27,vantHoff_EOS!$Q$27,vantHoff_EOS!$R$27,vantHoff_EOS!$S$27,B28)","v":12.927652143493178},411536.14955584146,{"$f":"MolarExtentX_NS_vi_n0i_dHfi_dGfi_TrefinC_da_db_dc_dd_de_Tci_Pci_wi_kijm_TinC_PinPa(vantHoff_EOS!$N$19,vantHoff_EOS!$O$23:$X$23,vantHoff_EOS!$O$31:$X$31,vantHoff_EOS!$T$5:$T$14,vantHoff_EOS!$U$5:$U$14,vantHoff_EOS!$E$7,vantHoff_EOS!$O$27,vantHoff_EOS!$P$27,vantHoff_EOS!$Q$27,vantHoff_EOS!$R$27,vantHoff_EOS!$S$27,vantHoff_EOS!$X$5:$X$14,vantHoff_EOS!$Y$5:$Y$14,vantHoff_EOS!$Z$5:$Z$14,vantHoff_EOS!$AE$5:$AN$14,B28,$C$2)","v":0.94566897220582891},{"$f":"Ky_NS_n0i_vi_X(vantHoff_EOS!$N$19,vantHoff_EOS!$O$31:$X$31,vantHoff_EOS!$O$23:$X$23,G28)","v":420892.56603399821},{"$f":"Kp_NS_vi_PinPa(vantHoff_EOS!$N$19,vantHoff_EOS!$O$23:$X$23,$C$2)","v":1},{"$f":"Kphi_NS_n0i_vi_X_Tci_Pci_wi_kijm_TinC_PinPa(vantHoff_EOS!$N$19,vantHoff_EOS!$O$31:$X$31,vantHoff_EOS!$O$23:$X$23,G28,vantHoff_EOS!$X$5:$X$14,vantHoff_EOS!$Y$5:$Y$14,vantHoff_EOS!$Z$5:$Z$14,vantHoff_EOS!$AE$5:$AN$14,B28,$C$2)","v":0.97777005439595099},12.950132892530931,0,-2.2480754796487111E-2,{"$f":"nT_NS_n0i_vi_X(vantHoff_EOS!$N$19,vantHoff_EOS!$O$31:$X$31,vantHoff_EOS!$O$23:$X$23,G28)","v":8.4486620555883416},{"$f":"IF(O$3<=vantHoff_EOS!$N$19,y_iindex_NS_n0i_vi_X(O$3,vantHoff_EOS!$N$19,vantHoff_EOS!$O$31:$X$31,vantHoff_EOS!$O$23:$X$23,$G28),\"-\")","v":6.4307256506057073E-3},{"$f":"IF(P$3<=vantHoff_EOS!$N$19,y_iindex_NS_n0i_vi_X(P$3,vantHoff_EOS!$N$19,vantHoff_EOS!$O$31:$X$31,vantHoff_EOS!$O$23:$X$23,$G28),\"-\")","v":6.4307256506057073E-3},{"$f":"IF(Q$3<=vantHoff_EOS!$N$19,y_iindex_NS_n0i_vi_X(Q$3,vantHoff_EOS!$N$19,vantHoff_EOS!$O$31:$X$31,vantHoff_EOS!$O$23:$X$23,$G28),\"-\")","v":6.4307256506057073E-3},{"$f":"IF(R$3<=vantHoff_EOS!$N$19,y_iindex_NS_n0i_vi_X(R$3,vantHoff_EOS!$N$19,vantHoff_EOS!$O$31:$X$31,vantHoff_EOS!$O$23:$X$23,$G28),\"-\")","v":0.11193121064421307},{"$f":"IF(S$3<=vantHoff_EOS!$N$19,y_iindex_NS_n0i_vi_X(S$3,vantHoff_EOS!$N$19,vantHoff_EOS!$O$31:$X$31,vantHoff_EOS!$O$23:$X$23,$G28),\"-\")","v":0.86877661240396986},{"$f":"IF(T$3<=vantHoff_EOS!$N$19,y_iindex_NS_n0i_vi_X(T$3,vantHoff_EOS!$N$19,vantHoff_EOS!$O$31:$X$31,vantHoff_EOS!$O$23:$X$23,$G28),\"-\")","v":"-"},{"$f":"IF(U$3<=vantHoff_EOS!$N$19,y_iindex_NS_n0i_vi_X(U$3,vantHoff_EOS!$N$19,vantHoff_EOS!$O$31:$X$31,vantHoff_EOS!$O$23:$X$23,$G28),\"-\")","v":"-"},{"$f":"IF(V$3<=vantHoff_EOS!$N$19,y_iindex_NS_n0i_vi_X(V$3,vantHoff_EOS!$N$19,vantHoff_EOS!$O$31:$X$31,vantHoff_EOS!$O$23:$X$23,$G28),\"-\")","v":"-"},{"$f":"IF(W$3<=vantHoff_EOS!$N$19,y_iindex_NS_n0i_vi_X(W$3,vantHoff_EOS!$N$19,vantHoff_EOS!$O$31:$X$31,vantHoff_EOS!$O$23:$X$23,$G28),\"-\")","v":"-"},{"$f":"IF(X$3<=vantHoff_EOS!$N$19,y_iindex_NS_n0i_vi_X(X$3,vantHoff_EOS!$N$19,vantHoff_EOS!$O$31:$X$31,vantHoff_EOS!$O$23:$X$23,$G28),\"-\")","v":"-"},1,{"$f":"IF(Z$3<=vantHoff_EOS!$N$19,Phi_i_NS_Tci_Pci_wi_kijm_TinC_PinPa_yi(Z$3,vantHoff_EOS!$N$19,vantHoff_EOS!$X$5:$X$14,vantHoff_EOS!$Y$5:$Y$14,vantHoff_EOS!$Z$5:$Z$14,vantHoff_EOS!$AE$5:$AN$14,B28,$C$2,$O28:$X28),\"-\")","v":1.0025553913378911},{"$f":"IF(AA$3<=vantHoff_EOS!$N$19,Phi_i_NS_Tci_Pci_wi_kijm_TinC_PinPa_yi(AA$3,vantHoff_EOS!$N$19,vantHoff_EOS!$X$5:$X$14,vantHoff_EOS!$Y$5:$Y$14,vantHoff_EOS!$Z$5:$Z$14,vantHoff_EOS!$AE$5:$AN$14,C28,$C$2,$O28:$X28),\"-\")","v":1.0009065334100473},{"$f":"IF(AB$3<=vantHoff_EOS!$N$19,Phi_i_NS_Tci_Pci_wi_kijm_TinC_PinPa_yi(AB$3,vantHoff_EOS!$N$19,vantHoff_EOS!$X$5:$X$14,vantHoff_EOS!$Y$5:$Y$14,vantHoff_EOS!$Z$5:$Z$14,vantHoff_EOS!$AE$5:$AN$14,D28,$C$2,$O28:$X28),\"-\")","v":0.98292161518512977},{"$f":"IF(AC$3<=vantHoff_EOS!$N$19,Phi_i_NS_Tci_Pci_wi_kijm_TinC_PinPa_yi(AC$3,vantHoff_EOS!$N$19,vantHoff_EOS!$X$5:$X$14,vantHoff_EOS!$Y$5:$Y$14,vantHoff_EOS!$Z$5:$Z$14,vantHoff_EOS!$AE$5:$AN$14,E28,$C$2,$O28:$X28),\"-\")","v":0.96505705094813721},{"$f":"IF(AD$3<=vantHoff_EOS!$N$19,Phi_i_NS_Tci_Pci_wi_kijm_TinC_PinPa_yi(AD$3,vantHoff_EOS!$N$19,vantHoff_EOS!$X$5:$X$14,vantHoff_EOS!$Y$5:$Y$14,vantHoff_EOS!$Z$5:$Z$14,vantHoff_EOS!$AE$5:$AN$14,F28,$C$2,$O28:$X28),\"-\")","v":0.99999878137098563},{"$f":"IF(AE$3<=vantHoff_EOS!$N$19,Phi_i_NS_Tci_Pci_wi_kijm_TinC_PinPa_yi(AE$3,vantHoff_EOS!$N$19,vantHoff_EOS!$X$5:$X$14,vantHoff_EOS!$Y$5:$Y$14,vantHoff_EOS!$Z$5:$Z$14,vantHoff_EOS!$AE$5:$AN$14,G28,$C$2,$O28:$X28),\"-\")","v":"-"},{"$f":"IF(AF$3<=vantHoff_EOS!$N$19,Phi_i_NS_Tci_Pci_wi_kijm_TinC_PinPa_yi(AF$3,vantHoff_EOS!$N$19,vantHoff_EOS!$X$5:$X$14,vantHoff_EOS!$Y$5:$Y$14,vantHoff_EOS!$Z$5:$Z$14,vantHoff_EOS!$AE$5:$AN$14,H28,$C$2,$O28:$X28),\"-\")","v":"-"},{"$f":"IF(AG$3<=vantHoff_EOS!$N$19,Phi_i_NS_Tci_Pci_wi_kijm_TinC_PinPa_yi(AG$3,vantHoff_EOS!$N$19,vantHoff_EOS!$X$5:$X$14,vantHoff_EOS!$Y$5:$Y$14,vantHoff_EOS!$Z$5:$Z$14,vantHoff_EOS!$AE$5:$AN$14,I28,$C$2,$O28:$X28),\"-\")","v":"-"},{"$f":"IF(AH$3<=vantHoff_EOS!$N$19,Phi_i_NS_Tci_Pci_wi_kijm_TinC_PinPa_yi(AH$3,vantHoff_EOS!$N$19,vantHoff_EOS!$X$5:$X$14,vantHoff_EOS!$Y$5:$Y$14,vantHoff_EOS!$Z$5:$Z$14,vantHoff_EOS!$AE$5:$AN$14,J28,$C$2,$O28:$X28),\"-\")","v":"-"},{"$f":"IF(AI$3<=vantHoff_EOS!$N$19,Phi_i_NS_Tci_Pci_wi_kijm_TinC_PinPa_yi(AI$3,vantHoff_EOS!$N$19,vantHoff_EOS!$X$5:$X$14,vantHoff_EOS!$Y$5:$Y$14,vantHoff_EOS!$Z$5:$Z$14,vantHoff_EOS!$AE$5:$AN$14,K28,$C$2,$O28:$X28),\"-\")","v":"-"}]
[26,{"$f":"B28+vantHoff_EOS!$B$26","v":50},323.14999999999998,3.0945381401825778E-3,{"$f":"lnKaT_Tref_lnKaTref_dHTref_da_db_dc_dd_de_TinC(vantHoff_EOS!$E$7,vantHoff_EOS!$B$9,vantHoff_EOS!$B$6,vantHoff_EOS!$O$27,vantHoff_EOS!$P$27,vantHoff_EOS!$Q$27,vantHoff_EOS!$R$27,vantHoff_EOS!$S$27,B29)","v":12.660338747267993},315003.41129844135,{"$f":"MolarExtentX_NS_vi_n0i_dHfi_dGfi_TrefinC_da_db_dc_dd_de_Tci_Pci_wi_kijm_TinC_PinPa(vantHoff_EOS!$N$19,vantHoff_EOS!$O$23:$X$23,vantHoff_EOS!$O$31:$X$31,vantHoff_EOS!$T$5:$T$14,vantHoff_EOS!$U$5:$U$14,vantHoff_EOS!$E$7,vantHoff_EOS!$O$27,vantHoff_EOS!$P$27,vantHoff_EOS!$Q$27,vantHoff_EOS!$R$27,vantHoff_EOS!$S$27,vantHoff_EOS!$X$5:$X$14,vantHoff_EOS!$Y$5:$Y$14,vantHoff_EOS!$Z$5:$Z$14,vantHoff_EOS!$AE$5:$AN$14,B29,$C$2)","v":0.94065543399204854},{"$f":"Ky_NS_n0i_vi_X(vantHoff_EOS!$N$19,vantHoff_EOS!$O$31:$X$31,vantHoff_EOS!$O$23:$X$23,G29)","v":322028.13950258534},{"$f":"Kp_NS_vi_PinPa(vantHoff_EOS!$N$19,vantHoff_EOS!$O$23:$X$23,$C$2)","v":1},{"$f":"Kphi_NS_n0i_vi_X_Tci_Pci_wi_kijm_TinC_PinPa(vantHoff_EOS!$N$19,vantHoff_EOS!$O$31:$X$31,vantHoff_EOS!$O$23:$X$23,G29,vantHoff_EOS!$X$5:$X$14,vantHoff_EOS!$Y$5:$Y$14,vantHoff_EOS!$Z$5:$Z$14,vantHoff_EOS!$AE$5:$AN$14,B29,$C$2)","v":0.97818597600761814},12.682394210467864,0,-2.2055467508356935E-2,{"$f":"nT_NS_n0i_vi_X(vantHoff_EOS!$N$19,vantHoff_EOS!$O$31:$X$31,vantHoff_EOS!$O$23:$X$23,G29)","v":8.4586891320159019},{"$f":"IF(O$3<=vantHoff_EOS!$N$19,y_iindex_NS_n0i_vi_X(O$3,vantHoff_EOS!$N$19,vantHoff_EOS!$O$31:$X$31,vantHoff_EOS!$O$23:$X$23,$G29),\"-\")","v":7.015811206884757E-3},{"$f":"IF(P$3<=vantHoff_EOS!$N$19,y_iindex_NS_n0i_vi_X(P$3,vantHoff_EOS!$N$19,vantHoff_EOS!$O$31:$X$31,vantHoff_EOS!$O$23:$X$23,$G29),\"-\")","v":7.015811206884757E-3},{"$f":"IF(Q$3<=vantHoff_EOS!$N$19,y_iindex_NS_n0i_vi_X(Q$3,vantHoff_EOS!$N$19,vantHoff_EOS!$O$31:$X$31,vantHoff_EOS!$O$23:$X$23,$G29),\"-\")","v":7.015811206884757E-3},{"$f":"IF(R$3<=vantHoff_EOS!$N$19,y_iindex_NS_n0i_vi_X(R$3,vantHoff_EOS!$N$19,vantHoff_EOS!$O$31:$X$31,vantHoff_EOS!$O$23:$X$23,$G29),\"-\")","v":0.11120581680105657},{"$f":"IF(S$3<=vantHoff_EOS!$N$19,y_iindex_NS_n0i_vi_X(S$3,vantHoff_EOS!$N$19,vantHoff_EOS!$O$31:$X$31,vantHoff_EOS!$O$23:$X$23,$G29),\"-\")","v":0.86774674957828923},{"$f":"IF(T$3<=vantHoff_EOS!$N$19,y_iindex_NS_n0i_vi_X(T$3,vantHoff_EOS!$N$19,vantHoff_EOS!$O$31:$X$31,vantHoff_EOS!$O$23:$X$23,$G29),\"-\")","v":"-"},{"$f":"IF(U$3<=vantHoff_EOS!$N$19,y_iindex_NS_n0i_vi_X(U$3,vantHoff_EOS!$N$19,vantHoff_EOS!$O$31:$X$31,vantHoff_EOS!$O$23:$X$23,$G29),\"-\")","v":"-"},{"$f":"IF(V$3<=vantHoff_EOS!$N$19,y_iindex_NS_n0i_vi_X(V$3,vantHoff_EOS!$N$19,vantHoff_EOS!$O$31:$X$31,vantHoff_EOS!$O$23:$X$23,$G29),\"-\")","v":"-"},{"$f":"IF(W$3<=vantHoff_EOS!$N$19,y_iindex_NS_n0i_vi_X(W$3,vantHoff_EOS!$N$19,vantHoff_EOS!$O$31:$X$31,vantHoff_EOS!$O$23:$X$23,$G29),\"-\")","v":"-"},{"$f":"IF(X$3<=vantHoff_EOS!$N$19,y_iindex_NS_n0i_vi_X(X$3,vantHoff_EOS!$N$19,vantHoff_EOS!$O$31:$X$31,vantHoff_EOS!$O$23:$X$23,$G29),\"-\")","v":"-"},1,{"$f":"IF(Z$3<=vantHoff_EOS!$N$19,Phi_i_NS_Tci_Pci_wi_kijm_TinC_PinPa_yi(Z$3,vantHoff_EOS!$N$19,vantHoff_EOS!$X$5:$X$14,vantHoff_EOS!$Y$5:$Y$14,vantHoff_EOS!$Z$5:$Z$14,vantHoff_EOS!$AE$5:$AN$14,B29,$C$2,$O29:$X29),\"-\")","v":1.0025141235279271},{"$f":"IF(AA$3<=vantHoff_EOS!$N$19,Phi_i_NS_Tci_Pci_wi_kijm_TinC_PinPa_yi(AA$3,vantHoff_EOS!$N$19,vantHoff_EOS!$X$5:$X$14,vantHoff_EOS!$Y$5:$Y$14,vantHoff_EOS!$Z$5:$Z$14,vantHoff_EOS!$AE$5:$AN$14,C29,$C$2,$O29:$X29),\"-\")","v":1.0008951266603381},{"$f":"IF(AB$3<=vantHoff_EOS!$N$19,Phi_i_NS_Tci_Pci_wi_kijm_TinC_PinPa_yi(AB$3,vantHoff_EOS!$N$19,vantHoff_EOS!$X$5:$X$14,vantHoff_EOS!$Y$5:$Y$14,vantHoff_EOS!$Z$5:$Z$14,vantHoff_EOS!$AE$5:$AN$14,D29,$C$2,$O29:$X29),\"-\")","v":0.98293254345832204},{"$f":"IF(AC$3<=vantHoff_EOS!$N$19,Phi_i_NS_Tci_Pci_wi_kijm_TinC_PinPa_yi(AC$3,vantHoff_EOS!$N$19,vantHoff_EOS!$X$5:$X$14,vantHoff_EOS!$Y$5:$Y$14,vantHoff_EOS!$Z$5:$Z$14,vantHoff_EOS!$AE$5:$AN$14,E29,$C$2,$O29:$X29),\"-\")","v":0.96500937945701259},{"$f":"IF(AD$3<=vantHoff_EOS!$N$19,Phi_i_NS_Tci_Pci_wi_kijm_TinC_PinPa_yi(AD$3,vantHoff_EOS!$N$19,vantHoff_EOS!$X$5:$X$14,vantHoff_EOS!$Y$5:$Y$14,vantHoff_EOS!$Z$5:$Z$14,vantHoff_EOS!$AE$5:$AN$14,F29,$C$2,$O29:$X29),\"-\")","v":0.99999845881714911},{"$f":"IF(AE$3<=vantHoff_EOS!$N$19,Phi_i_NS_Tci_Pci_wi_kijm_TinC_PinPa_yi(AE$3,vantHoff_EOS!$N$19,vantHoff_EOS!$X$5:$X$14,vantHoff_EOS!$Y$5:$Y$14,vantHoff_EOS!$Z$5:$Z$14,vantHoff_EOS!$AE$5:$AN$14,G29,$C$2,$O29:$X29),\"-\")","v":"-"},{"$f":"IF(AF$3<=vantHoff_EOS!$N$19,Phi_i_NS_Tci_Pci_wi_kijm_TinC_PinPa_yi(AF$3,vantHoff_EOS!$N$19,vantHoff_EOS!$X$5:$X$14,vantHoff_EOS!$Y$5:$Y$14,vantHoff_EOS!$Z$5:$Z$14,vantHoff_EOS!$AE$5:$AN$14,H29,$C$2,$O29:$X29),\"-\")","v":"-"},{"$f":"IF(AG$3<=vantHoff_EOS!$N$19,Phi_i_NS_Tci_Pci_wi_kijm_TinC_PinPa_yi(AG$3,vantHoff_EOS!$N$19,vantHoff_EOS!$X$5:$X$14,vantHoff_EOS!$Y$5:$Y$14,vantHoff_EOS!$Z$5:$Z$14,vantHoff_EOS!$AE$5:$AN$14,I29,$C$2,$O29:$X29),\"-\")","v":"-"},{"$f":"IF(AH$3<=vantHoff_EOS!$N$19,Phi_i_NS_Tci_Pci_wi_kijm_TinC_PinPa_yi(AH$3,vantHoff_EOS!$N$19,vantHoff_EOS!$X$5:$X$14,vantHoff_EOS!$Y$5:$Y$14,vantHoff_EOS!$Z$5:$Z$14,vantHoff_EOS!$AE$5:$AN$14,J29,$C$2,$O29:$X29),\"-\")","v":"-"},{"$f":"IF(AI$3<=vantHoff_EOS!$N$19,Phi_i_NS_Tci_Pci_wi_kijm_TinC_PinPa_yi(AI$3,vantHoff_EOS!$N$19,vantHoff_EOS!$X$5:$X$14,vantHoff_EOS!$Y$5:$Y$14,vantHoff_EOS!$Z$5:$Z$14,vantHoff_EOS!$AE$5:$AN$14,K29,$C$2,$O29:$X29),\"-\")","v":"-"}]
[27,{"$f":"B29+vantHoff_EOS!$B$26","v":52},325.14999999999998,3.0755036137167465E-3,{"$f":"lnKaT_Tref_lnKaTref_dHTref_da_db_dc_dd_de_TinC(vantHoff_EOS!$E$7,vantHoff_EOS!$B$9,vantHoff_EOS!$B$6,vantHoff_EOS!$O$27,vantHoff_EOS!$P$27,vantHoff_EOS!$Q$27,vantHoff_EOS!$R$27,vantHoff_EOS!$S$27,B30)","v":12.396243755717109},241891.30605711858,{"$f":"MolarExtentX_NS_vi_n0i_dHfi_dGfi_TrefinC_da_db_dc_dd_de_Tci_Pci_wi_kijm_TinC_PinPa(vantHoff_EOS!$N$19,vantHoff_EOS!$O$23:$X$23,vantHoff_EOS!$O$31:$X$31,vantHoff_EOS!$T$5:$T$14,vantHoff_EOS!$U$5:$U$14,vantHoff_EOS!$E$7,vantHoff_EOS!$O$27,vantHoff_EOS!$P$27,vantHoff_EOS!$Q$27,vantHoff_EOS!$R$27,vantHoff_EOS!$S$27,vantHoff_EOS!$X$5:$X$14,vantHoff_EOS!$Y$5:$Y$14,vantHoff_EOS!$Z$5:$Z$14,vantHoff_EOS!$AE$5:$AN$14,B30,$C$2)","v":0.93525455042453887},{"$f":"Ky_NS_n0i_vi_X(vantHoff_EOS!$N$19,vantHoff_EOS!$O$31:$X$31,vantHoff_EOS!$O$23:$X$23,G30)","v":247181.91284696569},{"$f":"Kp_NS_vi_PinPa(vantHoff_EOS!$N$19,vantHoff_EOS!$O$23:$X$23,$C$2)","v":1},{"$f":"Kphi_NS_n0i_vi_X_Tci_Pci_wi_kijm_TinC_PinPa(vantHoff_EOS!$N$19,vantHoff_EOS!$O$31:$X$31,vantHoff_EOS!$O$23:$X$23,G30,vantHoff_EOS!$X$5:$X$14,vantHoff_EOS!$Y$5:$Y$14,vantHoff_EOS!$Z$5:$Z$14,vantHoff_EOS!$AE$5:$AN$14,B30,$C$2)","v":0.97859629980818663},12.417879833793958,0,-2.1636081241776441E-2,{"$f":"nT_NS_n0i_vi_X(vantHoff_EOS!$N$19,vantHoff_EOS!$O$31:$X$31,vantHoff_EOS!$O$23:$X$23,G30)","v":8.469490899150923},{"$f":"IF(O$3<=vantHoff_EOS!$N$19,y_iindex_NS_n0i_vi_X(O$3,vantHoff_EOS!$N$19,vantHoff_EOS!$O$31:$X$31,vantHoff_EOS!$O$23:$X$23,$G30),\"-\")","v":7.6445503450451721E-3},{"$f":"IF(P$3<=vantHoff_EOS!$N$19,y_iindex_NS_n0i_vi_X(P$3,vantHoff_EOS!$N$19,vantHoff_EOS!$O$31:$X$31,vantHoff_EOS!$O$23:$X$23,$G30),\"-\")","v":7.6445503450451721E-3},{"$f":"IF(Q$3<=vantHoff_EOS!$N$19,y_iindex_NS_n0i_vi_X(Q$3,vantHoff_EOS!$N$19,vantHoff_EOS!$O$31:$X$31,vantHoff_EOS!$O$23:$X$23,$G30),\"-\")","v":7.6445503450451721E-3},{"$f":"IF(R$3<=vantHoff_EOS!$N$19,y_iindex_NS_n0i_vi_X(R$3,vantHoff_EOS!$N$19,vantHoff_EOS!$O$31:$X$31,vantHoff_EOS!$O$23:$X$23,$G30),\"-\")","v":0.11042630089115502},{"$f":"IF(S$3<=vantHoff_EOS!$N$19,y_iindex_NS_n0i_vi_X(S$3,vantHoff_EOS!$N$19,vantHoff_EOS!$O$31:$X$31,vantHoff_EOS!$O$23:$X$23,$G30),\"-\")","v":0.86664004807370931},{"$f":"IF(T$3<=vantHoff_EOS!$N$19,y_iindex_NS_n0i_vi_X(T$3,vantHoff_EOS!$N$19,vantHoff_EOS!$O$31:$X$31,vantHoff_EOS!$O$23:$X$23,$G30),\"-\")","v":"-"},{"$f":"IF(U$3<=vantHoff_EOS!$N$19,y_iindex_NS_n0i_vi_X(U$3,vantHoff_EOS!$N$19,vantHoff_EOS!$O$31:$X$31,vantHoff_EOS!$O$23:$X$23,$G30),\"-\")","v":"-"},{"$f":"IF(V$3<=vantHoff_EOS!$N$19,y_iindex_NS_n0i_vi_X(V$3,vantHoff_EOS!$N$19,vantHoff_EOS!$O$31:$X$31,vantHoff_EOS!$O$23:$X$23,$G30),\"-\")","v":"-"},{"$f":"IF(W$3<=vantHoff_EOS!$N$19,y_iindex_NS_n0i_vi_X(W$3,vantHoff_EOS!$N$19,vantHoff_EOS!$O$31:$X$31,vantHoff_EOS!$O$23:$X$23,$G30),\"-\")","v":"-"},{"$f":"IF(X$3<=vantHoff_EOS!$N$19,y_iindex_NS_n0i_vi_X(X$3,vantHoff_EOS!$N$19,vantHoff_EOS!$O$31:$X$31,vantHoff_EOS!$O$23:$X$23,$G30),\"-\")","v":"-"},0.99999999999999978,{"$f":"IF(Z$3<=vantHoff_EOS!$N$19,Phi_i_NS_Tci_Pci_wi_kijm_TinC_PinPa_yi(Z$3,vantHoff_EOS!$N$19,vantHoff_EOS!$X$5:$X$14,vantHoff_EOS!$Y$5:$Y$14,vantHoff_EOS!$Z$5:$Z$14,vantHoff_EOS!$AE$5:$AN$14,B30,$C$2,$O30:$X30),\"-\")","v":1.0024728432697154},{"$f":"IF(AA$3<=vantHoff_EOS!$N$19,Phi_i_NS_Tci_Pci_wi_kijm_TinC_PinPa_yi(AA$3,vantHoff_EOS!$N$19,vantHoff_EOS!$X$5:$X$14,vantHoff_EOS!$Y$5:$Y$14,vantHoff_EOS!$Z$5:$Z$14,vantHoff_EOS!$AE$5:$AN$14,C30,$C$2,$O30:$X30),\"-\")","v":1.0008837059862907},{"$f":"IF(AB$3<=vantHoff_EOS!$N$19,Phi_i_NS_Tci_Pci_wi_kijm_TinC_PinPa_yi(AB$3,vantHoff_EOS!$N$19,vantHoff_EOS!$X$5:$X$14,vantHoff_EOS!$Y$5:$Y$14,vantHoff_EOS!$Z$5:$Z$14,vantHoff_EOS!$AE$5:$AN$14,D30,$C$2,$O30:$X30),\"-\")","v":0.98294434165014211},{"$f":"IF(AC$3<=vantHoff_EOS!$N$19,Phi_i_NS_Tci_Pci_wi_kijm_TinC_PinPa_yi(AC$3,vantHoff_EOS!$N$19,vantHoff_EOS!$X$5:$X$14,vantHoff_EOS!$Y$5:$Y$14,vantHoff_EOS!$Z$5:$Z$14,vantHoff_EOS!$AE$5:$AN$14,E30,$C$2,$O30:$X30),\"-\")","v":0.96496575729240441},{"$f":"IF(AD$3<=vantHoff_EOS!$N$19,Phi_i_NS_Tci_Pci_wi_kijm_TinC_PinPa_yi(AD$3,vantHoff_EOS!$N$19,vantHoff_EOS!$X$5:$X$14,vantHoff_EOS!$Y$5:$Y$14,vantHoff_EOS!$Z$5:$Z$14,vantHoff_EOS!$AE$5:$AN$14,F30,$C$2,$O30:$X30),\"-\")","v":0.99999806713580763},{"$f":"IF(AE$3<=vantHoff_EOS!$N$19,Phi_i_NS_Tci_Pci_wi_kijm_TinC_PinPa_yi(AE$3,vantHoff_EOS!$N$19,vantHoff_EOS!$X$5:$X$14,vantHoff_EOS!$Y$5:$Y$14,vantHoff_EOS!$Z$5:$Z$14,vantHoff_EOS!$AE$5:$AN$14,G30,$C$2,$O30:$X30),\"-\")","v":"-"},{"$f":"IF(AF$3<=vantHoff_EOS!$N$19,Phi_i_NS_Tci_Pci_wi_kijm_TinC_PinPa_yi(AF$3,vantHoff_EOS!$N$19,vantHoff_EOS!$X$5:$X$14,vantHoff_EOS!$Y$5:$Y$14,vantHoff_EOS!$Z$5:$Z$14,vantHoff_EOS!$AE$5:$AN$14,H30,$C$2,$O30:$X30),\"-\")","v":"-"},{"$f":"IF(AG$3<=vantHoff_EOS!$N$19,Phi_i_NS_Tci_Pci_wi_kijm_TinC_PinPa_yi(AG$3,vantHoff_EOS!$N$19,vantHoff_EOS!$X$5:$X$14,vantHoff_EOS!$Y$5:$Y$14,vantHoff_EOS!$Z$5:$Z$14,vantHoff_EOS!$AE$5:$AN$14,I30,$C$2,$O30:$X30),\"-\")","v":"-"},{"$f":"IF(AH$3<=vantHoff_EOS!$N$19,Phi_i_NS_Tci_Pci_wi_kijm_TinC_PinPa_yi(AH$3,vantHoff_EOS!$N$19,vantHoff_EOS!$X$5:$X$14,vantHoff_EOS!$Y$5:$Y$14,vantHoff_EOS!$Z$5:$Z$14,vantHoff_EOS!$AE$5:$AN$14,J30,$C$2,$O30:$X30),\"-\")","v":"-"},{"$f":"IF(AI$3<=vantHoff_EOS!$N$19,Phi_i_NS_Tci_Pci_wi_kijm_TinC_PinPa_yi(AI$3,vantHoff_EOS!$N$19,vantHoff_EOS!$X$5:$X$14,vantHoff_EOS!$Y$5:$Y$14,vantHoff_EOS!$Z$5:$Z$14,vantHoff_EOS!$AE$5:$AN$14,K30,$C$2,$O30:$X30),\"-\")","v":"-"}]
[28,{"$f":"B30+vantHoff_EOS!$B$26","v":54},327.14999999999998,3.0567018187375823E-3,{"$f":"lnKaT_Tref_lnKaTref_dHTref_da_db_dc_dd_de_TinC(vantHoff_EOS!$E$7,vantHoff_EOS!$B$9,vantHoff_EOS!$B$6,vantHoff_EOS!$O$27,vantHoff_EOS!$P$27,vantHoff_EOS!$Q$27,vantHoff_EOS!$R$27,vantHoff_EOS!$S$27,B31)","v":12.13530901062593},186336.41664572764,{"$f":"MolarExtentX_NS_vi_n0i_dHfi_dGfi_TrefinC_da_db_dc_dd_de_Tci_Pci_wi_kijm_TinC_PinPa(vantHoff_EOS!$N$19,vantHoff_EOS!$O$23:$X$23,vantHoff_EOS!$O$31:$X$31,vantHoff_EOS!$T$5:$T$14,vantHoff_EOS!$U$5:$U$14,vantHoff_EOS!$E$7,vantHoff_EOS!$O$27,vantHoff_EOS!$P$27,vantHoff_EOS!$Q$27,vantHoff_EOS!$R$27,vantHoff_EOS!$S$27,vantHoff_EOS!$X$5:$X$14,vantHoff_EOS!$Y$5:$Y$14,vantHoff_EOS!$Z$5:$Z$14,vantHoff_EOS!$AE$5:$AN$14,B31,$C$2)","v":0.9294433328829349},{"$f":"Ky_NS_n0i_vi_X(vantHoff_EOS!$N$19,vantHoff_EOS!$O$31:$X$31,vantHoff_EOS!$O$23:$X$23,G31)","v":190333.16808505252},{"$f":"Kp_NS_vi_PinPa(vantHoff_EOS!$N$19,vantHoff_EOS!$O$23:$X$23,$C$2)","v":1},{"$f":"Kphi_NS_n0i_vi_X_Tci_Pci_wi_kijm_TinC_PinPa(vantHoff_EOS!$N$19,vantHoff_EOS!$O$31:$X$31,vantHoff_EOS!$O$23:$X$23,G31,vantHoff_EOS!$X$5:$X$14,vantHoff_EOS!$Y$5:$Y$14,vantHoff_EOS!$Z$5:$Z$14,vantHoff_EOS!$AE$5:$AN$14,B31,$C$2)","v":0.97900128545883081},12.156531331765033,0,-2.1222323419975105E-2,{"$f":"nT_NS_n0i_vi_X(vantHoff_EOS!$N$19,vantHoff_EOS!$O$31:$X$31,vantHoff_EOS!$O$23:$X$23,G31)","v":8.4811133342341307},{"$f":"IF(O$3<=vantHoff_EOS!$N$19,y_iindex_NS_n0i_vi_X(O$3,vantHoff_EOS!$N$19,vantHoff_EOS!$O$31:$X$31,vantHoff_EOS!$O$23:$X$23,$G31),\"-\")","v":8.3192694563179737E-3},{"$f":"IF(P$3<=vantHoff_EOS!$N$19,y_iindex_NS_n0i_vi_X(P$3,vantHoff_EOS!$N$19,vantHoff_EOS!$O$31:$X$31,vantHoff_EOS!$O$23:$X$23,$G31),\"-\")","v":8.3192694563179737E-3},{"$f":"IF(Q$3<=vantHoff_EOS!$N$19,y_iindex_NS_n0i_vi_X(Q$3,vantHoff_EOS!$N$19,vantHoff_EOS!$O$31:$X$31,vantHoff_EOS!$O$23:$X$23,$G31),\"-\")","v":8.3192694563179737E-3},{"$f":"IF(R$3<=vantHoff_EOS!$N$19,y_iindex_NS_n0i_vi_X(R$3,vantHoff_EOS!$N$19,vantHoff_EOS!$O$31:$X$31,vantHoff_EOS!$O$23:$X$23,$G31),\"-\")","v":0.10958977863569209},{"$f":"IF(S$3<=vantHoff_EOS!$N$19,y_iindex_NS_n0i_vi_X(S$3,vantHoff_EOS!$N$19,vantHoff_EOS!$O$31:$X$31,vantHoff_EOS!$O$23:$X$23,$G31),\"-\")","v":0.86545241299535391},{"$f":"IF(T$3<=vantHoff_EOS!$N$19,y_iindex_NS_n0i_vi_X(T$3,vantHoff_EOS!$N$19,vantHoff_EOS!$O$31:$X$31,vantHoff_EOS!$O$23:$X$23,$G31),\"-\")","v":"-"},{"$f":"IF(U$3<=vantHoff_EOS!$N$19,y_iindex_NS_n0i_vi_X(U$3,vantHoff_EOS!$N$19,vantHoff_EOS!$O$31:$X$31,vantHoff_EOS!$O$23:$X$23,$G31),\"-\")","v":"-"},{"$f":"IF(V$3<=vantHoff_EOS!$N$19,y_iindex_NS_n0i_vi_X(V$3,vantHoff_EOS!$N$19,vantHoff_EOS!$O$31:$X$31,vantHoff_EOS!$O$23:$X$23,$G31),\"-\")","v":"-"},{"$f":"IF(W$3<=vantHoff_EOS!$N$19,y_iindex_NS_n0i_vi_X(W$3,vantHoff_EOS!$N$19,vantHoff_EOS!$O$31:$X$31,vantHoff_EOS!$O$23:$X$23,$G31),\"-\")","v":"-"},{"$f":"IF(X$3<=vantHoff_EOS!$N$19,y_iindex_NS_n0i_vi_X(X$3,vantHoff_EOS!$N$19,vantHoff_EOS!$O$31:$X$31,vantHoff_EOS!$O$23:$X$23,$G31),\"-\")","v":"-"},1,{"$f":"IF(Z$3<=vantHoff_EOS!$N$19,Phi_i_NS_Tci_Pci_wi_kijm_TinC_PinPa_yi(Z$3,vantHoff_EOS!$N$19,vantHoff_EOS!$X$5:$X$14,vantHoff_EOS!$Y$5:$Y$14,vantHoff_EOS!$Z$5:$Z$14,vantHoff_EOS!$AE$5:$AN$14,B31,$C$2,$O31:$X31),\"-\")","v":1.0024315260042056},{"$f":"IF(AA$3<=vantHoff_EOS!$N$19,Phi_i_NS_Tci_Pci_wi_kijm_TinC_PinPa_yi(AA$3,vantHoff_EOS!$N$19,vantHoff_EOS!$X$5:$X$14,vantHoff_EOS!$Y$5:$Y$14,vantHoff_EOS!$Z$5:$Z$14,vantHoff_EOS!$AE$5:$AN$14,C31,$C$2,$O31:$X31),\"-\")","v":1.0008722659985356},{"$f":"IF(AB$3<=vantHoff_EOS!$N$19,Phi_i_NS_Tci_Pci_wi_kijm_TinC_PinPa_yi(AB$3,vantHoff_EOS!$N$19,vantHoff_EOS!$X$5:$X$14,vantHoff_EOS!$Y$5:$Y$14,vantHoff_EOS!$Z$5:$Z$14,vantHoff_EOS!$AE$5:$AN$14,D31,$C$2,$O31:$X31),\"-\")","v":0.98295706545508477},{"$f":"IF(AC$3<=vantHoff_EOS!$N$19,Phi_i_NS_Tci_Pci_wi_kijm_TinC_PinPa_yi(AC$3,vantHoff_EOS!$N$19,vantHoff_EOS!$X$5:$X$14,vantHoff_EOS!$Y$5:$Y$14,vantHoff_EOS!$Z$5:$Z$14,vantHoff_EOS!$AE$5:$AN$14,E31,$C$2,$O31:$X31),\"-\")","v":0.96492636493239925},{"$f":"IF(AD$3<=vantHoff_EOS!$N$19,Phi_i_NS_Tci_Pci_wi_kijm_TinC_PinPa_yi(AD$3,vantHoff_EOS!$N$19,vantHoff_EOS!$X$5:$X$14,vantHoff_EOS!$Y$5:$Y$14,vantHoff_EOS!$Z$5:$Z$14,vantHoff_EOS!$AE$5:$AN$14,F31,$C$2,$O31:$X31),\"-\")","v":0.99999759819845224},{"$f":"IF(AE$3<=vantHoff_EOS!$N$19,Phi_i_NS_Tci_Pci_wi_kijm_TinC_PinPa_yi(AE$3,vantHoff_EOS!$N$19,vantHoff_EOS!$X$5:$X$14,vantHoff_EOS!$Y$5:$Y$14,vantHoff_EOS!$Z$5:$Z$14,vantHoff_EOS!$AE$5:$AN$14,G31,$C$2,$O31:$X31),\"-\")","v":"-"},{"$f":"IF(AF$3<=vantHoff_EOS!$N$19,Phi_i_NS_Tci_Pci_wi_kijm_TinC_PinPa_yi(AF$3,vantHoff_EOS!$N$19,vantHoff_EOS!$X$5:$X$14,vantHoff_EOS!$Y$5:$Y$14,vantHoff_EOS!$Z$5:$Z$14,vantHoff_EOS!$AE$5:$AN$14,H31,$C$2,$O31:$X31),\"-\")","v":"-"},{"$f":"IF(AG$3<=vantHoff_EOS!$N$19,Phi_i_NS_Tci_Pci_wi_kijm_TinC_PinPa_yi(AG$3,vantHoff_EOS!$N$19,vantHoff_EOS!$X$5:$X$14,vantHoff_EOS!$Y$5:$Y$14,vantHoff_EOS!$Z$5:$Z$14,vantHoff_EOS!$AE$5:$AN$14,I31,$C$2,$O31:$X31),\"-\")","v":"-"},{"$f":"IF(AH$3<=vantHoff_EOS!$N$19,Phi_i_NS_Tci_Pci_wi_kijm_TinC_PinPa_yi(AH$3,vantHoff_EOS!$N$19,vantHoff_EOS!$X$5:$X$14,vantHoff_EOS!$Y$5:$Y$14,vantHoff_EOS!$Z$5:$Z$14,vantHoff_EOS!$AE$5:$AN$14,J31,$C$2,$O31:$X31),\"-\")","v":"-"},{"$f":"IF(AI$3<=vantHoff_EOS!$N$19,Phi_i_NS_Tci_Pci_wi_kijm_TinC_PinPa_yi(AI$3,vantHoff_EOS!$N$19,vantHoff_EOS!$X$5:$X$14,vantHoff_EOS!$Y$5:$Y$14,vantHoff_EOS!$Z$5:$Z$14,vantHoff_EOS!$AE$5:$AN$14,K31,$C$2,$O31:$X31),\"-\")","v":"-"}]
[29,{"$f":"B31+vantHoff_EOS!$B$26","v":56},329.15,3.0381285128360932E-3,{"$f":"lnKaT_Tref_lnKaTref_dHTref_da_db_dc_dd_de_TinC(vantHoff_EOS!$E$7,vantHoff_EOS!$B$9,vantHoff_EOS!$B$6,vantHoff_EOS!$O$27,vantHoff_EOS!$P$27,vantHoff_EOS!$Q$27,vantHoff_EOS!$R$27,vantHoff_EOS!$S$27,B32)","v":11.877477758537363},143986.92251086643,{"$f":"MolarExtentX_NS_vi_n0i_dHfi_dGfi_TrefinC_da_db_dc_dd_de_Tci_Pci_wi_kijm_TinC_PinPa(vantHoff_EOS!$N$19,vantHoff_EOS!$O$23:$X$23,vantHoff_EOS!$O$31:$X$31,vantHoff_EOS!$T$5:$T$14,vantHoff_EOS!$U$5:$U$14,vantHoff_EOS!$E$7,vantHoff_EOS!$O$27,vantHoff_EOS!$P$27,vantHoff_EOS!$Q$27,vantHoff_EOS!$R$27,vantHoff_EOS!$S$27,vantHoff_EOS!$X$5:$X$14,vantHoff_EOS!$Y$5:$Y$14,vantHoff_EOS!$Z$5:$Z$14,vantHoff_EOS!$AE$5:$AN$14,B32,$C$2)","v":0.92319806627319656},{"$f":"Ky_NS_n0i_vi_X(vantHoff_EOS!$N$19,vantHoff_EOS!$O$31:$X$31,vantHoff_EOS!$O$23:$X$23,G32)","v":147015.26317897797},{"$f":"Kp_NS_vi_PinPa(vantHoff_EOS!$N$19,vantHoff_EOS!$O$23:$X$23,$C$2)","v":1},{"$f":"Kphi_NS_n0i_vi_X_Tci_Pci_wi_kijm_TinC_PinPa(vantHoff_EOS!$N$19,vantHoff_EOS!$O$31:$X$31,vantHoff_EOS!$O$23:$X$23,G32,vantHoff_EOS!$X$5:$X$14,vantHoff_EOS!$Y$5:$Y$14,vantHoff_EOS!$Z$5:$Z$14,vantHoff_EOS!$AE$5:$AN$14,B32,$C$2)","v":0.97940118029507295},11.898291691520303,0,-2.0813934594089801E-2,{"$f":"nT_NS_n0i_vi_X(vantHoff_EOS!$N$19,vantHoff_EOS!$O$31:$X$31,vantHoff_EOS!$O$23:$X$23,G32)","v":8.4936038674536061},{"$f":"IF(O$3<=vantHoff_EOS!$N$19,y_iindex_NS_n0i_vi_X(O$3,vantHoff_EOS!$N$19,vantHoff_EOS!$O$31:$X$31,vantHoff_EOS!$O$23:$X$23,$G32),\"-\")","v":9.0423258401652728E-3},{"$f":"IF(P$3<=vantHoff_EOS!$N$19,y_iindex_NS_n0i_vi_X(P$3,vantHoff_EOS!$N$19,vantHoff_EOS!$O$31:$X$31,vantHoff_EOS!$O$23:$X$23,$G32),\"-\")","v":9.0423258401652728E-3},{"$f":"IF(Q$3<=vantHoff_EOS!$N$19,y_iindex_NS_n0i_vi_X(Q$3,vantHoff_EOS!$N$19,vantHoff_EOS!$O$31:$X$31,vantHoff_EOS!$O$23:$X$23,$G32),\"-\")","v":9.0423258401652728E-3},{"$f":"IF(R$3<=vantHoff_EOS!$N$19,y_iindex_NS_n0i_vi_X(R$3,vantHoff_EOS!$N$19,vantHoff_EOS!$O$31:$X$31,vantHoff_EOS!$O$23:$X$23,$G32),\"-\")","v":0.10869332743557449},{"$f":"IF(S$3<=vantHoff_EOS!$N$19,y_iindex_NS_n0i_vi_X(S$3,vantHoff_EOS!$N$19,vantHoff_EOS!$O$31:$X$31,vantHoff_EOS!$O$23:$X$23,$G32),\"-\")","v":0.86417969504392977},{"$f":"IF(T$3<=vantHoff_EOS!$N$19,y_iindex_NS_n0i_vi_X(T$3,vantHoff_EOS!$N$19,vantHoff_EOS!$O$31:$X$31,vantHoff_EOS!$O$23:$X$23,$G32),\"-\")","v":"-"},{"$f":"IF(U$3<=vantHoff_EOS!$N$19,y_iindex_NS_n0i_vi_X(U$3,vantHoff_EOS!$N$19,vantHoff_EOS!$O$31:$X$31,vantHoff_EOS!$O$23:$X$23,$G32),\"-\")","v":"-"},{"$f":"IF(V$3<=vantHoff_EOS!$N$19,y_iindex_NS_n0i_vi_X(V$3,vantHoff_EOS!$N$19,vantHoff_EOS!$O$31:$X$31,vantHoff_EOS!$O$23:$X$23,$G32),\"-\")","v":"-"},{"$f":"IF(W$3<=vantHoff_EOS!$N$19,y_iindex_NS_n0i_vi_X(W$3,vantHoff_EOS!$N$19,vantHoff_EOS!$O$31:$X$31,vantHoff_EOS!$O$23:$X$23,$G32),\"-\")","v":"-"},{"$f":"IF(X$3<=vantHoff_EOS!$N$19,y_iindex_NS_n0i_vi_X(X$3,vantHoff_EOS!$N$19,vantHoff_EOS!$O$31:$X$31,vantHoff_EOS!$O$23:$X$23,$G32),\"-\")","v":"-"},1,{"$f":"IF(Z$3<=vantHoff_EOS!$N$19,Phi_i_NS_Tci_Pci_wi_kijm_TinC_PinPa_yi(Z$3,vantHoff_EOS!$N$19,vantHoff_EOS!$X$5:$X$14,vantHoff_EOS!$Y$5:$Y$14,vantHoff_EOS!$Z$5:$Z$14,vantHoff_EOS!$AE$5:$AN$14,B32,$C$2,$O32:$X32),\"-\")","v":1.0023901493824796},{"$f":"IF(AA$3<=vantHoff_EOS!$N$19,Phi_i_NS_Tci_Pci_wi_kijm_TinC_PinPa_yi(AA$3,vantHoff_EOS!$N$19,vantHoff_EOS!$X$5:$X$14,vantHoff_EOS!$Y$5:$Y$14,vantHoff_EOS!$Z$5:$Z$14,vantHoff_EOS!$AE$5:$AN$14,C32,$C$2,$O32:$X32),\"-\")","v":1.000860801664937},{"$f":"IF(AB$3<=vantHoff_EOS!$N$19,Phi_i_NS_Tci_Pci_wi_kijm_TinC_PinPa_yi(AB$3,vantHoff_EOS!$N$19,vantHoff_EOS!$X$5:$X$14,vantHoff_EOS!$Y$5:$Y$14,vantHoff_EOS!$Z$5:$Z$14,vantHoff_EOS!$AE$5:$AN$14,D32,$C$2,$O32:$X32),\"-\")","v":0.98297077291692803},{"$f":"IF(AC$3<=vantHoff_EOS!$N$19,Phi_i_NS_Tci_Pci_wi_kijm_TinC_PinPa_yi(AC$3,vantHoff_EOS!$N$19,vantHoff_EOS!$X$5:$X$14,vantHoff_EOS!$Y$5:$Y$14,vantHoff_EOS!$Z$5:$Z$14,vantHoff_EOS!$AE$5:$AN$14,E32,$C$2,$O32:$X32),\"-\")","v":0.96489138794461049},{"$f":"IF(AD$3<=vantHoff_EOS!$N$19,Phi_i_NS_Tci_Pci_wi_kijm_TinC_PinPa_yi(AD$3,vantHoff_EOS!$N$19,vantHoff_EOS!$X$5:$X$14,vantHoff_EOS!$Y$5:$Y$14,vantHoff_EOS!$Z$5:$Z$14,vantHoff_EOS!$AE$5:$AN$14,F32,$C$2,$O32:$X32),\"-\")","v":0.99999704614873641},{"$f":"IF(AE$3<=vantHoff_EOS!$N$19,Phi_i_NS_Tci_Pci_wi_kijm_TinC_PinPa_yi(AE$3,vantHoff_EOS!$N$19,vantHoff_EOS!$X$5:$X$14,vantHoff_EOS!$Y$5:$Y$14,vantHoff_EOS!$Z$5:$Z$14,vantHoff_EOS!$AE$5:$AN$14,G32,$C$2,$O32:$X32),\"-\")","v":"-"},{"$f":"IF(AF$3<=vantHoff_EOS!$N$19,Phi_i_NS_Tci_Pci_wi_kijm_TinC_PinPa_yi(AF$3,vantHoff_EOS!$N$19,vantHoff_EOS!$X$5:$X$14,vantHoff_EOS!$Y$5:$Y$14,vantHoff_EOS!$Z$5:$Z$14,vantHoff_EOS!$AE$5:$AN$14,H32,$C$2,$O32:$X32),\"-\")","v":"-"},{"$f":"IF(AG$3<=vantHoff_EOS!$N$19,Phi_i_NS_Tci_Pci_wi_kijm_TinC_PinPa_yi(AG$3,vantHoff_EOS!$N$19,vantHoff_EOS!$X$5:$X$14,vantHoff_EOS!$Y$5:$Y$14,vantHoff_EOS!$Z$5:$Z$14,vantHoff_EOS!$AE$5:$AN$14,I32,$C$2,$O32:$X32),\"-\")","v":"-"},{"$f":"IF(AH$3<=vantHoff_EOS!$N$19,Phi_i_NS_Tci_Pci_wi_kijm_TinC_PinPa_yi(AH$3,vantHoff_EOS!$N$19,vantHoff_EOS!$X$5:$X$14,vantHoff_EOS!$Y$5:$Y$14,vantHoff_EOS!$Z$5:$Z$14,vantHoff_EOS!$AE$5:$AN$14,J32,$C$2,$O32:$X32),\"-\")","v":"-"},{"$f":"IF(AI$3<=vantHoff_EOS!$N$19,Phi_i_NS_Tci_Pci_wi_kijm_TinC_PinPa_yi(AI$3,vantHoff_EOS!$N$19,vantHoff_EOS!$X$5:$X$14,vantHoff_EOS!$Y$5:$Y$14,vantHoff_EOS!$Z$5:$Z$14,vantHoff_EOS!$AE$5:$AN$14,K32,$C$2,$O32:$X32),\"-\")","v":"-"}]
[30,{"$f":"B32+vantHoff_EOS!$B$26","v":58},331.15,3.0197795560924054E-3,{"$f":"lnKaT_Tref_lnKaTref_dHTref_da_db_dc_dd_de_TinC(vantHoff_EOS!$E$7,vantHoff_EOS!$B$9,vantHoff_EOS!$B$6,vantHoff_EOS!$O$27,vantHoff_EOS!$P$27,vantHoff_EOS!$Q$27,vantHoff_EOS!$R$27,vantHoff_EOS!$S$27,B33)","v":11.622694608469143},111602.04001528634,{"$f":"MolarExtentX_NS_vi_n0i_dHfi_dGfi_TrefinC_da_db_dc_dd_de_Tci_Pci_wi_kijm_TinC_PinPa(vantHoff_EOS!$N$19,vantHoff_EOS!$O$23:$X$23,vantHoff_EOS!$O$31:$X$31,vantHoff_EOS!$T$5:$T$14,vantHoff_EOS!$U$5:$U$14,vantHoff_EOS!$E$7,vantHoff_EOS!$O$27,vantHoff_EOS!$P$27,vantHoff_EOS!$Q$27,vantHoff_EOS!$R$27,vantHoff_EOS!$S$27,vantHoff_EOS!$X$5:$X$14,vantHoff_EOS!$Y$5:$Y$14,vantHoff_EOS!$Z$5:$Z$14,vantHoff_EOS!$AE$5:$AN$14,B33,$C$2)","v":0.91649435913889399},{"$f":"Ky_NS_n0i_vi_X(vantHoff_EOS!$N$19,vantHoff_EOS!$O$31:$X$31,vantHoff_EOS!$O$23:$X$23,G33)","v":113903.31760618728},{"$f":"Kp_NS_vi_PinPa(vantHoff_EOS!$N$19,vantHoff_EOS!$O$23:$X$23,$C$2)","v":1},{"$f":"Kphi_NS_n0i_vi_X_Tci_Pci_wi_kijm_TinC_PinPa(vantHoff_EOS!$N$19,vantHoff_EOS!$O$31:$X$31,vantHoff_EOS!$O$23:$X$23,G33,vantHoff_EOS!$X$5:$X$14,vantHoff_EOS!$Y$5:$Y$14,vantHoff_EOS!$Z$5:$Z$14,vantHoff_EOS!$AE$5:$AN$14,B33,$C$2)","v":0.97979621872632017},11.643105276370056,0,-2.0410669015237897E-2,{"$f":"nT_NS_n0i_vi_X(vantHoff_EOS!$N$19,vantHoff_EOS!$O$31:$X$31,vantHoff_EOS!$O$23:$X$23,G33)","v":8.5070112817222121},{"$f":"IF(O$3<=vantHoff_EOS!$N$19,y_iindex_NS_n0i_vi_X(O$3,vantHoff_EOS!$N$19,vantHoff_EOS!$O$31:$X$31,vantHoff_EOS!$O$23:$X$23,$G33),\"-\")","v":9.816096170052406E-3},{"$f":"IF(P$3<=vantHoff_EOS!$N$19,y_iindex_NS_n0i_vi_X(P$3,vantHoff_EOS!$N$19,vantHoff_EOS!$O$31:$X$31,vantHoff_EOS!$O$23:$X$23,$G33),\"-\")","v":9.816096170052406E-3},{"$f":"IF(Q$3<=vantHoff_EOS!$N$19,y_iindex_NS_n0i_vi_X(Q$3,vantHoff_EOS!$N$19,vantHoff_EOS!$O$31:$X$31,vantHoff_EOS!$O$23:$X$23,$G33),\"-\")","v":9.816096170052406E-3},{"$f":"IF(R$3<=vantHoff_EOS!$N$19,y_iindex_NS_n0i_vi_X(R$3,vantHoff_EOS!$N$19,vantHoff_EOS!$O$31:$X$31,vantHoff_EOS!$O$23:$X$23,$G33),\"-\")","v":0.10773400067166164},{"$f":"IF(S$3<=vantHoff_EOS!$N$19,y_iindex_NS_n0i_vi_X(S$3,vantHoff_EOS!$N$19,vantHoff_EOS!$O$31:$X$31,vantHoff_EOS!$O$23:$X$23,$G33),\"-\")","v":0.86281771081818115},{"$f":"IF(T$3<=vantHoff_EOS!$N$19,y_iindex_NS_n0i_vi_X(T$3,vantHoff_EOS!$N$19,vantHoff_EOS!$O$31:$X$31,vantHoff_EOS!$O$23:$X$23,$G33),\"-\")","v":"-"},{"$f":"IF(U$3<=vantHoff_EOS!$N$19,y_iindex_NS_n0i_vi_X(U$3,vantHoff_EOS!$N$19,vantHoff_EOS!$O$31:$X$31,vantHoff_EOS!$O$23:$X$23,$G33),\"-\")","v":"-"},{"$f":"IF(V$3<=vantHoff_EOS!$N$19,y_iindex_NS_n0i_vi_X(V$3,vantHoff_EOS!$N$19,vantHoff_EOS!$O$31:$X$31,vantHoff_EOS!$O$23:$X$23,$G33),\"-\")","v":"-"},{"$f":"IF(W$3<=vantHoff_EOS!$N$19,y_iindex_NS_n0i_vi_X(W$3,vantHoff_EOS!$N$19,vantHoff_EOS!$O$31:$X$31,vantHoff_EOS!$O$23:$X$23,$G33),\"-\")","v":"-"},{"$f":"IF(X$3<=vantHoff_EOS!$N$19,y_iindex_NS_n0i_vi_X(X$3,vantHoff_EOS!$N$19,vantHoff_EOS!$O$31:$X$31,vantHoff_EOS!$O$23:$X$23,$G33),\"-\")","v":"-"},1,{"$f":"IF(Z$3<=vantHoff_EOS!$N$19,Phi_i_NS_Tci_Pci_wi_kijm_TinC_PinPa_yi(Z$3,vantHoff_EOS!$N$19,vantHoff_EOS!$X$5:$X$14,vantHoff_EOS!$Y$5:$Y$14,vantHoff_EOS!$Z$5:$Z$14,vantHoff_EOS!$AE$5:$AN$14,B33,$C$2,$O33:$X33),\"-\")","v":1.0023486934822432},{"$f":"IF(AA$3<=vantHoff_EOS!$N$19,Phi_i_NS_Tci_Pci_wi_kijm_TinC_PinPa_yi(AA$3,vantHoff_EOS!$N$19,vantHoff_EOS!$X$5:$X$14,vantHoff_EOS!$Y$5:$Y$14,vantHoff_EOS!$Z$5:$Z$14,vantHoff_EOS!$AE$5:$AN$14,C33,$C$2,$O33:$X33),\"-\")","v":1.0008493083651502},{"$f":"IF(AB$3<=vantHoff_EOS!$N$19,Phi_i_NS_Tci_Pci_wi_kijm_TinC_PinPa_yi(AB$3,vantHoff_EOS!$N$19,vantHoff_EOS!$X$5:$X$14,vantHoff_EOS!$Y$5:$Y$14,vantHoff_EOS!$Z$5:$Z$14,vantHoff_EOS!$AE$5:$AN$14,D33,$C$2,$O33:$X33),\"-\")","v":0.98298552438014986},{"$f":"IF(AC$3<=vantHoff_EOS!$N$19,Phi_i_NS_Tci_Pci_wi_kijm_TinC_PinPa_yi(AC$3,vantHoff_EOS!$N$19,vantHoff_EOS!$X$5:$X$14,vantHoff_EOS!$Y$5:$Y$14,vantHoff_EOS!$Z$5:$Z$14,vantHoff_EOS!$AE$5:$AN$14,E33,$C$2,$O33:$X33),\"-\")","v":0.9648610163352952},{"$f":"IF(AD$3<=vantHoff_EOS!$N$19,Phi_i_NS_Tci_Pci_wi_kijm_TinC_PinPa_yi(AD$3,vantHoff_EOS!$N$19,vantHoff_EOS!$X$5:$X$14,vantHoff_EOS!$Y$5:$Y$14,vantHoff_EOS!$Z$5:$Z$14,vantHoff_EOS!$AE$5:$AN$14,F33,$C$2,$O33:$X33),\"-\")","v":0.99999640952366398},{"$f":"IF(AE$3<=vantHoff_EOS!$N$19,Phi_i_NS_Tci_Pci_wi_kijm_TinC_PinPa_yi(AE$3,vantHoff_EOS!$N$19,vantHoff_EOS!$X$5:$X$14,vantHoff_EOS!$Y$5:$Y$14,vantHoff_EOS!$Z$5:$Z$14,vantHoff_EOS!$AE$5:$AN$14,G33,$C$2,$O33:$X33),\"-\")","v":"-"},{"$f":"IF(AF$3<=vantHoff_EOS!$N$19,Phi_i_NS_Tci_Pci_wi_kijm_TinC_PinPa_yi(AF$3,vantHoff_EOS!$N$19,vantHoff_EOS!$X$5:$X$14,vantHoff_EOS!$Y$5:$Y$14,vantHoff_EOS!$Z$5:$Z$14,vantHoff_EOS!$AE$5:$AN$14,H33,$C$2,$O33:$X33),\"-\")","v":"-"},{"$f":"IF(AG$3<=vantHoff_EOS!$N$19,Phi_i_NS_Tci_Pci_wi_kijm_TinC_PinPa_yi(AG$3,vantHoff_EOS!$N$19,vantHoff_EOS!$X$5:$X$14,vantHoff_EOS!$Y$5:$Y$14,vantHoff_EOS!$Z$5:$Z$14,vantHoff_EOS!$AE$5:$AN$14,I33,$C$2,$O33:$X33),\"-\")","v":"-"},{"$f":"IF(AH$3<=vantHoff_EOS!$N$19,Phi_i_NS_Tci_Pci_wi_kijm_TinC_PinPa_yi(AH$3,vantHoff_EOS!$N$19,vantHoff_EOS!$X$5:$X$14,vantHoff_EOS!$Y$5:$Y$14,vantHoff_EOS!$Z$5:$Z$14,vantHoff_EOS!$AE$5:$AN$14,J33,$C$2,$O33:$X33),\"-\")","v":"-"},{"$f":"IF(AI$3<=vantHoff_EOS!$N$19,Phi_i_NS_Tci_Pci_wi_kijm_TinC_PinPa_yi(AI$3,vantHoff_EOS!$N$19,vantHoff_EOS!$X$5:$X$14,vantHoff_EOS!$Y$5:$Y$14,vantHoff_EOS!$Z$5:$Z$14,vantHoff_EOS!$AE$5:$AN$14,K33,$C$2,$O33:$X33),\"-\")","v":"-"}]
[31,{"$f":"B33+vantHoff_EOS!$B$26","v":60},333.15,3.0016509079993999E-3,{"$f":"lnKaT_Tref_lnKaTref_dHTref_da_db_dc_dd_de_TinC(vantHoff_EOS!$E$7,vantHoff_EOS!$B$9,vantHoff_EOS!$B$6,vantHoff_EOS!$O$27,vantHoff_EOS!$P$27,vantHoff_EOS!$Q$27,vantHoff_EOS!$R$27,vantHoff_EOS!$S$27,B34)","v":11.370905491151026},86760.392694887007,{"$f":"MolarExtentX_NS_vi_n0i_dHfi_dGfi_TrefinC_da_db_dc_dd_de_Tci_Pci_wi_kijm_TinC_PinPa(vantHoff_EOS!$N$19,vantHoff_EOS!$O$23:$X$23,vantHoff_EOS!$O$31:$X$31,vantHoff_EOS!$T$5:$T$14,vantHoff_EOS!$U$5:$U$14,vantHoff_EOS!$E$7,vantHoff_EOS!$O$27,vantHoff_EOS!$P$27,vantHoff_EOS!$Q$27,vantHoff_EOS!$R$27,vantHoff_EOS!$S$27,vantHoff_EOS!$X$5:$X$14,vantHoff_EOS!$Y$5:$Y$14,vantHoff_EOS!$Z$5:$Z$14,vantHoff_EOS!$AE$5:$AN$14,B34,$C$2)","v":0.90930720704694301},{"$f":"Ky_NS_n0i_vi_X(vantHoff_EOS!$N$19,vantHoff_EOS!$O$31:$X$31,vantHoff_EOS!$O$23:$X$23,G34)","v":88514.157121017983},{"$f":"Kp_NS_vi_PinPa(vantHoff_EOS!$N$19,vantHoff_EOS!$O$23:$X$23,$C$2)","v":1},{"$f":"Kphi_NS_n0i_vi_X_Tci_Pci_wi_kijm_TinC_PinPa(vantHoff_EOS!$N$19,vantHoff_EOS!$O$31:$X$31,vantHoff_EOS!$O$23:$X$23,G34,vantHoff_EOS!$X$5:$X$14,vantHoff_EOS!$Y$5:$Y$14,vantHoff_EOS!$Z$5:$Z$14,vantHoff_EOS!$AE$5:$AN$14,B34,$C$2)","v":0.98018662156919589},11.39091778567172,0,-2.0012295274394337E-2,{"$f":"nT_NS_n0i_vi_X(vantHoff_EOS!$N$19,vantHoff_EOS!$O$31:$X$31,vantHoff_EOS!$O$23:$X$23,G34)","v":8.5213855859061134},{"$f":"IF(O$3<=vantHoff_EOS!$N$19,y_iindex_NS_n0i_vi_X(O$3,vantHoff_EOS!$N$19,vantHoff_EOS!$O$31:$X$31,vantHoff_EOS!$O$23:$X$23,$G34),\"-\")","v":1.0642963170573774E-2},{"$f":"IF(P$3<=vantHoff_EOS!$N$19,y_iindex_NS_n0i_vi_X(P$3,vantHoff_EOS!$N$19,vantHoff_EOS!$O$31:$X$31,vantHoff_EOS!$O$23:$X$23,$G34),\"-\")","v":1.0642963170573774E-2},{"$f":"IF(Q$3<=vantHoff_EOS!$N$19,y_iindex_NS_n0i_vi_X(Q$3,vantHoff_EOS!$N$19,vantHoff_EOS!$O$31:$X$31,vantHoff_EOS!$O$23:$X$23,$G34),\"-\")","v":1.0642963170573774E-2},{"$f":"IF(R$3<=vantHoff_EOS!$N$19,y_iindex_NS_n0i_vi_X(R$3,vantHoff_EOS!$N$19,vantHoff_EOS!$O$31:$X$31,vantHoff_EOS!$O$23:$X$23,$G34),\"-\")","v":0.10670884422257401},{"$f":"IF(S$3<=vantHoff_EOS!$N$19,y_iindex_NS_n0i_vi_X(S$3,vantHoff_EOS!$N$19,vantHoff_EOS!$O$31:$X$31,vantHoff_EOS!$O$23:$X$23,$G34),\"-\")","v":0.86136226626570467},{"$f":"IF(T$3<=vantHoff_EOS!$N$19,y_iindex_NS_n0i_vi_X(T$3,vantHoff_EOS!$N$19,vantHoff_EOS!$O$31:$X$31,vantHoff_EOS!$O$23:$X$23,$G34),\"-\")","v":"-"},{"$f":"IF(U$3<=vantHoff_EOS!$N$19,y_iindex_NS_n0i_vi_X(U$3,vantHoff_EOS!$N$19,vantHoff_EOS!$O$31:$X$31,vantHoff_EOS!$O$23:$X$23,$G34),\"-\")","v":"-"},{"$f":"IF(V$3<=vantHoff_EOS!$N$19,y_iindex_NS_n0i_vi_X(V$3,vantHoff_EOS!$N$19,vantHoff_EOS!$O$31:$X$31,vantHoff_EOS!$O$23:$X$23,$G34),\"-\")","v":"-"},{"$f":"IF(W$3<=vantHoff_EOS!$N$19,y_iindex_NS_n0i_vi_X(W$3,vantHoff_EOS!$N$19,vantHoff_EOS!$O$31:$X$31,vantHoff_EOS!$O$23:$X$23,$G34),\"-\")","v":"-"},{"$f":"IF(X$3<=vantHoff_EOS!$N$19,y_iindex_NS_n0i_vi_X(X$3,vantHoff_EOS!$N$19,vantHoff_EOS!$O$31:$X$31,vantHoff_EOS!$O$23:$X$23,$G34),\"-\")","v":"-"},1,{"$f":"IF(Z$3<=vantHoff_EOS!$N$19,Phi_i_NS_Tci_Pci_wi_kijm_TinC_PinPa_yi(Z$3,vantHoff_EOS!$N$19,vantHoff_EOS!$X$5:$X$14,vantHoff_EOS!$Y$5:$Y$14,vantHoff_EOS!$Z$5:$Z$14,vantHoff_EOS!$AE$5:$AN$14,B34,$C$2,$O34:$X34),\"-\")","v":1.0023071410372761},{"$f":"IF(AA$3<=vantHoff_EOS!$N$19,Phi_i_NS_Tci_Pci_wi_kijm_TinC_PinPa_yi(AA$3,vantHoff_EOS!$N$19,vantHoff_EOS!$X$5:$X$14,vantHoff_EOS!$Y$5:$Y$14,vantHoff_EOS!$Z$5:$Z$14,vantHoff_EOS!$AE$5:$AN$14,C34,$C$2,$O34:$X34),\"-\")","v":1.0008377819488667},{"$f":"IF(AB$3<=vantHoff_EOS!$N$19,Phi_i_NS_Tci_Pci_wi_kijm_TinC_PinPa_yi(AB$3,vantHoff_EOS!$N$19,vantHoff_EOS!$X$5:$X$14,vantHoff_EOS!$Y$5:$Y$14,vantHoff_EOS!$Z$5:$Z$14,vantHoff_EOS!$AE$5:$AN$14,D34,$C$2,$O34:$X34),\"-\")","v":0.98300138240980361},{"$f":"IF(AC$3<=vantHoff_EOS!$N$19,Phi_i_NS_Tci_Pci_wi_kijm_TinC_PinPa_yi(AC$3,vantHoff_EOS!$N$19,vantHoff_EOS!$X$5:$X$14,vantHoff_EOS!$Y$5:$Y$14,vantHoff_EOS!$Z$5:$Z$14,vantHoff_EOS!$AE$5:$AN$14,E34,$C$2,$O34:$X34),\"-\")","v":0.96483544376610142},{"$f":"IF(AD$3<=vantHoff_EOS!$N$19,Phi_i_NS_Tci_Pci_wi_kijm_TinC_PinPa_yi(AD$3,vantHoff_EOS!$N$19,vantHoff_EOS!$X$5:$X$14,vantHoff_EOS!$Y$5:$Y$14,vantHoff_EOS!$Z$5:$Z$14,vantHoff_EOS!$AE$5:$AN$14,F34,$C$2,$O34:$X34),\"-\")","v":0.99999569431922775},{"$f":"IF(AE$3<=vantHoff_EOS!$N$19,Phi_i_NS_Tci_Pci_wi_kijm_TinC_PinPa_yi(AE$3,vantHoff_EOS!$N$19,vantHoff_EOS!$X$5:$X$14,vantHoff_EOS!$Y$5:$Y$14,vantHoff_EOS!$Z$5:$Z$14,vantHoff_EOS!$AE$5:$AN$14,G34,$C$2,$O34:$X34),\"-\")","v":"-"},{"$f":"IF(AF$3<=vantHoff_EOS!$N$19,Phi_i_NS_Tci_Pci_wi_kijm_TinC_PinPa_yi(AF$3,vantHoff_EOS!$N$19,vantHoff_EOS!$X$5:$X$14,vantHoff_EOS!$Y$5:$Y$14,vantHoff_EOS!$Z$5:$Z$14,vantHoff_EOS!$AE$5:$AN$14,H34,$C$2,$O34:$X34),\"-\")","v":"-"},{"$f":"IF(AG$3<=vantHoff_EOS!$N$19,Phi_i_NS_Tci_Pci_wi_kijm_TinC_PinPa_yi(AG$3,vantHoff_EOS!$N$19,vantHoff_EOS!$X$5:$X$14,vantHoff_EOS!$Y$5:$Y$14,vantHoff_EOS!$Z$5:$Z$14,vantHoff_EOS!$AE$5:$AN$14,I34,$C$2,$O34:$X34),\"-\")","v":"-"},{"$f":"IF(AH$3<=vantHoff_EOS!$N$19,Phi_i_NS_Tci_Pci_wi_kijm_TinC_PinPa_yi(AH$3,vantHoff_EOS!$N$19,vantHoff_EOS!$X$5:$X$14,vantHoff_EOS!$Y$5:$Y$14,vantHoff_EOS!$Z$5:$Z$14,vantHoff_EOS!$AE$5:$AN$14,J34,$C$2,$O34:$X34),\"-\")","v":"-"},{"$f":"IF(AI$3<=vantHoff_EOS!$N$19,Phi_i_NS_Tci_Pci_wi_kijm_TinC_PinPa_yi(AI$3,vantHoff_EOS!$N$19,vantHoff_EOS!$X$5:$X$14,vantHoff_EOS!$Y$5:$Y$14,vantHoff_EOS!$Z$5:$Z$14,vantHoff_EOS!$AE$5:$AN$14,K34,$C$2,$O34:$X34),\"-\")","v":"-"}]
[32,{"$f":"B34+vantHoff_EOS!$B$26","v":62},335.15,2.9837386244964941E-3,{"$f":"lnKaT_Tref_lnKaTref_dHTref_da_db_dc_dd_de_TinC(vantHoff_EOS!$E$7,vantHoff_EOS!$B$9,vantHoff_EOS!$B$6,vantHoff_EOS!$O$27,vantHoff_EOS!$P$27,vantHoff_EOS!$Q$27,vantHoff_EOS!$R$27,vantHoff_EOS!$S$27,B35)","v":11.122057619718296},67646.954879511701,{"$f":"MolarExtentX_NS_vi_n0i_dHfi_dGfi_TrefinC_da_db_dc_dd_de_Tci_Pci_wi_kijm_TinC_PinPa(vantHoff_EOS!$N$19,vantHoff_EOS!$O$23:$X$23,vantHoff_EOS!$O$31:$X$31,vantHoff_EOS!$T$5:$T$14,vantHoff_EOS!$U$5:$U$14,vantHoff_EOS!$E$7,vantHoff_EOS!$O$27,vantHoff_EOS!$P$27,vantHoff_EOS!$Q$27,vantHoff_EOS!$R$27,vantHoff_EOS!$S$27,vantHoff_EOS!$X$5:$X$14,vantHoff_EOS!$Y$5:$Y$14,vantHoff_EOS!$Z$5:$Z$14,vantHoff_EOS!$AE$5:$AN$14,B35,$C$2)","v":0.90161107118698425},{"$f":"Ky_NS_n0i_vi_X(vantHoff_EOS!$N$19,vantHoff_EOS!$O$31:$X$31,vantHoff_EOS!$O$23:$X$23,G35)","v":68987.197040775034},{"$f":"Kp_NS_vi_PinPa(vantHoff_EOS!$N$19,vantHoff_EOS!$O$23:$X$23,$C$2)","v":1},{"$f":"Kphi_NS_n0i_vi_X_Tci_Pci_wi_kijm_TinC_PinPa(vantHoff_EOS!$N$19,vantHoff_EOS!$O$31:$X$31,vantHoff_EOS!$O$23:$X$23,G35,vantHoff_EOS!$X$5:$X$14,vantHoff_EOS!$Y$5:$Y$14,vantHoff_EOS!$Z$5:$Z$14,vantHoff_EOS!$AE$5:$AN$14,B35,$C$2)","v":0.98057259531578067},11.141676216229145,0,-1.9618597008695594E-2,{"$f":"nT_NS_n0i_vi_X(vantHoff_EOS!$N$19,vantHoff_EOS!$O$31:$X$31,vantHoff_EOS!$O$23:$X$23,G35)","v":8.5367778576260314},{"$f":"IF(O$3<=vantHoff_EOS!$N$19,y_iindex_NS_n0i_vi_X(O$3,vantHoff_EOS!$N$19,vantHoff_EOS!$O$31:$X$31,vantHoff_EOS!$O$23:$X$23,$G35),\"-\")","v":1.1525300347967173E-2},{"$f":"IF(P$3<=vantHoff_EOS!$N$19,y_iindex_NS_n0i_vi_X(P$3,vantHoff_EOS!$N$19,vantHoff_EOS!$O$31:$X$31,vantHoff_EOS!$O$23:$X$23,$G35),\"-\")","v":1.1525300347967173E-2},{"$f":"IF(Q$3<=vantHoff_EOS!$N$19,y_iindex_NS_n0i_vi_X(Q$3,vantHoff_EOS!$N$19,vantHoff_EOS!$O$31:$X$31,vantHoff_EOS!$O$23:$X$23,$G35),\"-\")","v":1.1525300347967173E-2},{"$f":"IF(R$3<=vantHoff_EOS!$N$19,y_iindex_NS_n0i_vi_X(R$3,vantHoff_EOS!$N$19,vantHoff_EOS!$O$31:$X$31,vantHoff_EOS!$O$23:$X$23,$G35),\"-\")","v":0.10561491539592559},{"$f":"IF(S$3<=vantHoff_EOS!$N$19,y_iindex_NS_n0i_vi_X(S$3,vantHoff_EOS!$N$19,vantHoff_EOS!$O$31:$X$31,vantHoff_EOS!$O$23:$X$23,$G35),\"-\")","v":0.85980918356017288},{"$f":"IF(T$3<=vantHoff_EOS!$N$19,y_iindex_NS_n0i_vi_X(T$3,vantHoff_EOS!$N$19,vantHoff_EOS!$O$31:$X$31,vantHoff_EOS!$O$23:$X$23,$G35),\"-\")","v":"-"},{"$f":"IF(U$3<=vantHoff_EOS!$N$19,y_iindex_NS_n0i_vi_X(U$3,vantHoff_EOS!$N$19,vantHoff_EOS!$O$31:$X$31,vantHoff_EOS!$O$23:$X$23,$G35),\"-\")","v":"-"},{"$f":"IF(V$3<=vantHoff_EOS!$N$19,y_iindex_NS_n0i_vi_X(V$3,vantHoff_EOS!$N$19,vantHoff_EOS!$O$31:$X$31,vantHoff_EOS!$O$23:$X$23,$G35),\"-\")","v":"-"},{"$f":"IF(W$3<=vantHoff_EOS!$N$19,y_iindex_NS_n0i_vi_X(W$3,vantHoff_EOS!$N$19,vantHoff_EOS!$O$31:$X$31,vantHoff_EOS!$O$23:$X$23,$G35),\"-\")","v":"-"},{"$f":"IF(X$3<=vantHoff_EOS!$N$19,y_iindex_NS_n0i_vi_X(X$3,vantHoff_EOS!$N$19,vantHoff_EOS!$O$31:$X$31,vantHoff_EOS!$O$23:$X$23,$G35),\"-\")","v":"-"},1,{"$f":"IF(Z$3<=vantHoff_EOS!$N$19,Phi_i_NS_Tci_Pci_wi_kijm_TinC_PinPa_yi(Z$3,vantHoff_EOS!$N$19,vantHoff_EOS!$X$5:$X$14,vantHoff_EOS!$Y$5:$Y$14,vantHoff_EOS!$Z$5:$Z$14,vantHoff_EOS!$AE$5:$AN$14,B35,$C$2,$O35:$X35),\"-\")","v":1.002265477678878},{"$f":"IF(AA$3<=vantHoff_EOS!$N$19,Phi_i_NS_Tci_Pci_wi_kijm_TinC_PinPa_yi(AA$3,vantHoff_EOS!$N$19,vantHoff_EOS!$X$5:$X$14,vantHoff_EOS!$Y$5:$Y$14,vantHoff_EOS!$Z$5:$Z$14,vantHoff_EOS!$AE$5:$AN$14,C35,$C$2,$O35:$X35),\"-\")","v":1.0008262187976562},{"$f":"IF(AB$3<=vantHoff_EOS!$N$19,Phi_i_NS_Tci_Pci_wi_kijm_TinC_PinPa_yi(AB$3,vantHoff_EOS!$N$19,vantHoff_EOS!$X$5:$X$14,vantHoff_EOS!$Y$5:$Y$14,vantHoff_EOS!$Z$5:$Z$14,vantHoff_EOS!$AE$5:$AN$14,D35,$C$2,$O35:$X35),\"-\")","v":0.98301841167366377},{"$f":"IF(AC$3<=vantHoff_EOS!$N$19,Phi_i_NS_Tci_Pci_wi_kijm_TinC_PinPa_yi(AC$3,vantHoff_EOS!$N$19,vantHoff_EOS!$X$5:$X$14,vantHoff_EOS!$Y$5:$Y$14,vantHoff_EOS!$Z$5:$Z$14,vantHoff_EOS!$AE$5:$AN$14,E35,$C$2,$O35:$X35),\"-\")","v":0.9648148666229478},{"$f":"IF(AD$3<=vantHoff_EOS!$N$19,Phi_i_NS_Tci_Pci_wi_kijm_TinC_PinPa_yi(AD$3,vantHoff_EOS!$N$19,vantHoff_EOS!$X$5:$X$14,vantHoff_EOS!$Y$5:$Y$14,vantHoff_EOS!$Z$5:$Z$14,vantHoff_EOS!$AE$5:$AN$14,F35,$C$2,$O35:$X35),\"-\")","v":0.99999491829873466},{"$f":"IF(AE$3<=vantHoff_EOS!$N$19,Phi_i_NS_Tci_Pci_wi_kijm_TinC_PinPa_yi(AE$3,vantHoff_EOS!$N$19,vantHoff_EOS!$X$5:$X$14,vantHoff_EOS!$Y$5:$Y$14,vantHoff_EOS!$Z$5:$Z$14,vantHoff_EOS!$AE$5:$AN$14,G35,$C$2,$O35:$X35),\"-\")","v":"-"},{"$f":"IF(AF$3<=vantHoff_EOS!$N$19,Phi_i_NS_Tci_Pci_wi_kijm_TinC_PinPa_yi(AF$3,vantHoff_EOS!$N$19,vantHoff_EOS!$X$5:$X$14,vantHoff_EOS!$Y$5:$Y$14,vantHoff_EOS!$Z$5:$Z$14,vantHoff_EOS!$AE$5:$AN$14,H35,$C$2,$O35:$X35),\"-\")","v":"-"},{"$f":"IF(AG$3<=vantHoff_EOS!$N$19,Phi_i_NS_Tci_Pci_wi_kijm_TinC_PinPa_yi(AG$3,vantHoff_EOS!$N$19,vantHoff_EOS!$X$5:$X$14,vantHoff_EOS!$Y$5:$Y$14,vantHoff_EOS!$Z$5:$Z$14,vantHoff_EOS!$AE$5:$AN$14,I35,$C$2,$O35:$X35),\"-\")","v":"-"},{"$f":"IF(AH$3<=vantHoff_EOS!$N$19,Phi_i_NS_Tci_Pci_wi_kijm_TinC_PinPa_yi(AH$3,vantHoff_EOS!$N$19,vantHoff_EOS!$X$5:$X$14,vantHoff_EOS!$Y$5:$Y$14,vantHoff_EOS!$Z$5:$Z$14,vantHoff_EOS!$AE$5:$AN$14,J35,$C$2,$O35:$X35),\"-\")","v":"-"},{"$f":"IF(AI$3<=vantHoff_EOS!$N$19,Phi_i_NS_Tci_Pci_wi_kijm_TinC_PinPa_yi(AI$3,vantHoff_EOS!$N$19,vantHoff_EOS!$X$5:$X$14,vantHoff_EOS!$Y$5:$Y$14,vantHoff_EOS!$Z$5:$Z$14,vantHoff_EOS!$AE$5:$AN$14,K35,$C$2,$O35:$X35),\"-\")","v":"-"}]
[33,{"$f":"B35+vantHoff_EOS!$B$26","v":64},337.15,2.9660388551090021E-3,{"$f":"lnKaT_Tref_lnKaTref_dHTref_da_db_dc_dd_de_TinC(vantHoff_EOS!$E$7,vantHoff_EOS!$B$9,vantHoff_EOS!$B$6,vantHoff_EOS!$O$27,vantHoff_EOS!$P$27,vantHoff_EOS!$Q$27,vantHoff_EOS!$R$27,vantHoff_EOS!$S$27,B36)","v":10.87609945180132},52896.870208805347,{"$f":"MolarExtentX_NS_vi_n0i_dHfi_dGfi_TrefinC_da_db_dc_dd_de_Tci_Pci_wi_kijm_TinC_PinPa(vantHoff_EOS!$N$19,vantHoff_EOS!$O$23:$X$23,vantHoff_EOS!$O$31:$X$31,vantHoff_EOS!$T$5:$T$14,vantHoff_EOS!$U$5:$U$14,vantHoff_EOS!$E$7,vantHoff_EOS!$O$27,vantHoff_EOS!$P$27,vantHoff_EOS!$Q$27,vantHoff_EOS!$R$27,vantHoff_EOS!$S$27,vantHoff_EOS!$X$5:$X$14,vantHoff_EOS!$Y$5:$Y$14,vantHoff_EOS!$Z$5:$Z$14,vantHoff_EOS!$AE$5:$AN$14,B36,$C$2)","v":0.89337997436605832},{"$f":"Ky_NS_n0i_vi_X(vantHoff_EOS!$N$19,vantHoff_EOS!$O$31:$X$31,vantHoff_EOS!$O$23:$X$23,G36)","v":53923.886670304004},{"$f":"Kp_NS_vi_PinPa(vantHoff_EOS!$N$19,vantHoff_EOS!$O$23:$X$23,$C$2)","v":1},{"$f":"Kphi_NS_n0i_vi_X_Tci_Pci_wi_kijm_TinC_PinPa(vantHoff_EOS!$N$19,vantHoff_EOS!$O$31:$X$31,vantHoff_EOS!$O$23:$X$23,G36,vantHoff_EOS!$X$5:$X$14,vantHoff_EOS!$Y$5:$Y$14,vantHoff_EOS!$Z$5:$Z$14,vantHoff_EOS!$AE$5:$AN$14,B36,$C$2)","v":0.98095433133856835},10.895328825152786,0,-1.9229373672100328E-2,{"$f":"nT_NS_n0i_vi_X(vantHoff_EOS!$N$19,vantHoff_EOS!$O$31:$X$31,vantHoff_EOS!$O$23:$X$23,G36)","v":8.553240051267883},{"$f":"IF(O$3<=vantHoff_EOS!$N$19,y_iindex_NS_n0i_vi_X(O$3,vantHoff_EOS!$N$19,vantHoff_EOS!$O$31:$X$31,vantHoff_EOS!$O$23:$X$23,$G36),\"-\")","v":1.2465454610751506E-2},{"$f":"IF(P$3<=vantHoff_EOS!$N$19,y_iindex_NS_n0i_vi_X(P$3,vantHoff_EOS!$N$19,vantHoff_EOS!$O$31:$X$31,vantHoff_EOS!$O$23:$X$23,$G36),\"-\")","v":1.2465454610751506E-2},{"$f":"IF(Q$3<=vantHoff_EOS!$N$19,y_iindex_NS_n0i_vi_X(Q$3,vantHoff_EOS!$N$19,vantHoff_EOS!$O$31:$X$31,vantHoff_EOS!$O$23:$X$23,$G36),\"-\")","v":1.2465454610751506E-2},{"$f":"IF(R$3<=vantHoff_EOS!$N$19,y_iindex_NS_n0i_vi_X(R$3,vantHoff_EOS!$N$19,vantHoff_EOS!$O$31:$X$31,vantHoff_EOS!$O$23:$X$23,$G36),\"-\")","v":0.10444930447539921},{"$f":"IF(S$3<=vantHoff_EOS!$N$19,y_iindex_NS_n0i_vi_X(S$3,vantHoff_EOS!$N$19,vantHoff_EOS!$O$31:$X$31,vantHoff_EOS!$O$23:$X$23,$G36),\"-\")","v":0.85815433169234634},{"$f":"IF(T$3<=vantHoff_EOS!$N$19,y_iindex_NS_n0i_vi_X(T$3,vantHoff_EOS!$N$19,vantHoff_EOS!$O$31:$X$31,vantHoff_EOS!$O$23:$X$23,$G36),\"-\")","v":"-"},{"$f":"IF(U$3<=vantHoff_EOS!$N$19,y_iindex_NS_n0i_vi_X(U$3,vantHoff_EOS!$N$19,vantHoff_EOS!$O$31:$X$31,vantHoff_EOS!$O$23:$X$23,$G36),\"-\")","v":"-"},{"$f":"IF(V$3<=vantHoff_EOS!$N$19,y_iindex_NS_n0i_vi_X(V$3,vantHoff_EOS!$N$19,vantHoff_EOS!$O$31:$X$31,vantHoff_EOS!$O$23:$X$23,$G36),\"-\")","v":"-"},{"$f":"IF(W$3<=vantHoff_EOS!$N$19,y_iindex_NS_n0i_vi_X(W$3,vantHoff_EOS!$N$19,vantHoff_EOS!$O$31:$X$31,vantHoff_EOS!$O$23:$X$23,$G36),\"-\")","v":"-"},{"$f":"IF(X$3<=vantHoff_EOS!$N$19,y_iindex_NS_n0i_vi_X(X$3,vantHoff_EOS!$N$19,vantHoff_EOS!$O$31:$X$31,vantHoff_EOS!$O$23:$X$23,$G36),\"-\")","v":"-"},1,{"$f":"IF(Z$3<=vantHoff_EOS!$N$19,Phi_i_NS_Tci_Pci_wi_kijm_TinC_PinPa_yi(Z$3,vantHoff_EOS!$N$19,vantHoff_EOS!$X$5:$X$14,vantHoff_EOS!$Y$5:$Y$14,vantHoff_EOS!$Z$5:$Z$14,vantHoff_EOS!$AE$5:$AN$14,B36,$C$2,$O36:$X36),\"-\")","v":1.002223692188039},{"$f":"IF(AA$3<=vantHoff_EOS!$N$19,Phi_i_NS_Tci_Pci_wi_kijm_TinC_PinPa_yi(AA$3,vantHoff_EOS!$N$19,vantHoff_EOS!$X$5:$X$14,vantHoff_EOS!$Y$5:$Y$14,vantHoff_EOS!$Z$5:$Z$14,vantHoff_EOS!$AE$5:$AN$14,C36,$C$2,$O36:$X36),\"-\")","v":1.0008146158902262},{"$f":"IF(AB$3<=vantHoff_EOS!$N$19,Phi_i_NS_Tci_Pci_wi_kijm_TinC_PinPa_yi(AB$3,vantHoff_EOS!$N$19,vantHoff_EOS!$X$5:$X$14,vantHoff_EOS!$Y$5:$Y$14,vantHoff_EOS!$Z$5:$Z$14,vantHoff_EOS!$AE$5:$AN$14,D36,$C$2,$O36:$X36),\"-\")","v":0.98303667877955203},{"$f":"IF(AC$3<=vantHoff_EOS!$N$19,Phi_i_NS_Tci_Pci_wi_kijm_TinC_PinPa_yi(AC$3,vantHoff_EOS!$N$19,vantHoff_EOS!$X$5:$X$14,vantHoff_EOS!$Y$5:$Y$14,vantHoff_EOS!$Z$5:$Z$14,vantHoff_EOS!$AE$5:$AN$14,E36,$C$2,$O36:$X36),\"-\")","v":0.96479948292034601},{"$f":"IF(AD$3<=vantHoff_EOS!$N$19,Phi_i_NS_Tci_Pci_wi_kijm_TinC_PinPa_yi(AD$3,vantHoff_EOS!$N$19,vantHoff_EOS!$X$5:$X$14,vantHoff_EOS!$Y$5:$Y$14,vantHoff_EOS!$Z$5:$Z$14,vantHoff_EOS!$AE$5:$AN$14,F36,$C$2,$O36:$X36),\"-\")","v":0.99999411697675911},{"$f":"IF(AE$3<=vantHoff_EOS!$N$19,Phi_i_NS_Tci_Pci_wi_kijm_TinC_PinPa_yi(AE$3,vantHoff_EOS!$N$19,vantHoff_EOS!$X$5:$X$14,vantHoff_EOS!$Y$5:$Y$14,vantHoff_EOS!$Z$5:$Z$14,vantHoff_EOS!$AE$5:$AN$14,G36,$C$2,$O36:$X36),\"-\")","v":"-"},{"$f":"IF(AF$3<=vantHoff_EOS!$N$19,Phi_i_NS_Tci_Pci_wi_kijm_TinC_PinPa_yi(AF$3,vantHoff_EOS!$N$19,vantHoff_EOS!$X$5:$X$14,vantHoff_EOS!$Y$5:$Y$14,vantHoff_EOS!$Z$5:$Z$14,vantHoff_EOS!$AE$5:$AN$14,H36,$C$2,$O36:$X36),\"-\")","v":"-"},{"$f":"IF(AG$3<=vantHoff_EOS!$N$19,Phi_i_NS_Tci_Pci_wi_kijm_TinC_PinPa_yi(AG$3,vantHoff_EOS!$N$19,vantHoff_EOS!$X$5:$X$14,vantHoff_EOS!$Y$5:$Y$14,vantHoff_EOS!$Z$5:$Z$14,vantHoff_EOS!$AE$5:$AN$14,I36,$C$2,$O36:$X36),\"-\")","v":"-"},{"$f":"IF(AH$3<=vantHoff_EOS!$N$19,Phi_i_NS_Tci_Pci_wi_kijm_TinC_PinPa_yi(AH$3,vantHoff_EOS!$N$19,vantHoff_EOS!$X$5:$X$14,vantHoff_EOS!$Y$5:$Y$14,vantHoff_EOS!$Z$5:$Z$14,vantHoff_EOS!$AE$5:$AN$14,J36,$C$2,$O36:$X36),\"-\")","v":"-"},{"$f":"IF(AI$3<=vantHoff_EOS!$N$19,Phi_i_NS_Tci_Pci_wi_kijm_TinC_PinPa_yi(AI$3,vantHoff_EOS!$N$19,vantHoff_EOS!$X$5:$X$14,vantHoff_EOS!$Y$5:$Y$14,vantHoff_EOS!$Z$5:$Z$14,vantHoff_EOS!$AE$5:$AN$14,K36,$C$2,$O36:$X36),\"-\")","v":"-"}]
[34,{"$f":"B36+vantHoff_EOS!$B$26","v":66},339.15,2.9485478401887074E-3,{"$f":"lnKaT_Tref_lnKaTref_dHTref_da_db_dc_dd_de_TinC(vantHoff_EOS!$E$7,vantHoff_EOS!$B$9,vantHoff_EOS!$B$6,vantHoff_EOS!$O$27,vantHoff_EOS!$P$27,vantHoff_EOS!$Q$27,vantHoff_EOS!$R$27,vantHoff_EOS!$S$27,B37)","v":10.632980652953526},41480.580334564984,{"$f":"MolarExtentX_NS_vi_n0i_dHfi_dGfi_TrefinC_da_db_dc_dd_de_Tci_Pci_wi_kijm_TinC_PinPa(vantHoff_EOS!$N$19,vantHoff_EOS!$O$23:$X$23,vantHoff_EOS!$O$31:$X$31,vantHoff_EOS!$T$5:$T$14,vantHoff_EOS!$U$5:$U$14,vantHoff_EOS!$E$7,vantHoff_EOS!$O$27,vantHoff_EOS!$P$27,vantHoff_EOS!$Q$27,vantHoff_EOS!$R$27,vantHoff_EOS!$S$27,vantHoff_EOS!$X$5:$X$14,vantHoff_EOS!$Y$5:$Y$14,vantHoff_EOS!$Z$5:$Z$14,vantHoff_EOS!$AE$5:$AN$14,B37,$C$2)","v":0.88458761684352649},{"$f":"Ky_NS_n0i_vi_X(vantHoff_EOS!$N$19,vantHoff_EOS!$O$31:$X$31,vantHoff_EOS!$O$23:$X$23,G37)","v":42269.670318919401},{"$f":"Kp_NS_vi_PinPa(vantHoff_EOS!$N$19,vantHoff_EOS!$O$23:$X$23,$C$2)","v":1},{"$f":"Kphi_NS_n0i_vi_X_Tci_Pci_wi_kijm_TinC_PinPa(vantHoff_EOS!$N$19,vantHoff_EOS!$O$31:$X$31,vantHoff_EOS!$O$23:$X$23,G37,vantHoff_EOS!$X$5:$X$14,vantHoff_EOS!$Y$5:$Y$14,vantHoff_EOS!$Z$5:$Z$14,vantHoff_EOS!$AE$5:$AN$14,B37,$C$2)","v":0.98133200503487283},10.65182509411995,0,-1.8844441367403261E-2,{"$f":"nT_NS_n0i_vi_X(vantHoff_EOS!$N$19,vantHoff_EOS!$O$31:$X$31,vantHoff_EOS!$O$23:$X$23,G37)","v":8.5708247663129473},{"$f":"IF(O$3<=vantHoff_EOS!$N$19,y_iindex_NS_n0i_vi_X(O$3,vantHoff_EOS!$N$19,vantHoff_EOS!$O$31:$X$31,vantHoff_EOS!$O$23:$X$23,$G37),\"-\")","v":1.3465726613626982E-2},{"$f":"IF(P$3<=vantHoff_EOS!$N$19,y_iindex_NS_n0i_vi_X(P$3,vantHoff_EOS!$N$19,vantHoff_EOS!$O$31:$X$31,vantHoff_EOS!$O$23:$X$23,$G37),\"-\")","v":1.3465726613626982E-2},{"$f":"IF(Q$3<=vantHoff_EOS!$N$19,y_iindex_NS_n0i_vi_X(Q$3,vantHoff_EOS!$N$19,vantHoff_EOS!$O$31:$X$31,vantHoff_EOS!$O$23:$X$23,$G37),\"-\")","v":1.3465726613626982E-2},{"$f":"IF(R$3<=vantHoff_EOS!$N$19,y_iindex_NS_n0i_vi_X(R$3,vantHoff_EOS!$N$19,vantHoff_EOS!$O$31:$X$31,vantHoff_EOS!$O$23:$X$23,$G37),\"-\")","v":0.10320915909053921},{"$f":"IF(S$3<=vantHoff_EOS!$N$19,y_iindex_NS_n0i_vi_X(S$3,vantHoff_EOS!$N$19,vantHoff_EOS!$O$31:$X$31,vantHoff_EOS!$O$23:$X$23,$G37),\"-\")","v":0.85639366106857984},{"$f":"IF(T$3<=vantHoff_EOS!$N$19,y_iindex_NS_n0i_vi_X(T$3,vantHoff_EOS!$N$19,vantHoff_EOS!$O$31:$X$31,vantHoff_EOS!$O$23:$X$23,$G37),\"-\")","v":"-"},{"$f":"IF(U$3<=vantHoff_EOS!$N$19,y_iindex_NS_n0i_vi_X(U$3,vantHoff_EOS!$N$19,vantHoff_EOS!$O$31:$X$31,vantHoff_EOS!$O$23:$X$23,$G37),\"-\")","v":"-"},{"$f":"IF(V$3<=vantHoff_EOS!$N$19,y_iindex_NS_n0i_vi_X(V$3,vantHoff_EOS!$N$19,vantHoff_EOS!$O$31:$X$31,vantHoff_EOS!$O$23:$X$23,$G37),\"-\")","v":"-"},{"$f":"IF(W$3<=vantHoff_EOS!$N$19,y_iindex_NS_n0i_vi_X(W$3,vantHoff_EOS!$N$19,vantHoff_EOS!$O$31:$X$31,vantHoff_EOS!$O$23:$X$23,$G37),\"-\")","v":"-"},{"$f":"IF(X$3<=vantHoff_EOS!$N$19,y_iindex_NS_n0i_vi_X(X$3,vantHoff_EOS!$N$19,vantHoff_EOS!$O$31:$X$31,vantHoff_EOS!$O$23:$X$23,$G37),\"-\")","v":"-"},1,{"$f":"IF(Z$3<=vantHoff_EOS!$N$19,Phi_i_NS_Tci_Pci_wi_kijm_TinC_PinPa_yi(Z$3,vantHoff_EOS!$N$19,vantHoff_EOS!$X$5:$X$14,vantHoff_EOS!$Y$5:$Y$14,vantHoff_EOS!$Z$5:$Z$14,vantHoff_EOS!$AE$5:$AN$14,B37,$C$2,$O37:$X37),\"-\")","v":1.0021817767567016},{"$f":"IF(AA$3<=vantHoff_EOS!$N$19,Phi_i_NS_Tci_Pci_wi_kijm_TinC_PinPa_yi(AA$3,vantHoff_EOS!$N$19,vantHoff_EOS!$X$5:$X$14,vantHoff_EOS!$Y$5:$Y$14,vantHoff_EOS!$Z$5:$Z$14,vantHoff_EOS!$AE$5:$AN$14,C37,$C$2,$O37:$X37),\"-\")","v":1.0008029708708599},{"$f":"IF(AB$3<=vantHoff_EOS!$N$19,Phi_i_NS_Tci_Pci_wi_kijm_TinC_PinPa_yi(AB$3,vantHoff_EOS!$N$19,vantHoff_EOS!$X$5:$X$14,vantHoff_EOS!$Y$5:$Y$14,vantHoff_EOS!$Z$5:$Z$14,vantHoff_EOS!$AE$5:$AN$14,D37,$C$2,$O37:$X37),\"-\")","v":0.98305625205977532},{"$f":"IF(AC$3<=vantHoff_EOS!$N$19,Phi_i_NS_Tci_Pci_wi_kijm_TinC_PinPa_yi(AC$3,vantHoff_EOS!$N$19,vantHoff_EOS!$X$5:$X$14,vantHoff_EOS!$Y$5:$Y$14,vantHoff_EOS!$Z$5:$Z$14,vantHoff_EOS!$AE$5:$AN$14,E37,$C$2,$O37:$X37),\"-\")","v":0.96478949102323674},{"$f":"IF(AD$3<=vantHoff_EOS!$N$19,Phi_i_NS_Tci_Pci_wi_kijm_TinC_PinPa_yi(AD$3,vantHoff_EOS!$N$19,vantHoff_EOS!$X$5:$X$14,vantHoff_EOS!$Y$5:$Y$14,vantHoff_EOS!$Z$5:$Z$14,vantHoff_EOS!$AE$5:$AN$14,F37,$C$2,$O37:$X37),\"-\")","v":0.9999933508315858},{"$f":"IF(AE$3<=vantHoff_EOS!$N$19,Phi_i_NS_Tci_Pci_wi_kijm_TinC_PinPa_yi(AE$3,vantHoff_EOS!$N$19,vantHoff_EOS!$X$5:$X$14,vantHoff_EOS!$Y$5:$Y$14,vantHoff_EOS!$Z$5:$Z$14,vantHoff_EOS!$AE$5:$AN$14,G37,$C$2,$O37:$X37),\"-\")","v":"-"},{"$f":"IF(AF$3<=vantHoff_EOS!$N$19,Phi_i_NS_Tci_Pci_wi_kijm_TinC_PinPa_yi(AF$3,vantHoff_EOS!$N$19,vantHoff_EOS!$X$5:$X$14,vantHoff_EOS!$Y$5:$Y$14,vantHoff_EOS!$Z$5:$Z$14,vantHoff_EOS!$AE$5:$AN$14,H37,$C$2,$O37:$X37),\"-\")","v":"-"},{"$f":"IF(AG$3<=vantHoff_EOS!$N$19,Phi_i_NS_Tci_Pci_wi_kijm_TinC_PinPa_yi(AG$3,vantHoff_EOS!$N$19,vantHoff_EOS!$X$5:$X$14,vantHoff_EOS!$Y$5:$Y$14,vantHoff_EOS!$Z$5:$Z$14,vantHoff_EOS!$AE$5:$AN$14,I37,$C$2,$O37:$X37),\"-\")","v":"-"},{"$f":"IF(AH$3<=vantHoff_EOS!$N$19,Phi_i_NS_Tci_Pci_wi_kijm_TinC_PinPa_yi(AH$3,vantHoff_EOS!$N$19,vantHoff_EOS!$X$5:$X$14,vantHoff_EOS!$Y$5:$Y$14,vantHoff_EOS!$Z$5:$Z$14,vantHoff_EOS!$AE$5:$AN$14,J37,$C$2,$O37:$X37),\"-\")","v":"-"},{"$f":"IF(AI$3<=vantHoff_EOS!$N$19,Phi_i_NS_Tci_Pci_wi_kijm_TinC_PinPa_yi(AI$3,vantHoff_EOS!$N$19,vantHoff_EOS!$X$5:$X$14,vantHoff_EOS!$Y$5:$Y$14,vantHoff_EOS!$Z$5:$Z$14,vantHoff_EOS!$AE$5:$AN$14,K37,$C$2,$O37:$X37),\"-\")","v":"-"}]
[35,{"$f":"B37+vantHoff_EOS!$B$26","v":68},341.15,2.9312619082515023E-3,{"$f":"lnKaT_Tref_lnKaTref_dHTref_da_db_dc_dd_de_TinC(vantHoff_EOS!$E$7,vantHoff_EOS!$B$9,vantHoff_EOS!$B$6,vantHoff_EOS!$O$27,vantHoff_EOS!$P$27,vantHoff_EOS!$Q$27,vantHoff_EOS!$R$27,vantHoff_EOS!$S$27,B38)","v":10.392652061363064},32619.060074376444,{"$f":"MolarExtentX_NS_vi_n0i_dHfi_dGfi_TrefinC_da_db_dc_dd_de_Tci_Pci_wi_kijm_TinC_PinPa(vantHoff_EOS!$N$19,vantHoff_EOS!$O$23:$X$23,vantHoff_EOS!$O$31:$X$31,vantHoff_EOS!$T$5:$T$14,vantHoff_EOS!$U$5:$U$14,vantHoff_EOS!$E$7,vantHoff_EOS!$O$27,vantHoff_EOS!$P$27,vantHoff_EOS!$Q$27,vantHoff_EOS!$R$27,vantHoff_EOS!$S$27,vantHoff_EOS!$X$5:$X$14,vantHoff_EOS!$Y$5:$Y$14,vantHoff_EOS!$Z$5:$Z$14,vantHoff_EOS!$AE$5:$AN$14,B38,$C$2)","v":0.8752075147333398},{"$f":"Ky_NS_n0i_vi_X(vantHoff_EOS!$N$19,vantHoff_EOS!$O$31:$X$31,vantHoff_EOS!$O$23:$X$23,G38)","v":33226.920839114959},{"$f":"Kp_NS_vi_PinPa(vantHoff_EOS!$N$19,vantHoff_EOS!$O$23:$X$23,$C$2)","v":1},{"$f":"Kphi_NS_n0i_vi_X_Tci_Pci_wi_kijm_TinC_PinPa(vantHoff_EOS!$N$19,vantHoff_EOS!$O$31:$X$31,vantHoff_EOS!$O$23:$X$23,G38,vantHoff_EOS!$X$5:$X$14,vantHoff_EOS!$Y$5:$Y$14,vantHoff_EOS!$Z$5:$Z$14,vantHoff_EOS!$AE$5:$AN$14,B38,$C$2)","v":0.98170577491447908},10.411115694976248,0,-1.8463633735537176E-2,{"$f":"nT_NS_n0i_vi_X(vantHoff_EOS!$N$19,vantHoff_EOS!$O$31:$X$31,vantHoff_EOS!$O$23:$X$23,G38)","v":8.5895849705333198},{"$f":"IF(O$3<=vantHoff_EOS!$N$19,y_iindex_NS_n0i_vi_X(O$3,vantHoff_EOS!$N$19,vantHoff_EOS!$O$31:$X$31,vantHoff_EOS!$O$23:$X$23,$G38),\"-\")","v":1.4528348656513953E-2},{"$f":"IF(P$3<=vantHoff_EOS!$N$19,y_iindex_NS_n0i_vi_X(P$3,vantHoff_EOS!$N$19,vantHoff_EOS!$O$31:$X$31,vantHoff_EOS!$O$23:$X$23,$G38),\"-\")","v":1.4528348656513953E-2},{"$f":"IF(Q$3<=vantHoff_EOS!$N$19,y_iindex_NS_n0i_vi_X(Q$3,vantHoff_EOS!$N$19,vantHoff_EOS!$O$31:$X$31,vantHoff_EOS!$O$23:$X$23,$G38),\"-\")","v":1.4528348656513953E-2},{"$f":"IF(R$3<=vantHoff_EOS!$N$19,y_iindex_NS_n0i_vi_X(R$3,vantHoff_EOS!$N$19,vantHoff_EOS!$O$31:$X$31,vantHoff_EOS!$O$23:$X$23,$G38),\"-\")","v":0.10189171161770333},{"$f":"IF(S$3<=vantHoff_EOS!$N$19,y_iindex_NS_n0i_vi_X(S$3,vantHoff_EOS!$N$19,vantHoff_EOS!$O$31:$X$31,vantHoff_EOS!$O$23:$X$23,$G38),\"-\")","v":0.8545232424127549},{"$f":"IF(T$3<=vantHoff_EOS!$N$19,y_iindex_NS_n0i_vi_X(T$3,vantHoff_EOS!$N$19,vantHoff_EOS!$O$31:$X$31,vantHoff_EOS!$O$23:$X$23,$G38),\"-\")","v":"-"},{"$f":"IF(U$3<=vantHoff_EOS!$N$19,y_iindex_NS_n0i_vi_X(U$3,vantHoff_EOS!$N$19,vantHoff_EOS!$O$31:$X$31,vantHoff_EOS!$O$23:$X$23,$G38),\"-\")","v":"-"},{"$f":"IF(V$3<=vantHoff_EOS!$N$19,y_iindex_NS_n0i_vi_X(V$3,vantHoff_EOS!$N$19,vantHoff_EOS!$O$31:$X$31,vantHoff_EOS!$O$23:$X$23,$G38),\"-\")","v":"-"},{"$f":"IF(W$3<=vantHoff_EOS!$N$19,y_iindex_NS_n0i_vi_X(W$3,vantHoff_EOS!$N$19,vantHoff_EOS!$O$31:$X$31,vantHoff_EOS!$O$23:$X$23,$G38),\"-\")","v":"-"},{"$f":"IF(X$3<=vantHoff_EOS!$N$19,y_iindex_NS_n0i_vi_X(X$3,vantHoff_EOS!$N$19,vantHoff_EOS!$O$31:$X$31,vantHoff_EOS!$O$23:$X$23,$G38),\"-\")","v":"-"},1,{"$f":"IF(Z$3<=vantHoff_EOS!$N$19,Phi_i_NS_Tci_Pci_wi_kijm_TinC_PinPa_yi(Z$3,vantHoff_EOS!$N$19,vantHoff_EOS!$X$5:$X$14,vantHoff_EOS!$Y$5:$Y$14,vantHoff_EOS!$Z$5:$Z$14,vantHoff_EOS!$AE$5:$AN$14,B38,$C$2,$O38:$X38),\"-\")","v":1.0021397272560835},{"$f":"IF(AA$3<=vantHoff_EOS!$N$19,Phi_i_NS_Tci_Pci_wi_kijm_TinC_PinPa_yi(AA$3,vantHoff_EOS!$N$19,vantHoff_EOS!$X$5:$X$14,vantHoff_EOS!$Y$5:$Y$14,vantHoff_EOS!$Z$5:$Z$14,vantHoff_EOS!$AE$5:$AN$14,C38,$C$2,$O38:$X38),\"-\")","v":1.0007912821206881},{"$f":"IF(AB$3<=vantHoff_EOS!$N$19,Phi_i_NS_Tci_Pci_wi_kijm_TinC_PinPa_yi(AB$3,vantHoff_EOS!$N$19,vantHoff_EOS!$X$5:$X$14,vantHoff_EOS!$Y$5:$Y$14,vantHoff_EOS!$Z$5:$Z$14,vantHoff_EOS!$AE$5:$AN$14,D38,$C$2,$O38:$X38),\"-\")","v":0.98307720129359344},{"$f":"IF(AC$3<=vantHoff_EOS!$N$19,Phi_i_NS_Tci_Pci_wi_kijm_TinC_PinPa_yi(AC$3,vantHoff_EOS!$N$19,vantHoff_EOS!$X$5:$X$14,vantHoff_EOS!$Y$5:$Y$14,vantHoff_EOS!$Z$5:$Z$14,vantHoff_EOS!$AE$5:$AN$14,E38,$C$2,$O38:$X38),\"-\")","v":0.96478508816719899},{"$f":"IF(AD$3<=vantHoff_EOS!$N$19,Phi_i_NS_Tci_Pci_wi_kijm_TinC_PinPa_yi(AD$3,vantHoff_EOS!$N$19,vantHoff_EOS!$X$5:$X$14,vantHoff_EOS!$Y$5:$Y$14,vantHoff_EOS!$Z$5:$Z$14,vantHoff_EOS!$AE$5:$AN$14,F38,$C$2,$O38:$X38),\"-\")","v":0.99999271542028478},{"$f":"IF(AE$3<=vantHoff_EOS!$N$19,Phi_i_NS_Tci_Pci_wi_kijm_TinC_PinPa_yi(AE$3,vantHoff_EOS!$N$19,vantHoff_EOS!$X$5:$X$14,vantHoff_EOS!$Y$5:$Y$14,vantHoff_EOS!$Z$5:$Z$14,vantHoff_EOS!$AE$5:$AN$14,G38,$C$2,$O38:$X38),\"-\")","v":"-"},{"$f":"IF(AF$3<=vantHoff_EOS!$N$19,Phi_i_NS_Tci_Pci_wi_kijm_TinC_PinPa_yi(AF$3,vantHoff_EOS!$N$19,vantHoff_EOS!$X$5:$X$14,vantHoff_EOS!$Y$5:$Y$14,vantHoff_EOS!$Z$5:$Z$14,vantHoff_EOS!$AE$5:$AN$14,H38,$C$2,$O38:$X38),\"-\")","v":"-"},{"$f":"IF(AG$3<=vantHoff_EOS!$N$19,Phi_i_NS_Tci_Pci_wi_kijm_TinC_PinPa_yi(AG$3,vantHoff_EOS!$N$19,vantHoff_EOS!$X$5:$X$14,vantHoff_EOS!$Y$5:$Y$14,vantHoff_EOS!$Z$5:$Z$14,vantHoff_EOS!$AE$5:$AN$14,I38,$C$2,$O38:$X38),\"-\")","v":"-"},{"$f":"IF(AH$3<=vantHoff_EOS!$N$19,Phi_i_NS_Tci_Pci_wi_kijm_TinC_PinPa_yi(AH$3,vantHoff_EOS!$N$19,vantHoff_EOS!$X$5:$X$14,vantHoff_EOS!$Y$5:$Y$14,vantHoff_EOS!$Z$5:$Z$14,vantHoff_EOS!$AE$5:$AN$14,J38,$C$2,$O38:$X38),\"-\")","v":"-"},{"$f":"IF(AI$3<=vantHoff_EOS!$N$19,Phi_i_NS_Tci_Pci_wi_kijm_TinC_PinPa_yi(AI$3,vantHoff_EOS!$N$19,vantHoff_EOS!$X$5:$X$14,vantHoff_EOS!$Y$5:$Y$14,vantHoff_EOS!$Z$5:$Z$14,vantHoff_EOS!$AE$5:$AN$14,K38,$C$2,$O38:$X38),\"-\")","v":"-"}]
[36,{"$f":"B38+vantHoff_EOS!$B$26","v":70},343.15,2.9141774734081308E-3,{"$f":"lnKaT_Tref_lnKaTref_dHTref_da_db_dc_dd_de_TinC(vantHoff_EOS!$E$7,vantHoff_EOS!$B$9,vantHoff_EOS!$B$6,vantHoff_EOS!$O$27,vantHoff_EOS!$P$27,vantHoff_EOS!$Q$27,vantHoff_EOS!$R$27,vantHoff_EOS!$S$27,B39)","v":10.155065653795742},25721.066770546699,{"$f":"MolarExtentX_NS_vi_n0i_dHfi_dGfi_TrefinC_da_db_dc_dd_de_Tci_Pci_wi_kijm_TinC_PinPa(vantHoff_EOS!$N$19,vantHoff_EOS!$O$23:$X$23,vantHoff_EOS!$O$31:$X$31,vantHoff_EOS!$T$5:$T$14,vantHoff_EOS!$U$5:$U$14,vantHoff_EOS!$E$7,vantHoff_EOS!$O$27,vantHoff_EOS!$P$27,vantHoff_EOS!$Q$27,vantHoff_EOS!$R$27,vantHoff_EOS!$S$27,vantHoff_EOS!$X$5:$X$14,vantHoff_EOS!$Y$5:$Y$14,vantHoff_EOS!$Z$5:$Z$14,vantHoff_EOS!$AE$5:$AN$14,B39,$C$2)","v":0.86521316399783732},{"$f":"Ky_NS_n0i_vi_X(vantHoff_EOS!$N$19,vantHoff_EOS!$O$31:$X$31,vantHoff_EOS!$O$23:$X$23,G39)","v":26190.511210707638},{"$f":"Kp_NS_vi_PinPa(vantHoff_EOS!$N$19,vantHoff_EOS!$O$23:$X$23,$C$2)","v":1},{"$f":"Kphi_NS_n0i_vi_X_Tci_Pci_wi_kijm_TinC_PinPa(vantHoff_EOS!$N$19,vantHoff_EOS!$O$31:$X$31,vantHoff_EOS!$O$23:$X$23,G39,vantHoff_EOS!$X$5:$X$14,vantHoff_EOS!$Y$5:$Y$14,vantHoff_EOS!$Z$5:$Z$14,vantHoff_EOS!$AE$5:$AN$14,B39,$C$2)","v":0.98207578163555354},10.173152456620446,0,-1.8086802896874102E-2,{"$f":"nT_NS_n0i_vi_X(vantHoff_EOS!$N$19,vantHoff_EOS!$O$31:$X$31,vantHoff_EOS!$O$23:$X$23,G39)","v":8.6095736720043252},{"$f":"IF(O$3<=vantHoff_EOS!$N$19,y_iindex_NS_n0i_vi_X(O$3,vantHoff_EOS!$N$19,vantHoff_EOS!$O$31:$X$31,vantHoff_EOS!$O$23:$X$23,$G39),\"-\")","v":1.5655459972477831E-2},{"$f":"IF(P$3<=vantHoff_EOS!$N$19,y_iindex_NS_n0i_vi_X(P$3,vantHoff_EOS!$N$19,vantHoff_EOS!$O$31:$X$31,vantHoff_EOS!$O$23:$X$23,$G39),\"-\")","v":1.5655459972477831E-2},{"$f":"IF(Q$3<=vantHoff_EOS!$N$19,y_iindex_NS_n0i_vi_X(Q$3,vantHoff_EOS!$N$19,vantHoff_EOS!$O$31:$X$31,vantHoff_EOS!$O$23:$X$23,$G39),\"-\")","v":1.5655459972477831E-2},{"$f":"IF(R$3<=vantHoff_EOS!$N$19,y_iindex_NS_n0i_vi_X(R$3,vantHoff_EOS!$N$19,vantHoff_EOS!$O$31:$X$31,vantHoff_EOS!$O$23:$X$23,$G39),\"-\")","v":0.10049430981829488},{"$f":"IF(S$3<=vantHoff_EOS!$N$19,y_iindex_NS_n0i_vi_X(S$3,vantHoff_EOS!$N$19,vantHoff_EOS!$O$31:$X$31,vantHoff_EOS!$O$23:$X$23,$G39),\"-\")","v":0.85253931026427165},{"$f":"IF(T$3<=vantHoff_EOS!$N$19,y_iindex_NS_n0i_vi_X(T$3,vantHoff_EOS!$N$19,vantHoff_EOS!$O$31:$X$31,vantHoff_EOS!$O$23:$X$23,$G39),\"-\")","v":"-"},{"$f":"IF(U$3<=vantHoff_EOS!$N$19,y_iindex_NS_n0i_vi_X(U$3,vantHoff_EOS!$N$19,vantHoff_EOS!$O$31:$X$31,vantHoff_EOS!$O$23:$X$23,$G39),\"-\")","v":"-"},{"$f":"IF(V$3<=vantHoff_EOS!$N$19,y_iindex_NS_n0i_vi_X(V$3,vantHoff_EOS!$N$19,vantHoff_EOS!$O$31:$X$31,vantHoff_EOS!$O$23:$X$23,$G39),\"-\")","v":"-"},{"$f":"IF(W$3<=vantHoff_EOS!$N$19,y_iindex_NS_n0i_vi_X(W$3,vantHoff_EOS!$N$19,vantHoff_EOS!$O$31:$X$31,vantHoff_EOS!$O$23:$X$23,$G39),\"-\")","v":"-"},{"$f":"IF(X$3<=vantHoff_EOS!$N$19,y_iindex_NS_n0i_vi_X(X$3,vantHoff_EOS!$N$19,vantHoff_EOS!$O$31:$X$31,vantHoff_EOS!$O$23:$X$23,$G39),\"-\")","v":"-"},1,{"$f":"IF(Z$3<=vantHoff_EOS!$N$19,Phi_i_NS_Tci_Pci_wi_kijm_TinC_PinPa_yi(Z$3,vantHoff_EOS!$N$19,vantHoff_EOS!$X$5:$X$14,vantHoff_EOS!$Y$5:$Y$14,vantHoff_EOS!$Z$5:$Z$14,vantHoff_EOS!$AE$5:$AN$14,B39,$C$2,$O39:$X39),\"-\")","v":1.0020975435095822},{"$f":"IF(AA$3<=vantHoff_EOS!$N$19,Phi_i_NS_Tci_Pci_wi_kijm_TinC_PinPa_yi(AA$3,vantHoff_EOS!$N$19,vantHoff_EOS!$X$5:$X$14,vantHoff_EOS!$Y$5:$Y$14,vantHoff_EOS!$Z$5:$Z$14,vantHoff_EOS!$AE$5:$AN$14,C39,$C$2,$O39:$X39),\"-\")","v":1.0007795488313571},{"$f":"IF(AB$3<=vantHoff_EOS!$N$19,Phi_i_NS_Tci_Pci_wi_kijm_TinC_PinPa_yi(AB$3,vantHoff_EOS!$N$19,vantHoff_EOS!$X$5:$X$14,vantHoff_EOS!$Y$5:$Y$14,vantHoff_EOS!$Z$5:$Z$14,vantHoff_EOS!$AE$5:$AN$14,D39,$C$2,$O39:$X39),\"-\")","v":0.98309959735756225},{"$f":"IF(AC$3<=vantHoff_EOS!$N$19,Phi_i_NS_Tci_Pci_wi_kijm_TinC_PinPa_yi(AC$3,vantHoff_EOS!$N$19,vantHoff_EOS!$X$5:$X$14,vantHoff_EOS!$Y$5:$Y$14,vantHoff_EOS!$Z$5:$Z$14,vantHoff_EOS!$AE$5:$AN$14,E39,$C$2,$O39:$X39),\"-\")","v":0.96478646875688701},{"$f":"IF(AD$3<=vantHoff_EOS!$N$19,Phi_i_NS_Tci_Pci_wi_kijm_TinC_PinPa_yi(AD$3,vantHoff_EOS!$N$19,vantHoff_EOS!$X$5:$X$14,vantHoff_EOS!$Y$5:$Y$14,vantHoff_EOS!$Z$5:$Z$14,vantHoff_EOS!$AE$5:$AN$14,F39,$C$2,$O39:$X39),\"-\")","v":0.99999235315224666},{"$f":"IF(AE$3<=vantHoff_EOS!$N$19,Phi_i_NS_Tci_Pci_wi_kijm_TinC_PinPa_yi(AE$3,vantHoff_EOS!$N$19,vantHoff_EOS!$X$5:$X$14,vantHoff_EOS!$Y$5:$Y$14,vantHoff_EOS!$Z$5:$Z$14,vantHoff_EOS!$AE$5:$AN$14,G39,$C$2,$O39:$X39),\"-\")","v":"-"},{"$f":"IF(AF$3<=vantHoff_EOS!$N$19,Phi_i_NS_Tci_Pci_wi_kijm_TinC_PinPa_yi(AF$3,vantHoff_EOS!$N$19,vantHoff_EOS!$X$5:$X$14,vantHoff_EOS!$Y$5:$Y$14,vantHoff_EOS!$Z$5:$Z$14,vantHoff_EOS!$AE$5:$AN$14,H39,$C$2,$O39:$X39),\"-\")","v":"-"},{"$f":"IF(AG$3<=vantHoff_EOS!$N$19,Phi_i_NS_Tci_Pci_wi_kijm_TinC_PinPa_yi(AG$3,vantHoff_EOS!$N$19,vantHoff_EOS!$X$5:$X$14,vantHoff_EOS!$Y$5:$Y$14,vantHoff_EOS!$Z$5:$Z$14,vantHoff_EOS!$AE$5:$AN$14,I39,$C$2,$O39:$X39),\"-\")","v":"-"},{"$f":"IF(AH$3<=vantHoff_EOS!$N$19,Phi_i_NS_Tci_Pci_wi_kijm_TinC_PinPa_yi(AH$3,vantHoff_EOS!$N$19,vantHoff_EOS!$X$5:$X$14,vantHoff_EOS!$Y$5:$Y$14,vantHoff_EOS!$Z$5:$Z$14,vantHoff_EOS!$AE$5:$AN$14,J39,$C$2,$O39:$X39),\"-\")","v":"-"},{"$f":"IF(AI$3<=vantHoff_EOS!$N$19,Phi_i_NS_Tci_Pci_wi_kijm_TinC_PinPa_yi(AI$3,vantHoff_EOS!$N$19,vantHoff_EOS!$X$5:$X$14,vantHoff_EOS!$Y$5:$Y$14,vantHoff_EOS!$Z$5:$Z$14,vantHoff_EOS!$AE$5:$AN$14,K39,$C$2,$O39:$X39),\"-\")","v":"-"}]
[37,{"$f":"B39+vantHoff_EOS!$B$26","v":72},345.15,2.8972910328842532E-3,{"$f":"lnKaT_Tref_lnKaTref_dHTref_da_db_dc_dd_de_TinC(vantHoff_EOS!$E$7,vantHoff_EOS!$B$9,vantHoff_EOS!$B$6,vantHoff_EOS!$O$27,vantHoff_EOS!$P$27,vantHoff_EOS!$Q$27,vantHoff_EOS!$R$27,vantHoff_EOS!$S$27,B40)","v":9.9201745127194485},20336.539303436715,{"$f":"MolarExtentX_NS_vi_n0i_dHfi_dGfi_TrefinC_da_db_dc_dd_de_Tci_Pci_wi_kijm_TinC_PinPa(vantHoff_EOS!$N$19,vantHoff_EOS!$O$23:$X$23,vantHoff_EOS!$O$31:$X$31,vantHoff_EOS!$T$5:$T$14,vantHoff_EOS!$U$5:$U$14,vantHoff_EOS!$E$7,vantHoff_EOS!$O$27,vantHoff_EOS!$P$27,vantHoff_EOS!$Q$27,vantHoff_EOS!$R$27,vantHoff_EOS!$S$27,vantHoff_EOS!$X$5:$X$14,vantHoff_EOS!$Y$5:$Y$14,vantHoff_EOS!$Z$5:$Z$14,vantHoff_EOS!$AE$5:$AN$14,B40,$C$2)","v":0.85457823336281369},{"$f":"Ky_NS_n0i_vi_X(vantHoff_EOS!$N$19,vantHoff_EOS!$O$31:$X$31,vantHoff_EOS!$O$23:$X$23,G40)","v":20699.986624959984},{"$f":"Kp_NS_vi_PinPa(vantHoff_EOS!$N$19,vantHoff_EOS!$O$23:$X$23,$C$2)","v":1},{"$f":"Kphi_NS_n0i_vi_X_Tci_Pci_wi_kijm_TinC_PinPa(vantHoff_EOS!$N$19,vantHoff_EOS!$O$31:$X$31,vantHoff_EOS!$O$23:$X$23,G40,vantHoff_EOS!$X$5:$X$14,vantHoff_EOS!$Y$5:$Y$14,vantHoff_EOS!$Z$5:$Z$14,vantHoff_EOS!$AE$5:$AN$14,B40,$C$2)","v":0.98244214699532717},9.937888333116053,0,-1.7713820437735912E-2,{"$f":"nT_NS_n0i_vi_X(vantHoff_EOS!$N$19,vantHoff_EOS!$O$31:$X$31,vantHoff_EOS!$O$23:$X$23,G40)","v":8.6308435332743727},{"$f":"IF(O$3<=vantHoff_EOS!$N$19,y_iindex_NS_n0i_vi_X(O$3,vantHoff_EOS!$N$19,vantHoff_EOS!$O$31:$X$31,vantHoff_EOS!$O$23:$X$23,$G40),\"-\")","v":1.684907924428751E-2},{"$f":"IF(P$3<=vantHoff_EOS!$N$19,y_iindex_NS_n0i_vi_X(P$3,vantHoff_EOS!$N$19,vantHoff_EOS!$O$31:$X$31,vantHoff_EOS!$O$23:$X$23,$G40),\"-\")","v":1.684907924428751E-2},{"$f":"IF(Q$3<=vantHoff_EOS!$N$19,y_iindex_NS_n0i_vi_X(Q$3,vantHoff_EOS!$N$19,vantHoff_EOS!$O$31:$X$31,vantHoff_EOS!$O$23:$X$23,$G40),\"-\")","v":1.684907924428751E-2},{"$f":"IF(R$3<=vantHoff_EOS!$N$19,y_iindex_NS_n0i_vi_X(R$3,vantHoff_EOS!$N$19,vantHoff_EOS!$O$31:$X$31,vantHoff_EOS!$O$23:$X$23,$G40),\"-\")","v":9.9014450912957686E-2},{"$f":"IF(S$3<=vantHoff_EOS!$N$19,y_iindex_NS_n0i_vi_X(S$3,vantHoff_EOS!$N$19,vantHoff_EOS!$O$31:$X$31,vantHoff_EOS!$O$23:$X$23,$G40),\"-\")","v":0.8504383113541798},{"$f":"IF(T$3<=vantHoff_EOS!$N$19,y_iindex_NS_n0i_vi_X(T$3,vantHoff_EOS!$N$19,vantHoff_EOS!$O$31:$X$31,vantHoff_EOS!$O$23:$X$23,$G40),\"-\")","v":"-"},{"$f":"IF(U$3<=vantHoff_EOS!$N$19,y_iindex_NS_n0i_vi_X(U$3,vantHoff_EOS!$N$19,vantHoff_EOS!$O$31:$X$31,vantHoff_EOS!$O$23:$X$23,$G40),\"-\")","v":"-"},{"$f":"IF(V$3<=vantHoff_EOS!$N$19,y_iindex_NS_n0i_vi_X(V$3,vantHoff_EOS!$N$19,vantHoff_EOS!$O$31:$X$31,vantHoff_EOS!$O$23:$X$23,$G40),\"-\")","v":"-"},{"$f":"IF(W$3<=vantHoff_EOS!$N$19,y_iindex_NS_n0i_vi_X(W$3,vantHoff_EOS!$N$19,vantHoff_EOS!$O$31:$X$31,vantHoff_EOS!$O$23:$X$23,$G40),\"-\")","v":"-"},{"$f":"IF(X$3<=vantHoff_EOS!$N$19,y_iindex_NS_n0i_vi_X(X$3,vantHoff_EOS!$N$19,vantHoff_EOS!$O$31:$X$31,vantHoff_EOS!$O$23:$X$23,$G40),\"-\")","v":"-"},1,{"$f":"IF(Z$3<=vantHoff_EOS!$N$19,Phi_i_NS_Tci_Pci_wi_kijm_TinC_PinPa_yi(Z$3,vantHoff_EOS!$N$19,vantHoff_EOS!$X$5:$X$14,vantHoff_EOS!$Y$5:$Y$14,vantHoff_EOS!$Z$5:$Z$14,vantHoff_EOS!$AE$5:$AN$14,B40,$C$2,$O40:$X40),\"-\")","v":1.0020552295672778},{"$f":"IF(AA$3<=vantHoff_EOS!$N$19,Phi_i_NS_Tci_Pci_wi_kijm_TinC_PinPa_yi(AA$3,vantHoff_EOS!$N$19,vantHoff_EOS!$X$5:$X$14,vantHoff_EOS!$Y$5:$Y$14,vantHoff_EOS!$Z$5:$Z$14,vantHoff_EOS!$AE$5:$AN$14,C40,$C$2,$O40:$X40),\"-\")","v":1.0007677710805269},{"$f":"IF(AB$3<=vantHoff_EOS!$N$19,Phi_i_NS_Tci_Pci_wi_kijm_TinC_PinPa_yi(AB$3,vantHoff_EOS!$N$19,vantHoff_EOS!$X$5:$X$14,vantHoff_EOS!$Y$5:$Y$14,vantHoff_EOS!$Z$5:$Z$14,vantHoff_EOS!$AE$5:$AN$14,D40,$C$2,$O40:$X40),\"-\")","v":0.98312351179252244},{"$f":"IF(AC$3<=vantHoff_EOS!$N$19,Phi_i_NS_Tci_Pci_wi_kijm_TinC_PinPa_yi(AC$3,vantHoff_EOS!$N$19,vantHoff_EOS!$X$5:$X$14,vantHoff_EOS!$Y$5:$Y$14,vantHoff_EOS!$Z$5:$Z$14,vantHoff_EOS!$AE$5:$AN$14,E40,$C$2,$O40:$X40),\"-\")","v":0.96479382242169365},{"$f":"IF(AD$3<=vantHoff_EOS!$N$19,Phi_i_NS_Tci_Pci_wi_kijm_TinC_PinPa_yi(AD$3,vantHoff_EOS!$N$19,vantHoff_EOS!$X$5:$X$14,vantHoff_EOS!$Y$5:$Y$14,vantHoff_EOS!$Z$5:$Z$14,vantHoff_EOS!$AE$5:$AN$14,F40,$C$2,$O40:$X40),\"-\")","v":0.99999246706277689},{"$f":"IF(AE$3<=vantHoff_EOS!$N$19,Phi_i_NS_Tci_Pci_wi_kijm_TinC_PinPa_yi(AE$3,vantHoff_EOS!$N$19,vantHoff_EOS!$X$5:$X$14,vantHoff_EOS!$Y$5:$Y$14,vantHoff_EOS!$Z$5:$Z$14,vantHoff_EOS!$AE$5:$AN$14,G40,$C$2,$O40:$X40),\"-\")","v":"-"},{"$f":"IF(AF$3<=vantHoff_EOS!$N$19,Phi_i_NS_Tci_Pci_wi_kijm_TinC_PinPa_yi(AF$3,vantHoff_EOS!$N$19,vantHoff_EOS!$X$5:$X$14,vantHoff_EOS!$Y$5:$Y$14,vantHoff_EOS!$Z$5:$Z$14,vantHoff_EOS!$AE$5:$AN$14,H40,$C$2,$O40:$X40),\"-\")","v":"-"},{"$f":"IF(AG$3<=vantHoff_EOS!$N$19,Phi_i_NS_Tci_Pci_wi_kijm_TinC_PinPa_yi(AG$3,vantHoff_EOS!$N$19,vantHoff_EOS!$X$5:$X$14,vantHoff_EOS!$Y$5:$Y$14,vantHoff_EOS!$Z$5:$Z$14,vantHoff_EOS!$AE$5:$AN$14,I40,$C$2,$O40:$X40),\"-\")","v":"-"},{"$f":"IF(AH$3<=vantHoff_EOS!$N$19,Phi_i_NS_Tci_Pci_wi_kijm_TinC_PinPa_yi(AH$3,vantHoff_EOS!$N$19,vantHoff_EOS!$X$5:$X$14,vantHoff_EOS!$Y$5:$Y$14,vantHoff_EOS!$Z$5:$Z$14,vantHoff_EOS!$AE$5:$AN$14,J40,$C$2,$O40:$X40),\"-\")","v":"-"},{"$f":"IF(AI$3<=vantHoff_EOS!$N$19,Phi_i_NS_Tci_Pci_wi_kijm_TinC_PinPa_yi(AI$3,vantHoff_EOS!$N$19,vantHoff_EOS!$X$5:$X$14,vantHoff_EOS!$Y$5:$Y$14,vantHoff_EOS!$Z$5:$Z$14,vantHoff_EOS!$AE$5:$AN$14,K40,$C$2,$O40:$X40),\"-\")","v":"-"}]
[38,{"$f":"B40+vantHoff_EOS!$B$26","v":74},347.15,2.8805991646262425E-3,{"$f":"lnKaT_Tref_lnKaTref_dHTref_da_db_dc_dd_de_TinC(vantHoff_EOS!$E$7,vantHoff_EOS!$B$9,vantHoff_EOS!$B$6,vantHoff_EOS!$O$27,vantHoff_EOS!$P$27,vantHoff_EOS!$Q$27,vantHoff_EOS!$R$27,vantHoff_EOS!$S$27,B41)","v":9.6879327945624958},16121.882579370509,{"$f":"MolarExtentX_NS_vi_n0i_dHfi_dGfi_TrefinC_da_db_dc_dd_de_Tci_Pci_wi_kijm_TinC_PinPa(vantHoff_EOS!$N$19,vantHoff_EOS!$O$23:$X$23,vantHoff_EOS!$O$31:$X$31,vantHoff_EOS!$T$5:$T$14,vantHoff_EOS!$U$5:$U$14,vantHoff_EOS!$E$7,vantHoff_EOS!$O$27,vantHoff_EOS!$P$27,vantHoff_EOS!$Q$27,vantHoff_EOS!$R$27,vantHoff_EOS!$S$27,vantHoff_EOS!$X$5:$X$14,vantHoff_EOS!$Y$5:$Y$14,vantHoff_EOS!$Z$5:$Z$14,vantHoff_EOS!$AE$5:$AN$14,B41,$C$2)","v":0.8432767897876785},{"$f":"Ky_NS_n0i_vi_X(vantHoff_EOS!$N$19,vantHoff_EOS!$O$31:$X$31,vantHoff_EOS!$O$23:$X$23,G41)","v":16403.948925595614},{"$f":"Kp_NS_vi_PinPa(vantHoff_EOS!$N$19,vantHoff_EOS!$O$23:$X$23,$C$2)","v":1},{"$f":"Kphi_NS_n0i_vi_X_Tci_Pci_wi_kijm_TinC_PinPa(vantHoff_EOS!$N$19,vantHoff_EOS!$O$31:$X$31,vantHoff_EOS!$O$23:$X$23,G41,vantHoff_EOS!$X$5:$X$14,vantHoff_EOS!$Y$5:$Y$14,vantHoff_EOS!$Z$5:$Z$14,vantHoff_EOS!$AE$5:$AN$14,B41,$C$2)","v":0.98280497288375401},9.7052773729735513,0,-1.73445784336347E-2,{"$f":"nT_NS_n0i_vi_X(vantHoff_EOS!$N$19,vantHoff_EOS!$O$31:$X$31,vantHoff_EOS!$O$23:$X$23,G41)","v":8.6534464204246433},{"$f":"IF(O$3<=vantHoff_EOS!$N$19,y_iindex_NS_n0i_vi_X(O$3,vantHoff_EOS!$N$19,vantHoff_EOS!$O$31:$X$31,vantHoff_EOS!$O$23:$X$23,$G41),\"-\")","v":1.8111074200726461E-2},{"$f":"IF(P$3<=vantHoff_EOS!$N$19,y_iindex_NS_n0i_vi_X(P$3,vantHoff_EOS!$N$19,vantHoff_EOS!$O$31:$X$31,vantHoff_EOS!$O$23:$X$23,$G41),\"-\")","v":1.8111074200726461E-2},{"$f":"IF(Q$3<=vantHoff_EOS!$N$19,y_iindex_NS_n0i_vi_X(Q$3,vantHoff_EOS!$N$19,vantHoff_EOS!$O$31:$X$31,vantHoff_EOS!$O$23:$X$23,$G41),\"-\")","v":1.8111074200726461E-2},{"$f":"IF(R$3<=vantHoff_EOS!$N$19,y_iindex_NS_n0i_vi_X(R$3,vantHoff_EOS!$N$19,vantHoff_EOS!$O$31:$X$31,vantHoff_EOS!$O$23:$X$23,$G41),\"-\")","v":9.7449819276317545E-2},{"$f":"IF(S$3<=vantHoff_EOS!$N$19,y_iindex_NS_n0i_vi_X(S$3,vantHoff_EOS!$N$19,vantHoff_EOS!$O$31:$X$31,vantHoff_EOS!$O$23:$X$23,$G41),\"-\")","v":0.848216958121503},{"$f":"IF(T$3<=vantHoff_EOS!$N$19,y_iindex_NS_n0i_vi_X(T$3,vantHoff_EOS!$N$19,vantHoff_EOS!$O$31:$X$31,vantHoff_EOS!$O$23:$X$23,$G41),\"-\")","v":"-"},{"$f":"IF(U$3<=vantHoff_EOS!$N$19,y_iindex_NS_n0i_vi_X(U$3,vantHoff_EOS!$N$19,vantHoff_EOS!$O$31:$X$31,vantHoff_EOS!$O$23:$X$23,$G41),\"-\")","v":"-"},{"$f":"IF(V$3<=vantHoff_EOS!$N$19,y_iindex_NS_n0i_vi_X(V$3,vantHoff_EOS!$N$19,vantHoff_EOS!$O$31:$X$31,vantHoff_EOS!$O$23:$X$23,$G41),\"-\")","v":"-"},{"$f":"IF(W$3<=vantHoff_EOS!$N$19,y_iindex_NS_n0i_vi_X(W$3,vantHoff_EOS!$N$19,vantHoff_EOS!$O$31:$X$31,vantHoff_EOS!$O$23:$X$23,$G41),\"-\")","v":"-"},{"$f":"IF(X$3<=vantHoff_EOS!$N$19,y_iindex_NS_n0i_vi_X(X$3,vantHoff_EOS!$N$19,vantHoff_EOS!$O$31:$X$31,vantHoff_EOS!$O$23:$X$23,$G41),\"-\")","v":"-"},0.99999999999999989,{"$f":"IF(Z$3<=vantHoff_EOS!$N$19,Phi_i_NS_Tci_Pci_wi_kijm_TinC_PinPa_yi(Z$3,vantHoff_EOS!$N$19,vantHoff_EOS!$X$5:$X$14,vantHoff_EOS!$Y$5:$Y$14,vantHoff_EOS!$Z$5:$Z$14,vantHoff_EOS!$AE$5:$AN$14,B41,$C$2,$O41:$X41),\"-\")","v":1.0020127939785017},{"$f":"IF(AA$3<=vantHoff_EOS!$N$19,Phi_i_NS_Tci_Pci_wi_kijm_TinC_PinPa_yi(AA$3,vantHoff_EOS!$N$19,vantHoff_EOS!$X$5:$X$14,vantHoff_EOS!$Y$5:$Y$14,vantHoff_EOS!$Z$5:$Z$14,vantHoff_EOS!$AE$5:$AN$14,C41,$C$2,$O41:$X41),\"-\")","v":1.0007559499085106},{"$f":"IF(AB$3<=vantHoff_EOS!$N$19,Phi_i_NS_Tci_Pci_wi_kijm_TinC_PinPa_yi(AB$3,vantHoff_EOS!$N$19,vantHoff_EOS!$X$5:$X$14,vantHoff_EOS!$Y$5:$Y$14,vantHoff_EOS!$Z$5:$Z$14,vantHoff_EOS!$AE$5:$AN$14,D41,$C$2,$O41:$X41),\"-\")","v":0.98314901627497275},{"$f":"IF(AC$3<=vantHoff_EOS!$N$19,Phi_i_NS_Tci_Pci_wi_kijm_TinC_PinPa_yi(AC$3,vantHoff_EOS!$N$19,vantHoff_EOS!$X$5:$X$14,vantHoff_EOS!$Y$5:$Y$14,vantHoff_EOS!$Z$5:$Z$14,vantHoff_EOS!$AE$5:$AN$14,E41,$C$2,$O41:$X41),\"-\")","v":0.96480733180710032},{"$f":"IF(AD$3<=vantHoff_EOS!$N$19,Phi_i_NS_Tci_Pci_wi_kijm_TinC_PinPa_yi(AD$3,vantHoff_EOS!$N$19,vantHoff_EOS!$X$5:$X$14,vantHoff_EOS!$Y$5:$Y$14,vantHoff_EOS!$Z$5:$Z$14,vantHoff_EOS!$AE$5:$AN$14,F41,$C$2,$O41:$X41),\"-\")","v":0.99999333563525683},{"$f":"IF(AE$3<=vantHoff_EOS!$N$19,Phi_i_NS_Tci_Pci_wi_kijm_TinC_PinPa_yi(AE$3,vantHoff_EOS!$N$19,vantHoff_EOS!$X$5:$X$14,vantHoff_EOS!$Y$5:$Y$14,vantHoff_EOS!$Z$5:$Z$14,vantHoff_EOS!$AE$5:$AN$14,G41,$C$2,$O41:$X41),\"-\")","v":"-"},{"$f":"IF(AF$3<=vantHoff_EOS!$N$19,Phi_i_NS_Tci_Pci_wi_kijm_TinC_PinPa_yi(AF$3,vantHoff_EOS!$N$19,vantHoff_EOS!$X$5:$X$14,vantHoff_EOS!$Y$5:$Y$14,vantHoff_EOS!$Z$5:$Z$14,vantHoff_EOS!$AE$5:$AN$14,H41,$C$2,$O41:$X41),\"-\")","v":"-"},{"$f":"IF(AG$3<=vantHoff_EOS!$N$19,Phi_i_NS_Tci_Pci_wi_kijm_TinC_PinPa_yi(AG$3,vantHoff_EOS!$N$19,vantHoff_EOS!$X$5:$X$14,vantHoff_EOS!$Y$5:$Y$14,vantHoff_EOS!$Z$5:$Z$14,vantHoff_EOS!$AE$5:$AN$14,I41,$C$2,$O41:$X41),\"-\")","v":"-"},{"$f":"IF(AH$3<=vantHoff_EOS!$N$19,Phi_i_NS_Tci_Pci_wi_kijm_TinC_PinPa_yi(AH$3,vantHoff_EOS!$N$19,vantHoff_EOS!$X$5:$X$14,vantHoff_EOS!$Y$5:$Y$14,vantHoff_EOS!$Z$5:$Z$14,vantHoff_EOS!$AE$5:$AN$14,J41,$C$2,$O41:$X41),\"-\")","v":"-"},{"$f":"IF(AI$3<=vantHoff_EOS!$N$19,Phi_i_NS_Tci_Pci_wi_kijm_TinC_PinPa_yi(AI$3,vantHoff_EOS!$N$19,vantHoff_EOS!$X$5:$X$14,vantHoff_EOS!$Y$5:$Y$14,vantHoff_EOS!$Z$5:$Z$14,vantHoff_EOS!$AE$5:$AN$14,K41,$C$2,$O41:$X41),\"-\")","v":"-"}]
[39,{"$f":"B41+vantHoff_EOS!$B$26","v":76},349.15,2.8640985249892598E-3,{"$f":"lnKaT_Tref_lnKaTref_dHTref_da_db_dc_dd_de_TinC(vantHoff_EOS!$E$7,vantHoff_EOS!$B$9,vantHoff_EOS!$B$6,vantHoff_EOS!$O$27,vantHoff_EOS!$P$27,vantHoff_EOS!$Q$27,vantHoff_EOS!$R$27,vantHoff_EOS!$S$27,B42)","v":9.4582956990604252},12814.026869210898,{"$f":"MolarExtentX_NS_vi_n0i_dHfi_dGfi_TrefinC_da_db_dc_dd_de_Tci_Pci_wi_kijm_TinC_PinPa(vantHoff_EOS!$N$19,vantHoff_EOS!$O$23:$X$23,vantHoff_EOS!$O$31:$X$31,vantHoff_EOS!$T$5:$T$14,vantHoff_EOS!$U$5:$U$14,vantHoff_EOS!$E$7,vantHoff_EOS!$O$27,vantHoff_EOS!$P$27,vantHoff_EOS!$Q$27,vantHoff_EOS!$R$27,vantHoff_EOS!$S$27,vantHoff_EOS!$X$5:$X$14,vantHoff_EOS!$Y$5:$Y$14,vantHoff_EOS!$Z$5:$Z$14,vantHoff_EOS!$AE$5:$AN$14,B42,$C$2)","v":0.83128356041260032},{"$f":"Ky_NS_n0i_vi_X(vantHoff_EOS!$N$19,vantHoff_EOS!$O$31:$X$31,vantHoff_EOS!$O$23:$X$23,G42)","v":13033.453660775822},{"$f":"Kp_NS_vi_PinPa(vantHoff_EOS!$N$19,vantHoff_EOS!$O$23:$X$23,$C$2)","v":1},{"$f":"Kphi_NS_n0i_vi_X_Tci_Pci_wi_kijm_TinC_PinPa(vantHoff_EOS!$N$19,vantHoff_EOS!$O$31:$X$31,vantHoff_EOS!$O$23:$X$23,G42,vantHoff_EOS!$X$5:$X$14,vantHoff_EOS!$Y$5:$Y$14,vantHoff_EOS!$Z$5:$Z$14,vantHoff_EOS!$AE$5:$AN$14,B42,$C$2)","v":0.98316434021032517},9.4752746895473194,0,-1.6978990498787268E-2,{"$f":"nT_NS_n0i_vi_X(vantHoff_EOS!$N$19,vantHoff_EOS!$O$31:$X$31,vantHoff_EOS!$O$23:$X$23,G42)","v":8.6774328791747983},{"$f":"IF(O$3<=vantHoff_EOS!$N$19,y_iindex_NS_n0i_vi_X(O$3,vantHoff_EOS!$N$19,vantHoff_EOS!$O$31:$X$31,vantHoff_EOS!$O$23:$X$23,$G42),\"-\")","v":1.9443128162052022E-2},{"$f":"IF(P$3<=vantHoff_EOS!$N$19,y_iindex_NS_n0i_vi_X(P$3,vantHoff_EOS!$N$19,vantHoff_EOS!$O$31:$X$31,vantHoff_EOS!$O$23:$X$23,$G42),\"-\")","v":1.9443128162052022E-2},{"$f":"IF(Q$3<=vantHoff_EOS!$N$19,y_iindex_NS_n0i_vi_X(Q$3,vantHoff_EOS!$N$19,vantHoff_EOS!$O$31:$X$31,vantHoff_EOS!$O$23:$X$23,$G42),\"-\")","v":1.9443128162052022E-2},{"$f":"IF(R$3<=vantHoff_EOS!$N$19,y_iindex_NS_n0i_vi_X(R$3,vantHoff_EOS!$N$19,vantHoff_EOS!$O$31:$X$31,vantHoff_EOS!$O$23:$X$23,$G42),\"-\")","v":9.5798327914194514E-2},{"$f":"IF(S$3<=vantHoff_EOS!$N$19,y_iindex_NS_n0i_vi_X(S$3,vantHoff_EOS!$N$19,vantHoff_EOS!$O$31:$X$31,vantHoff_EOS!$O$23:$X$23,$G42),\"-\")","v":0.8458722875996495},{"$f":"IF(T$3<=vantHoff_EOS!$N$19,y_iindex_NS_n0i_vi_X(T$3,vantHoff_EOS!$N$19,vantHoff_EOS!$O$31:$X$31,vantHoff_EOS!$O$23:$X$23,$G42),\"-\")","v":"-"},{"$f":"IF(U$3<=vantHoff_EOS!$N$19,y_iindex_NS_n0i_vi_X(U$3,vantHoff_EOS!$N$19,vantHoff_EOS!$O$31:$X$31,vantHoff_EOS!$O$23:$X$23,$G42),\"-\")","v":"-"},{"$f":"IF(V$3<=vantHoff_EOS!$N$19,y_iindex_NS_n0i_vi_X(V$3,vantHoff_EOS!$N$19,vantHoff_EOS!$O$31:$X$31,vantHoff_EOS!$O$23:$X$23,$G42),\"-\")","v":"-"},{"$f":"IF(W$3<=vantHoff_EOS!$N$19,y_iindex_NS_n0i_vi_X(W$3,vantHoff_EOS!$N$19,vantHoff_EOS!$O$31:$X$31,vantHoff_EOS!$O$23:$X$23,$G42),\"-\")","v":"-"},{"$f":"IF(X$3<=vantHoff_EOS!$N$19,y_iindex_NS_n0i_vi_X(X$3,vantHoff_EOS!$N$19,vantHoff_EOS!$O$31:$X$31,vantHoff_EOS!$O$23:$X$23,$G42),\"-\")","v":"-"},1,{"$f":"IF(Z$3<=vantHoff_EOS!$N$19,Phi_i_NS_Tci_Pci_wi_kijm_TinC_PinPa_yi(Z$3,vantHoff_EOS!$N$19,vantHoff_EOS!$X$5:$X$14,vantHoff_EOS!$Y$5:$Y$14,vantHoff_EOS!$Z$5:$Z$14,vantHoff_EOS!$AE$5:$AN$14,B42,$C$2,$O42:$X42),\"-\")","v":1.0019702500583363},{"$f":"IF(AA$3<=vantHoff_EOS!$N$19,Phi_i_NS_Tci_Pci_wi_kijm_TinC_PinPa_yi(AA$3,vantHoff_EOS!$N$19,vantHoff_EOS!$X$5:$X$14,vantHoff_EOS!$Y$5:$Y$14,vantHoff_EOS!$Z$5:$Z$14,vantHoff_EOS!$AE$5:$AN$14,C42,$C$2,$O42:$X42),\"-\")","v":1.0007440873952091},{"$f":"IF(AB$3<=vantHoff_EOS!$N$19,Phi_i_NS_Tci_Pci_wi_kijm_TinC_PinPa_yi(AB$3,vantHoff_EOS!$N$19,vantHoff_EOS!$X$5:$X$14,vantHoff_EOS!$Y$5:$Y$14,vantHoff_EOS!$Z$5:$Z$14,vantHoff_EOS!$AE$5:$AN$14,D42,$C$2,$O42:$X42),\"-\")","v":0.98317618197961898},{"$f":"IF(AC$3<=vantHoff_EOS!$N$19,Phi_i_NS_Tci_Pci_wi_kijm_TinC_PinPa_yi(AC$3,vantHoff_EOS!$N$19,vantHoff_EOS!$X$5:$X$14,vantHoff_EOS!$Y$5:$Y$14,vantHoff_EOS!$Z$5:$Z$14,vantHoff_EOS!$AE$5:$AN$14,E42,$C$2,$O42:$X42),\"-\")","v":0.9648271700801232},{"$f":"IF(AD$3<=vantHoff_EOS!$N$19,Phi_i_NS_Tci_Pci_wi_kijm_TinC_PinPa_yi(AD$3,vantHoff_EOS!$N$19,vantHoff_EOS!$X$5:$X$14,vantHoff_EOS!$Y$5:$Y$14,vantHoff_EOS!$Z$5:$Z$14,vantHoff_EOS!$AE$5:$AN$14,F42,$C$2,$O42:$X42),\"-\")","v":0.99999532690021942},{"$f":"IF(AE$3<=vantHoff_EOS!$N$19,Phi_i_NS_Tci_Pci_wi_kijm_TinC_PinPa_yi(AE$3,vantHoff_EOS!$N$19,vantHoff_EOS!$X$5:$X$14,vantHoff_EOS!$Y$5:$Y$14,vantHoff_EOS!$Z$5:$Z$14,vantHoff_EOS!$AE$5:$AN$14,G42,$C$2,$O42:$X42),\"-\")","v":"-"},{"$f":"IF(AF$3<=vantHoff_EOS!$N$19,Phi_i_NS_Tci_Pci_wi_kijm_TinC_PinPa_yi(AF$3,vantHoff_EOS!$N$19,vantHoff_EOS!$X$5:$X$14,vantHoff_EOS!$Y$5:$Y$14,vantHoff_EOS!$Z$5:$Z$14,vantHoff_EOS!$AE$5:$AN$14,H42,$C$2,$O42:$X42),\"-\")","v":"-"},{"$f":"IF(AG$3<=vantHoff_EOS!$N$19,Phi_i_NS_Tci_Pci_wi_kijm_TinC_PinPa_yi(AG$3,vantHoff_EOS!$N$19,vantHoff_EOS!$X$5:$X$14,vantHoff_EOS!$Y$5:$Y$14,vantHoff_EOS!$Z$5:$Z$14,vantHoff_EOS!$AE$5:$AN$14,I42,$C$2,$O42:$X42),\"-\")","v":"-"},{"$f":"IF(AH$3<=vantHoff_EOS!$N$19,Phi_i_NS_Tci_Pci_wi_kijm_TinC_PinPa_yi(AH$3,vantHoff_EOS!$N$19,vantHoff_EOS!$X$5:$X$14,vantHoff_EOS!$Y$5:$Y$14,vantHoff_EOS!$Z$5:$Z$14,vantHoff_EOS!$AE$5:$AN$14,J42,$C$2,$O42:$X42),\"-\")","v":"-"},{"$f":"IF(AI$3<=vantHoff_EOS!$N$19,Phi_i_NS_Tci_Pci_wi_kijm_TinC_PinPa_yi(AI$3,vantHoff_EOS!$N$19,vantHoff_EOS!$X$5:$X$14,vantHoff_EOS!$Y$5:$Y$14,vantHoff_EOS!$Z$5:$Z$14,vantHoff_EOS!$AE$5:$AN$14,K42,$C$2,$O42:$X42),\"-\")","v":"-"}]
[40,{"$f":"B42+vantHoff_EOS!$B$26","v":78},351.15,2.847785846504343E-3,{"$f":"lnKaT_Tref_lnKaTref_dHTref_da_db_dc_dd_de_TinC(vantHoff_EOS!$E$7,vantHoff_EOS!$B$9,vantHoff_EOS!$B$6,vantHoff_EOS!$O$27,vantHoff_EOS!$P$27,vantHoff_EOS!$Q$27,vantHoff_EOS!$R$27,vantHoff_EOS!$S$27,B43)","v":9.2312194396480116},10210.985603444396,{"$f":"MolarExtentX_NS_vi_n0i_dHfi_dGfi_TrefinC_da_db_dc_dd_de_Tci_Pci_wi_kijm_TinC_PinPa(vantHoff_EOS!$N$19,vantHoff_EOS!$O$23:$X$23,vantHoff_EOS!$O$31:$X$31,vantHoff_EOS!$T$5:$T$14,vantHoff_EOS!$U$5:$U$14,vantHoff_EOS!$E$7,vantHoff_EOS!$O$27,vantHoff_EOS!$P$27,vantHoff_EOS!$Q$27,vantHoff_EOS!$R$27,vantHoff_EOS!$S$27,vantHoff_EOS!$X$5:$X$14,vantHoff_EOS!$Y$5:$Y$14,vantHoff_EOS!$Z$5:$Z$14,vantHoff_EOS!$AE$5:$AN$14,B43,$C$2)","v":0.8185742314636244},{"$f":"Ky_NS_n0i_vi_X(vantHoff_EOS!$N$19,vantHoff_EOS!$O$31:$X$31,vantHoff_EOS!$O$23:$X$23,G43)","v":10382.078407584679},{"$f":"Kp_NS_vi_PinPa(vantHoff_EOS!$N$19,vantHoff_EOS!$O$23:$X$23,$C$2)","v":1},{"$f":"Kphi_NS_n0i_vi_X_Tci_Pci_wi_kijm_TinC_PinPa(vantHoff_EOS!$N$19,vantHoff_EOS!$O$31:$X$31,vantHoff_EOS!$O$23:$X$23,G43,vantHoff_EOS!$X$5:$X$14,vantHoff_EOS!$Y$5:$Y$14,vantHoff_EOS!$Z$5:$Z$14,vantHoff_EOS!$AE$5:$AN$14,B43,$C$2)","v":0.983520307845001},9.2478363686207139,0,-1.6616992820191419E-2,{"$f":"nT_NS_n0i_vi_X(vantHoff_EOS!$N$19,vantHoff_EOS!$O$31:$X$31,vantHoff_EOS!$O$23:$X$23,G43)","v":8.7028515370727515},{"$f":"IF(O$3<=vantHoff_EOS!$N$19,y_iindex_NS_n0i_vi_X(O$3,vantHoff_EOS!$N$19,vantHoff_EOS!$O$31:$X$31,vantHoff_EOS!$O$23:$X$23,$G43),\"-\")","v":2.0846703837648032E-2},{"$f":"IF(P$3<=vantHoff_EOS!$N$19,y_iindex_NS_n0i_vi_X(P$3,vantHoff_EOS!$N$19,vantHoff_EOS!$O$31:$X$31,vantHoff_EOS!$O$23:$X$23,$G43),\"-\")","v":2.0846703837648032E-2},{"$f":"IF(Q$3<=vantHoff_EOS!$N$19,y_iindex_NS_n0i_vi_X(Q$3,vantHoff_EOS!$N$19,vantHoff_EOS!$O$31:$X$31,vantHoff_EOS!$O$23:$X$23,$G43),\"-\")","v":2.0846703837648032E-2},{"$f":"IF(R$3<=vantHoff_EOS!$N$19,y_iindex_NS_n0i_vi_X(R$3,vantHoff_EOS!$N$19,vantHoff_EOS!$O$31:$X$31,vantHoff_EOS!$O$23:$X$23,$G43),\"-\")","v":9.4058163347568266E-2},{"$f":"IF(S$3<=vantHoff_EOS!$N$19,y_iindex_NS_n0i_vi_X(S$3,vantHoff_EOS!$N$19,vantHoff_EOS!$O$31:$X$31,vantHoff_EOS!$O$23:$X$23,$G43),\"-\")","v":0.84340172513948763},{"$f":"IF(T$3<=vantHoff_EOS!$N$19,y_iindex_NS_n0i_vi_X(T$3,vantHoff_EOS!$N$19,vantHoff_EOS!$O$31:$X$31,vantHoff_EOS!$O$23:$X$23,$G43),\"-\")","v":"-"},{"$f":"IF(U$3<=vantHoff_EOS!$N$19,y_iindex_NS_n0i_vi_X(U$3,vantHoff_EOS!$N$19,vantHoff_EOS!$O$31:$X$31,vantHoff_EOS!$O$23:$X$23,$G43),\"-\")","v":"-"},{"$f":"IF(V$3<=vantHoff_EOS!$N$19,y_iindex_NS_n0i_vi_X(V$3,vantHoff_EOS!$N$19,vantHoff_EOS!$O$31:$X$31,vantHoff_EOS!$O$23:$X$23,$G43),\"-\")","v":"-"},{"$f":"IF(W$3<=vantHoff_EOS!$N$19,y_iindex_NS_n0i_vi_X(W$3,vantHoff_EOS!$N$19,vantHoff_EOS!$O$31:$X$31,vantHoff_EOS!$O$23:$X$23,$G43),\"-\")","v":"-"},{"$f":"IF(X$3<=vantHoff_EOS!$N$19,y_iindex_NS_n0i_vi_X(X$3,vantHoff_EOS!$N$19,vantHoff_EOS!$O$31:$X$31,vantHoff_EOS!$O$23:$X$23,$G43),\"-\")","v":"-"},1,{"$f":"IF(Z$3<=vantHoff_EOS!$N$19,Phi_i_NS_Tci_Pci_wi_kijm_TinC_PinPa_yi(Z$3,vantHoff_EOS!$N$19,vantHoff_EOS!$X$5:$X$14,vantHoff_EOS!$Y$5:$Y$14,vantHoff_EOS!$Z$5:$Z$14,vantHoff_EOS!$AE$5:$AN$14,B43,$C$2,$O43:$X43),\"-\")","v":1.0019276161361952},{"$f":"IF(AA$3<=vantHoff_EOS!$N$19,Phi_i_NS_Tci_Pci_wi_kijm_TinC_PinPa_yi(AA$3,vantHoff_EOS!$N$19,vantHoff_EOS!$X$5:$X$14,vantHoff_EOS!$Y$5:$Y$14,vantHoff_EOS!$Z$5:$Z$14,vantHoff_EOS!$AE$5:$AN$14,C43,$C$2,$O43:$X43),\"-\")","v":1.0007321867348418},{"$f":"IF(AB$3<=vantHoff_EOS!$N$19,Phi_i_NS_Tci_Pci_wi_kijm_TinC_PinPa_yi(AB$3,vantHoff_EOS!$N$19,vantHoff_EOS!$X$5:$X$14,vantHoff_EOS!$Y$5:$Y$14,vantHoff_EOS!$Z$5:$Z$14,vantHoff_EOS!$AE$5:$AN$14,D43,$C$2,$O43:$X43),\"-\")","v":0.98320507882753549},{"$f":"IF(AC$3<=vantHoff_EOS!$N$19,Phi_i_NS_Tci_Pci_wi_kijm_TinC_PinPa_yi(AC$3,vantHoff_EOS!$N$19,vantHoff_EOS!$X$5:$X$14,vantHoff_EOS!$Y$5:$Y$14,vantHoff_EOS!$Z$5:$Z$14,vantHoff_EOS!$AE$5:$AN$14,E43,$C$2,$O43:$X43),\"-\")","v":0.96485349815756016},{"$f":"IF(AD$3<=vantHoff_EOS!$N$19,Phi_i_NS_Tci_Pci_wi_kijm_TinC_PinPa_yi(AD$3,vantHoff_EOS!$N$19,vantHoff_EOS!$X$5:$X$14,vantHoff_EOS!$Y$5:$Y$14,vantHoff_EOS!$Z$5:$Z$14,vantHoff_EOS!$AE$5:$AN$14,F43,$C$2,$O43:$X43),\"-\")","v":0.99999890866006846},{"$f":"IF(AE$3<=vantHoff_EOS!$N$19,Phi_i_NS_Tci_Pci_wi_kijm_TinC_PinPa_yi(AE$3,vantHoff_EOS!$N$19,vantHoff_EOS!$X$5:$X$14,vantHoff_EOS!$Y$5:$Y$14,vantHoff_EOS!$Z$5:$Z$14,vantHoff_EOS!$AE$5:$AN$14,G43,$C$2,$O43:$X43),\"-\")","v":"-"},{"$f":"IF(AF$3<=vantHoff_EOS!$N$19,Phi_i_NS_Tci_Pci_wi_kijm_TinC_PinPa_yi(AF$3,vantHoff_EOS!$N$19,vantHoff_EOS!$X$5:$X$14,vantHoff_EOS!$Y$5:$Y$14,vantHoff_EOS!$Z$5:$Z$14,vantHoff_EOS!$AE$5:$AN$14,H43,$C$2,$O43:$X43),\"-\")","v":"-"},{"$f":"IF(AG$3<=vantHoff_EOS!$N$19,Phi_i_NS_Tci_Pci_wi_kijm_TinC_PinPa_yi(AG$3,vantHoff_EOS!$N$19,vantHoff_EOS!$X$5:$X$14,vantHoff_EOS!$Y$5:$Y$14,vantHoff_EOS!$Z$5:$Z$14,vantHoff_EOS!$AE$5:$AN$14,I43,$C$2,$O43:$X43),\"-\")","v":"-"},{"$f":"IF(AH$3<=vantHoff_EOS!$N$19,Phi_i_NS_Tci_Pci_wi_kijm_TinC_PinPa_yi(AH$3,vantHoff_EOS!$N$19,vantHoff_EOS!$X$5:$X$14,vantHoff_EOS!$Y$5:$Y$14,vantHoff_EOS!$Z$5:$Z$14,vantHoff_EOS!$AE$5:$AN$14,J43,$C$2,$O43:$X43),\"-\")","v":"-"},{"$f":"IF(AI$3<=vantHoff_EOS!$N$19,Phi_i_NS_Tci_Pci_wi_kijm_TinC_PinPa_yi(AI$3,vantHoff_EOS!$N$19,vantHoff_EOS!$X$5:$X$14,vantHoff_EOS!$Y$5:$Y$14,vantHoff_EOS!$Z$5:$Z$14,vantHoff_EOS!$AE$5:$AN$14,K43,$C$2,$O43:$X43),\"-\")","v":"-"}]
[41,{"$f":"B43+vantHoff_EOS!$B$26","v":80},353.15,2.831657935721365E-3,{"$f":"lnKaT_Tref_lnKaTref_dHTref_da_db_dc_dd_de_TinC(vantHoff_EOS!$E$7,vantHoff_EOS!$B$9,vantHoff_EOS!$B$6,vantHoff_EOS!$O$27,vantHoff_EOS!$P$27,vantHoff_EOS!$Q$27,vantHoff_EOS!$R$27,vantHoff_EOS!$S$27,B44)","v":9.0066612148550718},8157.2404845848987,{"$f":"MolarExtentX_NS_vi_n0i_dHfi_dGfi_TrefinC_da_db_dc_dd_de_Tci_Pci_wi_kijm_TinC_PinPa(vantHoff_EOS!$N$19,vantHoff_EOS!$O$23:$X$23,vantHoff_EOS!$O$31:$X$31,vantHoff_EOS!$T$5:$T$14,vantHoff_EOS!$U$5:$U$14,vantHoff_EOS!$E$7,vantHoff_EOS!$O$27,vantHoff_EOS!$P$27,vantHoff_EOS!$Q$27,vantHoff_EOS!$R$27,vantHoff_EOS!$S$27,vantHoff_EOS!$X$5:$X$14,vantHoff_EOS!$Y$5:$Y$14,vantHoff_EOS!$Z$5:$Z$14,vantHoff_EOS!$AE$5:$AN$14,B44,$C$2)","v":0.80512581190315291},{"$f":"Ky_NS_n0i_vi_X(vantHoff_EOS!$N$19,vantHoff_EOS!$O$31:$X$31,vantHoff_EOS!$O$23:$X$23,G44)","v":8290.9490349898733},{"$f":"Kp_NS_vi_PinPa(vantHoff_EOS!$N$19,vantHoff_EOS!$O$23:$X$23,$C$2)","v":1},{"$f":"Kphi_NS_n0i_vi_X_Tci_Pci_wi_kijm_TinC_PinPa(vantHoff_EOS!$N$19,vantHoff_EOS!$O$31:$X$31,vantHoff_EOS!$O$23:$X$23,G44,vantHoff_EOS!$X$5:$X$14,vantHoff_EOS!$Y$5:$Y$14,vantHoff_EOS!$Z$5:$Z$14,vantHoff_EOS!$AE$5:$AN$14,B44,$C$2)","v":0.98387291140720434},9.0229197210692078,0,-1.6258545345097738E-2,{"$f":"nT_NS_n0i_vi_X(vantHoff_EOS!$N$19,vantHoff_EOS!$O$31:$X$31,vantHoff_EOS!$O$23:$X$23,G44)","v":8.7297483761936938},{"$f":"IF(O$3<=vantHoff_EOS!$N$19,y_iindex_NS_n0i_vi_X(O$3,vantHoff_EOS!$N$19,vantHoff_EOS!$O$31:$X$31,vantHoff_EOS!$O$23:$X$23,$G44),\"-\")","v":2.2323001729153535E-2},{"$f":"IF(P$3<=vantHoff_EOS!$N$19,y_iindex_NS_n0i_vi_X(P$3,vantHoff_EOS!$N$19,vantHoff_EOS!$O$31:$X$31,vantHoff_EOS!$O$23:$X$23,$G44),\"-\")","v":2.2323001729153535E-2},{"$f":"IF(Q$3<=vantHoff_EOS!$N$19,y_iindex_NS_n0i_vi_X(Q$3,vantHoff_EOS!$N$19,vantHoff_EOS!$O$31:$X$31,vantHoff_EOS!$O$23:$X$23,$G44),\"-\")","v":2.2323001729153535E-2},{"$f":"IF(R$3<=vantHoff_EOS!$N$19,y_iindex_NS_n0i_vi_X(R$3,vantHoff_EOS!$N$19,vantHoff_EOS!$O$31:$X$31,vantHoff_EOS!$O$23:$X$23,$G44),\"-\")","v":9.2227837184718525E-2},{"$f":"IF(S$3<=vantHoff_EOS!$N$19,y_iindex_NS_n0i_vi_X(S$3,vantHoff_EOS!$N$19,vantHoff_EOS!$O$31:$X$31,vantHoff_EOS!$O$23:$X$23,$G44),\"-\")","v":0.84080315762782087},{"$f":"IF(T$3<=vantHoff_EOS!$N$19,y_iindex_NS_n0i_vi_X(T$3,vantHoff_EOS!$N$19,vantHoff_EOS!$O$31:$X$31,vantHoff_EOS!$O$23:$X$23,$G44),\"-\")","v":"-"},{"$f":"IF(U$3<=vantHoff_EOS!$N$19,y_iindex_NS_n0i_vi_X(U$3,vantHoff_EOS!$N$19,vantHoff_EOS!$O$31:$X$31,vantHoff_EOS!$O$23:$X$23,$G44),\"-\")","v":"-"},{"$f":"IF(V$3<=vantHoff_EOS!$N$19,y_iindex_NS_n0i_vi_X(V$3,vantHoff_EOS!$N$19,vantHoff_EOS!$O$31:$X$31,vantHoff_EOS!$O$23:$X$23,$G44),\"-\")","v":"-"},{"$f":"IF(W$3<=vantHoff_EOS!$N$19,y_iindex_NS_n0i_vi_X(W$3,vantHoff_EOS!$N$19,vantHoff_EOS!$O$31:$X$31,vantHoff_EOS!$O$23:$X$23,$G44),\"-\")","v":"-"},{"$f":"IF(X$3<=vantHoff_EOS!$N$19,y_iindex_NS_n0i_vi_X(X$3,vantHoff_EOS!$N$19,vantHoff_EOS!$O$31:$X$31,vantHoff_EOS!$O$23:$X$23,$G44),\"-\")","v":"-"},1,{"$f":"IF(Z$3<=vantHoff_EOS!$N$19,Phi_i_NS_Tci_Pci_wi_kijm_TinC_PinPa_yi(Z$3,vantHoff_EOS!$N$19,vantHoff_EOS!$X$5:$X$14,vantHoff_EOS!$Y$5:$Y$14,vantHoff_EOS!$Z$5:$Z$14,vantHoff_EOS!$AE$5:$AN$14,B44,$C$2,$O44:$X44),\"-\")","v":1.0018849158258838},{"$f":"IF(AA$3<=vantHoff_EOS!$N$19,Phi_i_NS_Tci_Pci_wi_kijm_TinC_PinPa_yi(AA$3,vantHoff_EOS!$N$19,vantHoff_EOS!$X$5:$X$14,vantHoff_EOS!$Y$5:$Y$14,vantHoff_EOS!$Z$5:$Z$14,vantHoff_EOS!$AE$5:$AN$14,C44,$C$2,$O44:$X44),\"-\")","v":1.0007202523167527},{"$f":"IF(AB$3<=vantHoff_EOS!$N$19,Phi_i_NS_Tci_Pci_wi_kijm_TinC_PinPa_yi(AB$3,vantHoff_EOS!$N$19,vantHoff_EOS!$X$5:$X$14,vantHoff_EOS!$Y$5:$Y$14,vantHoff_EOS!$Z$5:$Z$14,vantHoff_EOS!$AE$5:$AN$14,D44,$C$2,$O44:$X44),\"-\")","v":0.98323577455210587},{"$f":"IF(AC$3<=vantHoff_EOS!$N$19,Phi_i_NS_Tci_Pci_wi_kijm_TinC_PinPa_yi(AC$3,vantHoff_EOS!$N$19,vantHoff_EOS!$X$5:$X$14,vantHoff_EOS!$Y$5:$Y$14,vantHoff_EOS!$Z$5:$Z$14,vantHoff_EOS!$AE$5:$AN$14,E44,$C$2,$O44:$X44),\"-\")","v":0.96488646144882362},{"$f":"IF(AD$3<=vantHoff_EOS!$N$19,Phi_i_NS_Tci_Pci_wi_kijm_TinC_PinPa_yi(AD$3,vantHoff_EOS!$N$19,vantHoff_EOS!$X$5:$X$14,vantHoff_EOS!$Y$5:$Y$14,vantHoff_EOS!$Z$5:$Z$14,vantHoff_EOS!$AE$5:$AN$14,F44,$C$2,$O44:$X44),\"-\")","v":1.0000046497876067},{"$f":"IF(AE$3<=vantHoff_EOS!$N$19,Phi_i_NS_Tci_Pci_wi_kijm_TinC_PinPa_yi(AE$3,vantHoff_EOS!$N$19,vantHoff_EOS!$X$5:$X$14,vantHoff_EOS!$Y$5:$Y$14,vantHoff_EOS!$Z$5:$Z$14,vantHoff_EOS!$AE$5:$AN$14,G44,$C$2,$O44:$X44),\"-\")","v":"-"},{"$f":"IF(AF$3<=vantHoff_EOS!$N$19,Phi_i_NS_Tci_Pci_wi_kijm_TinC_PinPa_yi(AF$3,vantHoff_EOS!$N$19,vantHoff_EOS!$X$5:$X$14,vantHoff_EOS!$Y$5:$Y$14,vantHoff_EOS!$Z$5:$Z$14,vantHoff_EOS!$AE$5:$AN$14,H44,$C$2,$O44:$X44),\"-\")","v":"-"},{"$f":"IF(AG$3<=vantHoff_EOS!$N$19,Phi_i_NS_Tci_Pci_wi_kijm_TinC_PinPa_yi(AG$3,vantHoff_EOS!$N$19,vantHoff_EOS!$X$5:$X$14,vantHoff_EOS!$Y$5:$Y$14,vantHoff_EOS!$Z$5:$Z$14,vantHoff_EOS!$AE$5:$AN$14,I44,$C$2,$O44:$X44),\"-\")","v":"-"},{"$f":"IF(AH$3<=vantHoff_EOS!$N$19,Phi_i_NS_Tci_Pci_wi_kijm_TinC_PinPa_yi(AH$3,vantHoff_EOS!$N$19,vantHoff_EOS!$X$5:$X$14,vantHoff_EOS!$Y$5:$Y$14,vantHoff_EOS!$Z$5:$Z$14,vantHoff_EOS!$AE$5:$AN$14,J44,$C$2,$O44:$X44),\"-\")","v":"-"},{"$f":"IF(AI$3<=vantHoff_EOS!$N$19,Phi_i_NS_Tci_Pci_wi_kijm_TinC_PinPa_yi(AI$3,vantHoff_EOS!$N$19,vantHoff_EOS!$X$5:$X$14,vantHoff_EOS!$Y$5:$Y$14,vantHoff_EOS!$Z$5:$Z$14,vantHoff_EOS!$AE$5:$AN$14,K44,$C$2,$O44:$X44),\"-\")","v":"-"}]
[42,{"$f":"B44+vantHoff_EOS!$B$26","v":82},355.15,2.8157116711248768E-3,{"$f":"lnKaT_Tref_lnKaTref_dHTref_da_db_dc_dd_de_TinC(vantHoff_EOS!$E$7,vantHoff_EOS!$B$9,vantHoff_EOS!$B$6,vantHoff_EOS!$O$27,vantHoff_EOS!$P$27,vantHoff_EOS!$Q$27,vantHoff_EOS!$R$27,vantHoff_EOS!$S$27,B45)","v":8.7845791806665581},6532.7233060396156,{"$f":"MolarExtentX_NS_vi_n0i_dHfi_dGfi_TrefinC_da_db_dc_dd_de_Tci_Pci_wi_kijm_TinC_PinPa(vantHoff_EOS!$N$19,vantHoff_EOS!$O$23:$X$23,vantHoff_EOS!$O$31:$X$31,vantHoff_EOS!$T$5:$T$14,vantHoff_EOS!$U$5:$U$14,vantHoff_EOS!$E$7,vantHoff_EOS!$O$27,vantHoff_EOS!$P$27,vantHoff_EOS!$Q$27,vantHoff_EOS!$R$27,vantHoff_EOS!$S$27,vantHoff_EOS!$X$5:$X$14,vantHoff_EOS!$Y$5:$Y$14,vantHoff_EOS!$Z$5:$Z$14,vantHoff_EOS!$AE$5:$AN$14,B45,$C$2)","v":0.7909170041414727},{"$f":"Ky_NS_n0i_vi_X(vantHoff_EOS!$N$19,vantHoff_EOS!$O$31:$X$31,vantHoff_EOS!$O$23:$X$23,G45)","v":6637.4477274008641},{"$f":"Kp_NS_vi_PinPa(vantHoff_EOS!$N$19,vantHoff_EOS!$O$23:$X$23,$C$2)","v":1},{"$f":"Kphi_NS_n0i_vi_X_Tci_Pci_wi_kijm_TinC_PinPa(vantHoff_EOS!$N$19,vantHoff_EOS!$O$31:$X$31,vantHoff_EOS!$O$23:$X$23,G45,vantHoff_EOS!$X$5:$X$14,vantHoff_EOS!$Y$5:$Y$14,vantHoff_EOS!$Z$5:$Z$14,vantHoff_EOS!$AE$5:$AN$14,B45,$C$2)","v":0.98422216240290239},8.8004827901746818,0,-1.5903632613480583E-2,{"$f":"nT_NS_n0i_vi_X(vantHoff_EOS!$N$19,vantHoff_EOS!$O$31:$X$31,vantHoff_EOS!$O$23:$X$23,G45)","v":8.7581659917170551},{"$f":"IF(O$3<=vantHoff_EOS!$N$19,y_iindex_NS_n0i_vi_X(O$3,vantHoff_EOS!$N$19,vantHoff_EOS!$O$31:$X$31,vantHoff_EOS!$O$23:$X$23,$G45),\"-\")","v":2.3872919976198826E-2},{"$f":"IF(P$3<=vantHoff_EOS!$N$19,y_iindex_NS_n0i_vi_X(P$3,vantHoff_EOS!$N$19,vantHoff_EOS!$O$31:$X$31,vantHoff_EOS!$O$23:$X$23,$G45),\"-\")","v":2.3872919976198826E-2},{"$f":"IF(Q$3<=vantHoff_EOS!$N$19,y_iindex_NS_n0i_vi_X(Q$3,vantHoff_EOS!$N$19,vantHoff_EOS!$O$31:$X$31,vantHoff_EOS!$O$23:$X$23,$G45),\"-\")","v":2.3872919976198826E-2},{"$f":"IF(R$3<=vantHoff_EOS!$N$19,y_iindex_NS_n0i_vi_X(R$3,vantHoff_EOS!$N$19,vantHoff_EOS!$O$31:$X$31,vantHoff_EOS!$O$23:$X$23,$G45),\"-\")","v":9.0306235904808643E-2},{"$f":"IF(S$3<=vantHoff_EOS!$N$19,y_iindex_NS_n0i_vi_X(S$3,vantHoff_EOS!$N$19,vantHoff_EOS!$O$31:$X$31,vantHoff_EOS!$O$23:$X$23,$G45),\"-\")","v":0.83807500416659475},{"$f":"IF(T$3<=vantHoff_EOS!$N$19,y_iindex_NS_n0i_vi_X(T$3,vantHoff_EOS!$N$19,vantHoff_EOS!$O$31:$X$31,vantHoff_EOS!$O$23:$X$23,$G45),\"-\")","v":"-"},{"$f":"IF(U$3<=vantHoff_EOS!$N$19,y_iindex_NS_n0i_vi_X(U$3,vantHoff_EOS!$N$19,vantHoff_EOS!$O$31:$X$31,vantHoff_EOS!$O$23:$X$23,$G45),\"-\")","v":"-"},{"$f":"IF(V$3<=vantHoff_EOS!$N$19,y_iindex_NS_n0i_vi_X(V$3,vantHoff_EOS!$N$19,vantHoff_EOS!$O$31:$X$31,vantHoff_EOS!$O$23:$X$23,$G45),\"-\")","v":"-"},{"$f":"IF(W$3<=vantHoff_EOS!$N$19,y_iindex_NS_n0i_vi_X(W$3,vantHoff_EOS!$N$19,vantHoff_EOS!$O$31:$X$31,vantHoff_EOS!$O$23:$X$23,$G45),\"-\")","v":"-"},{"$f":"IF(X$3<=vantHoff_EOS!$N$19,y_iindex_NS_n0i_vi_X(X$3,vantHoff_EOS!$N$19,vantHoff_EOS!$O$31:$X$31,vantHoff_EOS!$O$23:$X$23,$G45),\"-\")","v":"-"},0.99999999999999989,{"$f":"IF(Z$3<=vantHoff_EOS!$N$19,Phi_i_NS_Tci_Pci_wi_kijm_TinC_PinPa_yi(Z$3,vantHoff_EOS!$N$19,vantHoff_EOS!$X$5:$X$14,vantHoff_EOS!$Y$5:$Y$14,vantHoff_EOS!$Z$5:$Z$14,vantHoff_EOS!$AE$5:$AN$14,B45,$C$2,$O45:$X45),\"-\")","v":1.0018421781914351},{"$f":"IF(AA$3<=vantHoff_EOS!$N$19,Phi_i_NS_Tci_Pci_wi_kijm_TinC_PinPa_yi(AA$3,vantHoff_EOS!$N$19,vantHoff_EOS!$X$5:$X$14,vantHoff_EOS!$Y$5:$Y$14,vantHoff_EOS!$Z$5:$Z$14,vantHoff_EOS!$AE$5:$AN$14,C45,$C$2,$O45:$X45),\"-\")","v":1.000708289785718},{"$f":"IF(AB$3<=vantHoff_EOS!$N$19,Phi_i_NS_Tci_Pci_wi_kijm_TinC_PinPa_yi(AB$3,vantHoff_EOS!$N$19,vantHoff_EOS!$X$5:$X$14,vantHoff_EOS!$Y$5:$Y$14,vantHoff_EOS!$Z$5:$Z$14,vantHoff_EOS!$AE$5:$AN$14,D45,$C$2,$O45:$X45),\"-\")","v":0.98326833370959521},{"$f":"IF(AC$3<=vantHoff_EOS!$N$19,Phi_i_NS_Tci_Pci_wi_kijm_TinC_PinPa_yi(AC$3,vantHoff_EOS!$N$19,vantHoff_EOS!$X$5:$X$14,vantHoff_EOS!$Y$5:$Y$14,vantHoff_EOS!$Z$5:$Z$14,vantHoff_EOS!$AE$5:$AN$14,E45,$C$2,$O45:$X45),\"-\")","v":0.96492618659664375},{"$f":"IF(AD$3<=vantHoff_EOS!$N$19,Phi_i_NS_Tci_Pci_wi_kijm_TinC_PinPa_yi(AD$3,vantHoff_EOS!$N$19,vantHoff_EOS!$X$5:$X$14,vantHoff_EOS!$Y$5:$Y$14,vantHoff_EOS!$Z$5:$Z$14,vantHoff_EOS!$AE$5:$AN$14,F45,$C$2,$O45:$X45),\"-\")","v":1.0000132051484472},{"$f":"IF(AE$3<=vantHoff_EOS!$N$19,Phi_i_NS_Tci_Pci_wi_kijm_TinC_PinPa_yi(AE$3,vantHoff_EOS!$N$19,vantHoff_EOS!$X$5:$X$14,vantHoff_EOS!$Y$5:$Y$14,vantHoff_EOS!$Z$5:$Z$14,vantHoff_EOS!$AE$5:$AN$14,G45,$C$2,$O45:$X45),\"-\")","v":"-"},{"$f":"IF(AF$3<=vantHoff_EOS!$N$19,Phi_i_NS_Tci_Pci_wi_kijm_TinC_PinPa_yi(AF$3,vantHoff_EOS!$N$19,vantHoff_EOS!$X$5:$X$14,vantHoff_EOS!$Y$5:$Y$14,vantHoff_EOS!$Z$5:$Z$14,vantHoff_EOS!$AE$5:$AN$14,H45,$C$2,$O45:$X45),\"-\")","v":"-"},{"$f":"IF(AG$3<=vantHoff_EOS!$N$19,Phi_i_NS_Tci_Pci_wi_kijm_TinC_PinPa_yi(AG$3,vantHoff_EOS!$N$19,vantHoff_EOS!$X$5:$X$14,vantHoff_EOS!$Y$5:$Y$14,vantHoff_EOS!$Z$5:$Z$14,vantHoff_EOS!$AE$5:$AN$14,I45,$C$2,$O45:$X45),\"-\")","v":"-"},{"$f":"IF(AH$3<=vantHoff_EOS!$N$19,Phi_i_NS_Tci_Pci_wi_kijm_TinC_PinPa_yi(AH$3,vantHoff_EOS!$N$19,vantHoff_EOS!$X$5:$X$14,vantHoff_EOS!$Y$5:$Y$14,vantHoff_EOS!$Z$5:$Z$14,vantHoff_EOS!$AE$5:$AN$14,J45,$C$2,$O45:$X45),\"-\")","v":"-"},{"$f":"IF(AI$3<=vantHoff_EOS!$N$19,Phi_i_NS_Tci_Pci_wi_kijm_TinC_PinPa_yi(AI$3,vantHoff_EOS!$N$19,vantHoff_EOS!$X$5:$X$14,vantHoff_EOS!$Y$5:$Y$14,vantHoff_EOS!$Z$5:$Z$14,vantHoff_EOS!$AE$5:$AN$14,K45,$C$2,$O45:$X45),\"-\")","v":"-"}]
[43,{"$f":"B45+vantHoff_EOS!$B$26","v":84},357.15,2.7999440011199778E-3,{"$f":"lnKaT_Tref_lnKaTref_dHTref_da_db_dc_dd_de_TinC(vantHoff_EOS!$E$7,vantHoff_EOS!$B$9,vantHoff_EOS!$B$6,vantHoff_EOS!$O$27,vantHoff_EOS!$P$27,vantHoff_EOS!$Q$27,vantHoff_EOS!$R$27,vantHoff_EOS!$S$27,B46)","v":8.5649324238092426},5244.4855063596015,{"$f":"MolarExtentX_NS_vi_n0i_dHfi_dGfi_TrefinC_da_db_dc_dd_de_Tci_Pci_wi_kijm_TinC_PinPa(vantHoff_EOS!$N$19,vantHoff_EOS!$O$23:$X$23,vantHoff_EOS!$O$31:$X$31,vantHoff_EOS!$T$5:$T$14,vantHoff_EOS!$U$5:$U$14,vantHoff_EOS!$E$7,vantHoff_EOS!$O$27,vantHoff_EOS!$P$27,vantHoff_EOS!$Q$27,vantHoff_EOS!$R$27,vantHoff_EOS!$S$27,vantHoff_EOS!$X$5:$X$14,vantHoff_EOS!$Y$5:$Y$14,vantHoff_EOS!$Z$5:$Z$14,vantHoff_EOS!$AE$5:$AN$14,B46,$C$2)","v":0.77592867436160706},{"$f":"Ky_NS_n0i_vi_X(vantHoff_EOS!$N$19,vantHoff_EOS!$O$31:$X$31,vantHoff_EOS!$O$23:$X$23,G46)","v":5326.6866150012156},{"$f":"Kp_NS_vi_PinPa(vantHoff_EOS!$N$19,vantHoff_EOS!$O$23:$X$23,$C$2)","v":1},{"$f":"Kphi_NS_n0i_vi_X_Tci_Pci_wi_kijm_TinC_PinPa(vantHoff_EOS!$N$19,vantHoff_EOS!$O$31:$X$31,vantHoff_EOS!$O$23:$X$23,G46,vantHoff_EOS!$X$5:$X$14,vantHoff_EOS!$Y$5:$Y$14,vantHoff_EOS!$Z$5:$Z$14,vantHoff_EOS!$AE$5:$AN$14,B46,$C$2)","v":0.98456804704507395},8.5804846756391147,0,-1.5552264911558604E-2,{"$f":"nT_NS_n0i_vi_X(vantHoff_EOS!$N$19,vantHoff_EOS!$O$31:$X$31,vantHoff_EOS!$O$23:$X$23,G46)","v":8.788142651276786},{"$f":"IF(O$3<=vantHoff_EOS!$N$19,y_iindex_NS_n0i_vi_X(O$3,vantHoff_EOS!$N$19,vantHoff_EOS!$O$31:$X$31,vantHoff_EOS!$O$23:$X$23,$G46),\"-\")","v":2.549700596926914E-2},{"$f":"IF(P$3<=vantHoff_EOS!$N$19,y_iindex_NS_n0i_vi_X(P$3,vantHoff_EOS!$N$19,vantHoff_EOS!$O$31:$X$31,vantHoff_EOS!$O$23:$X$23,$G46),\"-\")","v":2.549700596926914E-2},{"$f":"IF(Q$3<=vantHoff_EOS!$N$19,y_iindex_NS_n0i_vi_X(Q$3,vantHoff_EOS!$N$19,vantHoff_EOS!$O$31:$X$31,vantHoff_EOS!$O$23:$X$23,$G46),\"-\")","v":2.549700596926914E-2},{"$f":"IF(R$3<=vantHoff_EOS!$N$19,y_iindex_NS_n0i_vi_X(R$3,vantHoff_EOS!$N$19,vantHoff_EOS!$O$31:$X$31,vantHoff_EOS!$O$23:$X$23,$G46),\"-\")","v":8.8292680848651925E-2},{"$f":"IF(S$3<=vantHoff_EOS!$N$19,y_iindex_NS_n0i_vi_X(S$3,vantHoff_EOS!$N$19,vantHoff_EOS!$O$31:$X$31,vantHoff_EOS!$O$23:$X$23,$G46),\"-\")","v":0.83521630124354063},{"$f":"IF(T$3<=vantHoff_EOS!$N$19,y_iindex_NS_n0i_vi_X(T$3,vantHoff_EOS!$N$19,vantHoff_EOS!$O$31:$X$31,vantHoff_EOS!$O$23:$X$23,$G46),\"-\")","v":"-"},{"$f":"IF(U$3<=vantHoff_EOS!$N$19,y_iindex_NS_n0i_vi_X(U$3,vantHoff_EOS!$N$19,vantHoff_EOS!$O$31:$X$31,vantHoff_EOS!$O$23:$X$23,$G46),\"-\")","v":"-"},{"$f":"IF(V$3<=vantHoff_EOS!$N$19,y_iindex_NS_n0i_vi_X(V$3,vantHoff_EOS!$N$19,vantHoff_EOS!$O$31:$X$31,vantHoff_EOS!$O$23:$X$23,$G46),\"-\")","v":"-"},{"$f":"IF(W$3<=vantHoff_EOS!$N$19,y_iindex_NS_n0i_vi_X(W$3,vantHoff_EOS!$N$19,vantHoff_EOS!$O$31:$X$31,vantHoff_EOS!$O$23:$X$23,$G46),\"-\")","v":"-"},{"$f":"IF(X$3<=vantHoff_EOS!$N$19,y_iindex_NS_n0i_vi_X(X$3,vantHoff_EOS!$N$19,vantHoff_EOS!$O$31:$X$31,vantHoff_EOS!$O$23:$X$23,$G46),\"-\")","v":"-"},1,{"$f":"IF(Z$3<=vantHoff_EOS!$N$19,Phi_i_NS_Tci_Pci_wi_kijm_TinC_PinPa_yi(Z$3,vantHoff_EOS!$N$19,vantHoff_EOS!$X$5:$X$14,vantHoff_EOS!$Y$5:$Y$14,vantHoff_EOS!$Z$5:$Z$14,vantHoff_EOS!$AE$5:$AN$14,B46,$C$2,$O46:$X46),\"-\")","v":1.0017994379718875},{"$f":"IF(AA$3<=vantHoff_EOS!$N$19,Phi_i_NS_Tci_Pci_wi_kijm_TinC_PinPa_yi(AA$3,vantHoff_EOS!$N$19,vantHoff_EOS!$X$5:$X$14,vantHoff_EOS!$Y$5:$Y$14,vantHoff_EOS!$Z$5:$Z$14,vantHoff_EOS!$AE$5:$AN$14,C46,$C$2,$O46:$X46),\"-\")","v":1.0006963061159961},{"$f":"IF(AB$3<=vantHoff_EOS!$N$19,Phi_i_NS_Tci_Pci_wi_kijm_TinC_PinPa_yi(AB$3,vantHoff_EOS!$N$19,vantHoff_EOS!$X$5:$X$14,vantHoff_EOS!$Y$5:$Y$14,vantHoff_EOS!$Z$5:$Z$14,vantHoff_EOS!$AE$5:$AN$14,D46,$C$2,$O46:$X46),\"-\")","v":0.98330281641966222},{"$f":"IF(AC$3<=vantHoff_EOS!$N$19,Phi_i_NS_Tci_Pci_wi_kijm_TinC_PinPa_yi(AC$3,vantHoff_EOS!$N$19,vantHoff_EOS!$X$5:$X$14,vantHoff_EOS!$Y$5:$Y$14,vantHoff_EOS!$Z$5:$Z$14,vantHoff_EOS!$AE$5:$AN$14,E46,$C$2,$O46:$X46),\"-\")","v":0.96497277749251198},{"$f":"IF(AD$3<=vantHoff_EOS!$N$19,Phi_i_NS_Tci_Pci_wi_kijm_TinC_PinPa_yi(AD$3,vantHoff_EOS!$N$19,vantHoff_EOS!$X$5:$X$14,vantHoff_EOS!$Y$5:$Y$14,vantHoff_EOS!$Z$5:$Z$14,vantHoff_EOS!$AE$5:$AN$14,F46,$C$2,$O46:$X46),\"-\")","v":1.0000252740254725},{"$f":"IF(AE$3<=vantHoff_EOS!$N$19,Phi_i_NS_Tci_Pci_wi_kijm_TinC_PinPa_yi(AE$3,vantHoff_EOS!$N$19,vantHoff_EOS!$X$5:$X$14,vantHoff_EOS!$Y$5:$Y$14,vantHoff_EOS!$Z$5:$Z$14,vantHoff_EOS!$AE$5:$AN$14,G46,$C$2,$O46:$X46),\"-\")","v":"-"},{"$f":"IF(AF$3<=vantHoff_EOS!$N$19,Phi_i_NS_Tci_Pci_wi_kijm_TinC_PinPa_yi(AF$3,vantHoff_EOS!$N$19,vantHoff_EOS!$X$5:$X$14,vantHoff_EOS!$Y$5:$Y$14,vantHoff_EOS!$Z$5:$Z$14,vantHoff_EOS!$AE$5:$AN$14,H46,$C$2,$O46:$X46),\"-\")","v":"-"},{"$f":"IF(AG$3<=vantHoff_EOS!$N$19,Phi_i_NS_Tci_Pci_wi_kijm_TinC_PinPa_yi(AG$3,vantHoff_EOS!$N$19,vantHoff_EOS!$X$5:$X$14,vantHoff_EOS!$Y$5:$Y$14,vantHoff_EOS!$Z$5:$Z$14,vantHoff_EOS!$AE$5:$AN$14,I46,$C$2,$O46:$X46),\"-\")","v":"-"},{"$f":"IF(AH$3<=vantHoff_EOS!$N$19,Phi_i_NS_Tci_Pci_wi_kijm_TinC_PinPa_yi(AH$3,vantHoff_EOS!$N$19,vantHoff_EOS!$X$5:$X$14,vantHoff_EOS!$Y$5:$Y$14,vantHoff_EOS!$Z$5:$Z$14,vantHoff_EOS!$AE$5:$AN$14,J46,$C$2,$O46:$X46),\"-\")","v":"-"},{"$f":"IF(AI$3<=vantHoff_EOS!$N$19,Phi_i_NS_Tci_Pci_wi_kijm_TinC_PinPa_yi(AI$3,vantHoff_EOS!$N$19,vantHoff_EOS!$X$5:$X$14,vantHoff_EOS!$Y$5:$Y$14,vantHoff_EOS!$Z$5:$Z$14,vantHoff_EOS!$AE$5:$AN$14,K46,$C$2,$O46:$X46),\"-\")","v":"-"}]
[44,{"$f":"B46+vantHoff_EOS!$B$26","v":86},359.15,2.78435194208548E-3,{"$f":"lnKaT_Tref_lnKaTref_dHTref_da_db_dc_dd_de_TinC(vantHoff_EOS!$E$7,vantHoff_EOS!$B$9,vantHoff_EOS!$B$6,vantHoff_EOS!$O$27,vantHoff_EOS!$P$27,vantHoff_EOS!$Q$27,vantHoff_EOS!$R$27,vantHoff_EOS!$S$27,B47)","v":8.3476809359288495},4220.3820492458899,{"$f":"MolarExtentX_NS_vi_n0i_dHfi_dGfi_TrefinC_da_db_dc_dd_de_Tci_Pci_wi_kijm_TinC_PinPa(vantHoff_EOS!$N$19,vantHoff_EOS!$O$23:$X$23,vantHoff_EOS!$O$31:$X$31,vantHoff_EOS!$T$5:$T$14,vantHoff_EOS!$U$5:$U$14,vantHoff_EOS!$E$7,vantHoff_EOS!$O$27,vantHoff_EOS!$P$27,vantHoff_EOS!$Q$27,vantHoff_EOS!$R$27,vantHoff_EOS!$S$27,vantHoff_EOS!$X$5:$X$14,vantHoff_EOS!$Y$5:$Y$14,vantHoff_EOS!$Z$5:$Z$14,vantHoff_EOS!$AE$5:$AN$14,B47,$C$2)","v":0.76014435588451623},{"$f":"Ky_NS_n0i_vi_X(vantHoff_EOS!$N$19,vantHoff_EOS!$O$31:$X$31,vantHoff_EOS!$O$23:$X$23,G47)","v":4285.0410376182081},{"$f":"Kp_NS_vi_PinPa(vantHoff_EOS!$N$19,vantHoff_EOS!$O$23:$X$23,$C$2)","v":1},{"$f":"Kphi_NS_n0i_vi_X_Tci_Pci_wi_kijm_TinC_PinPa(vantHoff_EOS!$N$19,vantHoff_EOS!$O$31:$X$31,vantHoff_EOS!$O$23:$X$23,G47,vantHoff_EOS!$X$5:$X$14,vantHoff_EOS!$Y$5:$Y$14,vantHoff_EOS!$Z$5:$Z$14,vantHoff_EOS!$AE$5:$AN$14,B47,$C$2)","v":0.98491052533536605},8.3628854080264432,0,-1.5204479158977201E-2,{"$f":"nT_NS_n0i_vi_X(vantHoff_EOS!$N$19,vantHoff_EOS!$O$31:$X$31,vantHoff_EOS!$O$23:$X$23,G47)","v":8.8197112882309678},{"$f":"IF(O$3<=vantHoff_EOS!$N$19,y_iindex_NS_n0i_vi_X(O$3,vantHoff_EOS!$N$19,vantHoff_EOS!$O$31:$X$31,vantHoff_EOS!$O$23:$X$23,$G47),\"-\")","v":2.7195407681376984E-2},{"$f":"IF(P$3<=vantHoff_EOS!$N$19,y_iindex_NS_n0i_vi_X(P$3,vantHoff_EOS!$N$19,vantHoff_EOS!$O$31:$X$31,vantHoff_EOS!$O$23:$X$23,$G47),\"-\")","v":2.7195407681376984E-2},{"$f":"IF(Q$3<=vantHoff_EOS!$N$19,y_iindex_NS_n0i_vi_X(Q$3,vantHoff_EOS!$N$19,vantHoff_EOS!$O$31:$X$31,vantHoff_EOS!$O$23:$X$23,$G47),\"-\")","v":2.7195407681376984E-2},{"$f":"IF(R$3<=vantHoff_EOS!$N$19,y_iindex_NS_n0i_vi_X(R$3,vantHoff_EOS!$N$19,vantHoff_EOS!$O$31:$X$31,vantHoff_EOS!$O$23:$X$23,$G47),\"-\")","v":8.6186988558100947E-2},{"$f":"IF(S$3<=vantHoff_EOS!$N$19,y_iindex_NS_n0i_vi_X(S$3,vantHoff_EOS!$N$19,vantHoff_EOS!$O$31:$X$31,vantHoff_EOS!$O$23:$X$23,$G47),\"-\")","v":0.83222678839776809},{"$f":"IF(T$3<=vantHoff_EOS!$N$19,y_iindex_NS_n0i_vi_X(T$3,vantHoff_EOS!$N$19,vantHoff_EOS!$O$31:$X$31,vantHoff_EOS!$O$23:$X$23,$G47),\"-\")","v":"-"},{"$f":"IF(U$3<=vantHoff_EOS!$N$19,y_iindex_NS_n0i_vi_X(U$3,vantHoff_EOS!$N$19,vantHoff_EOS!$O$31:$X$31,vantHoff_EOS!$O$23:$X$23,$G47),\"-\")","v":"-"},{"$f":"IF(V$3<=vantHoff_EOS!$N$19,y_iindex_NS_n0i_vi_X(V$3,vantHoff_EOS!$N$19,vantHoff_EOS!$O$31:$X$31,vantHoff_EOS!$O$23:$X$23,$G47),\"-\")","v":"-"},{"$f":"IF(W$3<=vantHoff_EOS!$N$19,y_iindex_NS_n0i_vi_X(W$3,vantHoff_EOS!$N$19,vantHoff_EOS!$O$31:$X$31,vantHoff_EOS!$O$23:$X$23,$G47),\"-\")","v":"-"},{"$f":"IF(X$3<=vantHoff_EOS!$N$19,y_iindex_NS_n0i_vi_X(X$3,vantHoff_EOS!$N$19,vantHoff_EOS!$O$31:$X$31,vantHoff_EOS!$O$23:$X$23,$G47),\"-\")","v":"-"},1,{"$f":"IF(Z$3<=vantHoff_EOS!$N$19,Phi_i_NS_Tci_Pci_wi_kijm_TinC_PinPa_yi(Z$3,vantHoff_EOS!$N$19,vantHoff_EOS!$X$5:$X$14,vantHoff_EOS!$Y$5:$Y$14,vantHoff_EOS!$Z$5:$Z$14,vantHoff_EOS!$AE$5:$AN$14,B47,$C$2,$O47:$X47),\"-\")","v":1.0017567357201165},{"$f":"IF(AA$3<=vantHoff_EOS!$N$19,Phi_i_NS_Tci_Pci_wi_kijm_TinC_PinPa_yi(AA$3,vantHoff_EOS!$N$19,vantHoff_EOS!$X$5:$X$14,vantHoff_EOS!$Y$5:$Y$14,vantHoff_EOS!$Z$5:$Z$14,vantHoff_EOS!$AE$5:$AN$14,C47,$C$2,$O47:$X47),\"-\")","v":1.0006843096684395},{"$f":"IF(AB$3<=vantHoff_EOS!$N$19,Phi_i_NS_Tci_Pci_wi_kijm_TinC_PinPa_yi(AB$3,vantHoff_EOS!$N$19,vantHoff_EOS!$X$5:$X$14,vantHoff_EOS!$Y$5:$Y$14,vantHoff_EOS!$Z$5:$Z$14,vantHoff_EOS!$AE$5:$AN$14,D47,$C$2,$O47:$X47),\"-\")","v":0.98333927698362933},{"$f":"IF(AC$3<=vantHoff_EOS!$N$19,Phi_i_NS_Tci_Pci_wi_kijm_TinC_PinPa_yi(AC$3,vantHoff_EOS!$N$19,vantHoff_EOS!$X$5:$X$14,vantHoff_EOS!$Y$5:$Y$14,vantHoff_EOS!$Z$5:$Z$14,vantHoff_EOS!$AE$5:$AN$14,E47,$C$2,$O47:$X47),\"-\")","v":0.9650263111291919},{"$f":"IF(AD$3<=vantHoff_EOS!$N$19,Phi_i_NS_Tci_Pci_wi_kijm_TinC_PinPa_yi(AD$3,vantHoff_EOS!$N$19,vantHoff_EOS!$X$5:$X$14,vantHoff_EOS!$Y$5:$Y$14,vantHoff_EOS!$Z$5:$Z$14,vantHoff_EOS!$AE$5:$AN$14,F47,$C$2,$O47:$X47),\"-\")","v":1.0000415195474952},{"$f":"IF(AE$3<=vantHoff_EOS!$N$19,Phi_i_NS_Tci_Pci_wi_kijm_TinC_PinPa_yi(AE$3,vantHoff_EOS!$N$19,vantHoff_EOS!$X$5:$X$14,vantHoff_EOS!$Y$5:$Y$14,vantHoff_EOS!$Z$5:$Z$14,vantHoff_EOS!$AE$5:$AN$14,G47,$C$2,$O47:$X47),\"-\")","v":"-"},{"$f":"IF(AF$3<=vantHoff_EOS!$N$19,Phi_i_NS_Tci_Pci_wi_kijm_TinC_PinPa_yi(AF$3,vantHoff_EOS!$N$19,vantHoff_EOS!$X$5:$X$14,vantHoff_EOS!$Y$5:$Y$14,vantHoff_EOS!$Z$5:$Z$14,vantHoff_EOS!$AE$5:$AN$14,H47,$C$2,$O47:$X47),\"-\")","v":"-"},{"$f":"IF(AG$3<=vantHoff_EOS!$N$19,Phi_i_NS_Tci_Pci_wi_kijm_TinC_PinPa_yi(AG$3,vantHoff_EOS!$N$19,vantHoff_EOS!$X$5:$X$14,vantHoff_EOS!$Y$5:$Y$14,vantHoff_EOS!$Z$5:$Z$14,vantHoff_EOS!$AE$5:$AN$14,I47,$C$2,$O47:$X47),\"-\")","v":"-"},{"$f":"IF(AH$3<=vantHoff_EOS!$N$19,Phi_i_NS_Tci_Pci_wi_kijm_TinC_PinPa_yi(AH$3,vantHoff_EOS!$N$19,vantHoff_EOS!$X$5:$X$14,vantHoff_EOS!$Y$5:$Y$14,vantHoff_EOS!$Z$5:$Z$14,vantHoff_EOS!$AE$5:$AN$14,J47,$C$2,$O47:$X47),\"-\")","v":"-"},{"$f":"IF(AI$3<=vantHoff_EOS!$N$19,Phi_i_NS_Tci_Pci_wi_kijm_TinC_PinPa_yi(AI$3,vantHoff_EOS!$N$19,vantHoff_EOS!$X$5:$X$14,vantHoff_EOS!$Y$5:$Y$14,vantHoff_EOS!$Z$5:$Z$14,vantHoff_EOS!$AE$5:$AN$14,K47,$C$2,$O47:$X47),\"-\")","v":"-"}]
[45,{"$f":"B47+vantHoff_EOS!$B$26","v":88},361.15,2.7689325764917627E-3,{"$f":"lnKaT_Tref_lnKaTref_dHTref_da_db_dc_dd_de_TinC(vantHoff_EOS!$E$7,vantHoff_EOS!$B$9,vantHoff_EOS!$B$6,vantHoff_EOS!$O$27,vantHoff_EOS!$P$27,vantHoff_EOS!$Q$27,vantHoff_EOS!$R$27,vantHoff_EOS!$S$27,B48)","v":8.1327855886232996},3404.2692634069217,{"$f":"MolarExtentX_NS_vi_n0i_dHfi_dGfi_TrefinC_da_db_dc_dd_de_Tci_Pci_wi_kijm_TinC_PinPa(vantHoff_EOS!$N$19,vantHoff_EOS!$O$23:$X$23,vantHoff_EOS!$O$31:$X$31,vantHoff_EOS!$T$5:$T$14,vantHoff_EOS!$U$5:$U$14,vantHoff_EOS!$E$7,vantHoff_EOS!$O$27,vantHoff_EOS!$P$27,vantHoff_EOS!$Q$27,vantHoff_EOS!$R$27,vantHoff_EOS!$S$27,vantHoff_EOS!$X$5:$X$14,vantHoff_EOS!$Y$5:$Y$14,vantHoff_EOS!$Z$5:$Z$14,vantHoff_EOS!$AE$5:$AN$14,B48,$C$2)","v":0.74355081939637113},{"$f":"Ky_NS_n0i_vi_X(vantHoff_EOS!$N$19,vantHoff_EOS!$O$31:$X$31,vantHoff_EOS!$O$23:$X$23,G48)","v":3455.235599488185},{"$f":"Kp_NS_vi_PinPa(vantHoff_EOS!$N$19,vantHoff_EOS!$O$23:$X$23,$C$2)","v":1},{"$f":"Kphi_NS_n0i_vi_X_Tci_Pci_wi_kijm_TinC_PinPa(vantHoff_EOS!$N$19,vantHoff_EOS!$O$31:$X$31,vantHoff_EOS!$O$23:$X$23,G48,vantHoff_EOS!$X$5:$X$14,vantHoff_EOS!$Y$5:$Y$14,vantHoff_EOS!$Z$5:$Z$14,vantHoff_EOS!$AE$5:$AN$14,B48,$C$2)","v":0.98524953019875716},8.1476459247562367,0,-1.4860339741690157E-2,{"$f":"nT_NS_n0i_vi_X(vantHoff_EOS!$N$19,vantHoff_EOS!$O$31:$X$31,vantHoff_EOS!$O$23:$X$23,G48)","v":8.8528983612072576},{"$f":"IF(O$3<=vantHoff_EOS!$N$19,y_iindex_NS_n0i_vi_X(O$3,vantHoff_EOS!$N$19,vantHoff_EOS!$O$31:$X$31,vantHoff_EOS!$O$23:$X$23,$G48),\"-\")","v":2.8967821626346701E-2},{"$f":"IF(P$3<=vantHoff_EOS!$N$19,y_iindex_NS_n0i_vi_X(P$3,vantHoff_EOS!$N$19,vantHoff_EOS!$O$31:$X$31,vantHoff_EOS!$O$23:$X$23,$G48),\"-\")","v":2.8967821626346701E-2},{"$f":"IF(Q$3<=vantHoff_EOS!$N$19,y_iindex_NS_n0i_vi_X(Q$3,vantHoff_EOS!$N$19,vantHoff_EOS!$O$31:$X$31,vantHoff_EOS!$O$23:$X$23,$G48),\"-\")","v":2.8967821626346701E-2},{"$f":"IF(R$3<=vantHoff_EOS!$N$19,y_iindex_NS_n0i_vi_X(R$3,vantHoff_EOS!$N$19,vantHoff_EOS!$O$31:$X$31,vantHoff_EOS!$O$23:$X$23,$G48),\"-\")","v":8.3989535297790782E-2},{"$f":"IF(S$3<=vantHoff_EOS!$N$19,y_iindex_NS_n0i_vi_X(S$3,vantHoff_EOS!$N$19,vantHoff_EOS!$O$31:$X$31,vantHoff_EOS!$O$23:$X$23,$G48),\"-\")","v":0.82910699982316916},{"$f":"IF(T$3<=vantHoff_EOS!$N$19,y_iindex_NS_n0i_vi_X(T$3,vantHoff_EOS!$N$19,vantHoff_EOS!$O$31:$X$31,vantHoff_EOS!$O$23:$X$23,$G48),\"-\")","v":"-"},{"$f":"IF(U$3<=vantHoff_EOS!$N$19,y_iindex_NS_n0i_vi_X(U$3,vantHoff_EOS!$N$19,vantHoff_EOS!$O$31:$X$31,vantHoff_EOS!$O$23:$X$23,$G48),\"-\")","v":"-"},{"$f":"IF(V$3<=vantHoff_EOS!$N$19,y_iindex_NS_n0i_vi_X(V$3,vantHoff_EOS!$N$19,vantHoff_EOS!$O$31:$X$31,vantHoff_EOS!$O$23:$X$23,$G48),\"-\")","v":"-"},{"$f":"IF(W$3<=vantHoff_EOS!$N$19,y_iindex_NS_n0i_vi_X(W$3,vantHoff_EOS!$N$19,vantHoff_EOS!$O$31:$X$31,vantHoff_EOS!$O$23:$X$23,$G48),\"-\")","v":"-"},{"$f":"IF(X$3<=vantHoff_EOS!$N$19,y_iindex_NS_n0i_vi_X(X$3,vantHoff_EOS!$N$19,vantHoff_EOS!$O$31:$X$31,vantHoff_EOS!$O$23:$X$23,$G48),\"-\")","v":"-"},1,{"$f":"IF(Z$3<=vantHoff_EOS!$N$19,Phi_i_NS_Tci_Pci_wi_kijm_TinC_PinPa_yi(Z$3,vantHoff_EOS!$N$19,vantHoff_EOS!$X$5:$X$14,vantHoff_EOS!$Y$5:$Y$14,vantHoff_EOS!$Z$5:$Z$14,vantHoff_EOS!$AE$5:$AN$14,B48,$C$2,$O48:$X48),\"-\")","v":1.0017141179061646},{"$f":"IF(AA$3<=vantHoff_EOS!$N$19,Phi_i_NS_Tci_Pci_wi_kijm_TinC_PinPa_yi(AA$3,vantHoff_EOS!$N$19,vantHoff_EOS!$X$5:$X$14,vantHoff_EOS!$Y$5:$Y$14,vantHoff_EOS!$Z$5:$Z$14,vantHoff_EOS!$AE$5:$AN$14,C48,$C$2,$O48:$X48),\"-\")","v":1.0006723102410076},{"$f":"IF(AB$3<=vantHoff_EOS!$N$19,Phi_i_NS_Tci_Pci_wi_kijm_TinC_PinPa_yi(AB$3,vantHoff_EOS!$N$19,vantHoff_EOS!$X$5:$X$14,vantHoff_EOS!$Y$5:$Y$14,vantHoff_EOS!$Z$5:$Z$14,vantHoff_EOS!$AE$5:$AN$14,D48,$C$2,$O48:$X48),\"-\")","v":0.98337776230105245},{"$f":"IF(AC$3<=vantHoff_EOS!$N$19,Phi_i_NS_Tci_Pci_wi_kijm_TinC_PinPa_yi(AC$3,vantHoff_EOS!$N$19,vantHoff_EOS!$X$5:$X$14,vantHoff_EOS!$Y$5:$Y$14,vantHoff_EOS!$Z$5:$Z$14,vantHoff_EOS!$AE$5:$AN$14,E48,$C$2,$O48:$X48),\"-\")","v":0.96508683304743392},{"$f":"IF(AD$3<=vantHoff_EOS!$N$19,Phi_i_NS_Tci_Pci_wi_kijm_TinC_PinPa_yi(AD$3,vantHoff_EOS!$N$19,vantHoff_EOS!$X$5:$X$14,vantHoff_EOS!$Y$5:$Y$14,vantHoff_EOS!$Z$5:$Z$14,vantHoff_EOS!$AE$5:$AN$14,F48,$C$2,$O48:$X48),\"-\")","v":1.0000624356272536},{"$f":"IF(AE$3<=vantHoff_EOS!$N$19,Phi_i_NS_Tci_Pci_wi_kijm_TinC_PinPa_yi(AE$3,vantHoff_EOS!$N$19,vantHoff_EOS!$X$5:$X$14,vantHoff_EOS!$Y$5:$Y$14,vantHoff_EOS!$Z$5:$Z$14,vantHoff_EOS!$AE$5:$AN$14,G48,$C$2,$O48:$X48),\"-\")","v":"-"},{"$f":"IF(AF$3<=vantHoff_EOS!$N$19,Phi_i_NS_Tci_Pci_wi_kijm_TinC_PinPa_yi(AF$3,vantHoff_EOS!$N$19,vantHoff_EOS!$X$5:$X$14,vantHoff_EOS!$Y$5:$Y$14,vantHoff_EOS!$Z$5:$Z$14,vantHoff_EOS!$AE$5:$AN$14,H48,$C$2,$O48:$X48),\"-\")","v":"-"},{"$f":"IF(AG$3<=vantHoff_EOS!$N$19,Phi_i_NS_Tci_Pci_wi_kijm_TinC_PinPa_yi(AG$3,vantHoff_EOS!$N$19,vantHoff_EOS!$X$5:$X$14,vantHoff_EOS!$Y$5:$Y$14,vantHoff_EOS!$Z$5:$Z$14,vantHoff_EOS!$AE$5:$AN$14,I48,$C$2,$O48:$X48),\"-\")","v":"-"},{"$f":"IF(AH$3<=vantHoff_EOS!$N$19,Phi_i_NS_Tci_Pci_wi_kijm_TinC_PinPa_yi(AH$3,vantHoff_EOS!$N$19,vantHoff_EOS!$X$5:$X$14,vantHoff_EOS!$Y$5:$Y$14,vantHoff_EOS!$Z$5:$Z$14,vantHoff_EOS!$AE$5:$AN$14,J48,$C$2,$O48:$X48),\"-\")","v":"-"},{"$f":"IF(AI$3<=vantHoff_EOS!$N$19,Phi_i_NS_Tci_Pci_wi_kijm_TinC_PinPa_yi(AI$3,vantHoff_EOS!$N$19,vantHoff_EOS!$X$5:$X$14,vantHoff_EOS!$Y$5:$Y$14,vantHoff_EOS!$Z$5:$Z$14,vantHoff_EOS!$AE$5:$AN$14,K48,$C$2,$O48:$X48),\"-\")","v":"-"}]
[46,{"$f":"B48+vantHoff_EOS!$B$26","v":90},363.15,2.7536830510808208E-3,{"$f":"lnKaT_Tref_lnKaTref_dHTref_da_db_dc_dd_de_TinC(vantHoff_EOS!$E$7,vantHoff_EOS!$B$9,vantHoff_EOS!$B$6,vantHoff_EOS!$O$27,vantHoff_EOS!$P$27,vantHoff_EOS!$Q$27,vantHoff_EOS!$R$27,vantHoff_EOS!$S$27,B49)","v":7.9202081092989873},2752.343774466342,{"$f":"MolarExtentX_NS_vi_n0i_dHfi_dGfi_TrefinC_da_db_dc_dd_de_Tci_Pci_wi_kijm_TinC_PinPa(vantHoff_EOS!$N$19,vantHoff_EOS!$O$23:$X$23,vantHoff_EOS!$O$31:$X$31,vantHoff_EOS!$T$5:$T$14,vantHoff_EOS!$U$5:$U$14,vantHoff_EOS!$E$7,vantHoff_EOS!$O$27,vantHoff_EOS!$P$27,vantHoff_EOS!$Q$27,vantHoff_EOS!$R$27,vantHoff_EOS!$S$27,vantHoff_EOS!$X$5:$X$14,vantHoff_EOS!$Y$5:$Y$14,vantHoff_EOS!$Z$5:$Z$14,vantHoff_EOS!$AE$5:$AN$14,B49,$C$2)","v":0.72613870711007955},{"$f":"Ky_NS_n0i_vi_X(vantHoff_EOS!$N$19,vantHoff_EOS!$O$31:$X$31,vantHoff_EOS!$O$23:$X$23,G49)","v":2792.5991797337783},{"$f":"Kp_NS_vi_PinPa(vantHoff_EOS!$N$19,vantHoff_EOS!$O$23:$X$23,$C$2)","v":1},{"$f":"Kphi_NS_n0i_vi_X_Tci_Pci_wi_kijm_TinC_PinPa(vantHoff_EOS!$N$19,vantHoff_EOS!$O$31:$X$31,vantHoff_EOS!$O$23:$X$23,G49,vantHoff_EOS!$X$5:$X$14,vantHoff_EOS!$Y$5:$Y$14,vantHoff_EOS!$Z$5:$Z$14,vantHoff_EOS!$AE$5:$AN$14,B49,$C$2)","v":0.98558496674924767},7.9347280467795471,0,-1.4519939211611198E-2,{"$f":"nT_NS_n0i_vi_X(vantHoff_EOS!$N$19,vantHoff_EOS!$O$31:$X$31,vantHoff_EOS!$O$23:$X$23,G49)","v":8.8877225857798408},{"$f":"IF(O$3<=vantHoff_EOS!$N$19,y_iindex_NS_n0i_vi_X(O$3,vantHoff_EOS!$N$19,vantHoff_EOS!$O$31:$X$31,vantHoff_EOS!$O$23:$X$23,$G49),\"-\")","v":3.0813438453636308E-2},{"$f":"IF(P$3<=vantHoff_EOS!$N$19,y_iindex_NS_n0i_vi_X(P$3,vantHoff_EOS!$N$19,vantHoff_EOS!$O$31:$X$31,vantHoff_EOS!$O$23:$X$23,$G49),\"-\")","v":3.0813438453636308E-2},{"$f":"IF(Q$3<=vantHoff_EOS!$N$19,y_iindex_NS_n0i_vi_X(Q$3,vantHoff_EOS!$N$19,vantHoff_EOS!$O$31:$X$31,vantHoff_EOS!$O$23:$X$23,$G49),\"-\")","v":3.0813438453636308E-2},{"$f":"IF(R$3<=vantHoff_EOS!$N$19,y_iindex_NS_n0i_vi_X(R$3,vantHoff_EOS!$N$19,vantHoff_EOS!$O$31:$X$31,vantHoff_EOS!$O$23:$X$23,$G49),\"-\")","v":8.1701324507122378E-2},{"$f":"IF(S$3<=vantHoff_EOS!$N$19,y_iindex_NS_n0i_vi_X(S$3,vantHoff_EOS!$N$19,vantHoff_EOS!$O$31:$X$31,vantHoff_EOS!$O$23:$X$23,$G49),\"-\")","v":0.82585836013196867},{"$f":"IF(T$3<=vantHoff_EOS!$N$19,y_iindex_NS_n0i_vi_X(T$3,vantHoff_EOS!$N$19,vantHoff_EOS!$O$31:$X$31,vantHoff_EOS!$O$23:$X$23,$G49),\"-\")","v":"-"},{"$f":"IF(U$3<=vantHoff_EOS!$N$19,y_iindex_NS_n0i_vi_X(U$3,vantHoff_EOS!$N$19,vantHoff_EOS!$O$31:$X$31,vantHoff_EOS!$O$23:$X$23,$G49),\"-\")","v":"-"},{"$f":"IF(V$3<=vantHoff_EOS!$N$19,y_iindex_NS_n0i_vi_X(V$3,vantHoff_EOS!$N$19,vantHoff_EOS!$O$31:$X$31,vantHoff_EOS!$O$23:$X$23,$G49),\"-\")","v":"-"},{"$f":"IF(W$3<=vantHoff_EOS!$N$19,y_iindex_NS_n0i_vi_X(W$3,vantHoff_EOS!$N$19,vantHoff_EOS!$O$31:$X$31,vantHoff_EOS!$O$23:$X$23,$G49),\"-\")","v":"-"},{"$f":"IF(X$3<=vantHoff_EOS!$N$19,y_iindex_NS_n0i_vi_X(X$3,vantHoff_EOS!$N$19,vantHoff_EOS!$O$31:$X$31,vantHoff_EOS!$O$23:$X$23,$G49),\"-\")","v":"-"},1,{"$f":"IF(Z$3<=vantHoff_EOS!$N$19,Phi_i_NS_Tci_Pci_wi_kijm_TinC_PinPa_yi(Z$3,vantHoff_EOS!$N$19,vantHoff_EOS!$X$5:$X$14,vantHoff_EOS!$Y$5:$Y$14,vantHoff_EOS!$Z$5:$Z$14,vantHoff_EOS!$AE$5:$AN$14,B49,$C$2,$O49:$X49),\"-\")","v":1.0016716369648557},{"$f":"IF(AA$3<=vantHoff_EOS!$N$19,Phi_i_NS_Tci_Pci_wi_kijm_TinC_PinPa_yi(AA$3,vantHoff_EOS!$N$19,vantHoff_EOS!$X$5:$X$14,vantHoff_EOS!$Y$5:$Y$14,vantHoff_EOS!$Z$5:$Z$14,vantHoff_EOS!$AE$5:$AN$14,C49,$C$2,$O49:$X49),\"-\")","v":1.0006603191080916},{"$f":"IF(AB$3<=vantHoff_EOS!$N$19,Phi_i_NS_Tci_Pci_wi_kijm_TinC_PinPa_yi(AB$3,vantHoff_EOS!$N$19,vantHoff_EOS!$X$5:$X$14,vantHoff_EOS!$Y$5:$Y$14,vantHoff_EOS!$Z$5:$Z$14,vantHoff_EOS!$AE$5:$AN$14,D49,$C$2,$O49:$X49),\"-\")","v":0.98341831008997849},{"$f":"IF(AC$3<=vantHoff_EOS!$N$19,Phi_i_NS_Tci_Pci_wi_kijm_TinC_PinPa_yi(AC$3,vantHoff_EOS!$N$19,vantHoff_EOS!$X$5:$X$14,vantHoff_EOS!$Y$5:$Y$14,vantHoff_EOS!$Z$5:$Z$14,vantHoff_EOS!$AE$5:$AN$14,E49,$C$2,$O49:$X49),\"-\")","v":0.96515435243365622},{"$f":"IF(AD$3<=vantHoff_EOS!$N$19,Phi_i_NS_Tci_Pci_wi_kijm_TinC_PinPa_yi(AD$3,vantHoff_EOS!$N$19,vantHoff_EOS!$X$5:$X$14,vantHoff_EOS!$Y$5:$Y$14,vantHoff_EOS!$Z$5:$Z$14,vantHoff_EOS!$AE$5:$AN$14,F49,$C$2,$O49:$X49),\"-\")","v":1.00008814999837},{"$f":"IF(AE$3<=vantHoff_EOS!$N$19,Phi_i_NS_Tci_Pci_wi_kijm_TinC_PinPa_yi(AE$3,vantHoff_EOS!$N$19,vantHoff_EOS!$X$5:$X$14,vantHoff_EOS!$Y$5:$Y$14,vantHoff_EOS!$Z$5:$Z$14,vantHoff_EOS!$AE$5:$AN$14,G49,$C$2,$O49:$X49),\"-\")","v":"-"},{"$f":"IF(AF$3<=vantHoff_EOS!$N$19,Phi_i_NS_Tci_Pci_wi_kijm_TinC_PinPa_yi(AF$3,vantHoff_EOS!$N$19,vantHoff_EOS!$X$5:$X$14,vantHoff_EOS!$Y$5:$Y$14,vantHoff_EOS!$Z$5:$Z$14,vantHoff_EOS!$AE$5:$AN$14,H49,$C$2,$O49:$X49),\"-\")","v":"-"},{"$f":"IF(AG$3<=vantHoff_EOS!$N$19,Phi_i_NS_Tci_Pci_wi_kijm_TinC_PinPa_yi(AG$3,vantHoff_EOS!$N$19,vantHoff_EOS!$X$5:$X$14,vantHoff_EOS!$Y$5:$Y$14,vantHoff_EOS!$Z$5:$Z$14,vantHoff_EOS!$AE$5:$AN$14,I49,$C$2,$O49:$X49),\"-\")","v":"-"},{"$f":"IF(AH$3<=vantHoff_EOS!$N$19,Phi_i_NS_Tci_Pci_wi_kijm_TinC_PinPa_yi(AH$3,vantHoff_EOS!$N$19,vantHoff_EOS!$X$5:$X$14,vantHoff_EOS!$Y$5:$Y$14,vantHoff_EOS!$Z$5:$Z$14,vantHoff_EOS!$AE$5:$AN$14,J49,$C$2,$O49:$X49),\"-\")","v":"-"},{"$f":"IF(AI$3<=vantHoff_EOS!$N$19,Phi_i_NS_Tci_Pci_wi_kijm_TinC_PinPa_yi(AI$3,vantHoff_EOS!$N$19,vantHoff_EOS!$X$5:$X$14,vantHoff_EOS!$Y$5:$Y$14,vantHoff_EOS!$Z$5:$Z$14,vantHoff_EOS!$AE$5:$AN$14,K49,$C$2,$O49:$X49),\"-\")","v":"-"}]
[47,{"$f":"B49+vantHoff_EOS!$B$26","v":92},365.15,2.738600575106121E-3,{"$f":"lnKaT_Tref_lnKaTref_dHTref_da_db_dc_dd_de_TinC(vantHoff_EOS!$E$7,vantHoff_EOS!$B$9,vantHoff_EOS!$B$6,vantHoff_EOS!$O$27,vantHoff_EOS!$P$27,vantHoff_EOS!$Q$27,vantHoff_EOS!$R$27,vantHoff_EOS!$S$27,B50)","v":7.7099110578186796},2230.3438777140182,{"$f":"MolarExtentX_NS_vi_n0i_dHfi_dGfi_TrefinC_da_db_dc_dd_de_Tci_Pci_wi_kijm_TinC_PinPa(vantHoff_EOS!$N$19,vantHoff_EOS!$O$23:$X$23,vantHoff_EOS!$O$31:$X$31,vantHoff_EOS!$T$5:$T$14,vantHoff_EOS!$U$5:$U$14,vantHoff_EOS!$E$7,vantHoff_EOS!$O$27,vantHoff_EOS!$P$27,vantHoff_EOS!$Q$27,vantHoff_EOS!$R$27,vantHoff_EOS!$S$27,vantHoff_EOS!$X$5:$X$14,vantHoff_EOS!$Y$5:$Y$14,vantHoff_EOS!$Z$5:$Z$14,vantHoff_EOS!$AE$5:$AN$14,B50,$C$2)","v":0.70790323186234394},{"$f":"Ky_NS_n0i_vi_X(vantHoff_EOS!$N$19,vantHoff_EOS!$O$31:$X$31,vantHoff_EOS!$O$23:$X$23,G50)","v":2262.2031348747832},{"$f":"Kp_NS_vi_PinPa(vantHoff_EOS!$N$19,vantHoff_EOS!$O$23:$X$23,$C$2)","v":1},{"$f":"Kphi_NS_n0i_vi_X_Tci_Pci_wi_kijm_TinC_PinPa(vantHoff_EOS!$N$19,vantHoff_EOS!$O$31:$X$31,vantHoff_EOS!$O$23:$X$23,G50,vantHoff_EOS!$X$5:$X$14,vantHoff_EOS!$Y$5:$Y$14,vantHoff_EOS!$Z$5:$Z$14,vantHoff_EOS!$AE$5:$AN$14,B50,$C$2)","v":0.98591671172711903},7.724094455860083,0,-1.4183398812356912E-2,{"$f":"nT_NS_n0i_vi_X(vantHoff_EOS!$N$19,vantHoff_EOS!$O$31:$X$31,vantHoff_EOS!$O$23:$X$23,G50)","v":8.9241935362753111},{"$f":"IF(O$3<=vantHoff_EOS!$N$19,y_iindex_NS_n0i_vi_X(O$3,vantHoff_EOS!$N$19,vantHoff_EOS!$O$31:$X$31,vantHoff_EOS!$O$23:$X$23,$G50),\"-\")","v":3.2730886768684804E-2},{"$f":"IF(P$3<=vantHoff_EOS!$N$19,y_iindex_NS_n0i_vi_X(P$3,vantHoff_EOS!$N$19,vantHoff_EOS!$O$31:$X$31,vantHoff_EOS!$O$23:$X$23,$G50),\"-\")","v":3.2730886768684804E-2},{"$f":"IF(Q$3<=vantHoff_EOS!$N$19,y_iindex_NS_n0i_vi_X(Q$3,vantHoff_EOS!$N$19,vantHoff_EOS!$O$31:$X$31,vantHoff_EOS!$O$23:$X$23,$G50),\"-\")","v":3.2730886768684804E-2},{"$f":"IF(R$3<=vantHoff_EOS!$N$19,y_iindex_NS_n0i_vi_X(R$3,vantHoff_EOS!$N$19,vantHoff_EOS!$O$31:$X$31,vantHoff_EOS!$O$23:$X$23,$G50),\"-\")","v":7.9324056452254099E-2},{"$f":"IF(S$3<=vantHoff_EOS!$N$19,y_iindex_NS_n0i_vi_X(S$3,vantHoff_EOS!$N$19,vantHoff_EOS!$O$31:$X$31,vantHoff_EOS!$O$23:$X$23,$G50),\"-\")","v":0.82248328324169162},{"$f":"IF(T$3<=vantHoff_EOS!$N$19,y_iindex_NS_n0i_vi_X(T$3,vantHoff_EOS!$N$19,vantHoff_EOS!$O$31:$X$31,vantHoff_EOS!$O$23:$X$23,$G50),\"-\")","v":"-"},{"$f":"IF(U$3<=vantHoff_EOS!$N$19,y_iindex_NS_n0i_vi_X(U$3,vantHoff_EOS!$N$19,vantHoff_EOS!$O$31:$X$31,vantHoff_EOS!$O$23:$X$23,$G50),\"-\")","v":"-"},{"$f":"IF(V$3<=vantHoff_EOS!$N$19,y_iindex_NS_n0i_vi_X(V$3,vantHoff_EOS!$N$19,vantHoff_EOS!$O$31:$X$31,vantHoff_EOS!$O$23:$X$23,$G50),\"-\")","v":"-"},{"$f":"IF(W$3<=vantHoff_EOS!$N$19,y_iindex_NS_n0i_vi_X(W$3,vantHoff_EOS!$N$19,vantHoff_EOS!$O$31:$X$31,vantHoff_EOS!$O$23:$X$23,$G50),\"-\")","v":"-"},{"$f":"IF(X$3<=vantHoff_EOS!$N$19,y_iindex_NS_n0i_vi_X(X$3,vantHoff_EOS!$N$19,vantHoff_EOS!$O$31:$X$31,vantHoff_EOS!$O$23:$X$23,$G50),\"-\")","v":"-"},1.0000000000000002,{"$f":"IF(Z$3<=vantHoff_EOS!$N$19,Phi_i_NS_Tci_Pci_wi_kijm_TinC_PinPa_yi(Z$3,vantHoff_EOS!$N$19,vantHoff_EOS!$X$5:$X$14,vantHoff_EOS!$Y$5:$Y$14,vantHoff_EOS!$Z$5:$Z$14,vantHoff_EOS!$AE$5:$AN$14,B50,$C$2,$O50:$X50),\"-\")","v":1.0016293512773675},{"$f":"IF(AA$3<=vantHoff_EOS!$N$19,Phi_i_NS_Tci_Pci_wi_kijm_TinC_PinPa_yi(AA$3,vantHoff_EOS!$N$19,vantHoff_EOS!$X$5:$X$14,vantHoff_EOS!$Y$5:$Y$14,vantHoff_EOS!$Z$5:$Z$14,vantHoff_EOS!$AE$5:$AN$14,C50,$C$2,$O50:$X50),\"-\")","v":1.0006483490460385},{"$f":"IF(AB$3<=vantHoff_EOS!$N$19,Phi_i_NS_Tci_Pci_wi_kijm_TinC_PinPa_yi(AB$3,vantHoff_EOS!$N$19,vantHoff_EOS!$X$5:$X$14,vantHoff_EOS!$Y$5:$Y$14,vantHoff_EOS!$Z$5:$Z$14,vantHoff_EOS!$AE$5:$AN$14,D50,$C$2,$O50:$X50),\"-\")","v":0.98346094690913277},{"$f":"IF(AC$3<=vantHoff_EOS!$N$19,Phi_i_NS_Tci_Pci_wi_kijm_TinC_PinPa_yi(AC$3,vantHoff_EOS!$N$19,vantHoff_EOS!$X$5:$X$14,vantHoff_EOS!$Y$5:$Y$14,vantHoff_EOS!$Z$5:$Z$14,vantHoff_EOS!$AE$5:$AN$14,E50,$C$2,$O50:$X50),\"-\")","v":0.96522883689646999},{"$f":"IF(AD$3<=vantHoff_EOS!$N$19,Phi_i_NS_Tci_Pci_wi_kijm_TinC_PinPa_yi(AD$3,vantHoff_EOS!$N$19,vantHoff_EOS!$X$5:$X$14,vantHoff_EOS!$Y$5:$Y$14,vantHoff_EOS!$Z$5:$Z$14,vantHoff_EOS!$AE$5:$AN$14,F50,$C$2,$O50:$X50),\"-\")","v":1.0001181310239249},{"$f":"IF(AE$3<=vantHoff_EOS!$N$19,Phi_i_NS_Tci_Pci_wi_kijm_TinC_PinPa_yi(AE$3,vantHoff_EOS!$N$19,vantHoff_EOS!$X$5:$X$14,vantHoff_EOS!$Y$5:$Y$14,vantHoff_EOS!$Z$5:$Z$14,vantHoff_EOS!$AE$5:$AN$14,G50,$C$2,$O50:$X50),\"-\")","v":"-"},{"$f":"IF(AF$3<=vantHoff_EOS!$N$19,Phi_i_NS_Tci_Pci_wi_kijm_TinC_PinPa_yi(AF$3,vantHoff_EOS!$N$19,vantHoff_EOS!$X$5:$X$14,vantHoff_EOS!$Y$5:$Y$14,vantHoff_EOS!$Z$5:$Z$14,vantHoff_EOS!$AE$5:$AN$14,H50,$C$2,$O50:$X50),\"-\")","v":"-"},{"$f":"IF(AG$3<=vantHoff_EOS!$N$19,Phi_i_NS_Tci_Pci_wi_kijm_TinC_PinPa_yi(AG$3,vantHoff_EOS!$N$19,vantHoff_EOS!$X$5:$X$14,vantHoff_EOS!$Y$5:$Y$14,vantHoff_EOS!$Z$5:$Z$14,vantHoff_EOS!$AE$5:$AN$14,I50,$C$2,$O50:$X50),\"-\")","v":"-"},{"$f":"IF(AH$3<=vantHoff_EOS!$N$19,Phi_i_NS_Tci_Pci_wi_kijm_TinC_PinPa_yi(AH$3,vantHoff_EOS!$N$19,vantHoff_EOS!$X$5:$X$14,vantHoff_EOS!$Y$5:$Y$14,vantHoff_EOS!$Z$5:$Z$14,vantHoff_EOS!$AE$5:$AN$14,J50,$C$2,$O50:$X50),\"-\")","v":"-"},{"$f":"IF(AI$3<=vantHoff_EOS!$N$19,Phi_i_NS_Tci_Pci_wi_kijm_TinC_PinPa_yi(AI$3,vantHoff_EOS!$N$19,vantHoff_EOS!$X$5:$X$14,vantHoff_EOS!$Y$5:$Y$14,vantHoff_EOS!$Z$5:$Z$14,vantHoff_EOS!$AE$5:$AN$14,K50,$C$2,$O50:$X50),\"-\")","v":"-"}]
[48,{"$f":"B50+vantHoff_EOS!$B$26","v":94},367.15,2.7236824186299877E-3,{"$f":"lnKaT_Tref_lnKaTref_dHTref_da_db_dc_dd_de_TinC(vantHoff_EOS!$E$7,vantHoff_EOS!$B$9,vantHoff_EOS!$B$6,vantHoff_EOS!$O$27,vantHoff_EOS!$P$27,vantHoff_EOS!$Q$27,vantHoff_EOS!$R$27,vantHoff_EOS!$S$27,B51)","v":7.5018578039108235},1811.4045248284647,{"$f":"MolarExtentX_NS_vi_n0i_dHfi_dGfi_TrefinC_da_db_dc_dd_de_Tci_Pci_wi_kijm_TinC_PinPa(vantHoff_EOS!$N$19,vantHoff_EOS!$O$23:$X$23,vantHoff_EOS!$O$31:$X$31,vantHoff_EOS!$T$5:$T$14,vantHoff_EOS!$U$5:$U$14,vantHoff_EOS!$E$7,vantHoff_EOS!$O$27,vantHoff_EOS!$P$27,vantHoff_EOS!$Q$27,vantHoff_EOS!$R$27,vantHoff_EOS!$S$27,vantHoff_EOS!$X$5:$X$14,vantHoff_EOS!$Y$5:$Y$14,vantHoff_EOS!$Z$5:$Z$14,vantHoff_EOS!$AE$5:$AN$14,B51,$C$2)","v":0.68884493996618368},{"$f":"Ky_NS_n0i_vi_X(vantHoff_EOS!$N$19,vantHoff_EOS!$O$31:$X$31,vantHoff_EOS!$O$23:$X$23,G51)","v":1836.6686115174971},{"$f":"Kp_NS_vi_PinPa(vantHoff_EOS!$N$19,vantHoff_EOS!$O$23:$X$23,$C$2)","v":1},{"$f":"Kphi_NS_n0i_vi_X_Tci_Pci_wi_kijm_TinC_PinPa(vantHoff_EOS!$N$19,vantHoff_EOS!$O$31:$X$31,vantHoff_EOS!$O$23:$X$23,G51,vantHoff_EOS!$X$5:$X$14,vantHoff_EOS!$Y$5:$Y$14,vantHoff_EOS!$Z$5:$Z$14,vantHoff_EOS!$AE$5:$AN$14,B51,$C$2)","v":0.98624461315444467},7.5157086723807387,0,-1.3850868784300674E-2,{"$f":"nT_NS_n0i_vi_X(vantHoff_EOS!$N$19,vantHoff_EOS!$O$31:$X$31,vantHoff_EOS!$O$23:$X$23,G51)","v":8.9623101200676327},{"$f":"IF(O$3<=vantHoff_EOS!$N$19,y_iindex_NS_n0i_vi_X(O$3,vantHoff_EOS!$N$19,vantHoff_EOS!$O$31:$X$31,vantHoff_EOS!$O$23:$X$23,$G51),\"-\")","v":3.4718175990931702E-2},{"$f":"IF(P$3<=vantHoff_EOS!$N$19,y_iindex_NS_n0i_vi_X(P$3,vantHoff_EOS!$N$19,vantHoff_EOS!$O$31:$X$31,vantHoff_EOS!$O$23:$X$23,$G51),\"-\")","v":3.4718175990931702E-2},{"$f":"IF(Q$3<=vantHoff_EOS!$N$19,y_iindex_NS_n0i_vi_X(Q$3,vantHoff_EOS!$N$19,vantHoff_EOS!$O$31:$X$31,vantHoff_EOS!$O$23:$X$23,$G51),\"-\")","v":3.4718175990931702E-2},{"$f":"IF(R$3<=vantHoff_EOS!$N$19,y_iindex_NS_n0i_vi_X(R$3,vantHoff_EOS!$N$19,vantHoff_EOS!$O$31:$X$31,vantHoff_EOS!$O$23:$X$23,$G51),\"-\")","v":7.6860199071194985E-2},{"$f":"IF(S$3<=vantHoff_EOS!$N$19,y_iindex_NS_n0i_vi_X(S$3,vantHoff_EOS!$N$19,vantHoff_EOS!$O$31:$X$31,vantHoff_EOS!$O$23:$X$23,$G51),\"-\")","v":0.81898527295600987},{"$f":"IF(T$3<=vantHoff_EOS!$N$19,y_iindex_NS_n0i_vi_X(T$3,vantHoff_EOS!$N$19,vantHoff_EOS!$O$31:$X$31,vantHoff_EOS!$O$23:$X$23,$G51),\"-\")","v":"-"},{"$f":"IF(U$3<=vantHoff_EOS!$N$19,y_iindex_NS_n0i_vi_X(U$3,vantHoff_EOS!$N$19,vantHoff_EOS!$O$31:$X$31,vantHoff_EOS!$O$23:$X$23,$G51),\"-\")","v":"-"},{"$f":"IF(V$3<=vantHoff_EOS!$N$19,y_iindex_NS_n0i_vi_X(V$3,vantHoff_EOS!$N$19,vantHoff_EOS!$O$31:$X$31,vantHoff_EOS!$O$23:$X$23,$G51),\"-\")","v":"-"},{"$f":"IF(W$3<=vantHoff_EOS!$N$19,y_iindex_NS_n0i_vi_X(W$3,vantHoff_EOS!$N$19,vantHoff_EOS!$O$31:$X$31,vantHoff_EOS!$O$23:$X$23,$G51),\"-\")","v":"-"},{"$f":"IF(X$3<=vantHoff_EOS!$N$19,y_iindex_NS_n0i_vi_X(X$3,vantHoff_EOS!$N$19,vantHoff_EOS!$O$31:$X$31,vantHoff_EOS!$O$23:$X$23,$G51),\"-\")","v":"-"},1,{"$f":"IF(Z$3<=vantHoff_EOS!$N$19,Phi_i_NS_Tci_Pci_wi_kijm_TinC_PinPa_yi(Z$3,vantHoff_EOS!$N$19,vantHoff_EOS!$X$5:$X$14,vantHoff_EOS!$Y$5:$Y$14,vantHoff_EOS!$Z$5:$Z$14,vantHoff_EOS!$AE$5:$AN$14,B51,$C$2,$O51:$X51),\"-\")","v":1.0015873250756984},{"$f":"IF(AA$3<=vantHoff_EOS!$N$19,Phi_i_NS_Tci_Pci_wi_kijm_TinC_PinPa_yi(AA$3,vantHoff_EOS!$N$19,vantHoff_EOS!$X$5:$X$14,vantHoff_EOS!$Y$5:$Y$14,vantHoff_EOS!$Z$5:$Z$14,vantHoff_EOS!$AE$5:$AN$14,C51,$C$2,$O51:$X51),\"-\")","v":1.0006364143419939},{"$f":"IF(AB$3<=vantHoff_EOS!$N$19,Phi_i_NS_Tci_Pci_wi_kijm_TinC_PinPa_yi(AB$3,vantHoff_EOS!$N$19,vantHoff_EOS!$X$5:$X$14,vantHoff_EOS!$Y$5:$Y$14,vantHoff_EOS!$Z$5:$Z$14,vantHoff_EOS!$AE$5:$AN$14,D51,$C$2,$O51:$X51),\"-\")","v":0.98350568598754096},{"$f":"IF(AC$3<=vantHoff_EOS!$N$19,Phi_i_NS_Tci_Pci_wi_kijm_TinC_PinPa_yi(AC$3,vantHoff_EOS!$N$19,vantHoff_EOS!$X$5:$X$14,vantHoff_EOS!$Y$5:$Y$14,vantHoff_EOS!$Z$5:$Z$14,vantHoff_EOS!$AE$5:$AN$14,E51,$C$2,$O51:$X51),\"-\")","v":0.96531020696941483},{"$f":"IF(AD$3<=vantHoff_EOS!$N$19,Phi_i_NS_Tci_Pci_wi_kijm_TinC_PinPa_yi(AD$3,vantHoff_EOS!$N$19,vantHoff_EOS!$X$5:$X$14,vantHoff_EOS!$Y$5:$Y$14,vantHoff_EOS!$Z$5:$Z$14,vantHoff_EOS!$AE$5:$AN$14,F51,$C$2,$O51:$X51),\"-\")","v":1.0001508136303141},{"$f":"IF(AE$3<=vantHoff_EOS!$N$19,Phi_i_NS_Tci_Pci_wi_kijm_TinC_PinPa_yi(AE$3,vantHoff_EOS!$N$19,vantHoff_EOS!$X$5:$X$14,vantHoff_EOS!$Y$5:$Y$14,vantHoff_EOS!$Z$5:$Z$14,vantHoff_EOS!$AE$5:$AN$14,G51,$C$2,$O51:$X51),\"-\")","v":"-"},{"$f":"IF(AF$3<=vantHoff_EOS!$N$19,Phi_i_NS_Tci_Pci_wi_kijm_TinC_PinPa_yi(AF$3,vantHoff_EOS!$N$19,vantHoff_EOS!$X$5:$X$14,vantHoff_EOS!$Y$5:$Y$14,vantHoff_EOS!$Z$5:$Z$14,vantHoff_EOS!$AE$5:$AN$14,H51,$C$2,$O51:$X51),\"-\")","v":"-"},{"$f":"IF(AG$3<=vantHoff_EOS!$N$19,Phi_i_NS_Tci_Pci_wi_kijm_TinC_PinPa_yi(AG$3,vantHoff_EOS!$N$19,vantHoff_EOS!$X$5:$X$14,vantHoff_EOS!$Y$5:$Y$14,vantHoff_EOS!$Z$5:$Z$14,vantHoff_EOS!$AE$5:$AN$14,I51,$C$2,$O51:$X51),\"-\")","v":"-"},{"$f":"IF(AH$3<=vantHoff_EOS!$N$19,Phi_i_NS_Tci_Pci_wi_kijm_TinC_PinPa_yi(AH$3,vantHoff_EOS!$N$19,vantHoff_EOS!$X$5:$X$14,vantHoff_EOS!$Y$5:$Y$14,vantHoff_EOS!$Z$5:$Z$14,vantHoff_EOS!$AE$5:$AN$14,J51,$C$2,$O51:$X51),\"-\")","v":"-"},{"$f":"IF(AI$3<=vantHoff_EOS!$N$19,Phi_i_NS_Tci_Pci_wi_kijm_TinC_PinPa_yi(AI$3,vantHoff_EOS!$N$19,vantHoff_EOS!$X$5:$X$14,vantHoff_EOS!$Y$5:$Y$14,vantHoff_EOS!$Z$5:$Z$14,vantHoff_EOS!$AE$5:$AN$14,K51,$C$2,$O51:$X51),\"-\")","v":"-"}]
[49,{"$f":"B51+vantHoff_EOS!$B$26","v":96},369.15,2.7089259108763375E-3,{"$f":"lnKaT_Tref_lnKaTref_dHTref_da_db_dc_dd_de_TinC(vantHoff_EOS!$E$7,vantHoff_EOS!$B$9,vantHoff_EOS!$B$6,vantHoff_EOS!$O$27,vantHoff_EOS!$P$27,vantHoff_EOS!$Q$27,vantHoff_EOS!$R$27,vantHoff_EOS!$S$27,B52)","v":7.2960125053115608},1474.4089923280706,{"$f":"MolarExtentX_NS_vi_n0i_dHfi_dGfi_TrefinC_da_db_dc_dd_de_Tci_Pci_wi_kijm_TinC_PinPa(vantHoff_EOS!$N$19,vantHoff_EOS!$O$23:$X$23,vantHoff_EOS!$O$31:$X$31,vantHoff_EOS!$T$5:$T$14,vantHoff_EOS!$U$5:$U$14,vantHoff_EOS!$E$7,vantHoff_EOS!$O$27,vantHoff_EOS!$P$27,vantHoff_EOS!$Q$27,vantHoff_EOS!$R$27,vantHoff_EOS!$S$27,vantHoff_EOS!$X$5:$X$14,vantHoff_EOS!$Y$5:$Y$14,vantHoff_EOS!$Z$5:$Z$14,vantHoff_EOS!$AE$5:$AN$14,B52,$C$2)","v":0.66897053362546921},{"$f":"Ky_NS_n0i_vi_X(vantHoff_EOS!$N$19,vantHoff_EOS!$O$31:$X$31,vantHoff_EOS!$O$23:$X$23,G52)","v":1494.4821436233617},{"$f":"Kp_NS_vi_PinPa(vantHoff_EOS!$N$19,vantHoff_EOS!$O$23:$X$23,$C$2)","v":1},{"$f":"Kphi_NS_n0i_vi_X_Tci_Pci_wi_kijm_TinC_PinPa(vantHoff_EOS!$N$19,vantHoff_EOS!$O$31:$X$31,vantHoff_EOS!$O$23:$X$23,G52,vantHoff_EOS!$X$5:$X$14,vantHoff_EOS!$Y$5:$Y$14,vantHoff_EOS!$Z$5:$Z$14,vantHoff_EOS!$AE$5:$AN$14,B52,$C$2)","v":0.98656849026207216},7.309535033591966,0,-1.3522528395668526E-2,{"$f":"nT_NS_n0i_vi_X(vantHoff_EOS!$N$19,vantHoff_EOS!$O$31:$X$31,vantHoff_EOS!$O$23:$X$23,G52)","v":9.0020589327490619},{"$f":"IF(O$3<=vantHoff_EOS!$N$19,y_iindex_NS_n0i_vi_X(O$3,vantHoff_EOS!$N$19,vantHoff_EOS!$O$31:$X$31,vantHoff_EOS!$O$23:$X$23,$G52),\"-\")","v":3.6772639331460202E-2},{"$f":"IF(P$3<=vantHoff_EOS!$N$19,y_iindex_NS_n0i_vi_X(P$3,vantHoff_EOS!$N$19,vantHoff_EOS!$O$31:$X$31,vantHoff_EOS!$O$23:$X$23,$G52),\"-\")","v":3.6772639331460202E-2},{"$f":"IF(Q$3<=vantHoff_EOS!$N$19,y_iindex_NS_n0i_vi_X(Q$3,vantHoff_EOS!$N$19,vantHoff_EOS!$O$31:$X$31,vantHoff_EOS!$O$23:$X$23,$G52),\"-\")","v":3.6772639331460202E-2},{"$f":"IF(R$3<=vantHoff_EOS!$N$19,y_iindex_NS_n0i_vi_X(R$3,vantHoff_EOS!$N$19,vantHoff_EOS!$O$31:$X$31,vantHoff_EOS!$O$23:$X$23,$G52),\"-\")","v":7.4313058670587712E-2},{"$f":"IF(S$3<=vantHoff_EOS!$N$19,y_iindex_NS_n0i_vi_X(S$3,vantHoff_EOS!$N$19,vantHoff_EOS!$O$31:$X$31,vantHoff_EOS!$O$23:$X$23,$G52),\"-\")","v":0.8153690233350317},{"$f":"IF(T$3<=vantHoff_EOS!$N$19,y_iindex_NS_n0i_vi_X(T$3,vantHoff_EOS!$N$19,vantHoff_EOS!$O$31:$X$31,vantHoff_EOS!$O$23:$X$23,$G52),\"-\")","v":"-"},{"$f":"IF(U$3<=vantHoff_EOS!$N$19,y_iindex_NS_n0i_vi_X(U$3,vantHoff_EOS!$N$19,vantHoff_EOS!$O$31:$X$31,vantHoff_EOS!$O$23:$X$23,$G52),\"-\")","v":"-"},{"$f":"IF(V$3<=vantHoff_EOS!$N$19,y_iindex_NS_n0i_vi_X(V$3,vantHoff_EOS!$N$19,vantHoff_EOS!$O$31:$X$31,vantHoff_EOS!$O$23:$X$23,$G52),\"-\")","v":"-"},{"$f":"IF(W$3<=vantHoff_EOS!$N$19,y_iindex_NS_n0i_vi_X(W$3,vantHoff_EOS!$N$19,vantHoff_EOS!$O$31:$X$31,vantHoff_EOS!$O$23:$X$23,$G52),\"-\")","v":"-"},{"$f":"IF(X$3<=vantHoff_EOS!$N$19,y_iindex_NS_n0i_vi_X(X$3,vantHoff_EOS!$N$19,vantHoff_EOS!$O$31:$X$31,vantHoff_EOS!$O$23:$X$23,$G52),\"-\")","v":"-"},1,{"$f":"IF(Z$3<=vantHoff_EOS!$N$19,Phi_i_NS_Tci_Pci_wi_kijm_TinC_PinPa_yi(Z$3,vantHoff_EOS!$N$19,vantHoff_EOS!$X$5:$X$14,vantHoff_EOS!$Y$5:$Y$14,vantHoff_EOS!$Z$5:$Z$14,vantHoff_EOS!$AE$5:$AN$14,B52,$C$2,$O52:$X52),\"-\")","v":1.001545628258335},{"$f":"IF(AA$3<=vantHoff_EOS!$N$19,Phi_i_NS_Tci_Pci_wi_kijm_TinC_PinPa_yi(AA$3,vantHoff_EOS!$N$19,vantHoff_EOS!$X$5:$X$14,vantHoff_EOS!$Y$5:$Y$14,vantHoff_EOS!$Z$5:$Z$14,vantHoff_EOS!$AE$5:$AN$14,C52,$C$2,$O52:$X52),\"-\")","v":1.0006245307829469},{"$f":"IF(AB$3<=vantHoff_EOS!$N$19,Phi_i_NS_Tci_Pci_wi_kijm_TinC_PinPa_yi(AB$3,vantHoff_EOS!$N$19,vantHoff_EOS!$X$5:$X$14,vantHoff_EOS!$Y$5:$Y$14,vantHoff_EOS!$Z$5:$Z$14,vantHoff_EOS!$AE$5:$AN$14,D52,$C$2,$O52:$X52),\"-\")","v":0.98355252487675349},{"$f":"IF(AC$3<=vantHoff_EOS!$N$19,Phi_i_NS_Tci_Pci_wi_kijm_TinC_PinPa_yi(AC$3,vantHoff_EOS!$N$19,vantHoff_EOS!$X$5:$X$14,vantHoff_EOS!$Y$5:$Y$14,vantHoff_EOS!$Z$5:$Z$14,vantHoff_EOS!$AE$5:$AN$14,E52,$C$2,$O52:$X52),\"-\")","v":0.96539833041165923},{"$f":"IF(AD$3<=vantHoff_EOS!$N$19,Phi_i_NS_Tci_Pci_wi_kijm_TinC_PinPa_yi(AD$3,vantHoff_EOS!$N$19,vantHoff_EOS!$X$5:$X$14,vantHoff_EOS!$Y$5:$Y$14,vantHoff_EOS!$Z$5:$Z$14,vantHoff_EOS!$AE$5:$AN$14,F52,$C$2,$O52:$X52),\"-\")","v":1.0001846156994108},{"$f":"IF(AE$3<=vantHoff_EOS!$N$19,Phi_i_NS_Tci_Pci_wi_kijm_TinC_PinPa_yi(AE$3,vantHoff_EOS!$N$19,vantHoff_EOS!$X$5:$X$14,vantHoff_EOS!$Y$5:$Y$14,vantHoff_EOS!$Z$5:$Z$14,vantHoff_EOS!$AE$5:$AN$14,G52,$C$2,$O52:$X52),\"-\")","v":"-"},{"$f":"IF(AF$3<=vantHoff_EOS!$N$19,Phi_i_NS_Tci_Pci_wi_kijm_TinC_PinPa_yi(AF$3,vantHoff_EOS!$N$19,vantHoff_EOS!$X$5:$X$14,vantHoff_EOS!$Y$5:$Y$14,vantHoff_EOS!$Z$5:$Z$14,vantHoff_EOS!$AE$5:$AN$14,H52,$C$2,$O52:$X52),\"-\")","v":"-"},{"$f":"IF(AG$3<=vantHoff_EOS!$N$19,Phi_i_NS_Tci_Pci_wi_kijm_TinC_PinPa_yi(AG$3,vantHoff_EOS!$N$19,vantHoff_EOS!$X$5:$X$14,vantHoff_EOS!$Y$5:$Y$14,vantHoff_EOS!$Z$5:$Z$14,vantHoff_EOS!$AE$5:$AN$14,I52,$C$2,$O52:$X52),\"-\")","v":"-"},{"$f":"IF(AH$3<=vantHoff_EOS!$N$19,Phi_i_NS_Tci_Pci_wi_kijm_TinC_PinPa_yi(AH$3,vantHoff_EOS!$N$19,vantHoff_EOS!$X$5:$X$14,vantHoff_EOS!$Y$5:$Y$14,vantHoff_EOS!$Z$5:$Z$14,vantHoff_EOS!$AE$5:$AN$14,J52,$C$2,$O52:$X52),\"-\")","v":"-"},{"$f":"IF(AI$3<=vantHoff_EOS!$N$19,Phi_i_NS_Tci_Pci_wi_kijm_TinC_PinPa_yi(AI$3,vantHoff_EOS!$N$19,vantHoff_EOS!$X$5:$X$14,vantHoff_EOS!$Y$5:$Y$14,vantHoff_EOS!$Z$5:$Z$14,vantHoff_EOS!$AE$5:$AN$14,K52,$C$2,$O52:$X52),\"-\")","v":"-"}]
[50,{"$f":"B52+vantHoff_EOS!$B$26","v":98},371.15,2.6943284386366701E-3,{"$f":"lnKaT_Tref_lnKaTref_dHTref_da_db_dc_dd_de_TinC(vantHoff_EOS!$E$7,vantHoff_EOS!$B$9,vantHoff_EOS!$B$6,vantHoff_EOS!$O$27,vantHoff_EOS!$P$27,vantHoff_EOS!$Q$27,vantHoff_EOS!$R$27,vantHoff_EOS!$S$27,B53)","v":7.0923400866116655},1202.7189767052198,{"$f":"MolarExtentX_NS_vi_n0i_dHfi_dGfi_TrefinC_da_db_dc_dd_de_Tci_Pci_wi_kijm_TinC_PinPa(vantHoff_EOS!$N$19,vantHoff_EOS!$O$23:$X$23,vantHoff_EOS!$O$31:$X$31,vantHoff_EOS!$T$5:$T$14,vantHoff_EOS!$U$5:$U$14,vantHoff_EOS!$E$7,vantHoff_EOS!$O$27,vantHoff_EOS!$P$27,vantHoff_EOS!$Q$27,vantHoff_EOS!$R$27,vantHoff_EOS!$S$27,vantHoff_EOS!$X$5:$X$14,vantHoff_EOS!$Y$5:$Y$14,vantHoff_EOS!$Z$5:$Z$14,vantHoff_EOS!$AE$5:$AN$14,B53,$C$2)","v":0.64829374469783796},{"$f":"Ky_NS_n0i_vi_X(vantHoff_EOS!$N$19,vantHoff_EOS!$O$31:$X$31,vantHoff_EOS!$O$23:$X$23,G53)","v":1218.6983869110218},{"$f":"Kp_NS_vi_PinPa(vantHoff_EOS!$N$19,vantHoff_EOS!$O$23:$X$23,$C$2)","v":1},{"$f":"Kphi_NS_n0i_vi_X_Tci_Pci_wi_kijm_TinC_PinPa(vantHoff_EOS!$N$19,vantHoff_EOS!$O$31:$X$31,vantHoff_EOS!$O$23:$X$23,G53,vantHoff_EOS!$X$5:$X$14,vantHoff_EOS!$Y$5:$Y$14,vantHoff_EOS!$Z$5:$Z$14,vantHoff_EOS!$AE$5:$AN$14,B53,$C$2)","v":0.98688813374826123},7.1055386722140916,0,-1.3198585639496097E-2,{"$f":"nT_NS_n0i_vi_X(vantHoff_EOS!$N$19,vantHoff_EOS!$O$31:$X$31,vantHoff_EOS!$O$23:$X$23,G53)","v":9.0434125106043233},{"$f":"IF(O$3<=vantHoff_EOS!$N$19,y_iindex_NS_n0i_vi_X(O$3,vantHoff_EOS!$N$19,vantHoff_EOS!$O$31:$X$31,vantHoff_EOS!$O$23:$X$23,$G53),\"-\")","v":3.8890878292873472E-2},{"$f":"IF(P$3<=vantHoff_EOS!$N$19,y_iindex_NS_n0i_vi_X(P$3,vantHoff_EOS!$N$19,vantHoff_EOS!$O$31:$X$31,vantHoff_EOS!$O$23:$X$23,$G53),\"-\")","v":3.8890878292873472E-2},{"$f":"IF(Q$3<=vantHoff_EOS!$N$19,y_iindex_NS_n0i_vi_X(Q$3,vantHoff_EOS!$N$19,vantHoff_EOS!$O$31:$X$31,vantHoff_EOS!$O$23:$X$23,$G53),\"-\")","v":3.8890878292873472E-2},{"$f":"IF(R$3<=vantHoff_EOS!$N$19,y_iindex_NS_n0i_vi_X(R$3,vantHoff_EOS!$N$19,vantHoff_EOS!$O$31:$X$31,vantHoff_EOS!$O$23:$X$23,$G53),\"-\")","v":7.1686848735214442E-2},{"$f":"IF(S$3<=vantHoff_EOS!$N$19,y_iindex_NS_n0i_vi_X(S$3,vantHoff_EOS!$N$19,vantHoff_EOS!$O$31:$X$31,vantHoff_EOS!$O$23:$X$23,$G53),\"-\")","v":0.81164051638616519},{"$f":"IF(T$3<=vantHoff_EOS!$N$19,y_iindex_NS_n0i_vi_X(T$3,vantHoff_EOS!$N$19,vantHoff_EOS!$O$31:$X$31,vantHoff_EOS!$O$23:$X$23,$G53),\"-\")","v":"-"},{"$f":"IF(U$3<=vantHoff_EOS!$N$19,y_iindex_NS_n0i_vi_X(U$3,vantHoff_EOS!$N$19,vantHoff_EOS!$O$31:$X$31,vantHoff_EOS!$O$23:$X$23,$G53),\"-\")","v":"-"},{"$f":"IF(V$3<=vantHoff_EOS!$N$19,y_iindex_NS_n0i_vi_X(V$3,vantHoff_EOS!$N$19,vantHoff_EOS!$O$31:$X$31,vantHoff_EOS!$O$23:$X$23,$G53),\"-\")","v":"-"},{"$f":"IF(W$3<=vantHoff_EOS!$N$19,y_iindex_NS_n0i_vi_X(W$3,vantHoff_EOS!$N$19,vantHoff_EOS!$O$31:$X$31,vantHoff_EOS!$O$23:$X$23,$G53),\"-\")","v":"-"},{"$f":"IF(X$3<=vantHoff_EOS!$N$19,y_iindex_NS_n0i_vi_X(X$3,vantHoff_EOS!$N$19,vantHoff_EOS!$O$31:$X$31,vantHoff_EOS!$O$23:$X$23,$G53),\"-\")","v":"-"},1,{"$f":"IF(Z$3<=vantHoff_EOS!$N$19,Phi_i_NS_Tci_Pci_wi_kijm_TinC_PinPa_yi(Z$3,vantHoff_EOS!$N$19,vantHoff_EOS!$X$5:$X$14,vantHoff_EOS!$Y$5:$Y$14,vantHoff_EOS!$Z$5:$Z$14,vantHoff_EOS!$AE$5:$AN$14,B53,$C$2,$O53:$X53),\"-\")","v":1.00150433610497},{"$f":"IF(AA$3<=vantHoff_EOS!$N$19,Phi_i_NS_Tci_Pci_wi_kijm_TinC_PinPa_yi(AA$3,vantHoff_EOS!$N$19,vantHoff_EOS!$X$5:$X$14,vantHoff_EOS!$Y$5:$Y$14,vantHoff_EOS!$Z$5:$Z$14,vantHoff_EOS!$AE$5:$AN$14,C53,$C$2,$O53:$X53),\"-\")","v":1.0006127156216098},{"$f":"IF(AB$3<=vantHoff_EOS!$N$19,Phi_i_NS_Tci_Pci_wi_kijm_TinC_PinPa_yi(AB$3,vantHoff_EOS!$N$19,vantHoff_EOS!$X$5:$X$14,vantHoff_EOS!$Y$5:$Y$14,vantHoff_EOS!$Z$5:$Z$14,vantHoff_EOS!$AE$5:$AN$14,D53,$C$2,$O53:$X53),\"-\")","v":0.9836014429533062},{"$f":"IF(AC$3<=vantHoff_EOS!$N$19,Phi_i_NS_Tci_Pci_wi_kijm_TinC_PinPa_yi(AC$3,vantHoff_EOS!$N$19,vantHoff_EOS!$X$5:$X$14,vantHoff_EOS!$Y$5:$Y$14,vantHoff_EOS!$Z$5:$Z$14,vantHoff_EOS!$AE$5:$AN$14,E53,$C$2,$O53:$X53),\"-\")","v":0.9654930164086587},{"$f":"IF(AD$3<=vantHoff_EOS!$N$19,Phi_i_NS_Tci_Pci_wi_kijm_TinC_PinPa_yi(AD$3,vantHoff_EOS!$N$19,vantHoff_EOS!$X$5:$X$14,vantHoff_EOS!$Y$5:$Y$14,vantHoff_EOS!$Z$5:$Z$14,vantHoff_EOS!$AE$5:$AN$14,F53,$C$2,$O53:$X53),\"-\")","v":1.0002133928556003},{"$f":"IF(AE$3<=vantHoff_EOS!$N$19,Phi_i_NS_Tci_Pci_wi_kijm_TinC_PinPa_yi(AE$3,vantHoff_EOS!$N$19,vantHoff_EOS!$X$5:$X$14,vantHoff_EOS!$Y$5:$Y$14,vantHoff_EOS!$Z$5:$Z$14,vantHoff_EOS!$AE$5:$AN$14,G53,$C$2,$O53:$X53),\"-\")","v":"-"},{"$f":"IF(AF$3<=vantHoff_EOS!$N$19,Phi_i_NS_Tci_Pci_wi_kijm_TinC_PinPa_yi(AF$3,vantHoff_EOS!$N$19,vantHoff_EOS!$X$5:$X$14,vantHoff_EOS!$Y$5:$Y$14,vantHoff_EOS!$Z$5:$Z$14,vantHoff_EOS!$AE$5:$AN$14,H53,$C$2,$O53:$X53),\"-\")","v":"-"},{"$f":"IF(AG$3<=vantHoff_EOS!$N$19,Phi_i_NS_Tci_Pci_wi_kijm_TinC_PinPa_yi(AG$3,vantHoff_EOS!$N$19,vantHoff_EOS!$X$5:$X$14,vantHoff_EOS!$Y$5:$Y$14,vantHoff_EOS!$Z$5:$Z$14,vantHoff_EOS!$AE$5:$AN$14,I53,$C$2,$O53:$X53),\"-\")","v":"-"},{"$f":"IF(AH$3<=vantHoff_EOS!$N$19,Phi_i_NS_Tci_Pci_wi_kijm_TinC_PinPa_yi(AH$3,vantHoff_EOS!$N$19,vantHoff_EOS!$X$5:$X$14,vantHoff_EOS!$Y$5:$Y$14,vantHoff_EOS!$Z$5:$Z$14,vantHoff_EOS!$AE$5:$AN$14,J53,$C$2,$O53:$X53),\"-\")","v":"-"},{"$f":"IF(AI$3<=vantHoff_EOS!$N$19,Phi_i_NS_Tci_Pci_wi_kijm_TinC_PinPa_yi(AI$3,vantHoff_EOS!$N$19,vantHoff_EOS!$X$5:$X$14,vantHoff_EOS!$Y$5:$Y$14,vantHoff_EOS!$Z$5:$Z$14,vantHoff_EOS!$AE$5:$AN$14,K53,$C$2,$O53:$X53),\"-\")","v":"-"}]
[]
[]
[]
[]
[null,null,null,null,null,null,null,null,null,null,null,null,null,null,null,null,null,null,"Mole fractions yi"]
[null,"P [Pa]",{"$f":"vantHoff_EOS!$B$29*1000000","v":12000000},{"$f":"TEXT(C59/1000000,\"????.?\")&\" MPa\"","v":"  12.  MPa"},null,null,null,null,null,null,null,null,null,null,"y1","y2","y3","y4","y5","y6","y7","y8","y9","y10",null,null,null,null,"Fugacity coefficients"]
[null,"T [C]","T [K]","1/T [1/K]","ln Ka_T","Ka_T","X","Ky","Kp","Kphi","ln Ky","ln Kp","ln Kphi (P2)","nT [mol]",1,2,3,4,5,6,7,8,9,10,"Sum y",1,2,3,4,5,6,7,8,9,10]
[1,{"$f":"vantHoff_EOS!$B$30","v":0},{"$f":"B61+273.15","v":273.14999999999998},{"$f":"1/C61","v":3.6609921288669233E-3},{"$f":"lnKaT_Tref_lnKaTref_dHTref_da_db_dc_dd_de_TinC(vantHoff_EOS!$E$7,vantHoff_EOS!$B$9,vantHoff_EOS!$B$6,vantHoff_EOS!$O$27,vantHoff_EOS!$P$27,vantHoff_EOS!$Q$27,vantHoff_EOS!$R$27,vantHoff_EOS!$S$27,B61)","v":20.48959566238808},{"$f":"EXP(E61)","v":791622870.20484126},{"$f":"MolarExtentX_NS_vi_n0i_dHfi_dGfi_TrefinC_da_db_dc_dd_de_Tci_Pci_wi_kijm_TinC_PinPa(vantHoff_EOS!$N$19,vantHoff_EOS!$O$23:$X$23,vantHoff_EOS!$O$31:$X$31,vantHoff_EOS!$T$5:$T$14,vantHoff_EOS!$U$5:$U$14,vantHoff_EOS!$E$7,vantHoff_EOS!$O$27,vantHoff_EOS!$P$27,vantHoff_EOS!$Q$27,vantHoff_EOS!$R$27,vantHoff_EOS!$S$27,vantHoff_EOS!$X$5:$X$14,vantHoff_EOS!$Y$5:$Y$14,vantHoff_EOS!$Z$5:$Z$14,vantHoff_EOS!$AE$5:$AN$14,B61,$C$59)","v":0.99999085436805735},{"$f":"Ky_NS_n0i_vi_X(vantHoff_EOS!$N$19,vantHoff_EOS!$O$31:$X$31,vantHoff_EOS!$O$23:$X$23,G61)","v":9.0926165266319088E+16},{"$f":"Kp_NS_vi_PinPa(vantHoff_EOS!$N$19,vantHoff_EOS!$O$23:$X$23,$C$59)","v":6.9444444444444444E-5},{"$f":"Kphi_NS_n0i_vi_X_Tci_Pci_wi_kijm_TinC_PinPa(vantHoff_EOS!$N$19,vantHoff_EOS!$O$31:$X$31,vantHoff_EOS!$O$23:$X$23,G61,vantHoff_EOS!$X$5:$X$14,vantHoff_EOS!$Y$5:$Y$14,vantHoff_EOS!$Z$5:$Z$14,vantHoff_EOS!$AE$5:$AN$14,B61,$C$59)","v":1.2536951599415166E-4},{"$f":"LN(H61)","v":39.048824201388385},{"$f":"LN(I61)","v":-9.5749834855640916},{"$f":"LN(J61)","v":-8.9842450534631464},{"$f":"nT_NS_n0i_vi_X(vantHoff_EOS!$N$19,vantHoff_EOS!$O$31:$X$31,vantHoff_EOS!$O$23:$X$23,G61)","v":8.3400182912638847},{"$f":"IF(O$60<=vantHoff_EOS!$N$19,y_iindex_NS_n0i_vi_X(O$3,vantHoff_EOS!$N$19,vantHoff_EOS!$O$31:$X$31,vantHoff_EOS!$O$23:$X$23,$G61),\"-\")","v":1.096596149223443E-6},{"$f":"IF(P$60<=vantHoff_EOS!$N$19,y_iindex_NS_n0i_vi_X(P$3,vantHoff_EOS!$N$19,vantHoff_EOS!$O$31:$X$31,vantHoff_EOS!$O$23:$X$23,$G61),\"-\")","v":1.096596149223443E-6},{"$f":"IF(Q$60<=vantHoff_EOS!$N$19,y_iindex_NS_n0i_vi_X(Q$3,vantHoff_EOS!$N$19,vantHoff_EOS!$O$31:$X$31,vantHoff_EOS!$O$23:$X$23,$G61),\"-\")","v":1.096596149223443E-6},{"$f":"IF(R$60<=vantHoff_EOS!$N$19,y_iindex_NS_n0i_vi_X(R$3,vantHoff_EOS!$N$19,vantHoff_EOS!$O$31:$X$31,vantHoff_EOS!$O$23:$X$23,$G61),\"-\")","v":0.11990271716976224},{"$f":"IF(S$60<=vantHoff_EOS!$N$19,y_iindex_NS_n0i_vi_X(S$3,vantHoff_EOS!$N$19,vantHoff_EOS!$O$31:$X$31,vantHoff_EOS!$O$23:$X$23,$G61),\"-\")","v":0.88009399304179015},{"$f":"IF(T$60<=vantHoff_EOS!$N$19,y_iindex_NS_n0i_vi_X(T$3,vantHoff_EOS!$N$19,vantHoff_EOS!$O$31:$X$31,vantHoff_EOS!$O$23:$X$23,$G61),\"-\")","v":"-"},{"$f":"IF(U$60<=vantHoff_EOS!$N$19,y_iindex_NS_n0i_vi_X(U$3,vantHoff_EOS!$N$19,vantHoff_EOS!$O$31:$X$31,vantHoff_EOS!$O$23:$X$23,$G61),\"-\")","v":"-"},{"$f":"IF(V$60<=vantHoff_EOS!$N$19,y_iindex_NS_n0i_vi_X(V$3,vantHoff_EOS!$N$19,vantHoff_EOS!$O$31:$X$31,vantHoff_EOS!$O$23:$X$23,$G61),\"-\")","v":"-"},{"$f":"IF(W$60<=vantHoff_EOS!$N$19,y_iindex_NS_n0i_vi_X(W$3,vantHoff_EOS!$N$19,vantHoff_EOS!$O$31:$X$31,vantHoff_EOS!$O$23:$X$23,$G61),\"-\")","v":"-"},{"$f":"IF(X$60<=vantHoff_EOS!$N$19,y_iindex_NS_n0i_vi_X(X$3,vantHoff_EOS!$N$19,vantHoff_EOS!$O$31:$X$31,vantHoff_EOS!$O$23:$X$23,$G61),\"-\")","v":"-"},{"$f":"SUM(O61:X61)","v":1},{"$f":"IF(Z$60<=vantHoff_EOS!$N$19,Phi_i_NS_Tci_Pci_wi_kijm_TinC_PinPa_yi(Z$3,vantHoff_EOS!$N$19,vantHoff_EOS!$X$5:$X$14,vantHoff_EOS!$Y$5:$Y$14,vantHoff_EOS!$Z$5:$Z$14,vantHoff_EOS!$AE$5:$AN$14,B61,$C$59,$O61:$X61),\"-\")","v":5.695927126021763},{"$f":"IF(AA$60<=vantHoff_EOS!$N$19,Phi_i_NS_Tci_Pci_wi_kijm_TinC_PinPa_yi(AA$3,vantHoff_EOS!$N$19,vantHoff_EOS!$X$5:$X$14,vantHoff_EOS!$Y$5:$Y$14,vantHoff_EOS!$Z$5:$Z$14,vantHoff_EOS!$AE$5:$AN$14,C61,$C$59,$O61:$X61),\"-\")","v":1.1524522227729417},{"$f":"IF(AB$60<=vantHoff_EOS!$N$19,Phi_i_NS_Tci_Pci_wi_kijm_TinC_PinPa_yi(AB$3,vantHoff_EOS!$N$19,vantHoff_EOS!$X$5:$X$14,vantHoff_EOS!$Y$5:$Y$14,vantHoff_EOS!$Z$5:$Z$14,vantHoff_EOS!$AE$5:$AN$14,D61,$C$59,$O61:$X61),\"-\")","v":6.5047720267687265E-2},{"$f":"IF(AC$60<=vantHoff_EOS!$N$19,Phi_i_NS_Tci_Pci_wi_kijm_TinC_PinPa_yi(AC$3,vantHoff_EOS!$N$19,vantHoff_EOS!$X$5:$X$14,vantHoff_EOS!$Y$5:$Y$14,vantHoff_EOS!$Z$5:$Z$14,vantHoff_EOS!$AE$5:$AN$14,E61,$C$59,$O61:$X61),\"-\")","v":1.8137515150312518E-3},{"$f":"IF(AD$60<=vantHoff_EOS!$N$19,Phi_i_NS_Tci_Pci_wi_kijm_TinC_PinPa_yi(AD$3,vantHoff_EOS!$N$19,vantHoff_EOS!$X$5:$X$14,vantHoff_EOS!$Y$5:$Y$14,vantHoff_EOS!$Z$5:$Z$14,vantHoff_EOS!$AE$5:$AN$14,F61,$C$59,$O61:$X61),\"-\")","v":0.99999990708558906},{"$f":"IF(AE$60<=vantHoff_EOS!$N$19,Phi_i_NS_Tci_Pci_wi_kijm_TinC_PinPa_yi(AE$3,vantHoff_EOS!$N$19,vantHoff_EOS!$X$5:$X$14,vantHoff_EOS!$Y$5:$Y$14,vantHoff_EOS!$Z$5:$Z$14,vantHoff_EOS!$AE$5:$AN$14,G61,$C$59,$O61:$X61),\"-\")","v":"-"},{"$f":"IF(AF$60<=vantHoff_EOS!$N$19,Phi_i_NS_Tci_Pci_wi_kijm_TinC_PinPa_yi(AF$3,vantHoff_EOS!$N$19,vantHoff_EOS!$X$5:$X$14,vantHoff_EOS!$Y$5:$Y$14,vantHoff_EOS!$Z$5:$Z$14,vantHoff_EOS!$AE$5:$AN$14,H61,$C$59,$O61:$X61),\"-\")","v":"-"},{"$f":"IF(AG$60<=vantHoff_EOS!$N$19,Phi_i_NS_Tci_Pci_wi_kijm_TinC_PinPa_yi(AG$3,vantHoff_EOS!$N$19,vantHoff_EOS!$X$5:$X$14,vantHoff_EOS!$Y$5:$Y$14,vantHoff_EOS!$Z$5:$Z$14,vantHoff_EOS!$AE$5:$AN$14,I61,$C$59,$O61:$X61),\"-\")","v":"-"},{"$f":"IF(AH$60<=vantHoff_EOS!$N$19,Phi_i_NS_Tci_Pci_wi_kijm_TinC_PinPa_yi(AH$3,vantHoff_EOS!$N$19,vantHoff_EOS!$X$5:$X$14,vantHoff_EOS!$Y$5:$Y$14,vantHoff_EOS!$Z$5:$Z$14,vantHoff_EOS!$AE$5:$AN$14,J61,$C$59,$O61:$X61),\"-\")","v":"-"},{"$f":"IF(AI$60<=vantHoff_EOS!$N$19,Phi_i_NS_Tci_Pci_wi_kijm_TinC_PinPa_yi(AI$3,vantHoff_EOS!$N$19,vantHoff_EOS!$X$5:$X$14,vantHoff_EOS!$Y$5:$Y$14,vantHoff_EOS!$Z$5:$Z$14,vantHoff_EOS!$AE$5:$AN$14,K61,$C$59,$O61:$X61),\"-\")","v":"-"}]
[2,{"$f":"B61+vantHoff_EOS!$B$31","v":2},{"$f":"B62+273.15","v":275.14999999999998},{"$f":"1/C62","v":3.6343812465927678E-3},{"$f":"lnKaT_Tref_lnKaTref_dHTref_da_db_dc_dd_de_TinC(vantHoff_EOS!$E$7,vantHoff_EOS!$B$9,vantHoff_EOS!$B$6,vantHoff_EOS!$O$27,vantHoff_EOS!$P$27,vantHoff_EOS!$Q$27,vantHoff_EOS!$R$27,vantHoff_EOS!$S$27,B62)","v":20.123011479912652},{"$f":"EXP(E62)","v":548672059.74604237},{"$f":"MolarExtentX_NS_vi_n0i_dHfi_dGfi_TrefinC_da_db_dc_dd_de_Tci_Pci_wi_kijm_TinC_PinPa(vantHoff_EOS!$N$19,vantHoff_EOS!$O$23:$X$23,vantHoff_EOS!$O$31:$X$31,vantHoff_EOS!$T$5:$T$14,vantHoff_EOS!$U$5:$U$14,vantHoff_EOS!$E$7,vantHoff_EOS!$O$27,vantHoff_EOS!$P$27,vantHoff_EOS!$Q$27,vantHoff_EOS!$R$27,vantHoff_EOS!$S$27,vantHoff_EOS!$X$5:$X$14,vantHoff_EOS!$Y$5:$Y$14,vantHoff_EOS!$Z$5:$Z$14,vantHoff_EOS!$AE$5:$AN$14,B62,$C$59)","v":0.99998931668894908},{"$f":"Ky_NS_n0i_vi_X(vantHoff_EOS!$N$19,vantHoff_EOS!$O$31:$X$31,vantHoff_EOS!$O$23:$X$23,G62)","v":5.704427526235644E+16},{"$f":"Kp_NS_vi_PinPa(vantHoff_EOS!$N$19,vantHoff_EOS!$O$23:$X$23,$C$59)","v":6.9444444444444444E-5},{"$f":"Kphi_NS_n0i_vi_X_Tci_Pci_wi_kijm_TinC_PinPa(vantHoff_EOS!$N$19,vantHoff_EOS!$O$31:$X$31,vantHoff_EOS!$O$23:$X$23,G62,vantHoff_EOS!$X$5:$X$14,vantHoff_EOS!$Y$5:$Y$14,vantHoff_EOS!$Z$5:$Z$14,vantHoff_EOS!$AE$5:$AN$14,B62,$C$59)","v":1.3850430431505407E-4},{"$f":"LN(H62)","v":38.582604120212814},{"$f":"LN(I62)","v":-9.5749834855640916},{"$f":"LN(J62)","v":-8.884609154732761},{"$f":"nT_NS_n0i_vi_X(vantHoff_EOS!$N$19,vantHoff_EOS!$O$31:$X$31,vantHoff_EOS!$O$23:$X$23,G62)","v":8.3400213666221017},{"$f":"IF(O$60<=vantHoff_EOS!$N$19,y_iindex_NS_n0i_vi_X(O$3,vantHoff_EOS!$N$19,vantHoff_EOS!$O$31:$X$31,vantHoff_EOS!$O$23:$X$23,$G62),\"-\")","v":1.2809692662988417E-6},{"$f":"IF(P$60<=vantHoff_EOS!$N$19,y_iindex_NS_n0i_vi_X(P$3,vantHoff_EOS!$N$19,vantHoff_EOS!$O$31:$X$31,vantHoff_EOS!$O$23:$X$23,$G62),\"-\")","v":1.2809692662988417E-6},{"$f":"IF(Q$60<=vantHoff_EOS!$N$19,y_iindex_NS_n0i_vi_X(Q$3,vantHoff_EOS!$N$19,vantHoff_EOS!$O$31:$X$31,vantHoff_EOS!$O$23:$X$23,$G62),\"-\")","v":1.2809692662988417E-6},{"$f":"IF(R$60<=vantHoff_EOS!$N$19,y_iindex_NS_n0i_vi_X(R$3,vantHoff_EOS!$N$19,vantHoff_EOS!$O$31:$X$31,vantHoff_EOS!$O$23:$X$23,$G62),\"-\")","v":0.11990248858246841},{"$f":"IF(S$60<=vantHoff_EOS!$N$19,y_iindex_NS_n0i_vi_X(S$3,vantHoff_EOS!$N$19,vantHoff_EOS!$O$31:$X$31,vantHoff_EOS!$O$23:$X$23,$G62),\"-\")","v":0.8800936685097327},{"$f":"IF(T$60<=vantHoff_EOS!$N$19,y_iindex_NS_n0i_vi_X(T$3,vantHoff_EOS!$N$19,vantHoff_EOS!$O$31:$X$31,vantHoff_EOS!$O$23:$X$23,$G62),\"-\")","v":"-"},{"$f":"IF(U$60<=vantHoff_EOS!$N$19,y_iindex_NS_n0i_vi_X(U$3,vantHoff_EOS!$N$19,vantHoff_EOS!$O$31:$X$31,vantHoff_EOS!$O$23:$X$23,$G62),\"-\")","v":"-"},{"$f":"IF(V$60<=vantHoff_EOS!$N$19,y_iindex_NS_n0i_vi_X(V$3,vantHoff_EOS!$N$19,vantHoff_EOS!$O$31:$X$31,vantHoff_EOS!$O$23:$X$23,$G62),\"-\")","v":"-"},{"$f":"IF(W$60<=vantHoff_EOS!$N$19,y_iindex_NS_n0i_vi_X(W$3,vantHoff_EOS!$N$19,vantHoff_EOS!$O$31:$X$31,vantHoff_EOS!$O$23:$X$23,$G62),\"-\")","v":"-"},{"$f":"IF(X$60<=vantHoff_EOS!$N$19,y_iindex_NS_n0i_vi_X(X$3,vantHoff_EOS!$N$19,vantHoff_EOS!$O$31:$X$31,vantHoff_EOS!$O$23:$X$23,$G62),\"-\")","v":"-"},{"$f":"SUM(O62:X62)","v":1},{"$f":"IF(Z$60<=vantHoff_EOS!$N$19,Phi_i_NS_Tci_Pci_wi_kijm_TinC_PinPa_yi(Z$3,vantHoff_EOS!$N$19,vantHoff_EOS!$X$5:$X$14,vantHoff_EOS!$Y$5:$Y$14,vantHoff_EOS!$Z$5:$Z$14,vantHoff_EOS!$AE$5:$AN$14,B62,$C$59,$O62:$X62),\"-\")","v":5.6474276131993921},{"$f":"IF(AA$60<=vantHoff_EOS!$N$19,Phi_i_NS_Tci_Pci_wi_kijm_TinC_PinPa_yi(AA$3,vantHoff_EOS!$N$19,vantHoff_EOS!$X$5:$X$14,vantHoff_EOS!$Y$5:$Y$14,vantHoff_EOS!$Z$5:$Z$14,vantHoff_EOS!$AE$5:$AN$14,C62,$C$59,$O62:$X62),\"-\")","v":1.1504388634621516},{"$f":"IF(AB$60<=vantHoff_EOS!$N$19,Phi_i_NS_Tci_Pci_wi_kijm_TinC_PinPa_yi(AB$3,vantHoff_EOS!$N$19,vantHoff_EOS!$X$5:$X$14,vantHoff_EOS!$Y$5:$Y$14,vantHoff_EOS!$Z$5:$Z$14,vantHoff_EOS!$AE$5:$AN$14,D62,$C$59,$O62:$X62),\"-\")","v":6.5047659747054648E-2},{"$f":"IF(AC$60<=vantHoff_EOS!$N$19,Phi_i_NS_Tci_Pci_wi_kijm_TinC_PinPa_yi(AC$3,vantHoff_EOS!$N$19,vantHoff_EOS!$X$5:$X$14,vantHoff_EOS!$Y$5:$Y$14,vantHoff_EOS!$Z$5:$Z$14,vantHoff_EOS!$AE$5:$AN$14,E62,$C$59,$O62:$X62),\"-\")","v":1.7800108163308222E-3},{"$f":"IF(AD$60<=vantHoff_EOS!$N$19,Phi_i_NS_Tci_Pci_wi_kijm_TinC_PinPa_yi(AD$3,vantHoff_EOS!$N$19,vantHoff_EOS!$X$5:$X$14,vantHoff_EOS!$Y$5:$Y$14,vantHoff_EOS!$Z$5:$Z$14,vantHoff_EOS!$AE$5:$AN$14,F62,$C$59,$O62:$X62),\"-\")","v":0.99999986606505653},{"$f":"IF(AE$60<=vantHoff_EOS!$N$19,Phi_i_NS_Tci_Pci_wi_kijm_TinC_PinPa_yi(AE$3,vantHoff_EOS!$N$19,vantHoff_EOS!$X$5:$X$14,vantHoff_EOS!$Y$5:$Y$14,vantHoff_EOS!$Z$5:$Z$14,vantHoff_EOS!$AE$5:$AN$14,G62,$C$59,$O62:$X62),\"-\")","v":"-"},{"$f":"IF(AF$60<=vantHoff_EOS!$N$19,Phi_i_NS_Tci_Pci_wi_kijm_TinC_PinPa_yi(AF$3,vantHoff_EOS!$N$19,vantHoff_EOS!$X$5:$X$14,vantHoff_EOS!$Y$5:$Y$14,vantHoff_EOS!$Z$5:$Z$14,vantHoff_EOS!$AE$5:$AN$14,H62,$C$59,$O62:$X62),\"-\")","v":"-"},{"$f":"IF(AG$60<=vantHoff_EOS!$N$19,Phi_i_NS_Tci_Pci_wi_kijm_TinC_PinPa_yi(AG$3,vantHoff_EOS!$N$19,vantHoff_EOS!$X$5:$X$14,vantHoff_EOS!$Y$5:$Y$14,vantHoff_EOS!$Z$5:$Z$14,vantHoff_EOS!$AE$5:$AN$14,I62,$C$59,$O62:$X62),\"-\")","v":"-"},{"$f":"IF(AH$60<=vantHoff_EOS!$N$19,Phi_i_NS_Tci_Pci_wi_kijm_TinC_PinPa_yi(AH$3,vantHoff_EOS!$N$19,vantHoff_EOS!$X$5:$X$14,vantHoff_EOS!$Y$5:$Y$14,vantHoff_EOS!$Z$5:$Z$14,vantHoff_EOS!$AE$5:$AN$14,J62,$C$59,$O62:$X62),\"-\")","v":"-"},{"$f":"IF(AI$60<=vantHoff_EOS!$N$19,Phi_i_NS_Tci_Pci_wi_kijm_TinC_PinPa_yi(AI$3,vantHoff_EOS!$N$19,vantHoff_EOS!$X$5:$X$14,vantHoff_EOS!$Y$5:$Y$14,vantHoff_EOS!$Z$5:$Z$14,vantHoff_EOS!$AE$5:$AN$14,K62,$C$59,$O62:$X62),\"-\")","v":"-"}]
[3,{"$f":"B62+vantHoff_EOS!$B$31","v":4},277.14999999999998,3.608154429009562E-3,{"$f":"lnKaT_Tref_lnKaTref_dHTref_da_db_dc_dd_de_TinC(vantHoff_EOS!$E$7,vantHoff_EOS!$B$9,vantHoff_EOS!$B$6,vantHoff_EOS!$O$27,vantHoff_EOS!$P$27,vantHoff_EOS!$Q$27,vantHoff_EOS!$R$27,vantHoff_EOS!$S$27,B63)","v":19.761607610206365},382258488.88549125,{"$f":"MolarExtentX_NS_vi_n0i_dHfi_dGfi_TrefinC_da_db_dc_dd_de_Tci_Pci_wi_kijm_TinC_PinPa(vantHoff_EOS!$N$19,vantHoff_EOS!$O$23:$X$23,vantHoff_EOS!$O$31:$X$31,vantHoff_EOS!$T$5:$T$14,vantHoff_EOS!$U$5:$U$14,vantHoff_EOS!$E$7,vantHoff_EOS!$O$27,vantHoff_EOS!$P$27,vantHoff_EOS!$Q$27,vantHoff_EOS!$R$27,vantHoff_EOS!$S$27,vantHoff_EOS!$X$5:$X$14,vantHoff_EOS!$Y$5:$Y$14,vantHoff_EOS!$Z$5:$Z$14,vantHoff_EOS!$AE$5:$AN$14,B63,$C$59)","v":0.99998754359694531},{"$f":"Ky_NS_n0i_vi_X(vantHoff_EOS!$N$19,vantHoff_EOS!$O$31:$X$31,vantHoff_EOS!$O$23:$X$23,G63)","v":3.59874710925104E+16},{"$f":"Kp_NS_vi_PinPa(vantHoff_EOS!$N$19,vantHoff_EOS!$O$23:$X$23,$C$59)","v":6.9444444444444444E-5},{"$f":"Kphi_NS_n0i_vi_X_Tci_Pci_wi_kijm_TinC_PinPa(vantHoff_EOS!$N$19,vantHoff_EOS!$O$31:$X$31,vantHoff_EOS!$O$23:$X$23,G63,vantHoff_EOS!$X$5:$X$14,vantHoff_EOS!$Y$5:$Y$14,vantHoff_EOS!$Z$5:$Z$14,vantHoff_EOS!$AE$5:$AN$14,B63,$C$59)","v":1.5295662831578275E-4},38.121947247583925,-9.5749834855640916,-8.785356151818732,{"$f":"nT_NS_n0i_vi_X(vantHoff_EOS!$N$19,vantHoff_EOS!$O$31:$X$31,vantHoff_EOS!$O$23:$X$23,G63)","v":8.3400249128061095},{"$f":"IF(O$60<=vantHoff_EOS!$N$19,y_iindex_NS_n0i_vi_X(O$3,vantHoff_EOS!$N$19,vantHoff_EOS!$O$31:$X$31,vantHoff_EOS!$O$23:$X$23,$G63),\"-\")","v":1.4935690462468457E-6},{"$f":"IF(P$60<=vantHoff_EOS!$N$19,y_iindex_NS_n0i_vi_X(P$3,vantHoff_EOS!$N$19,vantHoff_EOS!$O$31:$X$31,vantHoff_EOS!$O$23:$X$23,$G63),\"-\")","v":1.4935690462468457E-6},{"$f":"IF(Q$60<=vantHoff_EOS!$N$19,y_iindex_NS_n0i_vi_X(Q$3,vantHoff_EOS!$N$19,vantHoff_EOS!$O$31:$X$31,vantHoff_EOS!$O$23:$X$23,$G63),\"-\")","v":1.4935690462468457E-6},{"$f":"IF(R$60<=vantHoff_EOS!$N$19,y_iindex_NS_n0i_vi_X(R$3,vantHoff_EOS!$N$19,vantHoff_EOS!$O$31:$X$31,vantHoff_EOS!$O$23:$X$23,$G63),\"-\")","v":0.1199022249995278},{"$f":"IF(S$60<=vantHoff_EOS!$N$19,y_iindex_NS_n0i_vi_X(S$3,vantHoff_EOS!$N$19,vantHoff_EOS!$O$31:$X$31,vantHoff_EOS!$O$23:$X$23,$G63),\"-\")","v":0.88009329429333349},{"$f":"IF(T$60<=vantHoff_EOS!$N$19,y_iindex_NS_n0i_vi_X(T$3,vantHoff_EOS!$N$19,vantHoff_EOS!$O$31:$X$31,vantHoff_EOS!$O$23:$X$23,$G63),\"-\")","v":"-"},{"$f":"IF(U$60<=vantHoff_EOS!$N$19,y_iindex_NS_n0i_vi_X(U$3,vantHoff_EOS!$N$19,vantHoff_EOS!$O$31:$X$31,vantHoff_EOS!$O$23:$X$23,$G63),\"-\")","v":"-"},{"$f":"IF(V$60<=vantHoff_EOS!$N$19,y_iindex_NS_n0i_vi_X(V$3,vantHoff_EOS!$N$19,vantHoff_EOS!$O$31:$X$31,vantHoff_EOS!$O$23:$X$23,$G63),\"-\")","v":"-"},{"$f":"IF(W$60<=vantHoff_EOS!$N$19,y_iindex_NS_n0i_vi_X(W$3,vantHoff_EOS!$N$19,vantHoff_EOS!$O$31:$X$31,vantHoff_EOS!$O$23:$X$23,$G63),\"-\")","v":"-"},{"$f":"IF(X$60<=vantHoff_EOS!$N$19,y_iindex_NS_n0i_vi_X(X$3,vantHoff_EOS!$N$19,vantHoff_EOS!$O$31:$X$31,vantHoff_EOS!$O$23:$X$23,$G63),\"-\")","v":"-"},1,{"$f":"IF(Z$60<=vantHoff_EOS!$N$19,Phi_i_NS_Tci_Pci_wi_kijm_TinC_PinPa_yi(Z$3,vantHoff_EOS!$N$19,vantHoff_EOS!$X$5:$X$14,vantHoff_EOS!$Y$5:$Y$14,vantHoff_EOS!$Z$5:$Z$14,vantHoff_EOS!$AE$5:$AN$14,B63,$C$59,$O63:$X63),\"-\")","v":5.5973958307827081},{"$f":"IF(AA$60<=vantHoff_EOS!$N$19,Phi_i_NS_Tci_Pci_wi_kijm_TinC_PinPa_yi(AA$3,vantHoff_EOS!$N$19,vantHoff_EOS!$X$5:$X$14,vantHoff_EOS!$Y$5:$Y$14,vantHoff_EOS!$Z$5:$Z$14,vantHoff_EOS!$AE$5:$AN$14,C63,$C$59,$O63:$X63),\"-\")","v":1.1484666206983223},{"$f":"IF(AB$60<=vantHoff_EOS!$N$19,Phi_i_NS_Tci_Pci_wi_kijm_TinC_PinPa_yi(AB$3,vantHoff_EOS!$N$19,vantHoff_EOS!$X$5:$X$14,vantHoff_EOS!$Y$5:$Y$14,vantHoff_EOS!$Z$5:$Z$14,vantHoff_EOS!$AE$5:$AN$14,D63,$C$59,$O63:$X63),\"-\")","v":6.5047597318417999E-2},{"$f":"IF(AC$60<=vantHoff_EOS!$N$19,Phi_i_NS_Tci_Pci_wi_kijm_TinC_PinPa_yi(AC$3,vantHoff_EOS!$N$19,vantHoff_EOS!$X$5:$X$14,vantHoff_EOS!$Y$5:$Y$14,vantHoff_EOS!$Z$5:$Z$14,vantHoff_EOS!$AE$5:$AN$14,E63,$C$59,$O63:$X63),\"-\")","v":1.7472916396450036E-3},{"$f":"IF(AD$60<=vantHoff_EOS!$N$19,Phi_i_NS_Tci_Pci_wi_kijm_TinC_PinPa_yi(AD$3,vantHoff_EOS!$N$19,vantHoff_EOS!$X$5:$X$14,vantHoff_EOS!$Y$5:$Y$14,vantHoff_EOS!$Z$5:$Z$14,vantHoff_EOS!$AE$5:$AN$14,F63,$C$59,$O63:$X63),\"-\")","v":0.99999980796405208},{"$f":"IF(AE$60<=vantHoff_EOS!$N$19,Phi_i_NS_Tci_Pci_wi_kijm_TinC_PinPa_yi(AE$3,vantHoff_EOS!$N$19,vantHoff_EOS!$X$5:$X$14,vantHoff_EOS!$Y$5:$Y$14,vantHoff_EOS!$Z$5:$Z$14,vantHoff_EOS!$AE$5:$AN$14,G63,$C$59,$O63:$X63),\"-\")","v":"-"},{"$f":"IF(AF$60<=vantHoff_EOS!$N$19,Phi_i_NS_Tci_Pci_wi_kijm_TinC_PinPa_yi(AF$3,vantHoff_EOS!$N$19,vantHoff_EOS!$X$5:$X$14,vantHoff_EOS!$Y$5:$Y$14,vantHoff_EOS!$Z$5:$Z$14,vantHoff_EOS!$AE$5:$AN$14,H63,$C$59,$O63:$X63),\"-\")","v":"-"},{"$f":"IF(AG$60<=vantHoff_EOS!$N$19,Phi_i_NS_Tci_Pci_wi_kijm_TinC_PinPa_yi(AG$3,vantHoff_EOS!$N$19,vantHoff_EOS!$X$5:$X$14,vantHoff_EOS!$Y$5:$Y$14,vantHoff_EOS!$Z$5:$Z$14,vantHoff_EOS!$AE$5:$AN$14,I63,$C$59,$O63:$X63),\"-\")","v":"-"},{"$f":"IF(AH$60<=vantHoff_EOS!$N$19,Phi_i_NS_Tci_Pci_wi_kijm_TinC_PinPa_yi(AH$3,vantHoff_EOS!$N$19,vantHoff_EOS!$X$5:$X$14,vantHoff_EOS!$Y$5:$Y$14,vantHoff_EOS!$Z$5:$Z$14,vantHoff_EOS!$AE$5:$AN$14,J63,$C$59,$O63:$X63),\"-\")","v":"-"},{"$f":"IF(AI$60<=vantHoff_EOS!$N$19,Phi_i_NS_Tci_Pci_wi_kijm_TinC_PinPa_yi(AI$3,vantHoff_EOS!$N$19,vantHoff_EOS!$X$5:$X$14,vantHoff_EOS!$Y$5:$Y$14,vantHoff_EOS!$Z$5:$Z$14,vantHoff_EOS!$AE$5:$AN$14,K63,$C$59,$O63:$X63),\"-\")","v":"-"}]
[4,{"$f":"B63+vantHoff_EOS!$B$31","v":6},279.14999999999998,3.5823034210997673E-3,{"$f":"lnKaT_Tref_lnKaTref_dHTref_da_db_dc_dd_de_TinC(vantHoff_EOS!$E$7,vantHoff_EOS!$B$9,vantHoff_EOS!$B$6,vantHoff_EOS!$O$27,vantHoff_EOS!$P$27,vantHoff_EOS!$Q$27,vantHoff_EOS!$R$27,vantHoff_EOS!$S$27,B64)","v":19.405274035959618},267672301.83648545,{"$f":"MolarExtentX_NS_vi_n0i_dHfi_dGfi_TrefinC_da_db_dc_dd_de_Tci_Pci_wi_kijm_TinC_PinPa(vantHoff_EOS!$N$19,vantHoff_EOS!$O$23:$X$23,vantHoff_EOS!$O$31:$X$31,vantHoff_EOS!$T$5:$T$14,vantHoff_EOS!$U$5:$U$14,vantHoff_EOS!$E$7,vantHoff_EOS!$O$27,vantHoff_EOS!$P$27,vantHoff_EOS!$Q$27,vantHoff_EOS!$R$27,vantHoff_EOS!$S$27,vantHoff_EOS!$X$5:$X$14,vantHoff_EOS!$Y$5:$Y$14,vantHoff_EOS!$Z$5:$Z$14,vantHoff_EOS!$AE$5:$AN$14,B64,$C$59)","v":0.99998550237306338},{"$f":"Ky_NS_n0i_vi_X(vantHoff_EOS!$N$19,vantHoff_EOS!$O$31:$X$31,vantHoff_EOS!$O$23:$X$23,G64)","v":2.2826433713616248E+16},{"$f":"Kp_NS_vi_PinPa(vantHoff_EOS!$N$19,vantHoff_EOS!$O$23:$X$23,$C$59)","v":6.9444444444444444E-5},{"$f":"Kphi_NS_n0i_vi_X_Tci_Pci_wi_kijm_TinC_PinPa(vantHoff_EOS!$N$19,vantHoff_EOS!$O$31:$X$31,vantHoff_EOS!$O$23:$X$23,G64,vantHoff_EOS!$X$5:$X$14,vantHoff_EOS!$Y$5:$Y$14,vantHoff_EOS!$Z$5:$Z$14,vantHoff_EOS!$AE$5:$AN$14,B64,$C$59)","v":1.688604183532716E-4},37.666695632720959,-9.5749834855640916,-8.6864381112104638,{"$f":"nT_NS_n0i_vi_X(vantHoff_EOS!$N$19,vantHoff_EOS!$O$31:$X$31,vantHoff_EOS!$O$23:$X$23,G64)","v":8.3400289952538724},{"$f":"IF(O$60<=vantHoff_EOS!$N$19,y_iindex_NS_n0i_vi_X(O$3,vantHoff_EOS!$N$19,vantHoff_EOS!$O$31:$X$31,vantHoff_EOS!$O$23:$X$23,$G64),\"-\")","v":1.7383185292120949E-6},{"$f":"IF(P$60<=vantHoff_EOS!$N$19,y_iindex_NS_n0i_vi_X(P$3,vantHoff_EOS!$N$19,vantHoff_EOS!$O$31:$X$31,vantHoff_EOS!$O$23:$X$23,$G64),\"-\")","v":1.7383185292120949E-6},{"$f":"IF(Q$60<=vantHoff_EOS!$N$19,y_iindex_NS_n0i_vi_X(Q$3,vantHoff_EOS!$N$19,vantHoff_EOS!$O$31:$X$31,vantHoff_EOS!$O$23:$X$23,$G64),\"-\")","v":1.7383185292120949E-6},{"$f":"IF(R$60<=vantHoff_EOS!$N$19,y_iindex_NS_n0i_vi_X(R$3,vantHoff_EOS!$N$19,vantHoff_EOS!$O$31:$X$31,vantHoff_EOS!$O$23:$X$23,$G64),\"-\")","v":0.11990192155712327},{"$f":"IF(S$60<=vantHoff_EOS!$N$19,y_iindex_NS_n0i_vi_X(S$3,vantHoff_EOS!$N$19,vantHoff_EOS!$O$31:$X$31,vantHoff_EOS!$O$23:$X$23,$G64),\"-\")","v":0.88009286348728921},{"$f":"IF(T$60<=vantHoff_EOS!$N$19,y_iindex_NS_n0i_vi_X(T$3,vantHoff_EOS!$N$19,vantHoff_EOS!$O$31:$X$31,vantHoff_EOS!$O$23:$X$23,$G64),\"-\")","v":"-"},{"$f":"IF(U$60<=vantHoff_EOS!$N$19,y_iindex_NS_n0i_vi_X(U$3,vantHoff_EOS!$N$19,vantHoff_EOS!$O$31:$X$31,vantHoff_EOS!$O$23:$X$23,$G64),\"-\")","v":"-"},{"$f":"IF(V$60<=vantHoff_EOS!$N$19,y_iindex_NS_n0i_vi_X(V$3,vantHoff_EOS!$N$19,vantHoff_EOS!$O$31:$X$31,vantHoff_EOS!$O$23:$X$23,$G64),\"-\")","v":"-"},{"$f":"IF(W$60<=vantHoff_EOS!$N$19,y_iindex_NS_n0i_vi_X(W$3,vantHoff_EOS!$N$19,vantHoff_EOS!$O$31:$X$31,vantHoff_EOS!$O$23:$X$23,$G64),\"-\")","v":"-"},{"$f":"IF(X$60<=vantHoff_EOS!$N$19,y_iindex_NS_n0i_vi_X(X$3,vantHoff_EOS!$N$19,vantHoff_EOS!$O$31:$X$31,vantHoff_EOS!$O$23:$X$23,$G64),\"-\")","v":"-"},1.0000000000000002,{"$f":"IF(Z$60<=vantHoff_EOS!$N$19,Phi_i_NS_Tci_Pci_wi_kijm_TinC_PinPa_yi(Z$3,vantHoff_EOS!$N$19,vantHoff_EOS!$X$5:$X$14,vantHoff_EOS!$Y$5:$Y$14,vantHoff_EOS!$Z$5:$Z$14,vantHoff_EOS!$AE$5:$AN$14,B64,$C$59,$O64:$X64),\"-\")","v":5.5458543670385669},{"$f":"IF(AA$60<=vantHoff_EOS!$N$19,Phi_i_NS_Tci_Pci_wi_kijm_TinC_PinPa_yi(AA$3,vantHoff_EOS!$N$19,vantHoff_EOS!$X$5:$X$14,vantHoff_EOS!$Y$5:$Y$14,vantHoff_EOS!$Z$5:$Z$14,vantHoff_EOS!$AE$5:$AN$14,C64,$C$59,$O64:$X64),\"-\")","v":1.146534322176441},{"$f":"IF(AB$60<=vantHoff_EOS!$N$19,Phi_i_NS_Tci_Pci_wi_kijm_TinC_PinPa_yi(AB$3,vantHoff_EOS!$N$19,vantHoff_EOS!$X$5:$X$14,vantHoff_EOS!$Y$5:$Y$14,vantHoff_EOS!$Z$5:$Z$14,vantHoff_EOS!$AE$5:$AN$14,D64,$C$59,$O64:$X64),\"-\")","v":6.5047532614898262E-2},{"$f":"IF(AC$60<=vantHoff_EOS!$N$19,Phi_i_NS_Tci_Pci_wi_kijm_TinC_PinPa_yi(AC$3,vantHoff_EOS!$N$19,vantHoff_EOS!$X$5:$X$14,vantHoff_EOS!$Y$5:$Y$14,vantHoff_EOS!$Z$5:$Z$14,vantHoff_EOS!$AE$5:$AN$14,E64,$C$59,$O64:$X64),\"-\")","v":1.7155533488017844E-3},{"$f":"IF(AD$60<=vantHoff_EOS!$N$19,Phi_i_NS_Tci_Pci_wi_kijm_TinC_PinPa_yi(AD$3,vantHoff_EOS!$N$19,vantHoff_EOS!$X$5:$X$14,vantHoff_EOS!$Y$5:$Y$14,vantHoff_EOS!$Z$5:$Z$14,vantHoff_EOS!$AE$5:$AN$14,F64,$C$59,$O64:$X64),\"-\")","v":0.99999972610458299},{"$f":"IF(AE$60<=vantHoff_EOS!$N$19,Phi_i_NS_Tci_Pci_wi_kijm_TinC_PinPa_yi(AE$3,vantHoff_EOS!$N$19,vantHoff_EOS!$X$5:$X$14,vantHoff_EOS!$Y$5:$Y$14,vantHoff_EOS!$Z$5:$Z$14,vantHoff_EOS!$AE$5:$AN$14,G64,$C$59,$O64:$X64),\"-\")","v":"-"},{"$f":"IF(AF$60<=vantHoff_EOS!$N$19,Phi_i_NS_Tci_Pci_wi_kijm_TinC_PinPa_yi(AF$3,vantHoff_EOS!$N$19,vantHoff_EOS!$X$5:$X$14,vantHoff_EOS!$Y$5:$Y$14,vantHoff_EOS!$Z$5:$Z$14,vantHoff_EOS!$AE$5:$AN$14,H64,$C$59,$O64:$X64),\"-\")","v":"-"},{"$f":"IF(AG$60<=vantHoff_EOS!$N$19,Phi_i_NS_Tci_Pci_wi_kijm_TinC_PinPa_yi(AG$3,vantHoff_EOS!$N$19,vantHoff_EOS!$X$5:$X$14,vantHoff_EOS!$Y$5:$Y$14,vantHoff_EOS!$Z$5:$Z$14,vantHoff_EOS!$AE$5:$AN$14,I64,$C$59,$O64:$X64),\"-\")","v":"-"},{"$f":"IF(AH$60<=vantHoff_EOS!$N$19,Phi_i_NS_Tci_Pci_wi_kijm_TinC_PinPa_yi(AH$3,vantHoff_EOS!$N$19,vantHoff_EOS!$X$5:$X$14,vantHoff_EOS!$Y$5:$Y$14,vantHoff_EOS!$Z$5:$Z$14,vantHoff_EOS!$AE$5:$AN$14,J64,$C$59,$O64:$X64),\"-\")","v":"-"},{"$f":"IF(AI$60<=vantHoff_EOS!$N$19,Phi_i_NS_Tci_Pci_wi_kijm_TinC_PinPa_yi(AI$3,vantHoff_EOS!$N$19,vantHoff_EOS!$X$5:$X$14,vantHoff_EOS!$Y$5:$Y$14,vantHoff_EOS!$Z$5:$Z$14,vantHoff_EOS!$AE$5:$AN$14,K64,$C$59,$O64:$X64),\"-\")","v":"-"}]
[5,{"$f":"B64+vantHoff_EOS!$B$31","v":8},281.14999999999998,3.556820202738752E-3,{"$f":"lnKaT_Tref_lnKaTref_dHTref_da_db_dc_dd_de_TinC(vantHoff_EOS!$E$7,vantHoff_EOS!$B$9,vantHoff_EOS!$B$6,vantHoff_EOS!$O$27,vantHoff_EOS!$P$27,vantHoff_EOS!$Q$27,vantHoff_EOS!$R$27,vantHoff_EOS!$S$27,B65)","v":19.053903854633955},188367208.91894585,{"$f":"MolarExtentX_NS_vi_n0i_dHfi_dGfi_TrefinC_da_db_dc_dd_de_Tci_Pci_wi_kijm_TinC_PinPa(vantHoff_EOS!$N$19,vantHoff_EOS!$O$23:$X$23,vantHoff_EOS!$O$31:$X$31,vantHoff_EOS!$T$5:$T$14,vantHoff_EOS!$U$5:$U$14,vantHoff_EOS!$E$7,vantHoff_EOS!$O$27,vantHoff_EOS!$P$27,vantHoff_EOS!$Q$27,vantHoff_EOS!$R$27,vantHoff_EOS!$S$27,vantHoff_EOS!$X$5:$X$14,vantHoff_EOS!$Y$5:$Y$14,vantHoff_EOS!$Z$5:$Z$14,vantHoff_EOS!$AE$5:$AN$14,B65,$C$59)","v":0.99998315615648947},{"$f":"Ky_NS_n0i_vi_X(vantHoff_EOS!$N$19,vantHoff_EOS!$O$31:$X$31,vantHoff_EOS!$O$23:$X$23,G65)","v":1.4554748344599882E+16},{"$f":"Kp_NS_vi_PinPa(vantHoff_EOS!$N$19,vantHoff_EOS!$O$23:$X$23,$C$59)","v":6.9444444444444444E-5},{"$f":"Kphi_NS_n0i_vi_X_Tci_Pci_wi_kijm_TinC_PinPa(vantHoff_EOS!$N$19,vantHoff_EOS!$O$31:$X$31,vantHoff_EOS!$O$23:$X$23,G65,vantHoff_EOS!$X$5:$X$14,vantHoff_EOS!$Y$5:$Y$14,vantHoff_EOS!$Z$5:$Z$14,vantHoff_EOS!$AE$5:$AN$14,B65,$C$59)","v":1.8636445950032492E-4},37.216693681996581,-9.5749834855640916,-8.5878063418089337,{"$f":"nT_NS_n0i_vi_X(vantHoff_EOS!$N$19,vantHoff_EOS!$O$31:$X$31,vantHoff_EOS!$O$23:$X$23,G65)","v":8.3400336876870202},{"$f":"IF(O$60<=vantHoff_EOS!$N$19,y_iindex_NS_n0i_vi_X(O$3,vantHoff_EOS!$N$19,vantHoff_EOS!$O$31:$X$31,vantHoff_EOS!$O$23:$X$23,$G65),\"-\")","v":2.0196373469564716E-6},{"$f":"IF(P$60<=vantHoff_EOS!$N$19,y_iindex_NS_n0i_vi_X(P$3,vantHoff_EOS!$N$19,vantHoff_EOS!$O$31:$X$31,vantHoff_EOS!$O$23:$X$23,$G65),\"-\")","v":2.0196373469564716E-6},{"$f":"IF(Q$60<=vantHoff_EOS!$N$19,y_iindex_NS_n0i_vi_X(Q$3,vantHoff_EOS!$N$19,vantHoff_EOS!$O$31:$X$31,vantHoff_EOS!$O$23:$X$23,$G65),\"-\")","v":2.0196373469564716E-6},{"$f":"IF(R$60<=vantHoff_EOS!$N$19,y_iindex_NS_n0i_vi_X(R$3,vantHoff_EOS!$N$19,vantHoff_EOS!$O$31:$X$31,vantHoff_EOS!$O$23:$X$23,$G65),\"-\")","v":0.1199015727757593},{"$f":"IF(S$60<=vantHoff_EOS!$N$19,y_iindex_NS_n0i_vi_X(S$3,vantHoff_EOS!$N$19,vantHoff_EOS!$O$31:$X$31,vantHoff_EOS!$O$23:$X$23,$G65),\"-\")","v":0.88009236831219995},{"$f":"IF(T$60<=vantHoff_EOS!$N$19,y_iindex_NS_n0i_vi_X(T$3,vantHoff_EOS!$N$19,vantHoff_EOS!$O$31:$X$31,vantHoff_EOS!$O$23:$X$23,$G65),\"-\")","v":"-"},{"$f":"IF(U$60<=vantHoff_EOS!$N$19,y_iindex_NS_n0i_vi_X(U$3,vantHoff_EOS!$N$19,vantHoff_EOS!$O$31:$X$31,vantHoff_EOS!$O$23:$X$23,$G65),\"-\")","v":"-"},{"$f":"IF(V$60<=vantHoff_EOS!$N$19,y_iindex_NS_n0i_vi_X(V$3,vantHoff_EOS!$N$19,vantHoff_EOS!$O$31:$X$31,vantHoff_EOS!$O$23:$X$23,$G65),\"-\")","v":"-"},{"$f":"IF(W$60<=vantHoff_EOS!$N$19,y_iindex_NS_n0i_vi_X(W$3,vantHoff_EOS!$N$19,vantHoff_EOS!$O$31:$X$31,vantHoff_EOS!$O$23:$X$23,$G65),\"-\")","v":"-"},{"$f":"IF(X$60<=vantHoff_EOS!$N$19,y_iindex_NS_n0i_vi_X(X$3,vantHoff_EOS!$N$19,vantHoff_EOS!$O$31:$X$31,vantHoff_EOS!$O$23:$X$23,$G65),\"-\")","v":"-"},1,{"$f":"IF(Z$60<=vantHoff_EOS!$N$19,Phi_i_NS_Tci_Pci_wi_kijm_TinC_PinPa_yi(Z$3,vantHoff_EOS!$N$19,vantHoff_EOS!$X$5:$X$14,vantHoff_EOS!$Y$5:$Y$14,vantHoff_EOS!$Z$5:$Z$14,vantHoff_EOS!$AE$5:$AN$14,B65,$C$59,$O65:$X65),\"-\")","v":5.4928249154869562},{"$f":"IF(AA$60<=vantHoff_EOS!$N$19,Phi_i_NS_Tci_Pci_wi_kijm_TinC_PinPa_yi(AA$3,vantHoff_EOS!$N$19,vantHoff_EOS!$X$5:$X$14,vantHoff_EOS!$Y$5:$Y$14,vantHoff_EOS!$Z$5:$Z$14,vantHoff_EOS!$AE$5:$AN$14,C65,$C$59,$O65:$X65),\"-\")","v":1.14464083917223},{"$f":"IF(AB$60<=vantHoff_EOS!$N$19,Phi_i_NS_Tci_Pci_wi_kijm_TinC_PinPa_yi(AB$3,vantHoff_EOS!$N$19,vantHoff_EOS!$X$5:$X$14,vantHoff_EOS!$Y$5:$Y$14,vantHoff_EOS!$Z$5:$Z$14,vantHoff_EOS!$AE$5:$AN$14,D65,$C$59,$O65:$X65),\"-\")","v":6.5047465225294865E-2},{"$f":"IF(AC$60<=vantHoff_EOS!$N$19,Phi_i_NS_Tci_Pci_wi_kijm_TinC_PinPa_yi(AC$3,vantHoff_EOS!$N$19,vantHoff_EOS!$X$5:$X$14,vantHoff_EOS!$Y$5:$Y$14,vantHoff_EOS!$Z$5:$Z$14,vantHoff_EOS!$AE$5:$AN$14,E65,$C$59,$O65:$X65),\"-\")","v":1.6847572923701076E-3},{"$f":"IF(AD$60<=vantHoff_EOS!$N$19,Phi_i_NS_Tci_Pci_wi_kijm_TinC_PinPa_yi(AD$3,vantHoff_EOS!$N$19,vantHoff_EOS!$X$5:$X$14,vantHoff_EOS!$Y$5:$Y$14,vantHoff_EOS!$Z$5:$Z$14,vantHoff_EOS!$AE$5:$AN$14,F65,$C$59,$O65:$X65),\"-\")","v":0.99999961137276139},{"$f":"IF(AE$60<=vantHoff_EOS!$N$19,Phi_i_NS_Tci_Pci_wi_kijm_TinC_PinPa_yi(AE$3,vantHoff_EOS!$N$19,vantHoff_EOS!$X$5:$X$14,vantHoff_EOS!$Y$5:$Y$14,vantHoff_EOS!$Z$5:$Z$14,vantHoff_EOS!$AE$5:$AN$14,G65,$C$59,$O65:$X65),\"-\")","v":"-"},{"$f":"IF(AF$60<=vantHoff_EOS!$N$19,Phi_i_NS_Tci_Pci_wi_kijm_TinC_PinPa_yi(AF$3,vantHoff_EOS!$N$19,vantHoff_EOS!$X$5:$X$14,vantHoff_EOS!$Y$5:$Y$14,vantHoff_EOS!$Z$5:$Z$14,vantHoff_EOS!$AE$5:$AN$14,H65,$C$59,$O65:$X65),\"-\")","v":"-"},{"$f":"IF(AG$60<=vantHoff_EOS!$N$19,Phi_i_NS_Tci_Pci_wi_kijm_TinC_PinPa_yi(AG$3,vantHoff_EOS!$N$19,vantHoff_EOS!$X$5:$X$14,vantHoff_EOS!$Y$5:$Y$14,vantHoff_EOS!$Z$5:$Z$14,vantHoff_EOS!$AE$5:$AN$14,I65,$C$59,$O65:$X65),\"-\")","v":"-"},{"$f":"IF(AH$60<=vantHoff_EOS!$N$19,Phi_i_NS_Tci_Pci_wi_kijm_TinC_PinPa_yi(AH$3,vantHoff_EOS!$N$19,vantHoff_EOS!$X$5:$X$14,vantHoff_EOS!$Y$5:$Y$14,vantHoff_EOS!$Z$5:$Z$14,vantHoff_EOS!$AE$5:$AN$14,J65,$C$59,$O65:$X65),\"-\")","v":"-"},{"$f":"IF(AI$60<=vantHoff_EOS!$N$19,Phi_i_NS_Tci_Pci_wi_kijm_TinC_PinPa_yi(AI$3,vantHoff_EOS!$N$19,vantHoff_EOS!$X$5:$X$14,vantHoff_EOS!$Y$5:$Y$14,vantHoff_EOS!$Z$5:$Z$14,vantHoff_EOS!$AE$5:$AN$14,K65,$C$59,$O65:$X65),\"-\")","v":"-"}]
[6,{"$f":"B65+vantHoff_EOS!$B$31","v":10},283.14999999999998,3.5316969803990822E-3,{"$f":"lnKaT_Tref_lnKaTref_dHTref_da_db_dc_dd_de_TinC(vantHoff_EOS!$E$7,vantHoff_EOS!$B$9,vantHoff_EOS!$B$6,vantHoff_EOS!$O$27,vantHoff_EOS!$P$27,vantHoff_EOS!$Q$27,vantHoff_EOS!$R$27,vantHoff_EOS!$S$27,B66)","v":18.707393168759548},133204109.64156927,{"$f":"MolarExtentX_NS_vi_n0i_dHfi_dGfi_TrefinC_da_db_dc_dd_de_Tci_Pci_wi_kijm_TinC_PinPa(vantHoff_EOS!$N$19,vantHoff_EOS!$O$23:$X$23,vantHoff_EOS!$O$31:$X$31,vantHoff_EOS!$T$5:$T$14,vantHoff_EOS!$U$5:$U$14,vantHoff_EOS!$E$7,vantHoff_EOS!$O$27,vantHoff_EOS!$P$27,vantHoff_EOS!$Q$27,vantHoff_EOS!$R$27,vantHoff_EOS!$S$27,vantHoff_EOS!$X$5:$X$14,vantHoff_EOS!$Y$5:$Y$14,vantHoff_EOS!$Z$5:$Z$14,vantHoff_EOS!$AE$5:$AN$14,B66,$C$59)","v":0.99998046345770675},{"$f":"Ky_NS_n0i_vi_X(vantHoff_EOS!$N$19,vantHoff_EOS!$O$31:$X$31,vantHoff_EOS!$O$23:$X$23,G66)","v":9327915007982880},{"$f":"Kp_NS_vi_PinPa(vantHoff_EOS!$N$19,vantHoff_EOS!$O$23:$X$23,$C$59)","v":6.9444444444444444E-5},{"$f":"Kphi_NS_n0i_vi_X_Tci_Pci_wi_kijm_TinC_PinPa(vantHoff_EOS!$N$19,vantHoff_EOS!$O$31:$X$31,vantHoff_EOS!$O$23:$X$23,G66,vantHoff_EOS!$X$5:$X$14,vantHoff_EOS!$Y$5:$Y$14,vantHoff_EOS!$Z$5:$Z$14,vantHoff_EOS!$AE$5:$AN$14,B66,$C$59)","v":2.0563428988941071E-4},36.771787912983193,-9.5749834855640916,-8.4894112586716819,{"$f":"nT_NS_n0i_vi_X(vantHoff_EOS!$N$19,vantHoff_EOS!$O$31:$X$31,vantHoff_EOS!$O$23:$X$23,G66)","v":8.3400390730845864},{"$f":"IF(O$60<=vantHoff_EOS!$N$19,y_iindex_NS_n0i_vi_X(O$3,vantHoff_EOS!$N$19,vantHoff_EOS!$O$31:$X$31,vantHoff_EOS!$O$23:$X$23,$G66),\"-\")","v":2.3425000916724578E-6},{"$f":"IF(P$60<=vantHoff_EOS!$N$19,y_iindex_NS_n0i_vi_X(P$3,vantHoff_EOS!$N$19,vantHoff_EOS!$O$31:$X$31,vantHoff_EOS!$O$23:$X$23,$G66),\"-\")","v":2.3425000916724578E-6},{"$f":"IF(Q$60<=vantHoff_EOS!$N$19,y_iindex_NS_n0i_vi_X(Q$3,vantHoff_EOS!$N$19,vantHoff_EOS!$O$31:$X$31,vantHoff_EOS!$O$23:$X$23,$G66),\"-\")","v":2.3425000916724578E-6},{"$f":"IF(R$60<=vantHoff_EOS!$N$19,y_iindex_NS_n0i_vi_X(R$3,vantHoff_EOS!$N$19,vantHoff_EOS!$O$31:$X$31,vantHoff_EOS!$O$23:$X$23,$G66),\"-\")","v":0.11990117248789593},{"$f":"IF(S$60<=vantHoff_EOS!$N$19,y_iindex_NS_n0i_vi_X(S$3,vantHoff_EOS!$N$19,vantHoff_EOS!$O$31:$X$31,vantHoff_EOS!$O$23:$X$23,$G66),\"-\")","v":0.88009180001182907},{"$f":"IF(T$60<=vantHoff_EOS!$N$19,y_iindex_NS_n0i_vi_X(T$3,vantHoff_EOS!$N$19,vantHoff_EOS!$O$31:$X$31,vantHoff_EOS!$O$23:$X$23,$G66),\"-\")","v":"-"},{"$f":"IF(U$60<=vantHoff_EOS!$N$19,y_iindex_NS_n0i_vi_X(U$3,vantHoff_EOS!$N$19,vantHoff_EOS!$O$31:$X$31,vantHoff_EOS!$O$23:$X$23,$G66),\"-\")","v":"-"},{"$f":"IF(V$60<=vantHoff_EOS!$N$19,y_iindex_NS_n0i_vi_X(V$3,vantHoff_EOS!$N$19,vantHoff_EOS!$O$31:$X$31,vantHoff_EOS!$O$23:$X$23,$G66),\"-\")","v":"-"},{"$f":"IF(W$60<=vantHoff_EOS!$N$19,y_iindex_NS_n0i_vi_X(W$3,vantHoff_EOS!$N$19,vantHoff_EOS!$O$31:$X$31,vantHoff_EOS!$O$23:$X$23,$G66),\"-\")","v":"-"},{"$f":"IF(X$60<=vantHoff_EOS!$N$19,y_iindex_NS_n0i_vi_X(X$3,vantHoff_EOS!$N$19,vantHoff_EOS!$O$31:$X$31,vantHoff_EOS!$O$23:$X$23,$G66),\"-\")","v":"-"},1,{"$f":"IF(Z$60<=vantHoff_EOS!$N$19,Phi_i_NS_Tci_Pci_wi_kijm_TinC_PinPa_yi(Z$3,vantHoff_EOS!$N$19,vantHoff_EOS!$X$5:$X$14,vantHoff_EOS!$Y$5:$Y$14,vantHoff_EOS!$Z$5:$Z$14,vantHoff_EOS!$AE$5:$AN$14,B66,$C$59,$O66:$X66),\"-\")","v":5.4383282507913222},{"$f":"IF(AA$60<=vantHoff_EOS!$N$19,Phi_i_NS_Tci_Pci_wi_kijm_TinC_PinPa_yi(AA$3,vantHoff_EOS!$N$19,vantHoff_EOS!$X$5:$X$14,vantHoff_EOS!$Y$5:$Y$14,vantHoff_EOS!$Z$5:$Z$14,vantHoff_EOS!$AE$5:$AN$14,C66,$C$59,$O66:$X66),\"-\")","v":1.1427850844681109},{"$f":"IF(AB$60<=vantHoff_EOS!$N$19,Phi_i_NS_Tci_Pci_wi_kijm_TinC_PinPa_yi(AB$3,vantHoff_EOS!$N$19,vantHoff_EOS!$X$5:$X$14,vantHoff_EOS!$Y$5:$Y$14,vantHoff_EOS!$Z$5:$Z$14,vantHoff_EOS!$AE$5:$AN$14,D66,$C$59,$O66:$X66),\"-\")","v":6.5047394688819593E-2},{"$f":"IF(AC$60<=vantHoff_EOS!$N$19,Phi_i_NS_Tci_Pci_wi_kijm_TinC_PinPa_yi(AC$3,vantHoff_EOS!$N$19,vantHoff_EOS!$X$5:$X$14,vantHoff_EOS!$Y$5:$Y$14,vantHoff_EOS!$Z$5:$Z$14,vantHoff_EOS!$AE$5:$AN$14,E66,$C$59,$O66:$X66),\"-\")","v":1.6548666898508215E-3},{"$f":"IF(AD$60<=vantHoff_EOS!$N$19,Phi_i_NS_Tci_Pci_wi_kijm_TinC_PinPa_yi(AD$3,vantHoff_EOS!$N$19,vantHoff_EOS!$X$5:$X$14,vantHoff_EOS!$Y$5:$Y$14,vantHoff_EOS!$Z$5:$Z$14,vantHoff_EOS!$AE$5:$AN$14,F66,$C$59,$O66:$X66),\"-\")","v":0.99999945139816682},{"$f":"IF(AE$60<=vantHoff_EOS!$N$19,Phi_i_NS_Tci_Pci_wi_kijm_TinC_PinPa_yi(AE$3,vantHoff_EOS!$N$19,vantHoff_EOS!$X$5:$X$14,vantHoff_EOS!$Y$5:$Y$14,vantHoff_EOS!$Z$5:$Z$14,vantHoff_EOS!$AE$5:$AN$14,G66,$C$59,$O66:$X66),\"-\")","v":"-"},{"$f":"IF(AF$60<=vantHoff_EOS!$N$19,Phi_i_NS_Tci_Pci_wi_kijm_TinC_PinPa_yi(AF$3,vantHoff_EOS!$N$19,vantHoff_EOS!$X$5:$X$14,vantHoff_EOS!$Y$5:$Y$14,vantHoff_EOS!$Z$5:$Z$14,vantHoff_EOS!$AE$5:$AN$14,H66,$C$59,$O66:$X66),\"-\")","v":"-"},{"$f":"IF(AG$60<=vantHoff_EOS!$N$19,Phi_i_NS_Tci_Pci_wi_kijm_TinC_PinPa_yi(AG$3,vantHoff_EOS!$N$19,vantHoff_EOS!$X$5:$X$14,vantHoff_EOS!$Y$5:$Y$14,vantHoff_EOS!$Z$5:$Z$14,vantHoff_EOS!$AE$5:$AN$14,I66,$C$59,$O66:$X66),\"-\")","v":"-"},{"$f":"IF(AH$60<=vantHoff_EOS!$N$19,Phi_i_NS_Tci_Pci_wi_kijm_TinC_PinPa_yi(AH$3,vantHoff_EOS!$N$19,vantHoff_EOS!$X$5:$X$14,vantHoff_EOS!$Y$5:$Y$14,vantHoff_EOS!$Z$5:$Z$14,vantHoff_EOS!$AE$5:$AN$14,J66,$C$59,$O66:$X66),\"-\")","v":"-"},{"$f":"IF(AI$60<=vantHoff_EOS!$N$19,Phi_i_NS_Tci_Pci_wi_kijm_TinC_PinPa_yi(AI$3,vantHoff_EOS!$N$19,vantHoff_EOS!$X$5:$X$14,vantHoff_EOS!$Y$5:$Y$14,vantHoff_EOS!$Z$5:$Z$14,vantHoff_EOS!$AE$5:$AN$14,K66,$C$59,$O66:$X66),\"-\")","v":"-"}]
[7,{"$f":"B66+vantHoff_EOS!$B$31","v":12},285.14999999999998,3.5069261792039282E-3,{"$f":"lnKaT_Tref_lnKaTref_dHTref_da_db_dc_dd_de_TinC(vantHoff_EOS!$E$7,vantHoff_EOS!$B$9,vantHoff_EOS!$B$6,vantHoff_EOS!$O$27,vantHoff_EOS!$P$27,vantHoff_EOS!$Q$27,vantHoff_EOS!$R$27,vantHoff_EOS!$S$27,B67)","v":18.365640980841029},94644751.350740358,{"$f":"MolarExtentX_NS_vi_n0i_dHfi_dGfi_TrefinC_da_db_dc_dd_de_Tci_Pci_wi_kijm_TinC_PinPa(vantHoff_EOS!$N$19,vantHoff_EOS!$O$23:$X$23,vantHoff_EOS!$O$31:$X$31,vantHoff_EOS!$T$5:$T$14,vantHoff_EOS!$U$5:$U$14,vantHoff_EOS!$E$7,vantHoff_EOS!$O$27,vantHoff_EOS!$P$27,vantHoff_EOS!$Q$27,vantHoff_EOS!$R$27,vantHoff_EOS!$S$27,vantHoff_EOS!$X$5:$X$14,vantHoff_EOS!$Y$5:$Y$14,vantHoff_EOS!$Z$5:$Z$14,vantHoff_EOS!$AE$5:$AN$14,B67,$C$59)","v":0.99997737761558914},{"$f":"Ky_NS_n0i_vi_X(vantHoff_EOS!$N$19,vantHoff_EOS!$O$31:$X$31,vantHoff_EOS!$O$23:$X$23,G67)","v":6007750038731377},{"$f":"Kp_NS_vi_PinPa(vantHoff_EOS!$N$19,vantHoff_EOS!$O$23:$X$23,$C$59)","v":6.9444444444444444E-5},{"$f":"Kphi_NS_n0i_vi_X_Tci_Pci_wi_kijm_TinC_PinPa(vantHoff_EOS!$N$19,vantHoff_EOS!$O$31:$X$31,vantHoff_EOS!$O$23:$X$23,G67,vantHoff_EOS!$X$5:$X$14,vantHoff_EOS!$Y$5:$Y$14,vantHoff_EOS!$Z$5:$Z$14,vantHoff_EOS!$AE$5:$AN$14,B67,$C$59)","v":2.2685438153292883E-4},36.331826703768563,-9.5749834855640916,-8.3912022373706545,{"$f":"nT_NS_n0i_vi_X(vantHoff_EOS!$N$19,vantHoff_EOS!$O$31:$X$31,vantHoff_EOS!$O$23:$X$23,G67)","v":8.340045244768822},{"$f":"IF(O$60<=vantHoff_EOS!$N$19,y_iindex_NS_n0i_vi_X(O$3,vantHoff_EOS!$N$19,vantHoff_EOS!$O$31:$X$31,vantHoff_EOS!$O$23:$X$23,$G67),\"-\")","v":2.7125014010030402E-6},{"$f":"IF(P$60<=vantHoff_EOS!$N$19,y_iindex_NS_n0i_vi_X(P$3,vantHoff_EOS!$N$19,vantHoff_EOS!$O$31:$X$31,vantHoff_EOS!$O$23:$X$23,$G67),\"-\")","v":2.7125014010030402E-6},{"$f":"IF(Q$60<=vantHoff_EOS!$N$19,y_iindex_NS_n0i_vi_X(Q$3,vantHoff_EOS!$N$19,vantHoff_EOS!$O$31:$X$31,vantHoff_EOS!$O$23:$X$23,$G67),\"-\")","v":2.7125014010030402E-6},{"$f":"IF(R$60<=vantHoff_EOS!$N$19,y_iindex_NS_n0i_vi_X(R$3,vantHoff_EOS!$N$19,vantHoff_EOS!$O$31:$X$31,vantHoff_EOS!$O$23:$X$23,$G67),\"-\")","v":0.11990071375725582},{"$f":"IF(S$60<=vantHoff_EOS!$N$19,y_iindex_NS_n0i_vi_X(S$3,vantHoff_EOS!$N$19,vantHoff_EOS!$O$31:$X$31,vantHoff_EOS!$O$23:$X$23,$G67),\"-\")","v":0.88009114873854111},{"$f":"IF(T$60<=vantHoff_EOS!$N$19,y_iindex_NS_n0i_vi_X(T$3,vantHoff_EOS!$N$19,vantHoff_EOS!$O$31:$X$31,vantHoff_EOS!$O$23:$X$23,$G67),\"-\")","v":"-"},{"$f":"IF(U$60<=vantHoff_EOS!$N$19,y_iindex_NS_n0i_vi_X(U$3,vantHoff_EOS!$N$19,vantHoff_EOS!$O$31:$X$31,vantHoff_EOS!$O$23:$X$23,$G67),\"-\")","v":"-"},{"$f":"IF(V$60<=vantHoff_EOS!$N$19,y_iindex_NS_n0i_vi_X(V$3,vantHoff_EOS!$N$19,vantHoff_EOS!$O$31:$X$31,vantHoff_EOS!$O$23:$X$23,$G67),\"-\")","v":"-"},{"$f":"IF(W$60<=vantHoff_EOS!$N$19,y_iindex_NS_n0i_vi_X(W$3,vantHoff_EOS!$N$19,vantHoff_EOS!$O$31:$X$31,vantHoff_EOS!$O$23:$X$23,$G67),\"-\")","v":"-"},{"$f":"IF(X$60<=vantHoff_EOS!$N$19,y_iindex_NS_n0i_vi_X(X$3,vantHoff_EOS!$N$19,vantHoff_EOS!$O$31:$X$31,vantHoff_EOS!$O$23:$X$23,$G67),\"-\")","v":"-"},0.99999999999999989,{"$f":"IF(Z$60<=vantHoff_EOS!$N$19,Phi_i_NS_Tci_Pci_wi_kijm_TinC_PinPa_yi(Z$3,vantHoff_EOS!$N$19,vantHoff_EOS!$X$5:$X$14,vantHoff_EOS!$Y$5:$Y$14,vantHoff_EOS!$Z$5:$Z$14,vantHoff_EOS!$AE$5:$AN$14,B67,$C$59,$O67:$X67),\"-\")","v":5.3823842044827099},{"$f":"IF(AA$60<=vantHoff_EOS!$N$19,Phi_i_NS_Tci_Pci_wi_kijm_TinC_PinPa_yi(AA$3,vantHoff_EOS!$N$19,vantHoff_EOS!$X$5:$X$14,vantHoff_EOS!$Y$5:$Y$14,vantHoff_EOS!$Z$5:$Z$14,vantHoff_EOS!$AE$5:$AN$14,C67,$C$59,$O67:$X67),\"-\")","v":1.1409660103918235},{"$f":"IF(AB$60<=vantHoff_EOS!$N$19,Phi_i_NS_Tci_Pci_wi_kijm_TinC_PinPa_yi(AB$3,vantHoff_EOS!$N$19,vantHoff_EOS!$X$5:$X$14,vantHoff_EOS!$Y$5:$Y$14,vantHoff_EOS!$Z$5:$Z$14,vantHoff_EOS!$AE$5:$AN$14,D67,$C$59,$O67:$X67),\"-\")","v":6.5047320489225083E-2},{"$f":"IF(AC$60<=vantHoff_EOS!$N$19,Phi_i_NS_Tci_Pci_wi_kijm_TinC_PinPa_yi(AC$3,vantHoff_EOS!$N$19,vantHoff_EOS!$X$5:$X$14,vantHoff_EOS!$Y$5:$Y$14,vantHoff_EOS!$Z$5:$Z$14,vantHoff_EOS!$AE$5:$AN$14,E67,$C$59,$O67:$X67),\"-\")","v":1.6258465254068188E-3},{"$f":"IF(AD$60<=vantHoff_EOS!$N$19,Phi_i_NS_Tci_Pci_wi_kijm_TinC_PinPa_yi(AD$3,vantHoff_EOS!$N$19,vantHoff_EOS!$X$5:$X$14,vantHoff_EOS!$Y$5:$Y$14,vantHoff_EOS!$Z$5:$Z$14,vantHoff_EOS!$AE$5:$AN$14,F67,$C$59,$O67:$X67),\"-\")","v":0.99999922948240239},{"$f":"IF(AE$60<=vantHoff_EOS!$N$19,Phi_i_NS_Tci_Pci_wi_kijm_TinC_PinPa_yi(AE$3,vantHoff_EOS!$N$19,vantHoff_EOS!$X$5:$X$14,vantHoff_EOS!$Y$5:$Y$14,vantHoff_EOS!$Z$5:$Z$14,vantHoff_EOS!$AE$5:$AN$14,G67,$C$59,$O67:$X67),\"-\")","v":"-"},{"$f":"IF(AF$60<=vantHoff_EOS!$N$19,Phi_i_NS_Tci_Pci_wi_kijm_TinC_PinPa_yi(AF$3,vantHoff_EOS!$N$19,vantHoff_EOS!$X$5:$X$14,vantHoff_EOS!$Y$5:$Y$14,vantHoff_EOS!$Z$5:$Z$14,vantHoff_EOS!$AE$5:$AN$14,H67,$C$59,$O67:$X67),\"-\")","v":"-"},{"$f":"IF(AG$60<=vantHoff_EOS!$N$19,Phi_i_NS_Tci_Pci_wi_kijm_TinC_PinPa_yi(AG$3,vantHoff_EOS!$N$19,vantHoff_EOS!$X$5:$X$14,vantHoff_EOS!$Y$5:$Y$14,vantHoff_EOS!$Z$5:$Z$14,vantHoff_EOS!$AE$5:$AN$14,I67,$C$59,$O67:$X67),\"-\")","v":"-"},{"$f":"IF(AH$60<=vantHoff_EOS!$N$19,Phi_i_NS_Tci_Pci_wi_kijm_TinC_PinPa_yi(AH$3,vantHoff_EOS!$N$19,vantHoff_EOS!$X$5:$X$14,vantHoff_EOS!$Y$5:$Y$14,vantHoff_EOS!$Z$5:$Z$14,vantHoff_EOS!$AE$5:$AN$14,J67,$C$59,$O67:$X67),\"-\")","v":"-"},{"$f":"IF(AI$60<=vantHoff_EOS!$N$19,Phi_i_NS_Tci_Pci_wi_kijm_TinC_PinPa_yi(AI$3,vantHoff_EOS!$N$19,vantHoff_EOS!$X$5:$X$14,vantHoff_EOS!$Y$5:$Y$14,vantHoff_EOS!$Z$5:$Z$14,vantHoff_EOS!$AE$5:$AN$14,K67,$C$59,$O67:$X67),\"-\")","v":"-"}]
[8,{"$f":"B67+vantHoff_EOS!$B$31","v":14},287.14999999999998,3.4825004353125546E-3,{"$f":"lnKaT_Tref_lnKaTref_dHTref_da_db_dc_dd_de_TinC(vantHoff_EOS!$E$7,vantHoff_EOS!$B$9,vantHoff_EOS!$B$6,vantHoff_EOS!$O$27,vantHoff_EOS!$P$27,vantHoff_EOS!$Q$27,vantHoff_EOS!$R$27,vantHoff_EOS!$S$27,B68)","v":18.02854909264709},67561516.248746037,{"$f":"MolarExtentX_NS_vi_n0i_dHfi_dGfi_TrefinC_da_db_dc_dd_de_Tci_Pci_wi_kijm_TinC_PinPa(vantHoff_EOS!$N$19,vantHoff_EOS!$O$23:$X$23,vantHoff_EOS!$O$31:$X$31,vantHoff_EOS!$T$5:$T$14,vantHoff_EOS!$U$5:$U$14,vantHoff_EOS!$E$7,vantHoff_EOS!$O$27,vantHoff_EOS!$P$27,vantHoff_EOS!$Q$27,vantHoff_EOS!$R$27,vantHoff_EOS!$S$27,vantHoff_EOS!$X$5:$X$14,vantHoff_EOS!$Y$5:$Y$14,vantHoff_EOS!$Z$5:$Z$14,vantHoff_EOS!$AE$5:$AN$14,B68,$C$59)","v":0.99997384619150975},{"$f":"Ky_NS_n0i_vi_X(vantHoff_EOS!$N$19,vantHoff_EOS!$O$31:$X$31,vantHoff_EOS!$O$23:$X$23,G68)","v":3887956277826660},{"$f":"Kp_NS_vi_PinPa(vantHoff_EOS!$N$19,vantHoff_EOS!$O$23:$X$23,$C$59)","v":6.9444444444444444E-5},{"$f":"Kphi_NS_n0i_vi_X_Tci_Pci_wi_kijm_TinC_PinPa(vantHoff_EOS!$N$19,vantHoff_EOS!$O$31:$X$31,vantHoff_EOS!$O$23:$X$23,G68,vantHoff_EOS!$X$5:$X$14,vantHoff_EOS!$Y$5:$Y$14,vantHoff_EOS!$Z$5:$Z$14,vantHoff_EOS!$AE$5:$AN$14,B68,$C$59)","v":2.5023065190580207E-4},35.896660036030696,-9.5749834855640916,-8.2931274578196383,{"$f":"nT_NS_n0i_vi_X(vantHoff_EOS!$N$19,vantHoff_EOS!$O$31:$X$31,vantHoff_EOS!$O$23:$X$23,G68)","v":8.3400523076169808},{"$f":"IF(O$60<=vantHoff_EOS!$N$19,y_iindex_NS_n0i_vi_X(O$3,vantHoff_EOS!$N$19,vantHoff_EOS!$O$31:$X$31,vantHoff_EOS!$O$23:$X$23,$G68),\"-\")","v":3.1359285920019527E-6},{"$f":"IF(P$60<=vantHoff_EOS!$N$19,y_iindex_NS_n0i_vi_X(P$3,vantHoff_EOS!$N$19,vantHoff_EOS!$O$31:$X$31,vantHoff_EOS!$O$23:$X$23,$G68),\"-\")","v":3.1359285920019527E-6},{"$f":"IF(Q$60<=vantHoff_EOS!$N$19,y_iindex_NS_n0i_vi_X(Q$3,vantHoff_EOS!$N$19,vantHoff_EOS!$O$31:$X$31,vantHoff_EOS!$O$23:$X$23,$G68),\"-\")","v":3.1359285920019527E-6},{"$f":"IF(R$60<=vantHoff_EOS!$N$19,y_iindex_NS_n0i_vi_X(R$3,vantHoff_EOS!$N$19,vantHoff_EOS!$O$31:$X$31,vantHoff_EOS!$O$23:$X$23,$G68),\"-\")","v":0.11990018878877202},{"$f":"IF(S$60<=vantHoff_EOS!$N$19,y_iindex_NS_n0i_vi_X(S$3,vantHoff_EOS!$N$19,vantHoff_EOS!$O$31:$X$31,vantHoff_EOS!$O$23:$X$23,$G68),\"-\")","v":0.88009040342545197},{"$f":"IF(T$60<=vantHoff_EOS!$N$19,y_iindex_NS_n0i_vi_X(T$3,vantHoff_EOS!$N$19,vantHoff_EOS!$O$31:$X$31,vantHoff_EOS!$O$23:$X$23,$G68),\"-\")","v":"-"},{"$f":"IF(U$60<=vantHoff_EOS!$N$19,y_iindex_NS_n0i_vi_X(U$3,vantHoff_EOS!$N$19,vantHoff_EOS!$O$31:$X$31,vantHoff_EOS!$O$23:$X$23,$G68),\"-\")","v":"-"},{"$f":"IF(V$60<=vantHoff_EOS!$N$19,y_iindex_NS_n0i_vi_X(V$3,vantHoff_EOS!$N$19,vantHoff_EOS!$O$31:$X$31,vantHoff_EOS!$O$23:$X$23,$G68),\"-\")","v":"-"},{"$f":"IF(W$60<=vantHoff_EOS!$N$19,y_iindex_NS_n0i_vi_X(W$3,vantHoff_EOS!$N$19,vantHoff_EOS!$O$31:$X$31,vantHoff_EOS!$O$23:$X$23,$G68),\"-\")","v":"-"},{"$f":"IF(X$60<=vantHoff_EOS!$N$19,y_iindex_NS_n0i_vi_X(X$3,vantHoff_EOS!$N$19,vantHoff_EOS!$O$31:$X$31,vantHoff_EOS!$O$23:$X$23,$G68),\"-\")","v":"-"},1,{"$f":"IF(Z$60<=vantHoff_EOS!$N$19,Phi_i_NS_Tci_Pci_wi_kijm_TinC_PinPa_yi(Z$3,vantHoff_EOS!$N$19,vantHoff_EOS!$X$5:$X$14,vantHoff_EOS!$Y$5:$Y$14,vantHoff_EOS!$Z$5:$Z$14,vantHoff_EOS!$AE$5:$AN$14,B68,$C$59,$O68:$X68),\"-\")","v":5.3250116405823249},{"$f":"IF(AA$60<=vantHoff_EOS!$N$19,Phi_i_NS_Tci_Pci_wi_kijm_TinC_PinPa_yi(AA$3,vantHoff_EOS!$N$19,vantHoff_EOS!$X$5:$X$14,vantHoff_EOS!$Y$5:$Y$14,vantHoff_EOS!$Z$5:$Z$14,vantHoff_EOS!$AE$5:$AN$14,C68,$C$59,$O68:$X68),\"-\")","v":1.1391826069598945},{"$f":"IF(AB$60<=vantHoff_EOS!$N$19,Phi_i_NS_Tci_Pci_wi_kijm_TinC_PinPa_yi(AB$3,vantHoff_EOS!$N$19,vantHoff_EOS!$X$5:$X$14,vantHoff_EOS!$Y$5:$Y$14,vantHoff_EOS!$Z$5:$Z$14,vantHoff_EOS!$AE$5:$AN$14,D68,$C$59,$O68:$X68),\"-\")","v":6.5047242048258958E-2},{"$f":"IF(AC$60<=vantHoff_EOS!$N$19,Phi_i_NS_Tci_Pci_wi_kijm_TinC_PinPa_yi(AC$3,vantHoff_EOS!$N$19,vantHoff_EOS!$X$5:$X$14,vantHoff_EOS!$Y$5:$Y$14,vantHoff_EOS!$Z$5:$Z$14,vantHoff_EOS!$AE$5:$AN$14,E68,$C$59,$O68:$X68),\"-\")","v":1.5976634485744328E-3},{"$f":"IF(AD$60<=vantHoff_EOS!$N$19,Phi_i_NS_Tci_Pci_wi_kijm_TinC_PinPa_yi(AD$3,vantHoff_EOS!$N$19,vantHoff_EOS!$X$5:$X$14,vantHoff_EOS!$Y$5:$Y$14,vantHoff_EOS!$Z$5:$Z$14,vantHoff_EOS!$AE$5:$AN$14,F68,$C$59,$O68:$X68),\"-\")","v":0.99999892320985762},{"$f":"IF(AE$60<=vantHoff_EOS!$N$19,Phi_i_NS_Tci_Pci_wi_kijm_TinC_PinPa_yi(AE$3,vantHoff_EOS!$N$19,vantHoff_EOS!$X$5:$X$14,vantHoff_EOS!$Y$5:$Y$14,vantHoff_EOS!$Z$5:$Z$14,vantHoff_EOS!$AE$5:$AN$14,G68,$C$59,$O68:$X68),\"-\")","v":"-"},{"$f":"IF(AF$60<=vantHoff_EOS!$N$19,Phi_i_NS_Tci_Pci_wi_kijm_TinC_PinPa_yi(AF$3,vantHoff_EOS!$N$19,vantHoff_EOS!$X$5:$X$14,vantHoff_EOS!$Y$5:$Y$14,vantHoff_EOS!$Z$5:$Z$14,vantHoff_EOS!$AE$5:$AN$14,H68,$C$59,$O68:$X68),\"-\")","v":"-"},{"$f":"IF(AG$60<=vantHoff_EOS!$N$19,Phi_i_NS_Tci_Pci_wi_kijm_TinC_PinPa_yi(AG$3,vantHoff_EOS!$N$19,vantHoff_EOS!$X$5:$X$14,vantHoff_EOS!$Y$5:$Y$14,vantHoff_EOS!$Z$5:$Z$14,vantHoff_EOS!$AE$5:$AN$14,I68,$C$59,$O68:$X68),\"-\")","v":"-"},{"$f":"IF(AH$60<=vantHoff_EOS!$N$19,Phi_i_NS_Tci_Pci_wi_kijm_TinC_PinPa_yi(AH$3,vantHoff_EOS!$N$19,vantHoff_EOS!$X$5:$X$14,vantHoff_EOS!$Y$5:$Y$14,vantHoff_EOS!$Z$5:$Z$14,vantHoff_EOS!$AE$5:$AN$14,J68,$C$59,$O68:$X68),\"-\")","v":"-"},{"$f":"IF(AI$60<=vantHoff_EOS!$N$19,Phi_i_NS_Tci_Pci_wi_kijm_TinC_PinPa_yi(AI$3,vantHoff_EOS!$N$19,vantHoff_EOS!$X$5:$X$14,vantHoff_EOS!$Y$5:$Y$14,vantHoff_EOS!$Z$5:$Z$14,vantHoff_EOS!$AE$5:$AN$14,K68,$C$59,$O68:$X68),\"-\")","v":"-"}]
[9,{"$f":"B68+vantHoff_EOS!$B$31","v":16},289.14999999999998,3.4584125886218228E-3,{"$f":"lnKaT_Tref_lnKaTref_dHTref_da_db_dc_dd_de_TinC(vantHoff_EOS!$E$7,vantHoff_EOS!$B$9,vantHoff_EOS!$B$6,vantHoff_EOS!$O$27,vantHoff_EOS!$P$27,vantHoff_EOS!$Q$27,vantHoff_EOS!$R$27,vantHoff_EOS!$S$27,B69)","v":17.696022008671999},48448988.00494165,{"$f":"MolarExtentX_NS_vi_n0i_dHfi_dGfi_TrefinC_da_db_dc_dd_de_Tci_Pci_wi_kijm_TinC_PinPa(vantHoff_EOS!$N$19,vantHoff_EOS!$O$23:$X$23,vantHoff_EOS!$O$31:$X$31,vantHoff_EOS!$T$5:$T$14,vantHoff_EOS!$U$5:$U$14,vantHoff_EOS!$E$7,vantHoff_EOS!$O$27,vantHoff_EOS!$P$27,vantHoff_EOS!$Q$27,vantHoff_EOS!$R$27,vantHoff_EOS!$S$27,vantHoff_EOS!$X$5:$X$14,vantHoff_EOS!$Y$5:$Y$14,vantHoff_EOS!$Z$5:$Z$14,vantHoff_EOS!$AE$5:$AN$14,B69,$C$59)","v":0.99996981029249754},{"$f":"Ky_NS_n0i_vi_X(vantHoff_EOS!$N$19,vantHoff_EOS!$O$31:$X$31,vantHoff_EOS!$O$23:$X$23,G69)","v":2527834065896185},{"$f":"Kp_NS_vi_PinPa(vantHoff_EOS!$N$19,vantHoff_EOS!$O$23:$X$23,$C$59)","v":6.9444444444444444E-5},{"$f":"Kphi_NS_n0i_vi_X_Tci_Pci_wi_kijm_TinC_PinPa(vantHoff_EOS!$N$19,vantHoff_EOS!$O$31:$X$31,vantHoff_EOS!$O$23:$X$23,G69,vantHoff_EOS!$X$5:$X$14,vantHoff_EOS!$Y$5:$Y$14,vantHoff_EOS!$Z$5:$Z$14,vantHoff_EOS!$AE$5:$AN$14,B69,$C$59)","v":2.7599336391584097E-4},35.46613923055056,-9.5749834855640916,-8.1951337363193648,{"$f":"nT_NS_n0i_vi_X(vantHoff_EOS!$N$19,vantHoff_EOS!$O$31:$X$31,vantHoff_EOS!$O$23:$X$23,G69)","v":8.3400603794150054},{"$f":"IF(O$60<=vantHoff_EOS!$N$19,y_iindex_NS_n0i_vi_X(O$3,vantHoff_EOS!$N$19,vantHoff_EOS!$O$31:$X$31,vantHoff_EOS!$O$23:$X$23,$G69),\"-\")","v":3.6198427983775455E-6},{"$f":"IF(P$60<=vantHoff_EOS!$N$19,y_iindex_NS_n0i_vi_X(P$3,vantHoff_EOS!$N$19,vantHoff_EOS!$O$31:$X$31,vantHoff_EOS!$O$23:$X$23,$G69),\"-\")","v":3.6198427983775455E-6},{"$f":"IF(Q$60<=vantHoff_EOS!$N$19,y_iindex_NS_n0i_vi_X(Q$3,vantHoff_EOS!$N$19,vantHoff_EOS!$O$31:$X$31,vantHoff_EOS!$O$23:$X$23,$G69),\"-\")","v":3.6198427983775455E-6},{"$f":"IF(R$60<=vantHoff_EOS!$N$19,y_iindex_NS_n0i_vi_X(R$3,vantHoff_EOS!$N$19,vantHoff_EOS!$O$31:$X$31,vantHoff_EOS!$O$23:$X$23,$G69),\"-\")","v":0.11989958882799337},{"$f":"IF(S$60<=vantHoff_EOS!$N$19,y_iindex_NS_n0i_vi_X(S$3,vantHoff_EOS!$N$19,vantHoff_EOS!$O$31:$X$31,vantHoff_EOS!$O$23:$X$23,$G69),\"-\")","v":0.88008955164361147},{"$f":"IF(T$60<=vantHoff_EOS!$N$19,y_iindex_NS_n0i_vi_X(T$3,vantHoff_EOS!$N$19,vantHoff_EOS!$O$31:$X$31,vantHoff_EOS!$O$23:$X$23,$G69),\"-\")","v":"-"},{"$f":"IF(U$60<=vantHoff_EOS!$N$19,y_iindex_NS_n0i_vi_X(U$3,vantHoff_EOS!$N$19,vantHoff_EOS!$O$31:$X$31,vantHoff_EOS!$O$23:$X$23,$G69),\"-\")","v":"-"},{"$f":"IF(V$60<=vantHoff_EOS!$N$19,y_iindex_NS_n0i_vi_X(V$3,vantHoff_EOS!$N$19,vantHoff_EOS!$O$31:$X$31,vantHoff_EOS!$O$23:$X$23,$G69),\"-\")","v":"-"},{"$f":"IF(W$60<=vantHoff_EOS!$N$19,y_iindex_NS_n0i_vi_X(W$3,vantHoff_EOS!$N$19,vantHoff_EOS!$O$31:$X$31,vantHoff_EOS!$O$23:$X$23,$G69),\"-\")","v":"-"},{"$f":"IF(X$60<=vantHoff_EOS!$N$19,y_iindex_NS_n0i_vi_X(X$3,vantHoff_EOS!$N$19,vantHoff_EOS!$O$31:$X$31,vantHoff_EOS!$O$23:$X$23,$G69),\"-\")","v":"-"},1,{"$f":"IF(Z$60<=vantHoff_EOS!$N$19,Phi_i_NS_Tci_Pci_wi_kijm_TinC_PinPa_yi(Z$3,vantHoff_EOS!$N$19,vantHoff_EOS!$X$5:$X$14,vantHoff_EOS!$Y$5:$Y$14,vantHoff_EOS!$Z$5:$Z$14,vantHoff_EOS!$AE$5:$AN$14,B69,$C$59,$O69:$X69),\"-\")","v":5.2662284312525358},{"$f":"IF(AA$60<=vantHoff_EOS!$N$19,Phi_i_NS_Tci_Pci_wi_kijm_TinC_PinPa_yi(AA$3,vantHoff_EOS!$N$19,vantHoff_EOS!$X$5:$X$14,vantHoff_EOS!$Y$5:$Y$14,vantHoff_EOS!$Z$5:$Z$14,vantHoff_EOS!$AE$5:$AN$14,C69,$C$59,$O69:$X69),\"-\")","v":1.1374339001186702},{"$f":"IF(AB$60<=vantHoff_EOS!$N$19,Phi_i_NS_Tci_Pci_wi_kijm_TinC_PinPa_yi(AB$3,vantHoff_EOS!$N$19,vantHoff_EOS!$X$5:$X$14,vantHoff_EOS!$Y$5:$Y$14,vantHoff_EOS!$Z$5:$Z$14,vantHoff_EOS!$AE$5:$AN$14,D69,$C$59,$O69:$X69),\"-\")","v":6.5047158718349582E-2},{"$f":"IF(AC$60<=vantHoff_EOS!$N$19,Phi_i_NS_Tci_Pci_wi_kijm_TinC_PinPa_yi(AC$3,vantHoff_EOS!$N$19,vantHoff_EOS!$X$5:$X$14,vantHoff_EOS!$Y$5:$Y$14,vantHoff_EOS!$Z$5:$Z$14,vantHoff_EOS!$AE$5:$AN$14,E69,$C$59,$O69:$X69),\"-\")","v":1.5702856814443103E-3},{"$f":"IF(AD$60<=vantHoff_EOS!$N$19,Phi_i_NS_Tci_Pci_wi_kijm_TinC_PinPa_yi(AD$3,vantHoff_EOS!$N$19,vantHoff_EOS!$X$5:$X$14,vantHoff_EOS!$Y$5:$Y$14,vantHoff_EOS!$Z$5:$Z$14,vantHoff_EOS!$AE$5:$AN$14,F69,$C$59,$O69:$X69),\"-\")","v":0.99999850265957668},{"$f":"IF(AE$60<=vantHoff_EOS!$N$19,Phi_i_NS_Tci_Pci_wi_kijm_TinC_PinPa_yi(AE$3,vantHoff_EOS!$N$19,vantHoff_EOS!$X$5:$X$14,vantHoff_EOS!$Y$5:$Y$14,vantHoff_EOS!$Z$5:$Z$14,vantHoff_EOS!$AE$5:$AN$14,G69,$C$59,$O69:$X69),\"-\")","v":"-"},{"$f":"IF(AF$60<=vantHoff_EOS!$N$19,Phi_i_NS_Tci_Pci_wi_kijm_TinC_PinPa_yi(AF$3,vantHoff_EOS!$N$19,vantHoff_EOS!$X$5:$X$14,vantHoff_EOS!$Y$5:$Y$14,vantHoff_EOS!$Z$5:$Z$14,vantHoff_EOS!$AE$5:$AN$14,H69,$C$59,$O69:$X69),\"-\")","v":"-"},{"$f":"IF(AG$60<=vantHoff_EOS!$N$19,Phi_i_NS_Tci_Pci_wi_kijm_TinC_PinPa_yi(AG$3,vantHoff_EOS!$N$19,vantHoff_EOS!$X$5:$X$14,vantHoff_EOS!$Y$5:$Y$14,vantHoff_EOS!$Z$5:$Z$14,vantHoff_EOS!$AE$5:$AN$14,I69,$C$59,$O69:$X69),\"-\")","v":"-"},{"$f":"IF(AH$60<=vantHoff_EOS!$N$19,Phi_i_NS_Tci_Pci_wi_kijm_TinC_PinPa_yi(AH$3,vantHoff_EOS!$N$19,vantHoff_EOS!$X$5:$X$14,vantHoff_EOS!$Y$5:$Y$14,vantHoff_EOS!$Z$5:$Z$14,vantHoff_EOS!$AE$5:$AN$14,J69,$C$59,$O69:$X69),\"-\")","v":"-"},{"$f":"IF(AI$60<=vantHoff_EOS!$N$19,Phi_i_NS_Tci_Pci_wi_kijm_TinC_PinPa_yi(AI$3,vantHoff_EOS!$N$19,vantHoff_EOS!$X$5:$X$14,vantHoff_EOS!$Y$5:$Y$14,vantHoff_EOS!$Z$5:$Z$14,vantHoff_EOS!$AE$5:$AN$14,K69,$C$59,$O69:$X69),\"-\")","v":"-"}]
[10,{"$f":"B69+vantHoff_EOS!$B$31","v":18},291.14999999999998,3.4346556757685045E-3,{"$f":"lnKaT_Tref_lnKaTref_dHTref_da_db_dc_dd_de_TinC(vantHoff_EOS!$E$7,vantHoff_EOS!$B$9,vantHoff_EOS!$B$6,vantHoff_EOS!$O$27,vantHoff_EOS!$P$27,vantHoff_EOS!$Q$27,vantHoff_EOS!$R$27,vantHoff_EOS!$S$27,B70)","v":17.367966843568791},34898934.044504263,{"$f":"MolarExtentX_NS_vi_n0i_dHfi_dGfi_TrefinC_da_db_dc_dd_de_Tci_Pci_wi_kijm_TinC_PinPa(vantHoff_EOS!$N$19,vantHoff_EOS!$O$23:$X$23,vantHoff_EOS!$O$31:$X$31,vantHoff_EOS!$T$5:$T$14,vantHoff_EOS!$U$5:$U$14,vantHoff_EOS!$E$7,vantHoff_EOS!$O$27,vantHoff_EOS!$P$27,vantHoff_EOS!$Q$27,vantHoff_EOS!$R$27,vantHoff_EOS!$S$27,vantHoff_EOS!$X$5:$X$14,vantHoff_EOS!$Y$5:$Y$14,vantHoff_EOS!$Z$5:$Z$14,vantHoff_EOS!$AE$5:$AN$14,B70,$C$59)","v":0.99996520381428078},{"$f":"Ky_NS_n0i_vi_X(vantHoff_EOS!$N$19,vantHoff_EOS!$O$31:$X$31,vantHoff_EOS!$O$23:$X$23,G70)","v":1650932498150611.5},{"$f":"Kp_NS_vi_PinPa(vantHoff_EOS!$N$19,vantHoff_EOS!$O$23:$X$23,$C$59)","v":6.9444444444444444E-5},{"$f":"Kphi_NS_n0i_vi_X_Tci_Pci_wi_kijm_TinC_PinPa(vantHoff_EOS!$N$19,vantHoff_EOS!$O$31:$X$31,vantHoff_EOS!$O$23:$X$23,G70,vantHoff_EOS!$X$5:$X$14,vantHoff_EOS!$Y$5:$Y$14,vantHoff_EOS!$Z$5:$Z$14,vantHoff_EOS!$AE$5:$AN$14,B70,$C$59)","v":3.044004832430502E-4},35.040116673580144,-9.5749834855640916,-8.0971663444515567,{"$f":"nT_NS_n0i_vi_X(vantHoff_EOS!$N$19,vantHoff_EOS!$O$31:$X$31,vantHoff_EOS!$O$23:$X$23,G70)","v":8.3400695923714387},{"$f":"IF(O$60<=vantHoff_EOS!$N$19,y_iindex_NS_n0i_vi_X(O$3,vantHoff_EOS!$N$19,vantHoff_EOS!$O$31:$X$31,vantHoff_EOS!$O$23:$X$23,$G70),\"-\")","v":4.1721697083977619E-6},{"$f":"IF(P$60<=vantHoff_EOS!$N$19,y_iindex_NS_n0i_vi_X(P$3,vantHoff_EOS!$N$19,vantHoff_EOS!$O$31:$X$31,vantHoff_EOS!$O$23:$X$23,$G70),\"-\")","v":4.1721697083977619E-6},{"$f":"IF(Q$60<=vantHoff_EOS!$N$19,y_iindex_NS_n0i_vi_X(Q$3,vantHoff_EOS!$N$19,vantHoff_EOS!$O$31:$X$31,vantHoff_EOS!$O$23:$X$23,$G70),\"-\")","v":4.1721697083977619E-6},{"$f":"IF(R$60<=vantHoff_EOS!$N$19,y_iindex_NS_n0i_vi_X(R$3,vantHoff_EOS!$N$19,vantHoff_EOS!$O$31:$X$31,vantHoff_EOS!$O$23:$X$23,$G70),\"-\")","v":0.11989890404858694},{"$f":"IF(S$60<=vantHoff_EOS!$N$19,y_iindex_NS_n0i_vi_X(S$3,vantHoff_EOS!$N$19,vantHoff_EOS!$O$31:$X$31,vantHoff_EOS!$O$23:$X$23,$G70),\"-\")","v":0.8800885794422878},{"$f":"IF(T$60<=vantHoff_EOS!$N$19,y_iindex_NS_n0i_vi_X(T$3,vantHoff_EOS!$N$19,vantHoff_EOS!$O$31:$X$31,vantHoff_EOS!$O$23:$X$23,$G70),\"-\")","v":"-"},{"$f":"IF(U$60<=vantHoff_EOS!$N$19,y_iindex_NS_n0i_vi_X(U$3,vantHoff_EOS!$N$19,vantHoff_EOS!$O$31:$X$31,vantHoff_EOS!$O$23:$X$23,$G70),\"-\")","v":"-"},{"$f":"IF(V$60<=vantHoff_EOS!$N$19,y_iindex_NS_n0i_vi_X(V$3,vantHoff_EOS!$N$19,vantHoff_EOS!$O$31:$X$31,vantHoff_EOS!$O$23:$X$23,$G70),\"-\")","v":"-"},{"$f":"IF(W$60<=vantHoff_EOS!$N$19,y_iindex_NS_n0i_vi_X(W$3,vantHoff_EOS!$N$19,vantHoff_EOS!$O$31:$X$31,vantHoff_EOS!$O$23:$X$23,$G70),\"-\")","v":"-"},{"$f":"IF(X$60<=vantHoff_EOS!$N$19,y_iindex_NS_n0i_vi_X(X$3,vantHoff_EOS!$N$19,vantHoff_EOS!$O$31:$X$31,vantHoff_EOS!$O$23:$X$23,$G70),\"-\")","v":"-"},0.99999999999999989,{"$f":"IF(Z$60<=vantHoff_EOS!$N$19,Phi_i_NS_Tci_Pci_wi_kijm_TinC_PinPa_yi(Z$3,vantHoff_EOS!$N$19,vantHoff_EOS!$X$5:$X$14,vantHoff_EOS!$Y$5:$Y$14,vantHoff_EOS!$Z$5:$Z$14,vantHoff_EOS!$AE$5:$AN$14,B70,$C$59,$O70:$X70),\"-\")","v":5.2060514326889411},{"$f":"IF(AA$60<=vantHoff_EOS!$N$19,Phi_i_NS_Tci_Pci_wi_kijm_TinC_PinPa_yi(AA$3,vantHoff_EOS!$N$19,vantHoff_EOS!$X$5:$X$14,vantHoff_EOS!$Y$5:$Y$14,vantHoff_EOS!$Z$5:$Z$14,vantHoff_EOS!$AE$5:$AN$14,C70,$C$59,$O70:$X70),\"-\")","v":1.1357189500760951},{"$f":"IF(AB$60<=vantHoff_EOS!$N$19,Phi_i_NS_Tci_Pci_wi_kijm_TinC_PinPa_yi(AB$3,vantHoff_EOS!$N$19,vantHoff_EOS!$X$5:$X$14,vantHoff_EOS!$Y$5:$Y$14,vantHoff_EOS!$Z$5:$Z$14,vantHoff_EOS!$AE$5:$AN$14,D70,$C$59,$O70:$X70),\"-\")","v":6.5047069774434516E-2},{"$f":"IF(AC$60<=vantHoff_EOS!$N$19,Phi_i_NS_Tci_Pci_wi_kijm_TinC_PinPa_yi(AC$3,vantHoff_EOS!$N$19,vantHoff_EOS!$X$5:$X$14,vantHoff_EOS!$Y$5:$Y$14,vantHoff_EOS!$Z$5:$Z$14,vantHoff_EOS!$AE$5:$AN$14,E70,$C$59,$O70:$X70),\"-\")","v":1.5436829318427991E-3},{"$f":"IF(AD$60<=vantHoff_EOS!$N$19,Phi_i_NS_Tci_Pci_wi_kijm_TinC_PinPa_yi(AD$3,vantHoff_EOS!$N$19,vantHoff_EOS!$X$5:$X$14,vantHoff_EOS!$Y$5:$Y$14,vantHoff_EOS!$Z$5:$Z$14,vantHoff_EOS!$AE$5:$AN$14,F70,$C$59,$O70:$X70),\"-\")","v":0.99999792812163246},{"$f":"IF(AE$60<=vantHoff_EOS!$N$19,Phi_i_NS_Tci_Pci_wi_kijm_TinC_PinPa_yi(AE$3,vantHoff_EOS!$N$19,vantHoff_EOS!$X$5:$X$14,vantHoff_EOS!$Y$5:$Y$14,vantHoff_EOS!$Z$5:$Z$14,vantHoff_EOS!$AE$5:$AN$14,G70,$C$59,$O70:$X70),\"-\")","v":"-"},{"$f":"IF(AF$60<=vantHoff_EOS!$N$19,Phi_i_NS_Tci_Pci_wi_kijm_TinC_PinPa_yi(AF$3,vantHoff_EOS!$N$19,vantHoff_EOS!$X$5:$X$14,vantHoff_EOS!$Y$5:$Y$14,vantHoff_EOS!$Z$5:$Z$14,vantHoff_EOS!$AE$5:$AN$14,H70,$C$59,$O70:$X70),\"-\")","v":"-"},{"$f":"IF(AG$60<=vantHoff_EOS!$N$19,Phi_i_NS_Tci_Pci_wi_kijm_TinC_PinPa_yi(AG$3,vantHoff_EOS!$N$19,vantHoff_EOS!$X$5:$X$14,vantHoff_EOS!$Y$5:$Y$14,vantHoff_EOS!$Z$5:$Z$14,vantHoff_EOS!$AE$5:$AN$14,I70,$C$59,$O70:$X70),\"-\")","v":"-"},{"$f":"IF(AH$60<=vantHoff_EOS!$N$19,Phi_i_NS_Tci_Pci_wi_kijm_TinC_PinPa_yi(AH$3,vantHoff_EOS!$N$19,vantHoff_EOS!$X$5:$X$14,vantHoff_EOS!$Y$5:$Y$14,vantHoff_EOS!$Z$5:$Z$14,vantHoff_EOS!$AE$5:$AN$14,J70,$C$59,$O70:$X70),\"-\")","v":"-"},{"$f":"IF(AI$60<=vantHoff_EOS!$N$19,Phi_i_NS_Tci_Pci_wi_kijm_TinC_PinPa_yi(AI$3,vantHoff_EOS!$N$19,vantHoff_EOS!$X$5:$X$14,vantHoff_EOS!$Y$5:$Y$14,vantHoff_EOS!$Z$5:$Z$14,vantHoff_EOS!$AE$5:$AN$14,K70,$C$59,$O70:$X70),\"-\")","v":"-"}]
[11,{"$f":"B70+vantHoff_EOS!$B$31","v":20},293.14999999999998,3.4112229234180458E-3,{"$f":"lnKaT_Tref_lnKaTref_dHTref_da_db_dc_dd_de_TinC(vantHoff_EOS!$E$7,vantHoff_EOS!$B$9,vantHoff_EOS!$B$6,vantHoff_EOS!$O$27,vantHoff_EOS!$P$27,vantHoff_EOS!$Q$27,vantHoff_EOS!$R$27,vantHoff_EOS!$S$27,B71)","v":17.044293233364375},25248902.145755675,{"$f":"MolarExtentX_NS_vi_n0i_dHfi_dGfi_TrefinC_da_db_dc_dd_de_Tci_Pci_wi_kijm_TinC_PinPa(vantHoff_EOS!$N$19,vantHoff_EOS!$O$23:$X$23,vantHoff_EOS!$O$31:$X$31,vantHoff_EOS!$T$5:$T$14,vantHoff_EOS!$U$5:$U$14,vantHoff_EOS!$E$7,vantHoff_EOS!$O$27,vantHoff_EOS!$P$27,vantHoff_EOS!$Q$27,vantHoff_EOS!$R$27,vantHoff_EOS!$S$27,vantHoff_EOS!$X$5:$X$14,vantHoff_EOS!$Y$5:$Y$14,vantHoff_EOS!$Z$5:$Z$14,vantHoff_EOS!$AE$5:$AN$14,B71,$C$59)","v":0.99995995259364856},{"$f":"Ky_NS_n0i_vi_X(vantHoff_EOS!$N$19,vantHoff_EOS!$O$31:$X$31,vantHoff_EOS!$O$23:$X$23,G71)","v":1082928707733458},{"$f":"Kp_NS_vi_PinPa(vantHoff_EOS!$N$19,vantHoff_EOS!$O$23:$X$23,$C$59)","v":6.9444444444444444E-5},{"$f":"Kphi_NS_n0i_vi_X_Tci_Pci_wi_kijm_TinC_PinPa(vantHoff_EOS!$N$19,vantHoff_EOS!$O$31:$X$31,vantHoff_EOS!$O$23:$X$23,G71,vantHoff_EOS!$X$5:$X$14,vantHoff_EOS!$Y$5:$Y$14,vantHoff_EOS!$Z$5:$Z$14,vantHoff_EOS!$AE$5:$AN$14,B71,$C$59)","v":3.3574157587933084E-4},34.618445532261788,-9.5749834855640916,-7.9991688133318979,{"$f":"nT_NS_n0i_vi_X(vantHoff_EOS!$N$19,vantHoff_EOS!$O$31:$X$31,vantHoff_EOS!$O$23:$X$23,G71)","v":8.3400800948127021},{"$f":"IF(O$60<=vantHoff_EOS!$N$19,y_iindex_NS_n0i_vi_X(O$3,vantHoff_EOS!$N$19,vantHoff_EOS!$O$31:$X$31,vantHoff_EOS!$O$23:$X$23,$G71),\"-\")","v":4.8018011693135138E-6},{"$f":"IF(P$60<=vantHoff_EOS!$N$19,y_iindex_NS_n0i_vi_X(P$3,vantHoff_EOS!$N$19,vantHoff_EOS!$O$31:$X$31,vantHoff_EOS!$O$23:$X$23,$G71),\"-\")","v":4.8018011693135138E-6},{"$f":"IF(Q$60<=vantHoff_EOS!$N$19,y_iindex_NS_n0i_vi_X(Q$3,vantHoff_EOS!$N$19,vantHoff_EOS!$O$31:$X$31,vantHoff_EOS!$O$23:$X$23,$G71),\"-\")","v":4.8018011693135138E-6},{"$f":"IF(R$60<=vantHoff_EOS!$N$19,y_iindex_NS_n0i_vi_X(R$3,vantHoff_EOS!$N$19,vantHoff_EOS!$O$31:$X$31,vantHoff_EOS!$O$23:$X$23,$G71),\"-\")","v":0.11989812342636803},{"$f":"IF(S$60<=vantHoff_EOS!$N$19,y_iindex_NS_n0i_vi_X(S$3,vantHoff_EOS!$N$19,vantHoff_EOS!$O$31:$X$31,vantHoff_EOS!$O$23:$X$23,$G71),\"-\")","v":0.88008747117012409},{"$f":"IF(T$60<=vantHoff_EOS!$N$19,y_iindex_NS_n0i_vi_X(T$3,vantHoff_EOS!$N$19,vantHoff_EOS!$O$31:$X$31,vantHoff_EOS!$O$23:$X$23,$G71),\"-\")","v":"-"},{"$f":"IF(U$60<=vantHoff_EOS!$N$19,y_iindex_NS_n0i_vi_X(U$3,vantHoff_EOS!$N$19,vantHoff_EOS!$O$31:$X$31,vantHoff_EOS!$O$23:$X$23,$G71),\"-\")","v":"-"},{"$f":"IF(V$60<=vantHoff_EOS!$N$19,y_iindex_NS_n0i_vi_X(V$3,vantHoff_EOS!$N$19,vantHoff_EOS!$O$31:$X$31,vantHoff_EOS!$O$23:$X$23,$G71),\"-\")","v":"-"},{"$f":"IF(W$60<=vantHoff_EOS!$N$19,y_iindex_NS_n0i_vi_X(W$3,vantHoff_EOS!$N$19,vantHoff_EOS!$O$31:$X$31,vantHoff_EOS!$O$23:$X$23,$G71),\"-\")","v":"-"},{"$f":"IF(X$60<=vantHoff_EOS!$N$19,y_iindex_NS_n0i_vi_X(X$3,vantHoff_EOS!$N$19,vantHoff_EOS!$O$31:$X$31,vantHoff_EOS!$O$23:$X$23,$G71),\"-\")","v":"-"},1,{"$f":"IF(Z$60<=vantHoff_EOS!$N$19,Phi_i_NS_Tci_Pci_wi_kijm_TinC_PinPa_yi(Z$3,vantHoff_EOS!$N$19,vantHoff_EOS!$X$5:$X$14,vantHoff_EOS!$Y$5:$Y$14,vantHoff_EOS!$Z$5:$Z$14,vantHoff_EOS!$AE$5:$AN$14,B71,$C$59,$O71:$X71),\"-\")","v":5.1444964615746027},{"$f":"IF(AA$60<=vantHoff_EOS!$N$19,Phi_i_NS_Tci_Pci_wi_kijm_TinC_PinPa_yi(AA$3,vantHoff_EOS!$N$19,vantHoff_EOS!$X$5:$X$14,vantHoff_EOS!$Y$5:$Y$14,vantHoff_EOS!$Z$5:$Z$14,vantHoff_EOS!$AE$5:$AN$14,C71,$C$59,$O71:$X71),\"-\")","v":1.1340368497178079},{"$f":"IF(AB$60<=vantHoff_EOS!$N$19,Phi_i_NS_Tci_Pci_wi_kijm_TinC_PinPa_yi(AB$3,vantHoff_EOS!$N$19,vantHoff_EOS!$X$5:$X$14,vantHoff_EOS!$Y$5:$Y$14,vantHoff_EOS!$Z$5:$Z$14,vantHoff_EOS!$AE$5:$AN$14,D71,$C$59,$O71:$X71),\"-\")","v":6.5046974404809318E-2},{"$f":"IF(AC$60<=vantHoff_EOS!$N$19,Phi_i_NS_Tci_Pci_wi_kijm_TinC_PinPa_yi(AC$3,vantHoff_EOS!$N$19,vantHoff_EOS!$X$5:$X$14,vantHoff_EOS!$Y$5:$Y$14,vantHoff_EOS!$Z$5:$Z$14,vantHoff_EOS!$AE$5:$AN$14,E71,$C$59,$O71:$X71),\"-\")","v":1.5178263120838621E-3},{"$f":"IF(AD$60<=vantHoff_EOS!$N$19,Phi_i_NS_Tci_Pci_wi_kijm_TinC_PinPa_yi(AD$3,vantHoff_EOS!$N$19,vantHoff_EOS!$X$5:$X$14,vantHoff_EOS!$Y$5:$Y$14,vantHoff_EOS!$Z$5:$Z$14,vantHoff_EOS!$AE$5:$AN$14,F71,$C$59,$O71:$X71),\"-\")","v":0.99999714720530686},{"$f":"IF(AE$60<=vantHoff_EOS!$N$19,Phi_i_NS_Tci_Pci_wi_kijm_TinC_PinPa_yi(AE$3,vantHoff_EOS!$N$19,vantHoff_EOS!$X$5:$X$14,vantHoff_EOS!$Y$5:$Y$14,vantHoff_EOS!$Z$5:$Z$14,vantHoff_EOS!$AE$5:$AN$14,G71,$C$59,$O71:$X71),\"-\")","v":"-"},{"$f":"IF(AF$60<=vantHoff_EOS!$N$19,Phi_i_NS_Tci_Pci_wi_kijm_TinC_PinPa_yi(AF$3,vantHoff_EOS!$N$19,vantHoff_EOS!$X$5:$X$14,vantHoff_EOS!$Y$5:$Y$14,vantHoff_EOS!$Z$5:$Z$14,vantHoff_EOS!$AE$5:$AN$14,H71,$C$59,$O71:$X71),\"-\")","v":"-"},{"$f":"IF(AG$60<=vantHoff_EOS!$N$19,Phi_i_NS_Tci_Pci_wi_kijm_TinC_PinPa_yi(AG$3,vantHoff_EOS!$N$19,vantHoff_EOS!$X$5:$X$14,vantHoff_EOS!$Y$5:$Y$14,vantHoff_EOS!$Z$5:$Z$14,vantHoff_EOS!$AE$5:$AN$14,I71,$C$59,$O71:$X71),\"-\")","v":"-"},{"$f":"IF(AH$60<=vantHoff_EOS!$N$19,Phi_i_NS_Tci_Pci_wi_kijm_TinC_PinPa_yi(AH$3,vantHoff_EOS!$N$19,vantHoff_EOS!$X$5:$X$14,vantHoff_EOS!$Y$5:$Y$14,vantHoff_EOS!$Z$5:$Z$14,vantHoff_EOS!$AE$5:$AN$14,J71,$C$59,$O71:$X71),\"-\")","v":"-"},{"$f":"IF(AI$60<=vantHoff_EOS!$N$19,Phi_i_NS_Tci_Pci_wi_kijm_TinC_PinPa_yi(AI$3,vantHoff_EOS!$N$19,vantHoff_EOS!$X$5:$X$14,vantHoff_EOS!$Y$5:$Y$14,vantHoff_EOS!$Z$5:$Z$14,vantHoff_EOS!$AE$5:$AN$14,K71,$C$59,$O71:$X71),\"-\")","v":"-"}]
[12,{"$f":"B71+vantHoff_EOS!$B$31","v":22},295.14999999999998,3.3881077418261903E-3,{"$f":"lnKaT_Tref_lnKaTref_dHTref_da_db_dc_dd_de_TinC(vantHoff_EOS!$E$7,vantHoff_EOS!$B$9,vantHoff_EOS!$B$6,vantHoff_EOS!$O$27,vantHoff_EOS!$P$27,vantHoff_EOS!$Q$27,vantHoff_EOS!$R$27,vantHoff_EOS!$S$27,B72)","v":16.724913250277762},18345837.184119117,{"$f":"MolarExtentX_NS_vi_n0i_dHfi_dGfi_TrefinC_da_db_dc_dd_de_Tci_Pci_wi_kijm_TinC_PinPa(vantHoff_EOS!$N$19,vantHoff_EOS!$O$23:$X$23,vantHoff_EOS!$O$31:$X$31,vantHoff_EOS!$T$5:$T$14,vantHoff_EOS!$U$5:$U$14,vantHoff_EOS!$E$7,vantHoff_EOS!$O$27,vantHoff_EOS!$P$27,vantHoff_EOS!$Q$27,vantHoff_EOS!$R$27,vantHoff_EOS!$S$27,vantHoff_EOS!$X$5:$X$14,vantHoff_EOS!$Y$5:$Y$14,vantHoff_EOS!$Z$5:$Z$14,vantHoff_EOS!$AE$5:$AN$14,B72,$C$59)","v":0.99995397345790371},{"$f":"Ky_NS_n0i_vi_X(vantHoff_EOS!$N$19,vantHoff_EOS!$O$31:$X$31,vantHoff_EOS!$O$23:$X$23,G72)","v":713340125848979.12},{"$f":"Kp_NS_vi_PinPa(vantHoff_EOS!$N$19,vantHoff_EOS!$O$23:$X$23,$C$59)","v":6.9444444444444444E-5},{"$f":"Kphi_NS_n0i_vi_X_Tci_Pci_wi_kijm_TinC_PinPa(vantHoff_EOS!$N$19,vantHoff_EOS!$O$31:$X$31,vantHoff_EOS!$O$23:$X$23,G72,vantHoff_EOS!$X$5:$X$14,vantHoff_EOS!$Y$5:$Y$14,vantHoff_EOS!$Z$5:$Z$14,vantHoff_EOS!$AE$5:$AN$14,B72,$C$59)","v":3.7034234564720027E-4},34.200979457449193,-9.5749834855640916,-7.9010827216078532,{"$f":"nT_NS_n0i_vi_X(vantHoff_EOS!$N$19,vantHoff_EOS!$O$31:$X$31,vantHoff_EOS!$O$23:$X$23,G72)","v":8.3400920530841915},{"$f":"IF(O$60<=vantHoff_EOS!$N$19,y_iindex_NS_n0i_vi_X(O$3,vantHoff_EOS!$N$19,vantHoff_EOS!$O$31:$X$31,vantHoff_EOS!$O$23:$X$23,$G72),\"-\")","v":5.5187091225531896E-6},{"$f":"IF(P$60<=vantHoff_EOS!$N$19,y_iindex_NS_n0i_vi_X(P$3,vantHoff_EOS!$N$19,vantHoff_EOS!$O$31:$X$31,vantHoff_EOS!$O$23:$X$23,$G72),\"-\")","v":5.5187091225531896E-6},{"$f":"IF(Q$60<=vantHoff_EOS!$N$19,y_iindex_NS_n0i_vi_X(Q$3,vantHoff_EOS!$N$19,vantHoff_EOS!$O$31:$X$31,vantHoff_EOS!$O$23:$X$23,$G72),\"-\")","v":5.5187091225531896E-6},{"$f":"IF(R$60<=vantHoff_EOS!$N$19,y_iindex_NS_n0i_vi_X(R$3,vantHoff_EOS!$N$19,vantHoff_EOS!$O$31:$X$31,vantHoff_EOS!$O$23:$X$23,$G72),\"-\")","v":0.11989723459804232},{"$f":"IF(S$60<=vantHoff_EOS!$N$19,y_iindex_NS_n0i_vi_X(S$3,vantHoff_EOS!$N$19,vantHoff_EOS!$O$31:$X$31,vantHoff_EOS!$O$23:$X$23,$G72),\"-\")","v":0.88008620927459014},{"$f":"IF(T$60<=vantHoff_EOS!$N$19,y_iindex_NS_n0i_vi_X(T$3,vantHoff_EOS!$N$19,vantHoff_EOS!$O$31:$X$31,vantHoff_EOS!$O$23:$X$23,$G72),\"-\")","v":"-"},{"$f":"IF(U$60<=vantHoff_EOS!$N$19,y_iindex_NS_n0i_vi_X(U$3,vantHoff_EOS!$N$19,vantHoff_EOS!$O$31:$X$31,vantHoff_EOS!$O$23:$X$23,$G72),\"-\")","v":"-"},{"$f":"IF(V$60<=vantHoff_EOS!$N$19,y_iindex_NS_n0i_vi_X(V$3,vantHoff_EOS!$N$19,vantHoff_EOS!$O$31:$X$31,vantHoff_EOS!$O$23:$X$23,$G72),\"-\")","v":"-"},{"$f":"IF(W$60<=vantHoff_EOS!$N$19,y_iindex_NS_n0i_vi_X(W$3,vantHoff_EOS!$N$19,vantHoff_EOS!$O$31:$X$31,vantHoff_EOS!$O$23:$X$23,$G72),\"-\")","v":"-"},{"$f":"IF(X$60<=vantHoff_EOS!$N$19,y_iindex_NS_n0i_vi_X(X$3,vantHoff_EOS!$N$19,vantHoff_EOS!$O$31:$X$31,vantHoff_EOS!$O$23:$X$23,$G72),\"-\")","v":"-"},1,{"$f":"IF(Z$60<=vantHoff_EOS!$N$19,Phi_i_NS_Tci_Pci_wi_kijm_TinC_PinPa_yi(Z$3,vantHoff_EOS!$N$19,vantHoff_EOS!$X$5:$X$14,vantHoff_EOS!$Y$5:$Y$14,vantHoff_EOS!$Z$5:$Z$14,vantHoff_EOS!$AE$5:$AN$14,B72,$C$59,$O72:$X72),\"-\")","v":5.0815782725584482},{"$f":"IF(AA$60<=vantHoff_EOS!$N$19,Phi_i_NS_Tci_Pci_wi_kijm_TinC_PinPa_yi(AA$3,vantHoff_EOS!$N$19,vantHoff_EOS!$X$5:$X$14,vantHoff_EOS!$Y$5:$Y$14,vantHoff_EOS!$Z$5:$Z$14,vantHoff_EOS!$AE$5:$AN$14,C72,$C$59,$O72:$X72),\"-\")","v":1.1323867231015039},{"$f":"IF(AB$60<=vantHoff_EOS!$N$19,Phi_i_NS_Tci_Pci_wi_kijm_TinC_PinPa_yi(AB$3,vantHoff_EOS!$N$19,vantHoff_EOS!$X$5:$X$14,vantHoff_EOS!$Y$5:$Y$14,vantHoff_EOS!$Z$5:$Z$14,vantHoff_EOS!$AE$5:$AN$14,D72,$C$59,$O72:$X72),\"-\")","v":6.5046871700872283E-2},{"$f":"IF(AC$60<=vantHoff_EOS!$N$19,Phi_i_NS_Tci_Pci_wi_kijm_TinC_PinPa_yi(AC$3,vantHoff_EOS!$N$19,vantHoff_EOS!$X$5:$X$14,vantHoff_EOS!$Y$5:$Y$14,vantHoff_EOS!$Z$5:$Z$14,vantHoff_EOS!$AE$5:$AN$14,E72,$C$59,$O72:$X72),\"-\")","v":1.4926882628967788E-3},{"$f":"IF(AD$60<=vantHoff_EOS!$N$19,Phi_i_NS_Tci_Pci_wi_kijm_TinC_PinPa_yi(AD$3,vantHoff_EOS!$N$19,vantHoff_EOS!$X$5:$X$14,vantHoff_EOS!$Y$5:$Y$14,vantHoff_EOS!$Z$5:$Z$14,vantHoff_EOS!$AE$5:$AN$14,F72,$C$59,$O72:$X72),\"-\")","v":0.99999609121095567},{"$f":"IF(AE$60<=vantHoff_EOS!$N$19,Phi_i_NS_Tci_Pci_wi_kijm_TinC_PinPa_yi(AE$3,vantHoff_EOS!$N$19,vantHoff_EOS!$X$5:$X$14,vantHoff_EOS!$Y$5:$Y$14,vantHoff_EOS!$Z$5:$Z$14,vantHoff_EOS!$AE$5:$AN$14,G72,$C$59,$O72:$X72),\"-\")","v":"-"},{"$f":"IF(AF$60<=vantHoff_EOS!$N$19,Phi_i_NS_Tci_Pci_wi_kijm_TinC_PinPa_yi(AF$3,vantHoff_EOS!$N$19,vantHoff_EOS!$X$5:$X$14,vantHoff_EOS!$Y$5:$Y$14,vantHoff_EOS!$Z$5:$Z$14,vantHoff_EOS!$AE$5:$AN$14,H72,$C$59,$O72:$X72),\"-\")","v":"-"},{"$f":"IF(AG$60<=vantHoff_EOS!$N$19,Phi_i_NS_Tci_Pci_wi_kijm_TinC_PinPa_yi(AG$3,vantHoff_EOS!$N$19,vantHoff_EOS!$X$5:$X$14,vantHoff_EOS!$Y$5:$Y$14,vantHoff_EOS!$Z$5:$Z$14,vantHoff_EOS!$AE$5:$AN$14,I72,$C$59,$O72:$X72),\"-\")","v":"-"},{"$f":"IF(AH$60<=vantHoff_EOS!$N$19,Phi_i_NS_Tci_Pci_wi_kijm_TinC_PinPa_yi(AH$3,vantHoff_EOS!$N$19,vantHoff_EOS!$X$5:$X$14,vantHoff_EOS!$Y$5:$Y$14,vantHoff_EOS!$Z$5:$Z$14,vantHoff_EOS!$AE$5:$AN$14,J72,$C$59,$O72:$X72),\"-\")","v":"-"},{"$f":"IF(AI$60<=vantHoff_EOS!$N$19,Phi_i_NS_Tci_Pci_wi_kijm_TinC_PinPa_yi(AI$3,vantHoff_EOS!$N$19,vantHoff_EOS!$X$5:$X$14,vantHoff_EOS!$Y$5:$Y$14,vantHoff_EOS!$Z$5:$Z$14,vantHoff_EOS!$AE$5:$AN$14,K72,$C$59,$O72:$X72),\"-\")","v":"-"}]
[13,{"$f":"B72+vantHoff_EOS!$B$31","v":24},297.14999999999998,3.3653037186606094E-3,{"$f":"lnKaT_Tref_lnKaTref_dHTref_da_db_dc_dd_de_TinC(vantHoff_EOS!$E$7,vantHoff_EOS!$B$9,vantHoff_EOS!$B$6,vantHoff_EOS!$O$27,vantHoff_EOS!$P$27,vantHoff_EOS!$Q$27,vantHoff_EOS!$R$27,vantHoff_EOS!$S$27,B73)","v":16.409741320971751},13386286.173371289,{"$f":"MolarExtentX_NS_vi_n0i_dHfi_dGfi_TrefinC_da_db_dc_dd_de_Tci_Pci_wi_kijm_TinC_PinPa(vantHoff_EOS!$N$19,vantHoff_EOS!$O$23:$X$23,vantHoff_EOS!$O$31:$X$31,vantHoff_EOS!$T$5:$T$14,vantHoff_EOS!$U$5:$U$14,vantHoff_EOS!$E$7,vantHoff_EOS!$O$27,vantHoff_EOS!$P$27,vantHoff_EOS!$Q$27,vantHoff_EOS!$R$27,vantHoff_EOS!$S$27,vantHoff_EOS!$X$5:$X$14,vantHoff_EOS!$Y$5:$Y$14,vantHoff_EOS!$Z$5:$Z$14,vantHoff_EOS!$AE$5:$AN$14,B73,$C$59)","v":0.99994717315721449},{"$f":"Ky_NS_n0i_vi_X(vantHoff_EOS!$N$19,vantHoff_EOS!$O$31:$X$31,vantHoff_EOS!$O$23:$X$23,G73)","v":471798107659946.44},{"$f":"Kp_NS_vi_PinPa(vantHoff_EOS!$N$19,vantHoff_EOS!$O$23:$X$23,$C$59)","v":6.9444444444444444E-5},{"$f":"Kphi_NS_n0i_vi_X_Tci_Pci_wi_kijm_TinC_PinPa(vantHoff_EOS!$N$19,vantHoff_EOS!$O$31:$X$31,vantHoff_EOS!$O$23:$X$23,G73,vantHoff_EOS!$X$5:$X$14,vantHoff_EOS!$Y$5:$Y$14,vantHoff_EOS!$Z$5:$Z$14,vantHoff_EOS!$AE$5:$AN$14,B73,$C$59)","v":4.0856993227853878E-4},33.787572271999522,-9.5749834855640916,-7.8028474654677202,{"$f":"nT_NS_n0i_vi_X(vantHoff_EOS!$N$19,vantHoff_EOS!$O$31:$X$31,vantHoff_EOS!$O$23:$X$23,G73)","v":8.3401056536855709},{"$f":"IF(O$60<=vantHoff_EOS!$N$19,y_iindex_NS_n0i_vi_X(O$3,vantHoff_EOS!$N$19,vantHoff_EOS!$O$31:$X$31,vantHoff_EOS!$O$23:$X$23,$G73),\"-\")","v":6.3340735692202152E-6},{"$f":"IF(P$60<=vantHoff_EOS!$N$19,y_iindex_NS_n0i_vi_X(P$3,vantHoff_EOS!$N$19,vantHoff_EOS!$O$31:$X$31,vantHoff_EOS!$O$23:$X$23,$G73),\"-\")","v":6.3340735692202152E-6},{"$f":"IF(Q$60<=vantHoff_EOS!$N$19,y_iindex_NS_n0i_vi_X(Q$3,vantHoff_EOS!$N$19,vantHoff_EOS!$O$31:$X$31,vantHoff_EOS!$O$23:$X$23,$G73),\"-\")","v":6.3340735692202152E-6},{"$f":"IF(R$60<=vantHoff_EOS!$N$19,y_iindex_NS_n0i_vi_X(R$3,vantHoff_EOS!$N$19,vantHoff_EOS!$O$31:$X$31,vantHoff_EOS!$O$23:$X$23,$G73),\"-\")","v":0.11989622370255328},{"$f":"IF(S$60<=vantHoff_EOS!$N$19,y_iindex_NS_n0i_vi_X(S$3,vantHoff_EOS!$N$19,vantHoff_EOS!$O$31:$X$31,vantHoff_EOS!$O$23:$X$23,$G73),\"-\")","v":0.88008477407673902},{"$f":"IF(T$60<=vantHoff_EOS!$N$19,y_iindex_NS_n0i_vi_X(T$3,vantHoff_EOS!$N$19,vantHoff_EOS!$O$31:$X$31,vantHoff_EOS!$O$23:$X$23,$G73),\"-\")","v":"-"},{"$f":"IF(U$60<=vantHoff_EOS!$N$19,y_iindex_NS_n0i_vi_X(U$3,vantHoff_EOS!$N$19,vantHoff_EOS!$O$31:$X$31,vantHoff_EOS!$O$23:$X$23,$G73),\"-\")","v":"-"},{"$f":"IF(V$60<=vantHoff_EOS!$N$19,y_iindex_NS_n0i_vi_X(V$3,vantHoff_EOS!$N$19,vantHoff_EOS!$O$31:$X$31,vantHoff_EOS!$O$23:$X$23,$G73),\"-\")","v":"-"},{"$f":"IF(W$60<=vantHoff_EOS!$N$19,y_iindex_NS_n0i_vi_X(W$3,vantHoff_EOS!$N$19,vantHoff_EOS!$O$31:$X$31,vantHoff_EOS!$O$23:$X$23,$G73),\"-\")","v":"-"},{"$f":"IF(X$60<=vantHoff_EOS!$N$19,y_iindex_NS_n0i_vi_X(X$3,vantHoff_EOS!$N$19,vantHoff_EOS!$O$31:$X$31,vantHoff_EOS!$O$23:$X$23,$G73),\"-\")","v":"-"},1,{"$f":"IF(Z$60<=vantHoff_EOS!$N$19,Phi_i_NS_Tci_Pci_wi_kijm_TinC_PinPa_yi(Z$3,vantHoff_EOS!$N$19,vantHoff_EOS!$X$5:$X$14,vantHoff_EOS!$Y$5:$Y$14,vantHoff_EOS!$Z$5:$Z$14,vantHoff_EOS!$AE$5:$AN$14,B73,$C$59,$O73:$X73),\"-\")","v":5.0173105374031861},{"$f":"IF(AA$60<=vantHoff_EOS!$N$19,Phi_i_NS_Tci_Pci_wi_kijm_TinC_PinPa_yi(AA$3,vantHoff_EOS!$N$19,vantHoff_EOS!$X$5:$X$14,vantHoff_EOS!$Y$5:$Y$14,vantHoff_EOS!$Z$5:$Z$14,vantHoff_EOS!$AE$5:$AN$14,C73,$C$59,$O73:$X73),\"-\")","v":1.1307677240238185},{"$f":"IF(AB$60<=vantHoff_EOS!$N$19,Phi_i_NS_Tci_Pci_wi_kijm_TinC_PinPa_yi(AB$3,vantHoff_EOS!$N$19,vantHoff_EOS!$X$5:$X$14,vantHoff_EOS!$Y$5:$Y$14,vantHoff_EOS!$Z$5:$Z$14,vantHoff_EOS!$AE$5:$AN$14,D73,$C$59,$O73:$X73),\"-\")","v":6.5046760645608145E-2},{"$f":"IF(AC$60<=vantHoff_EOS!$N$19,Phi_i_NS_Tci_Pci_wi_kijm_TinC_PinPa_yi(AC$3,vantHoff_EOS!$N$19,vantHoff_EOS!$X$5:$X$14,vantHoff_EOS!$Y$5:$Y$14,vantHoff_EOS!$Z$5:$Z$14,vantHoff_EOS!$AE$5:$AN$14,E73,$C$59,$O73:$X73),\"-\")","v":1.4682424821673753E-3},{"$f":"IF(AD$60<=vantHoff_EOS!$N$19,Phi_i_NS_Tci_Pci_wi_kijm_TinC_PinPa_yi(AD$3,vantHoff_EOS!$N$19,vantHoff_EOS!$X$5:$X$14,vantHoff_EOS!$Y$5:$Y$14,vantHoff_EOS!$Z$5:$Z$14,vantHoff_EOS!$AE$5:$AN$14,F73,$C$59,$O73:$X73),\"-\")","v":0.99999467062493885},{"$f":"IF(AE$60<=vantHoff_EOS!$N$19,Phi_i_NS_Tci_Pci_wi_kijm_TinC_PinPa_yi(AE$3,vantHoff_EOS!$N$19,vantHoff_EOS!$X$5:$X$14,vantHoff_EOS!$Y$5:$Y$14,vantHoff_EOS!$Z$5:$Z$14,vantHoff_EOS!$AE$5:$AN$14,G73,$C$59,$O73:$X73),\"-\")","v":"-"},{"$f":"IF(AF$60<=vantHoff_EOS!$N$19,Phi_i_NS_Tci_Pci_wi_kijm_TinC_PinPa_yi(AF$3,vantHoff_EOS!$N$19,vantHoff_EOS!$X$5:$X$14,vantHoff_EOS!$Y$5:$Y$14,vantHoff_EOS!$Z$5:$Z$14,vantHoff_EOS!$AE$5:$AN$14,H73,$C$59,$O73:$X73),\"-\")","v":"-"},{"$f":"IF(AG$60<=vantHoff_EOS!$N$19,Phi_i_NS_Tci_Pci_wi_kijm_TinC_PinPa_yi(AG$3,vantHoff_EOS!$N$19,vantHoff_EOS!$X$5:$X$14,vantHoff_EOS!$Y$5:$Y$14,vantHoff_EOS!$Z$5:$Z$14,vantHoff_EOS!$AE$5:$AN$14,I73,$C$59,$O73:$X73),\"-\")","v":"-"},{"$f":"IF(AH$60<=vantHoff_EOS!$N$19,Phi_i_NS_Tci_Pci_wi_kijm_TinC_PinPa_yi(AH$3,vantHoff_EOS!$N$19,vantHoff_EOS!$X$5:$X$14,vantHoff_EOS!$Y$5:$Y$14,vantHoff_EOS!$Z$5:$Z$14,vantHoff_EOS!$AE$5:$AN$14,J73,$C$59,$O73:$X73),\"-\")","v":"-"},{"$f":"IF(AI$60<=vantHoff_EOS!$N$19,Phi_i_NS_Tci_Pci_wi_kijm_TinC_PinPa_yi(AI$3,vantHoff_EOS!$N$19,vantHoff_EOS!$X$5:$X$14,vantHoff_EOS!$Y$5:$Y$14,vantHoff_EOS!$Z$5:$Z$14,vantHoff_EOS!$AE$5:$AN$14,K73,$C$59,$O73:$X73),\"-\")","v":"-"}]
[14,{"$f":"B73+vantHoff_EOS!$B$31","v":26},299.14999999999998,3.3428046130703662E-3,{"$f":"lnKaT_Tref_lnKaTref_dHTref_da_db_dc_dd_de_TinC(vantHoff_EOS!$E$7,vantHoff_EOS!$B$9,vantHoff_EOS!$B$6,vantHoff_EOS!$O$27,vantHoff_EOS!$P$27,vantHoff_EOS!$Q$27,vantHoff_EOS!$R$27,vantHoff_EOS!$S$27,B74)","v":16.098694148077481},9807854.9497695807,{"$f":"MolarExtentX_NS_vi_n0i_dHfi_dGfi_TrefinC_da_db_dc_dd_de_Tci_Pci_wi_kijm_TinC_PinPa(vantHoff_EOS!$N$19,vantHoff_EOS!$O$23:$X$23,vantHoff_EOS!$O$31:$X$31,vantHoff_EOS!$T$5:$T$14,vantHoff_EOS!$U$5:$U$14,vantHoff_EOS!$E$7,vantHoff_EOS!$O$27,vantHoff_EOS!$P$27,vantHoff_EOS!$Q$27,vantHoff_EOS!$R$27,vantHoff_EOS!$S$27,vantHoff_EOS!$X$5:$X$14,vantHoff_EOS!$Y$5:$Y$14,vantHoff_EOS!$Z$5:$Z$14,vantHoff_EOS!$AE$5:$AN$14,B74,$C$59)","v":0.99993944716333916},{"$f":"Ky_NS_n0i_vi_X(vantHoff_EOS!$N$19,vantHoff_EOS!$O$31:$X$31,vantHoff_EOS!$O$23:$X$23,G74)","v":313267208158306.19},{"$f":"Kp_NS_vi_PinPa(vantHoff_EOS!$N$19,vantHoff_EOS!$O$23:$X$23,$C$59)","v":6.9444444444444444E-5},{"$f":"Kphi_NS_n0i_vi_X_Tci_Pci_wi_kijm_TinC_PinPa(vantHoff_EOS!$N$19,vantHoff_EOS!$O$31:$X$31,vantHoff_EOS!$O$23:$X$23,G74,vantHoff_EOS!$X$5:$X$14,vantHoff_EOS!$Y$5:$Y$14,vantHoff_EOS!$Z$5:$Z$14,vantHoff_EOS!$AE$5:$AN$14,B74,$C$59)","v":4.5083911625160526E-4},33.378077642460241,-9.5749834855640916,-7.70440000881855,{"$f":"nT_NS_n0i_vi_X(vantHoff_EOS!$N$19,vantHoff_EOS!$O$31:$X$31,vantHoff_EOS!$O$23:$X$23,G74)","v":8.3401211056733224},{"$f":"IF(O$60<=vantHoff_EOS!$N$19,y_iindex_NS_n0i_vi_X(O$3,vantHoff_EOS!$N$19,vantHoff_EOS!$O$31:$X$31,vantHoff_EOS!$O$23:$X$23,$G74),\"-\")","v":7.2604265446040672E-6},{"$f":"IF(P$60<=vantHoff_EOS!$N$19,y_iindex_NS_n0i_vi_X(P$3,vantHoff_EOS!$N$19,vantHoff_EOS!$O$31:$X$31,vantHoff_EOS!$O$23:$X$23,$G74),\"-\")","v":7.2604265446040672E-6},{"$f":"IF(Q$60<=vantHoff_EOS!$N$19,y_iindex_NS_n0i_vi_X(Q$3,vantHoff_EOS!$N$19,vantHoff_EOS!$O$31:$X$31,vantHoff_EOS!$O$23:$X$23,$G74),\"-\")","v":7.2604265446040672E-6},{"$f":"IF(R$60<=vantHoff_EOS!$N$19,y_iindex_NS_n0i_vi_X(R$3,vantHoff_EOS!$N$19,vantHoff_EOS!$O$31:$X$31,vantHoff_EOS!$O$23:$X$23,$G74),\"-\")","v":0.11989507520258139},{"$f":"IF(S$60<=vantHoff_EOS!$N$19,y_iindex_NS_n0i_vi_X(S$3,vantHoff_EOS!$N$19,vantHoff_EOS!$O$31:$X$31,vantHoff_EOS!$O$23:$X$23,$G74),\"-\")","v":0.88008314351778472},{"$f":"IF(T$60<=vantHoff_EOS!$N$19,y_iindex_NS_n0i_vi_X(T$3,vantHoff_EOS!$N$19,vantHoff_EOS!$O$31:$X$31,vantHoff_EOS!$O$23:$X$23,$G74),\"-\")","v":"-"},{"$f":"IF(U$60<=vantHoff_EOS!$N$19,y_iindex_NS_n0i_vi_X(U$3,vantHoff_EOS!$N$19,vantHoff_EOS!$O$31:$X$31,vantHoff_EOS!$O$23:$X$23,$G74),\"-\")","v":"-"},{"$f":"IF(V$60<=vantHoff_EOS!$N$19,y_iindex_NS_n0i_vi_X(V$3,vantHoff_EOS!$N$19,vantHoff_EOS!$O$31:$X$31,vantHoff_EOS!$O$23:$X$23,$G74),\"-\")","v":"-"},{"$f":"IF(W$60<=vantHoff_EOS!$N$19,y_iindex_NS_n0i_vi_X(W$3,vantHoff_EOS!$N$19,vantHoff_EOS!$O$31:$X$31,vantHoff_EOS!$O$23:$X$23,$G74),\"-\")","v":"-"},{"$f":"IF(X$60<=vantHoff_EOS!$N$19,y_iindex_NS_n0i_vi_X(X$3,vantHoff_EOS!$N$19,vantHoff_EOS!$O$31:$X$31,vantHoff_EOS!$O$23:$X$23,$G74),\"-\")","v":"-"},0.99999999999999989,{"$f":"IF(Z$60<=vantHoff_EOS!$N$19,Phi_i_NS_Tci_Pci_wi_kijm_TinC_PinPa_yi(Z$3,vantHoff_EOS!$N$19,vantHoff_EOS!$X$5:$X$14,vantHoff_EOS!$Y$5:$Y$14,vantHoff_EOS!$Z$5:$Z$14,vantHoff_EOS!$AE$5:$AN$14,B74,$C$59,$O74:$X74),\"-\")","v":4.951705826687391},{"$f":"IF(AA$60<=vantHoff_EOS!$N$19,Phi_i_NS_Tci_Pci_wi_kijm_TinC_PinPa_yi(AA$3,vantHoff_EOS!$N$19,vantHoff_EOS!$X$5:$X$14,vantHoff_EOS!$Y$5:$Y$14,vantHoff_EOS!$Z$5:$Z$14,vantHoff_EOS!$AE$5:$AN$14,C74,$C$59,$O74:$X74),\"-\")","v":1.1291790346542385},{"$f":"IF(AB$60<=vantHoff_EOS!$N$19,Phi_i_NS_Tci_Pci_wi_kijm_TinC_PinPa_yi(AB$3,vantHoff_EOS!$N$19,vantHoff_EOS!$X$5:$X$14,vantHoff_EOS!$Y$5:$Y$14,vantHoff_EOS!$Z$5:$Z$14,vantHoff_EOS!$AE$5:$AN$14,D74,$C$59,$O74:$X74),\"-\")","v":6.5046640100637335E-2},{"$f":"IF(AC$60<=vantHoff_EOS!$N$19,Phi_i_NS_Tci_Pci_wi_kijm_TinC_PinPa_yi(AC$3,vantHoff_EOS!$N$19,vantHoff_EOS!$X$5:$X$14,vantHoff_EOS!$Y$5:$Y$14,vantHoff_EOS!$Z$5:$Z$14,vantHoff_EOS!$AE$5:$AN$14,E74,$C$59,$O74:$X74),\"-\")","v":1.444463858160447E-3},{"$f":"IF(AD$60<=vantHoff_EOS!$N$19,Phi_i_NS_Tci_Pci_wi_kijm_TinC_PinPa_yi(AD$3,vantHoff_EOS!$N$19,vantHoff_EOS!$X$5:$X$14,vantHoff_EOS!$Y$5:$Y$14,vantHoff_EOS!$Z$5:$Z$14,vantHoff_EOS!$AE$5:$AN$14,F74,$C$59,$O74:$X74),\"-\")","v":0.99999276959096506},{"$f":"IF(AE$60<=vantHoff_EOS!$N$19,Phi_i_NS_Tci_Pci_wi_kijm_TinC_PinPa_yi(AE$3,vantHoff_EOS!$N$19,vantHoff_EOS!$X$5:$X$14,vantHoff_EOS!$Y$5:$Y$14,vantHoff_EOS!$Z$5:$Z$14,vantHoff_EOS!$AE$5:$AN$14,G74,$C$59,$O74:$X74),\"-\")","v":"-"},{"$f":"IF(AF$60<=vantHoff_EOS!$N$19,Phi_i_NS_Tci_Pci_wi_kijm_TinC_PinPa_yi(AF$3,vantHoff_EOS!$N$19,vantHoff_EOS!$X$5:$X$14,vantHoff_EOS!$Y$5:$Y$14,vantHoff_EOS!$Z$5:$Z$14,vantHoff_EOS!$AE$5:$AN$14,H74,$C$59,$O74:$X74),\"-\")","v":"-"},{"$f":"IF(AG$60<=vantHoff_EOS!$N$19,Phi_i_NS_Tci_Pci_wi_kijm_TinC_PinPa_yi(AG$3,vantHoff_EOS!$N$19,vantHoff_EOS!$X$5:$X$14,vantHoff_EOS!$Y$5:$Y$14,vantHoff_EOS!$Z$5:$Z$14,vantHoff_EOS!$AE$5:$AN$14,I74,$C$59,$O74:$X74),\"-\")","v":"-"},{"$f":"IF(AH$60<=vantHoff_EOS!$N$19,Phi_i_NS_Tci_Pci_wi_kijm_TinC_PinPa_yi(AH$3,vantHoff_EOS!$N$19,vantHoff_EOS!$X$5:$X$14,vantHoff_EOS!$Y$5:$Y$14,vantHoff_EOS!$Z$5:$Z$14,vantHoff_EOS!$AE$5:$AN$14,J74,$C$59,$O74:$X74),\"-\")","v":"-"},{"$f":"IF(AI$60<=vantHoff_EOS!$N$19,Phi_i_NS_Tci_Pci_wi_kijm_TinC_PinPa_yi(AI$3,vantHoff_EOS!$N$19,vantHoff_EOS!$X$5:$X$14,vantHoff_EOS!$Y$5:$Y$14,vantHoff_EOS!$Z$5:$Z$14,vantHoff_EOS!$AE$5:$AN$14,K74,$C$59,$O74:$X74),\"-\")","v":"-"}]
[15,{"$f":"B74+vantHoff_EOS!$B$31","v":28},301.14999999999998,3.3206043499916988E-3,{"$f":"lnKaT_Tref_lnKaTref_dHTref_da_db_dc_dd_de_TinC(vantHoff_EOS!$E$7,vantHoff_EOS!$B$9,vantHoff_EOS!$B$6,vantHoff_EOS!$O$27,vantHoff_EOS!$P$27,vantHoff_EOS!$Q$27,vantHoff_EOS!$R$27,vantHoff_EOS!$S$27,B75)","v":15.791690634840132},7215129.0389038222,{"$f":"MolarExtentX_NS_vi_n0i_dHfi_dGfi_TrefinC_da_db_dc_dd_de_Tci_Pci_wi_kijm_TinC_PinPa(vantHoff_EOS!$N$19,vantHoff_EOS!$O$23:$X$23,vantHoff_EOS!$O$31:$X$31,vantHoff_EOS!$T$5:$T$14,vantHoff_EOS!$U$5:$U$14,vantHoff_EOS!$E$7,vantHoff_EOS!$O$27,vantHoff_EOS!$P$27,vantHoff_EOS!$Q$27,vantHoff_EOS!$R$27,vantHoff_EOS!$S$27,vantHoff_EOS!$X$5:$X$14,vantHoff_EOS!$Y$5:$Y$14,vantHoff_EOS!$Z$5:$Z$14,vantHoff_EOS!$AE$5:$AN$14,B75,$C$59)","v":0.99993067831542437},{"$f":"Ky_NS_n0i_vi_X(vantHoff_EOS!$N$19,vantHoff_EOS!$O$31:$X$31,vantHoff_EOS!$O$23:$X$23,G75)","v":208789718977775.41},{"$f":"Kp_NS_vi_PinPa(vantHoff_EOS!$N$19,vantHoff_EOS!$O$23:$X$23,$C$59)","v":6.9444444444444444E-5},{"$f":"Kphi_NS_n0i_vi_X_Tci_Pci_wi_kijm_TinC_PinPa(vantHoff_EOS!$N$19,vantHoff_EOS!$O$31:$X$31,vantHoff_EOS!$O$23:$X$23,G75,vantHoff_EOS!$X$5:$X$14,vantHoff_EOS!$Y$5:$Y$14,vantHoff_EOS!$Z$5:$Z$14,vantHoff_EOS!$AE$5:$AN$14,B75,$C$59)","v":4.9761960823098688E-4},32.972348732112586,-9.5749834855640916,-7.6056746117067888,{"$f":"nT_NS_n0i_vi_X(vantHoff_EOS!$N$19,vantHoff_EOS!$O$31:$X$31,vantHoff_EOS!$O$23:$X$23,G75)","v":8.3401386433691513},{"$f":"IF(O$60<=vantHoff_EOS!$N$19,y_iindex_NS_n0i_vi_X(O$3,vantHoff_EOS!$N$19,vantHoff_EOS!$O$31:$X$31,vantHoff_EOS!$O$23:$X$23,$G75),\"-\")","v":8.3118144121913201E-6},{"$f":"IF(P$60<=vantHoff_EOS!$N$19,y_iindex_NS_n0i_vi_X(P$3,vantHoff_EOS!$N$19,vantHoff_EOS!$O$31:$X$31,vantHoff_EOS!$O$23:$X$23,$G75),\"-\")","v":8.3118144121913201E-6},{"$f":"IF(Q$60<=vantHoff_EOS!$N$19,y_iindex_NS_n0i_vi_X(Q$3,vantHoff_EOS!$N$19,vantHoff_EOS!$O$31:$X$31,vantHoff_EOS!$O$23:$X$23,$G75),\"-\")","v":8.3118144121913201E-6},{"$f":"IF(R$60<=vantHoff_EOS!$N$19,y_iindex_NS_n0i_vi_X(R$3,vantHoff_EOS!$N$19,vantHoff_EOS!$O$31:$X$31,vantHoff_EOS!$O$23:$X$23,$G75),\"-\")","v":0.11989377168333069},{"$f":"IF(S$60<=vantHoff_EOS!$N$19,y_iindex_NS_n0i_vi_X(S$3,vantHoff_EOS!$N$19,vantHoff_EOS!$O$31:$X$31,vantHoff_EOS!$O$23:$X$23,$G75),\"-\")","v":0.88008129287343273},{"$f":"IF(T$60<=vantHoff_EOS!$N$19,y_iindex_NS_n0i_vi_X(T$3,vantHoff_EOS!$N$19,vantHoff_EOS!$O$31:$X$31,vantHoff_EOS!$O$23:$X$23,$G75),\"-\")","v":"-"},{"$f":"IF(U$60<=vantHoff_EOS!$N$19,y_iindex_NS_n0i_vi_X(U$3,vantHoff_EOS!$N$19,vantHoff_EOS!$O$31:$X$31,vantHoff_EOS!$O$23:$X$23,$G75),\"-\")","v":"-"},{"$f":"IF(V$60<=vantHoff_EOS!$N$19,y_iindex_NS_n0i_vi_X(V$3,vantHoff_EOS!$N$19,vantHoff_EOS!$O$31:$X$31,vantHoff_EOS!$O$23:$X$23,$G75),\"-\")","v":"-"},{"$f":"IF(W$60<=vantHoff_EOS!$N$19,y_iindex_NS_n0i_vi_X(W$3,vantHoff_EOS!$N$19,vantHoff_EOS!$O$31:$X$31,vantHoff_EOS!$O$23:$X$23,$G75),\"-\")","v":"-"},{"$f":"IF(X$60<=vantHoff_EOS!$N$19,y_iindex_NS_n0i_vi_X(X$3,vantHoff_EOS!$N$19,vantHoff_EOS!$O$31:$X$31,vantHoff_EOS!$O$23:$X$23,$G75),\"-\")","v":"-"},1,{"$f":"IF(Z$60<=vantHoff_EOS!$N$19,Phi_i_NS_Tci_Pci_wi_kijm_TinC_PinPa_yi(Z$3,vantHoff_EOS!$N$19,vantHoff_EOS!$X$5:$X$14,vantHoff_EOS!$Y$5:$Y$14,vantHoff_EOS!$Z$5:$Z$14,vantHoff_EOS!$AE$5:$AN$14,B75,$C$59,$O75:$X75),\"-\")","v":4.8847755952588106},{"$f":"IF(AA$60<=vantHoff_EOS!$N$19,Phi_i_NS_Tci_Pci_wi_kijm_TinC_PinPa_yi(AA$3,vantHoff_EOS!$N$19,vantHoff_EOS!$X$5:$X$14,vantHoff_EOS!$Y$5:$Y$14,vantHoff_EOS!$Z$5:$Z$14,vantHoff_EOS!$AE$5:$AN$14,C75,$C$59,$O75:$X75),\"-\")","v":1.1276198642307804},{"$f":"IF(AB$60<=vantHoff_EOS!$N$19,Phi_i_NS_Tci_Pci_wi_kijm_TinC_PinPa_yi(AB$3,vantHoff_EOS!$N$19,vantHoff_EOS!$X$5:$X$14,vantHoff_EOS!$Y$5:$Y$14,vantHoff_EOS!$Z$5:$Z$14,vantHoff_EOS!$AE$5:$AN$14,D75,$C$59,$O75:$X75),\"-\")","v":6.5046508791620328E-2},{"$f":"IF(AC$60<=vantHoff_EOS!$N$19,Phi_i_NS_Tci_Pci_wi_kijm_TinC_PinPa_yi(AC$3,vantHoff_EOS!$N$19,vantHoff_EOS!$X$5:$X$14,vantHoff_EOS!$Y$5:$Y$14,vantHoff_EOS!$Z$5:$Z$14,vantHoff_EOS!$AE$5:$AN$14,E75,$C$59,$O75:$X75),\"-\")","v":1.4213284069182941E-3},{"$f":"IF(AD$60<=vantHoff_EOS!$N$19,Phi_i_NS_Tci_Pci_wi_kijm_TinC_PinPa_yi(AD$3,vantHoff_EOS!$N$19,vantHoff_EOS!$X$5:$X$14,vantHoff_EOS!$Y$5:$Y$14,vantHoff_EOS!$Z$5:$Z$14,vantHoff_EOS!$AE$5:$AN$14,F75,$C$59,$O75:$X75),\"-\")","v":0.99999023921692887},{"$f":"IF(AE$60<=vantHoff_EOS!$N$19,Phi_i_NS_Tci_Pci_wi_kijm_TinC_PinPa_yi(AE$3,vantHoff_EOS!$N$19,vantHoff_EOS!$X$5:$X$14,vantHoff_EOS!$Y$5:$Y$14,vantHoff_EOS!$Z$5:$Z$14,vantHoff_EOS!$AE$5:$AN$14,G75,$C$59,$O75:$X75),\"-\")","v":"-"},{"$f":"IF(AF$60<=vantHoff_EOS!$N$19,Phi_i_NS_Tci_Pci_wi_kijm_TinC_PinPa_yi(AF$3,vantHoff_EOS!$N$19,vantHoff_EOS!$X$5:$X$14,vantHoff_EOS!$Y$5:$Y$14,vantHoff_EOS!$Z$5:$Z$14,vantHoff_EOS!$AE$5:$AN$14,H75,$C$59,$O75:$X75),\"-\")","v":"-"},{"$f":"IF(AG$60<=vantHoff_EOS!$N$19,Phi_i_NS_Tci_Pci_wi_kijm_TinC_PinPa_yi(AG$3,vantHoff_EOS!$N$19,vantHoff_EOS!$X$5:$X$14,vantHoff_EOS!$Y$5:$Y$14,vantHoff_EOS!$Z$5:$Z$14,vantHoff_EOS!$AE$5:$AN$14,I75,$C$59,$O75:$X75),\"-\")","v":"-"},{"$f":"IF(AH$60<=vantHoff_EOS!$N$19,Phi_i_NS_Tci_Pci_wi_kijm_TinC_PinPa_yi(AH$3,vantHoff_EOS!$N$19,vantHoff_EOS!$X$5:$X$14,vantHoff_EOS!$Y$5:$Y$14,vantHoff_EOS!$Z$5:$Z$14,vantHoff_EOS!$AE$5:$AN$14,J75,$C$59,$O75:$X75),\"-\")","v":"-"},{"$f":"IF(AI$60<=vantHoff_EOS!$N$19,Phi_i_NS_Tci_Pci_wi_kijm_TinC_PinPa_yi(AI$3,vantHoff_EOS!$N$19,vantHoff_EOS!$X$5:$X$14,vantHoff_EOS!$Y$5:$Y$14,vantHoff_EOS!$Z$5:$Z$14,vantHoff_EOS!$AE$5:$AN$14,K75,$C$59,$O75:$X75),\"-\")","v":"-"}]
[16,{"$f":"B75+vantHoff_EOS!$B$31","v":30},303.14999999999998,3.298697014679202E-3,{"$f":"lnKaT_Tref_lnKaTref_dHTref_da_db_dc_dd_de_TinC(vantHoff_EOS!$E$7,vantHoff_EOS!$B$9,vantHoff_EOS!$B$6,vantHoff_EOS!$O$27,vantHoff_EOS!$P$27,vantHoff_EOS!$Q$27,vantHoff_EOS!$R$27,vantHoff_EOS!$S$27,B76)","v":15.48865181274164},5328880.9059756333,{"$f":"MolarExtentX_NS_vi_n0i_dHfi_dGfi_TrefinC_da_db_dc_dd_de_Tci_Pci_wi_kijm_TinC_PinPa(vantHoff_EOS!$N$19,vantHoff_EOS!$O$23:$X$23,vantHoff_EOS!$O$31:$X$31,vantHoff_EOS!$T$5:$T$14,vantHoff_EOS!$U$5:$U$14,vantHoff_EOS!$E$7,vantHoff_EOS!$O$27,vantHoff_EOS!$P$27,vantHoff_EOS!$Q$27,vantHoff_EOS!$R$27,vantHoff_EOS!$S$27,vantHoff_EOS!$X$5:$X$14,vantHoff_EOS!$Y$5:$Y$14,vantHoff_EOS!$Z$5:$Z$14,vantHoff_EOS!$AE$5:$AN$14,B76,$C$59)","v":0.99992073529027148},{"$f":"Ky_NS_n0i_vi_X(vantHoff_EOS!$N$19,vantHoff_EOS!$O$31:$X$31,vantHoff_EOS!$O$23:$X$23,G76)","v":139660812819698.77},{"$f":"Kp_NS_vi_PinPa(vantHoff_EOS!$N$19,vantHoff_EOS!$O$23:$X$23,$C$59)","v":6.9444444444444444E-5},{"$f":"Kphi_NS_n0i_vi_X_Tci_Pci_wi_kijm_TinC_PinPa(vantHoff_EOS!$N$19,vantHoff_EOS!$O$31:$X$31,vantHoff_EOS!$O$23:$X$23,G76,vantHoff_EOS!$X$5:$X$14,vantHoff_EOS!$Y$5:$Y$14,vantHoff_EOS!$Z$5:$Z$14,vantHoff_EOS!$AE$5:$AN$14,B76,$C$59)","v":5.4944464017256682E-4},32.57023783331875,-9.5749834855640916,-7.5066025350146033,{"$f":"nT_NS_n0i_vi_X(vantHoff_EOS!$N$19,vantHoff_EOS!$O$31:$X$31,vantHoff_EOS!$O$23:$X$23,G76)","v":8.3401585294194565},{"$f":"IF(O$60<=vantHoff_EOS!$N$19,y_iindex_NS_n0i_vi_X(O$3,vantHoff_EOS!$N$19,vantHoff_EOS!$O$31:$X$31,vantHoff_EOS!$O$23:$X$23,$G76),\"-\")","v":9.5039811832016802E-6},{"$f":"IF(P$60<=vantHoff_EOS!$N$19,y_iindex_NS_n0i_vi_X(P$3,vantHoff_EOS!$N$19,vantHoff_EOS!$O$31:$X$31,vantHoff_EOS!$O$23:$X$23,$G76),\"-\")","v":9.5039811832016802E-6},{"$f":"IF(Q$60<=vantHoff_EOS!$N$19,y_iindex_NS_n0i_vi_X(Q$3,vantHoff_EOS!$N$19,vantHoff_EOS!$O$31:$X$31,vantHoff_EOS!$O$23:$X$23,$G76),\"-\")","v":9.5039811832016802E-6},{"$f":"IF(R$60<=vantHoff_EOS!$N$19,y_iindex_NS_n0i_vi_X(R$3,vantHoff_EOS!$N$19,vantHoff_EOS!$O$31:$X$31,vantHoff_EOS!$O$23:$X$23,$G76),\"-\")","v":0.1198922936252477},{"$f":"IF(S$60<=vantHoff_EOS!$N$19,y_iindex_NS_n0i_vi_X(S$3,vantHoff_EOS!$N$19,vantHoff_EOS!$O$31:$X$31,vantHoff_EOS!$O$23:$X$23,$G76),\"-\")","v":0.88007919443120275},{"$f":"IF(T$60<=vantHoff_EOS!$N$19,y_iindex_NS_n0i_vi_X(T$3,vantHoff_EOS!$N$19,vantHoff_EOS!$O$31:$X$31,vantHoff_EOS!$O$23:$X$23,$G76),\"-\")","v":"-"},{"$f":"IF(U$60<=vantHoff_EOS!$N$19,y_iindex_NS_n0i_vi_X(U$3,vantHoff_EOS!$N$19,vantHoff_EOS!$O$31:$X$31,vantHoff_EOS!$O$23:$X$23,$G76),\"-\")","v":"-"},{"$f":"IF(V$60<=vantHoff_EOS!$N$19,y_iindex_NS_n0i_vi_X(V$3,vantHoff_EOS!$N$19,vantHoff_EOS!$O$31:$X$31,vantHoff_EOS!$O$23:$X$23,$G76),\"-\")","v":"-"},{"$f":"IF(W$60<=vantHoff_EOS!$N$19,y_iindex_NS_n0i_vi_X(W$3,vantHoff_EOS!$N$19,vantHoff_EOS!$O$31:$X$31,vantHoff_EOS!$O$23:$X$23,$G76),\"-\")","v":"-"},{"$f":"IF(X$60<=vantHoff_EOS!$N$19,y_iindex_NS_n0i_vi_X(X$3,vantHoff_EOS!$N$19,vantHoff_EOS!$O$31:$X$31,vantHoff_EOS!$O$23:$X$23,$G76),\"-\")","v":"-"},1,{"$f":"IF(Z$60<=vantHoff_EOS!$N$19,Phi_i_NS_Tci_Pci_wi_kijm_TinC_PinPa_yi(Z$3,vantHoff_EOS!$N$19,vantHoff_EOS!$X$5:$X$14,vantHoff_EOS!$Y$5:$Y$14,vantHoff_EOS!$Z$5:$Z$14,vantHoff_EOS!$AE$5:$AN$14,B76,$C$59,$O76:$X76),\"-\")","v":4.8165301730440824},{"$f":"IF(AA$60<=vantHoff_EOS!$N$19,Phi_i_NS_Tci_Pci_wi_kijm_TinC_PinPa_yi(AA$3,vantHoff_EOS!$N$19,vantHoff_EOS!$X$5:$X$14,vantHoff_EOS!$Y$5:$Y$14,vantHoff_EOS!$Z$5:$Z$14,vantHoff_EOS!$AE$5:$AN$14,C76,$C$59,$O76:$X76),\"-\")","v":1.12608944781233},{"$f":"IF(AB$60<=vantHoff_EOS!$N$19,Phi_i_NS_Tci_Pci_wi_kijm_TinC_PinPa_yi(AB$3,vantHoff_EOS!$N$19,vantHoff_EOS!$X$5:$X$14,vantHoff_EOS!$Y$5:$Y$14,vantHoff_EOS!$Z$5:$Z$14,vantHoff_EOS!$AE$5:$AN$14,D76,$C$59,$O76:$X76),\"-\")","v":6.5046365291778471E-2},{"$f":"IF(AC$60<=vantHoff_EOS!$N$19,Phi_i_NS_Tci_Pci_wi_kijm_TinC_PinPa_yi(AC$3,vantHoff_EOS!$N$19,vantHoff_EOS!$X$5:$X$14,vantHoff_EOS!$Y$5:$Y$14,vantHoff_EOS!$Z$5:$Z$14,vantHoff_EOS!$AE$5:$AN$14,E76,$C$59,$O76:$X76),\"-\")","v":1.3988132135552703E-3},{"$f":"IF(AD$60<=vantHoff_EOS!$N$19,Phi_i_NS_Tci_Pci_wi_kijm_TinC_PinPa_yi(AD$3,vantHoff_EOS!$N$19,vantHoff_EOS!$X$5:$X$14,vantHoff_EOS!$Y$5:$Y$14,vantHoff_EOS!$Z$5:$Z$14,vantHoff_EOS!$AE$5:$AN$14,F76,$C$59,$O76:$X76),\"-\")","v":0.9999868896017603},{"$f":"IF(AE$60<=vantHoff_EOS!$N$19,Phi_i_NS_Tci_Pci_wi_kijm_TinC_PinPa_yi(AE$3,vantHoff_EOS!$N$19,vantHoff_EOS!$X$5:$X$14,vantHoff_EOS!$Y$5:$Y$14,vantHoff_EOS!$Z$5:$Z$14,vantHoff_EOS!$AE$5:$AN$14,G76,$C$59,$O76:$X76),\"-\")","v":"-"},{"$f":"IF(AF$60<=vantHoff_EOS!$N$19,Phi_i_NS_Tci_Pci_wi_kijm_TinC_PinPa_yi(AF$3,vantHoff_EOS!$N$19,vantHoff_EOS!$X$5:$X$14,vantHoff_EOS!$Y$5:$Y$14,vantHoff_EOS!$Z$5:$Z$14,vantHoff_EOS!$AE$5:$AN$14,H76,$C$59,$O76:$X76),\"-\")","v":"-"},{"$f":"IF(AG$60<=vantHoff_EOS!$N$19,Phi_i_NS_Tci_Pci_wi_kijm_TinC_PinPa_yi(AG$3,vantHoff_EOS!$N$19,vantHoff_EOS!$X$5:$X$14,vantHoff_EOS!$Y$5:$Y$14,vantHoff_EOS!$Z$5:$Z$14,vantHoff_EOS!$AE$5:$AN$14,I76,$C$59,$O76:$X76),\"-\")","v":"-"},{"$f":"IF(AH$60<=vantHoff_EOS!$N$19,Phi_i_NS_Tci_Pci_wi_kijm_TinC_PinPa_yi(AH$3,vantHoff_EOS!$N$19,vantHoff_EOS!$X$5:$X$14,vantHoff_EOS!$Y$5:$Y$14,vantHoff_EOS!$Z$5:$Z$14,vantHoff_EOS!$AE$5:$AN$14,J76,$C$59,$O76:$X76),\"-\")","v":"-"},{"$f":"IF(AI$60<=vantHoff_EOS!$N$19,Phi_i_NS_Tci_Pci_wi_kijm_TinC_PinPa_yi(AI$3,vantHoff_EOS!$N$19,vantHoff_EOS!$X$5:$X$14,vantHoff_EOS!$Y$5:$Y$14,vantHoff_EOS!$Z$5:$Z$14,vantHoff_EOS!$AE$5:$AN$14,K76,$C$59,$O76:$X76),\"-\")","v":"-"}]
[17,{"$f":"B76+vantHoff_EOS!$B$31","v":32},305.14999999999998,3.2770768474520728E-3,{"$f":"lnKaT_Tref_lnKaTref_dHTref_da_db_dc_dd_de_TinC(vantHoff_EOS!$E$7,vantHoff_EOS!$B$9,vantHoff_EOS!$B$6,vantHoff_EOS!$O$27,vantHoff_EOS!$P$27,vantHoff_EOS!$Q$27,vantHoff_EOS!$R$27,vantHoff_EOS!$S$27,B77)","v":15.189500771964154},3951084.9575699428,{"$f":"MolarExtentX_NS_vi_n0i_dHfi_dGfi_TrefinC_da_db_dc_dd_de_Tci_Pci_wi_kijm_TinC_PinPa(vantHoff_EOS!$N$19,vantHoff_EOS!$O$23:$X$23,vantHoff_EOS!$O$31:$X$31,vantHoff_EOS!$T$5:$T$14,vantHoff_EOS!$U$5:$U$14,vantHoff_EOS!$E$7,vantHoff_EOS!$O$27,vantHoff_EOS!$P$27,vantHoff_EOS!$Q$27,vantHoff_EOS!$R$27,vantHoff_EOS!$S$27,vantHoff_EOS!$X$5:$X$14,vantHoff_EOS!$Y$5:$Y$14,vantHoff_EOS!$Z$5:$Z$14,vantHoff_EOS!$AE$5:$AN$14,B77,$C$59)","v":0.99990947098879468},{"$f":"Ky_NS_n0i_vi_X(vantHoff_EOS!$N$19,vantHoff_EOS!$O$31:$X$31,vantHoff_EOS!$O$23:$X$23,G77)","v":93745042260193.5},{"$f":"Kp_NS_vi_PinPa(vantHoff_EOS!$N$19,vantHoff_EOS!$O$23:$X$23,$C$59)","v":6.9444444444444444E-5},{"$f":"Kphi_NS_n0i_vi_X_Tci_Pci_wi_kijm_TinC_PinPa(vantHoff_EOS!$N$19,vantHoff_EOS!$O$31:$X$31,vantHoff_EOS!$O$23:$X$23,G77,vantHoff_EOS!$X$5:$X$14,vantHoff_EOS!$Y$5:$Y$14,vantHoff_EOS!$Z$5:$Z$14,vantHoff_EOS!$AE$5:$AN$14,B77,$C$59)","v":6.0691874489803325E-4},32.171599896822798,-9.5749834855640916,-7.4071156392952133,{"$f":"nT_NS_n0i_vi_X(vantHoff_EOS!$N$19,vantHoff_EOS!$O$31:$X$31,vantHoff_EOS!$O$23:$X$23,G77)","v":8.3401810580224112},{"$f":"IF(O$60<=vantHoff_EOS!$N$19,y_iindex_NS_n0i_vi_X(O$3,vantHoff_EOS!$N$19,vantHoff_EOS!$O$31:$X$31,vantHoff_EOS!$O$23:$X$23,$G77),\"-\")","v":1.0854561858491136E-5},{"$f":"IF(P$60<=vantHoff_EOS!$N$19,y_iindex_NS_n0i_vi_X(P$3,vantHoff_EOS!$N$19,vantHoff_EOS!$O$31:$X$31,vantHoff_EOS!$O$23:$X$23,$G77),\"-\")","v":1.0854561858491136E-5},{"$f":"IF(Q$60<=vantHoff_EOS!$N$19,y_iindex_NS_n0i_vi_X(Q$3,vantHoff_EOS!$N$19,vantHoff_EOS!$O$31:$X$31,vantHoff_EOS!$O$23:$X$23,$G77),\"-\")","v":1.0854561858491136E-5},{"$f":"IF(R$60<=vantHoff_EOS!$N$19,y_iindex_NS_n0i_vi_X(R$3,vantHoff_EOS!$N$19,vantHoff_EOS!$O$31:$X$31,vantHoff_EOS!$O$23:$X$23,$G77),\"-\")","v":0.11989061916431452},{"$f":"IF(S$60<=vantHoff_EOS!$N$19,y_iindex_NS_n0i_vi_X(S$3,vantHoff_EOS!$N$19,vantHoff_EOS!$O$31:$X$31,vantHoff_EOS!$O$23:$X$23,$G77),\"-\")","v":0.88007681715010988},{"$f":"IF(T$60<=vantHoff_EOS!$N$19,y_iindex_NS_n0i_vi_X(T$3,vantHoff_EOS!$N$19,vantHoff_EOS!$O$31:$X$31,vantHoff_EOS!$O$23:$X$23,$G77),\"-\")","v":"-"},{"$f":"IF(U$60<=vantHoff_EOS!$N$19,y_iindex_NS_n0i_vi_X(U$3,vantHoff_EOS!$N$19,vantHoff_EOS!$O$31:$X$31,vantHoff_EOS!$O$23:$X$23,$G77),\"-\")","v":"-"},{"$f":"IF(V$60<=vantHoff_EOS!$N$19,y_iindex_NS_n0i_vi_X(V$3,vantHoff_EOS!$N$19,vantHoff_EOS!$O$31:$X$31,vantHoff_EOS!$O$23:$X$23,$G77),\"-\")","v":"-"},{"$f":"IF(W$60<=vantHoff_EOS!$N$19,y_iindex_NS_n0i_vi_X(W$3,vantHoff_EOS!$N$19,vantHoff_EOS!$O$31:$X$31,vantHoff_EOS!$O$23:$X$23,$G77),\"-\")","v":"-"},{"$f":"IF(X$60<=vantHoff_EOS!$N$19,y_iindex_NS_n0i_vi_X(X$3,vantHoff_EOS!$N$19,vantHoff_EOS!$O$31:$X$31,vantHoff_EOS!$O$23:$X$23,$G77),\"-\")","v":"-"},0.99999999999999989,{"$f":"IF(Z$60<=vantHoff_EOS!$N$19,Phi_i_NS_Tci_Pci_wi_kijm_TinC_PinPa_yi(Z$3,vantHoff_EOS!$N$19,vantHoff_EOS!$X$5:$X$14,vantHoff_EOS!$Y$5:$Y$14,vantHoff_EOS!$Z$5:$Z$14,vantHoff_EOS!$AE$5:$AN$14,B77,$C$59,$O77:$X77),\"-\")","v":4.7469843253687207},{"$f":"IF(AA$60<=vantHoff_EOS!$N$19,Phi_i_NS_Tci_Pci_wi_kijm_TinC_PinPa_yi(AA$3,vantHoff_EOS!$N$19,vantHoff_EOS!$X$5:$X$14,vantHoff_EOS!$Y$5:$Y$14,vantHoff_EOS!$Z$5:$Z$14,vantHoff_EOS!$AE$5:$AN$14,C77,$C$59,$O77:$X77),\"-\")","v":1.1245870450926636},{"$f":"IF(AB$60<=vantHoff_EOS!$N$19,Phi_i_NS_Tci_Pci_wi_kijm_TinC_PinPa_yi(AB$3,vantHoff_EOS!$N$19,vantHoff_EOS!$X$5:$X$14,vantHoff_EOS!$Y$5:$Y$14,vantHoff_EOS!$Z$5:$Z$14,vantHoff_EOS!$AE$5:$AN$14,D77,$C$59,$O77:$X77),\"-\")","v":6.5046208004522002E-2},{"$f":"IF(AC$60<=vantHoff_EOS!$N$19,Phi_i_NS_Tci_Pci_wi_kijm_TinC_PinPa_yi(AC$3,vantHoff_EOS!$N$19,vantHoff_EOS!$X$5:$X$14,vantHoff_EOS!$Y$5:$Y$14,vantHoff_EOS!$Z$5:$Z$14,vantHoff_EOS!$AE$5:$AN$14,E77,$C$59,$O77:$X77),\"-\")","v":1.376896377115123E-3},{"$f":"IF(AD$60<=vantHoff_EOS!$N$19,Phi_i_NS_Tci_Pci_wi_kijm_TinC_PinPa_yi(AD$3,vantHoff_EOS!$N$19,vantHoff_EOS!$X$5:$X$14,vantHoff_EOS!$Y$5:$Y$14,vantHoff_EOS!$Z$5:$Z$14,vantHoff_EOS!$AE$5:$AN$14,F77,$C$59,$O77:$X77),\"-\")","v":0.99998248052325911},{"$f":"IF(AE$60<=vantHoff_EOS!$N$19,Phi_i_NS_Tci_Pci_wi_kijm_TinC_PinPa_yi(AE$3,vantHoff_EOS!$N$19,vantHoff_EOS!$X$5:$X$14,vantHoff_EOS!$Y$5:$Y$14,vantHoff_EOS!$Z$5:$Z$14,vantHoff_EOS!$AE$5:$AN$14,G77,$C$59,$O77:$X77),\"-\")","v":"-"},{"$f":"IF(AF$60<=vantHoff_EOS!$N$19,Phi_i_NS_Tci_Pci_wi_kijm_TinC_PinPa_yi(AF$3,vantHoff_EOS!$N$19,vantHoff_EOS!$X$5:$X$14,vantHoff_EOS!$Y$5:$Y$14,vantHoff_EOS!$Z$5:$Z$14,vantHoff_EOS!$AE$5:$AN$14,H77,$C$59,$O77:$X77),\"-\")","v":"-"},{"$f":"IF(AG$60<=vantHoff_EOS!$N$19,Phi_i_NS_Tci_Pci_wi_kijm_TinC_PinPa_yi(AG$3,vantHoff_EOS!$N$19,vantHoff_EOS!$X$5:$X$14,vantHoff_EOS!$Y$5:$Y$14,vantHoff_EOS!$Z$5:$Z$14,vantHoff_EOS!$AE$5:$AN$14,I77,$C$59,$O77:$X77),\"-\")","v":"-"},{"$f":"IF(AH$60<=vantHoff_EOS!$N$19,Phi_i_NS_Tci_Pci_wi_kijm_TinC_PinPa_yi(AH$3,vantHoff_EOS!$N$19,vantHoff_EOS!$X$5:$X$14,vantHoff_EOS!$Y$5:$Y$14,vantHoff_EOS!$Z$5:$Z$14,vantHoff_EOS!$AE$5:$AN$14,J77,$C$59,$O77:$X77),\"-\")","v":"-"},{"$f":"IF(AI$60<=vantHoff_EOS!$N$19,Phi_i_NS_Tci_Pci_wi_kijm_TinC_PinPa_yi(AI$3,vantHoff_EOS!$N$19,vantHoff_EOS!$X$5:$X$14,vantHoff_EOS!$Y$5:$Y$14,vantHoff_EOS!$Z$5:$Z$14,vantHoff_EOS!$AE$5:$AN$14,K77,$C$59,$O77:$X77),\"-\")","v":"-"}]
[18,{"$f":"B77+vantHoff_EOS!$B$31","v":34},307.14999999999998,3.255738238645613E-3,{"$f":"lnKaT_Tref_lnKaTref_dHTref_da_db_dc_dd_de_TinC(vantHoff_EOS!$E$7,vantHoff_EOS!$B$9,vantHoff_EOS!$B$6,vantHoff_EOS!$O$27,vantHoff_EOS!$P$27,vantHoff_EOS!$Q$27,vantHoff_EOS!$R$27,vantHoff_EOS!$S$27,B78)","v":14.894162594564932},2940712.9048554692,{"$f":"MolarExtentX_NS_vi_n0i_dHfi_dGfi_TrefinC_da_db_dc_dd_de_Tci_Pci_wi_kijm_TinC_PinPa(vantHoff_EOS!$N$19,vantHoff_EOS!$O$23:$X$23,vantHoff_EOS!$O$31:$X$31,vantHoff_EOS!$T$5:$T$14,vantHoff_EOS!$U$5:$U$14,vantHoff_EOS!$E$7,vantHoff_EOS!$O$27,vantHoff_EOS!$P$27,vantHoff_EOS!$Q$27,vantHoff_EOS!$R$27,vantHoff_EOS!$S$27,vantHoff_EOS!$X$5:$X$14,vantHoff_EOS!$Y$5:$Y$14,vantHoff_EOS!$Z$5:$Z$14,vantHoff_EOS!$AE$5:$AN$14,B78,$C$59)","v":0.99989672001487551},{"$f":"Ky_NS_n0i_vi_X(vantHoff_EOS!$N$19,vantHoff_EOS!$O$31:$X$31,vantHoff_EOS!$O$23:$X$23,G78)","v":63133556821429.914},{"$f":"Kp_NS_vi_PinPa(vantHoff_EOS!$N$19,vantHoff_EOS!$O$23:$X$23,$C$59)","v":6.9444444444444444E-5},{"$f":"Kphi_NS_n0i_vi_X_Tci_Pci_wi_kijm_TinC_PinPa(vantHoff_EOS!$N$19,vantHoff_EOS!$O$31:$X$31,vantHoff_EOS!$O$23:$X$23,G78,vantHoff_EOS!$X$5:$X$14,vantHoff_EOS!$Y$5:$Y$14,vantHoff_EOS!$Z$5:$Z$14,vantHoff_EOS!$AE$5:$AN$14,B78,$C$59)","v":6.7074101257463955E-4},31.776273547944324,-9.5749834855640916,-7.3071274678170539,{"$f":"nT_NS_n0i_vi_X(vantHoff_EOS!$N$19,vantHoff_EOS!$O$31:$X$31,vantHoff_EOS!$O$23:$X$23,G78)","v":8.3402065599702482},{"$f":"IF(O$60<=vantHoff_EOS!$N$19,y_iindex_NS_n0i_vi_X(O$3,vantHoff_EOS!$N$19,vantHoff_EOS!$O$31:$X$31,vantHoff_EOS!$O$23:$X$23,$G78),\"-\")","v":1.2383384557907411E-5},{"$f":"IF(P$60<=vantHoff_EOS!$N$19,y_iindex_NS_n0i_vi_X(P$3,vantHoff_EOS!$N$19,vantHoff_EOS!$O$31:$X$31,vantHoff_EOS!$O$23:$X$23,$G78),\"-\")","v":1.2383384557907411E-5},{"$f":"IF(Q$60<=vantHoff_EOS!$N$19,y_iindex_NS_n0i_vi_X(Q$3,vantHoff_EOS!$N$19,vantHoff_EOS!$O$31:$X$31,vantHoff_EOS!$O$23:$X$23,$G78),\"-\")","v":1.2383384557907411E-5},{"$f":"IF(R$60<=vantHoff_EOS!$N$19,y_iindex_NS_n0i_vi_X(R$3,vantHoff_EOS!$N$19,vantHoff_EOS!$O$31:$X$31,vantHoff_EOS!$O$23:$X$23,$G78),\"-\")","v":0.11988872371746659},{"$f":"IF(S$60<=vantHoff_EOS!$N$19,y_iindex_NS_n0i_vi_X(S$3,vantHoff_EOS!$N$19,vantHoff_EOS!$O$31:$X$31,vantHoff_EOS!$O$23:$X$23,$G78),\"-\")","v":0.88007412612885982},{"$f":"IF(T$60<=vantHoff_EOS!$N$19,y_iindex_NS_n0i_vi_X(T$3,vantHoff_EOS!$N$19,vantHoff_EOS!$O$31:$X$31,vantHoff_EOS!$O$23:$X$23,$G78),\"-\")","v":"-"},{"$f":"IF(U$60<=vantHoff_EOS!$N$19,y_iindex_NS_n0i_vi_X(U$3,vantHoff_EOS!$N$19,vantHoff_EOS!$O$31:$X$31,vantHoff_EOS!$O$23:$X$23,$G78),\"-\")","v":"-"},{"$f":"IF(V$60<=vantHoff_EOS!$N$19,y_iindex_NS_n0i_vi_X(V$3,vantHoff_EOS!$N$19,vantHoff_EOS!$O$31:$X$31,vantHoff_EOS!$O$23:$X$23,$G78),\"-\")","v":"-"},{"$f":"IF(W$60<=vantHoff_EOS!$N$19,y_iindex_NS_n0i_vi_X(W$3,vantHoff_EOS!$N$19,vantHoff_EOS!$O$31:$X$31,vantHoff_EOS!$O$23:$X$23,$G78),\"-\")","v":"-"},{"$f":"IF(X$60<=vantHoff_EOS!$N$19,y_iindex_NS_n0i_vi_X(X$3,vantHoff_EOS!$N$19,vantHoff_EOS!$O$31:$X$31,vantHoff_EOS!$O$23:$X$23,$G78),\"-\")","v":"-"},1.0000000000000002,{"$f":"IF(Z$60<=vantHoff_EOS!$N$19,Phi_i_NS_Tci_Pci_wi_kijm_TinC_PinPa_yi(Z$3,vantHoff_EOS!$N$19,vantHoff_EOS!$X$5:$X$14,vantHoff_EOS!$Y$5:$Y$14,vantHoff_EOS!$Z$5:$Z$14,vantHoff_EOS!$AE$5:$AN$14,B78,$C$59,$O78:$X78),\"-\")","v":4.6761308917225035},{"$f":"IF(AA$60<=vantHoff_EOS!$N$19,Phi_i_NS_Tci_Pci_wi_kijm_TinC_PinPa_yi(AA$3,vantHoff_EOS!$N$19,vantHoff_EOS!$X$5:$X$14,vantHoff_EOS!$Y$5:$Y$14,vantHoff_EOS!$Z$5:$Z$14,vantHoff_EOS!$AE$5:$AN$14,C78,$C$59,$O78:$X78),\"-\")","v":1.1231119392041378},{"$f":"IF(AB$60<=vantHoff_EOS!$N$19,Phi_i_NS_Tci_Pci_wi_kijm_TinC_PinPa_yi(AB$3,vantHoff_EOS!$N$19,vantHoff_EOS!$X$5:$X$14,vantHoff_EOS!$Y$5:$Y$14,vantHoff_EOS!$Z$5:$Z$14,vantHoff_EOS!$AE$5:$AN$14,D78,$C$59,$O78:$X78),\"-\")","v":6.5046035136295491E-2},{"$f":"IF(AC$60<=vantHoff_EOS!$N$19,Phi_i_NS_Tci_Pci_wi_kijm_TinC_PinPa_yi(AC$3,vantHoff_EOS!$N$19,vantHoff_EOS!$X$5:$X$14,vantHoff_EOS!$Y$5:$Y$14,vantHoff_EOS!$Z$5:$Z$14,vantHoff_EOS!$AE$5:$AN$14,E78,$C$59,$O78:$X78),\"-\")","v":1.3555569592725439E-3},{"$f":"IF(AD$60<=vantHoff_EOS!$N$19,Phi_i_NS_Tci_Pci_wi_kijm_TinC_PinPa_yi(AD$3,vantHoff_EOS!$N$19,vantHoff_EOS!$X$5:$X$14,vantHoff_EOS!$Y$5:$Y$14,vantHoff_EOS!$Z$5:$Z$14,vantHoff_EOS!$AE$5:$AN$14,F78,$C$59,$O78:$X78),\"-\")","v":0.99997671083138318},{"$f":"IF(AE$60<=vantHoff_EOS!$N$19,Phi_i_NS_Tci_Pci_wi_kijm_TinC_PinPa_yi(AE$3,vantHoff_EOS!$N$19,vantHoff_EOS!$X$5:$X$14,vantHoff_EOS!$Y$5:$Y$14,vantHoff_EOS!$Z$5:$Z$14,vantHoff_EOS!$AE$5:$AN$14,G78,$C$59,$O78:$X78),\"-\")","v":"-"},{"$f":"IF(AF$60<=vantHoff_EOS!$N$19,Phi_i_NS_Tci_Pci_wi_kijm_TinC_PinPa_yi(AF$3,vantHoff_EOS!$N$19,vantHoff_EOS!$X$5:$X$14,vantHoff_EOS!$Y$5:$Y$14,vantHoff_EOS!$Z$5:$Z$14,vantHoff_EOS!$AE$5:$AN$14,H78,$C$59,$O78:$X78),\"-\")","v":"-"},{"$f":"IF(AG$60<=vantHoff_EOS!$N$19,Phi_i_NS_Tci_Pci_wi_kijm_TinC_PinPa_yi(AG$3,vantHoff_EOS!$N$19,vantHoff_EOS!$X$5:$X$14,vantHoff_EOS!$Y$5:$Y$14,vantHoff_EOS!$Z$5:$Z$14,vantHoff_EOS!$AE$5:$AN$14,I78,$C$59,$O78:$X78),\"-\")","v":"-"},{"$f":"IF(AH$60<=vantHoff_EOS!$N$19,Phi_i_NS_Tci_Pci_wi_kijm_TinC_PinPa_yi(AH$3,vantHoff_EOS!$N$19,vantHoff_EOS!$X$5:$X$14,vantHoff_EOS!$Y$5:$Y$14,vantHoff_EOS!$Z$5:$Z$14,vantHoff_EOS!$AE$5:$AN$14,J78,$C$59,$O78:$X78),\"-\")","v":"-"},{"$f":"IF(AI$60<=vantHoff_EOS!$N$19,Phi_i_NS_Tci_Pci_wi_kijm_TinC_PinPa_yi(AI$3,vantHoff_EOS!$N$19,vantHoff_EOS!$X$5:$X$14,vantHoff_EOS!$Y$5:$Y$14,vantHoff_EOS!$Z$5:$Z$14,vantHoff_EOS!$AE$5:$AN$14,K78,$C$59,$O78:$X78),\"-\")","v":"-"}]
[19,{"$f":"B78+vantHoff_EOS!$B$31","v":36},309.14999999999998,3.2346757237586934E-3,{"$f":"lnKaT_Tref_lnKaTref_dHTref_da_db_dc_dd_de_TinC(vantHoff_EOS!$E$7,vantHoff_EOS!$B$9,vantHoff_EOS!$B$6,vantHoff_EOS!$O$27,vantHoff_EOS!$P$27,vantHoff_EOS!$Q$27,vantHoff_EOS!$R$27,vantHoff_EOS!$S$27,B79)","v":14.602564290239913},2196914.1843803837,{"$f":"MolarExtentX_NS_vi_n0i_dHfi_dGfi_TrefinC_da_db_dc_dd_de_Tci_Pci_wi_kijm_TinC_PinPa(vantHoff_EOS!$N$19,vantHoff_EOS!$O$23:$X$23,vantHoff_EOS!$O$31:$X$31,vantHoff_EOS!$T$5:$T$14,vantHoff_EOS!$U$5:$U$14,vantHoff_EOS!$E$7,vantHoff_EOS!$O$27,vantHoff_EOS!$P$27,vantHoff_EOS!$Q$27,vantHoff_EOS!$R$27,vantHoff_EOS!$S$27,vantHoff_EOS!$X$5:$X$14,vantHoff_EOS!$Y$5:$Y$14,vantHoff_EOS!$Z$5:$Z$14,vantHoff_EOS!$AE$5:$AN$14,B79,$C$59)","v":0.99988229744749457},{"$f":"Ky_NS_n0i_vi_X(vantHoff_EOS!$N$19,vantHoff_EOS!$O$31:$X$31,vantHoff_EOS!$O$23:$X$23,G79)","v":42652830213550.812},{"$f":"Kp_NS_vi_PinPa(vantHoff_EOS!$N$19,vantHoff_EOS!$O$23:$X$23,$C$59)","v":6.9444444444444444E-5},{"$f":"Kphi_NS_n0i_vi_X_Tci_Pci_wi_kijm_TinC_PinPa(vantHoff_EOS!$N$19,vantHoff_EOS!$O$31:$X$31,vantHoff_EOS!$O$23:$X$23,G79,vantHoff_EOS!$X$5:$X$14,vantHoff_EOS!$Y$5:$Y$14,vantHoff_EOS!$Z$5:$Z$14,vantHoff_EOS!$AE$5:$AN$14,B79,$C$59)","v":7.4169906420470738E-4},31.384114746716172,-9.5749834855640916,-7.2065669709123146,{"$f":"nT_NS_n0i_vi_X(vantHoff_EOS!$N$19,vantHoff_EOS!$O$31:$X$31,vantHoff_EOS!$O$23:$X$23,G79)","v":8.3402354051050107},{"$f":"IF(O$60<=vantHoff_EOS!$N$19,y_iindex_NS_n0i_vi_X(O$3,vantHoff_EOS!$N$19,vantHoff_EOS!$O$31:$X$31,vantHoff_EOS!$O$23:$X$23,$G79),\"-\")","v":1.4112617544749702E-5},{"$f":"IF(P$60<=vantHoff_EOS!$N$19,y_iindex_NS_n0i_vi_X(P$3,vantHoff_EOS!$N$19,vantHoff_EOS!$O$31:$X$31,vantHoff_EOS!$O$23:$X$23,$G79),\"-\")","v":1.4112617544749702E-5},{"$f":"IF(Q$60<=vantHoff_EOS!$N$19,y_iindex_NS_n0i_vi_X(Q$3,vantHoff_EOS!$N$19,vantHoff_EOS!$O$31:$X$31,vantHoff_EOS!$O$23:$X$23,$G79),\"-\")","v":1.4112617544749702E-5},{"$f":"IF(R$60<=vantHoff_EOS!$N$19,y_iindex_NS_n0i_vi_X(R$3,vantHoff_EOS!$N$19,vantHoff_EOS!$O$31:$X$31,vantHoff_EOS!$O$23:$X$23,$G79),\"-\")","v":0.11988657980031023},{"$f":"IF(S$60<=vantHoff_EOS!$N$19,y_iindex_NS_n0i_vi_X(S$3,vantHoff_EOS!$N$19,vantHoff_EOS!$O$31:$X$31,vantHoff_EOS!$O$23:$X$23,$G79),\"-\")","v":0.88007108234705556},{"$f":"IF(T$60<=vantHoff_EOS!$N$19,y_iindex_NS_n0i_vi_X(T$3,vantHoff_EOS!$N$19,vantHoff_EOS!$O$31:$X$31,vantHoff_EOS!$O$23:$X$23,$G79),\"-\")","v":"-"},{"$f":"IF(U$60<=vantHoff_EOS!$N$19,y_iindex_NS_n0i_vi_X(U$3,vantHoff_EOS!$N$19,vantHoff_EOS!$O$31:$X$31,vantHoff_EOS!$O$23:$X$23,$G79),\"-\")","v":"-"},{"$f":"IF(V$60<=vantHoff_EOS!$N$19,y_iindex_NS_n0i_vi_X(V$3,vantHoff_EOS!$N$19,vantHoff_EOS!$O$31:$X$31,vantHoff_EOS!$O$23:$X$23,$G79),\"-\")","v":"-"},{"$f":"IF(W$60<=vantHoff_EOS!$N$19,y_iindex_NS_n0i_vi_X(W$3,vantHoff_EOS!$N$19,vantHoff_EOS!$O$31:$X$31,vantHoff_EOS!$O$23:$X$23,$G79),\"-\")","v":"-"},{"$f":"IF(X$60<=vantHoff_EOS!$N$19,y_iindex_NS_n0i_vi_X(X$3,vantHoff_EOS!$N$19,vantHoff_EOS!$O$31:$X$31,vantHoff_EOS!$O$23:$X$23,$G79),\"-\")","v":"-"},1,{"$f":"IF(Z$60<=vantHoff_EOS!$N$19,Phi_i_NS_Tci_Pci_wi_kijm_TinC_PinPa_yi(Z$3,vantHoff_EOS!$N$19,vantHoff_EOS!$X$5:$X$14,vantHoff_EOS!$Y$5:$Y$14,vantHoff_EOS!$Z$5:$Z$14,vantHoff_EOS!$AE$5:$AN$14,B79,$C$59,$O79:$X79),\"-\")","v":4.6039893048259497},{"$f":"IF(AA$60<=vantHoff_EOS!$N$19,Phi_i_NS_Tci_Pci_wi_kijm_TinC_PinPa_yi(AA$3,vantHoff_EOS!$N$19,vantHoff_EOS!$X$5:$X$14,vantHoff_EOS!$Y$5:$Y$14,vantHoff_EOS!$Z$5:$Z$14,vantHoff_EOS!$AE$5:$AN$14,C79,$C$59,$O79:$X79),\"-\")","v":1.1216634356957425},{"$f":"IF(AB$60<=vantHoff_EOS!$N$19,Phi_i_NS_Tci_Pci_wi_kijm_TinC_PinPa_yi(AB$3,vantHoff_EOS!$N$19,vantHoff_EOS!$X$5:$X$14,vantHoff_EOS!$Y$5:$Y$14,vantHoff_EOS!$Z$5:$Z$14,vantHoff_EOS!$AE$5:$AN$14,D79,$C$59,$O79:$X79),\"-\")","v":6.504584468340581E-2},{"$f":"IF(AC$60<=vantHoff_EOS!$N$19,Phi_i_NS_Tci_Pci_wi_kijm_TinC_PinPa_yi(AC$3,vantHoff_EOS!$N$19,vantHoff_EOS!$X$5:$X$14,vantHoff_EOS!$Y$5:$Y$14,vantHoff_EOS!$Z$5:$Z$14,vantHoff_EOS!$AE$5:$AN$14,E79,$C$59,$O79:$X79),\"-\")","v":1.334774935204053E-3},{"$f":"IF(AD$60<=vantHoff_EOS!$N$19,Phi_i_NS_Tci_Pci_wi_kijm_TinC_PinPa_yi(AD$3,vantHoff_EOS!$N$19,vantHoff_EOS!$X$5:$X$14,vantHoff_EOS!$Y$5:$Y$14,vantHoff_EOS!$Z$5:$Z$14,vantHoff_EOS!$AE$5:$AN$14,F79,$C$59,$O79:$X79),\"-\")","v":0.99996920676409784},{"$f":"IF(AE$60<=vantHoff_EOS!$N$19,Phi_i_NS_Tci_Pci_wi_kijm_TinC_PinPa_yi(AE$3,vantHoff_EOS!$N$19,vantHoff_EOS!$X$5:$X$14,vantHoff_EOS!$Y$5:$Y$14,vantHoff_EOS!$Z$5:$Z$14,vantHoff_EOS!$AE$5:$AN$14,G79,$C$59,$O79:$X79),\"-\")","v":"-"},{"$f":"IF(AF$60<=vantHoff_EOS!$N$19,Phi_i_NS_Tci_Pci_wi_kijm_TinC_PinPa_yi(AF$3,vantHoff_EOS!$N$19,vantHoff_EOS!$X$5:$X$14,vantHoff_EOS!$Y$5:$Y$14,vantHoff_EOS!$Z$5:$Z$14,vantHoff_EOS!$AE$5:$AN$14,H79,$C$59,$O79:$X79),\"-\")","v":"-"},{"$f":"IF(AG$60<=vantHoff_EOS!$N$19,Phi_i_NS_Tci_Pci_wi_kijm_TinC_PinPa_yi(AG$3,vantHoff_EOS!$N$19,vantHoff_EOS!$X$5:$X$14,vantHoff_EOS!$Y$5:$Y$14,vantHoff_EOS!$Z$5:$Z$14,vantHoff_EOS!$AE$5:$AN$14,I79,$C$59,$O79:$X79),\"-\")","v":"-"},{"$f":"IF(AH$60<=vantHoff_EOS!$N$19,Phi_i_NS_Tci_Pci_wi_kijm_TinC_PinPa_yi(AH$3,vantHoff_EOS!$N$19,vantHoff_EOS!$X$5:$X$14,vantHoff_EOS!$Y$5:$Y$14,vantHoff_EOS!$Z$5:$Z$14,vantHoff_EOS!$AE$5:$AN$14,J79,$C$59,$O79:$X79),\"-\")","v":"-"},{"$f":"IF(AI$60<=vantHoff_EOS!$N$19,Phi_i_NS_Tci_Pci_wi_kijm_TinC_PinPa_yi(AI$3,vantHoff_EOS!$N$19,vantHoff_EOS!$X$5:$X$14,vantHoff_EOS!$Y$5:$Y$14,vantHoff_EOS!$Z$5:$Z$14,vantHoff_EOS!$AE$5:$AN$14,K79,$C$59,$O79:$X79),\"-\")","v":"-"}]
[20,{"$f":"B79+vantHoff_EOS!$B$31","v":38},311.14999999999998,3.2138839787883662E-3,{"$f":"lnKaT_Tref_lnKaTref_dHTref_da_db_dc_dd_de_TinC(vantHoff_EOS!$E$7,vantHoff_EOS!$B$9,vantHoff_EOS!$B$6,vantHoff_EOS!$O$27,vantHoff_EOS!$P$27,vantHoff_EOS!$Q$27,vantHoff_EOS!$R$27,vantHoff_EOS!$S$27,B80)","v":14.314634734559823},1647277.9141788057,{"$f":"MolarExtentX_NS_vi_n0i_dHfi_dGfi_TrefinC_da_db_dc_dd_de_Tci_Pci_wi_kijm_TinC_PinPa(vantHoff_EOS!$N$19,vantHoff_EOS!$O$23:$X$23,vantHoff_EOS!$O$31:$X$31,vantHoff_EOS!$T$5:$T$14,vantHoff_EOS!$U$5:$U$14,vantHoff_EOS!$E$7,vantHoff_EOS!$O$27,vantHoff_EOS!$P$27,vantHoff_EOS!$Q$27,vantHoff_EOS!$R$27,vantHoff_EOS!$S$27,vantHoff_EOS!$X$5:$X$14,vantHoff_EOS!$Y$5:$Y$14,vantHoff_EOS!$Z$5:$Z$14,vantHoff_EOS!$AE$5:$AN$14,B80,$C$59)","v":0.99986599545073618},{"$f":"Ky_NS_n0i_vi_X(vantHoff_EOS!$N$19,vantHoff_EOS!$O$31:$X$31,vantHoff_EOS!$O$23:$X$23,G80)","v":28903017446956.512},{"$f":"Kp_NS_vi_PinPa(vantHoff_EOS!$N$19,vantHoff_EOS!$O$23:$X$23,$C$59)","v":6.9444444444444444E-5},{"$f":"Kphi_NS_n0i_vi_X_Tci_Pci_wi_kijm_TinC_PinPa(vantHoff_EOS!$N$19,vantHoff_EOS!$O$31:$X$31,vantHoff_EOS!$O$23:$X$23,G80,vantHoff_EOS!$X$5:$X$14,vantHoff_EOS!$Y$5:$Y$14,vantHoff_EOS!$Z$5:$Z$14,vantHoff_EOS!$AE$5:$AN$14,B80,$C$59)","v":8.2070330572587928E-4},30.994967115525888,-9.5749834855640916,-7.1053488954021775,{"$f":"nT_NS_n0i_vi_X(vantHoff_EOS!$N$19,vantHoff_EOS!$O$31:$X$31,vantHoff_EOS!$O$23:$X$23,G80)","v":8.3402680090985282},{"$f":"IF(O$60<=vantHoff_EOS!$N$19,y_iindex_NS_n0i_vi_X(O$3,vantHoff_EOS!$N$19,vantHoff_EOS!$O$31:$X$31,vantHoff_EOS!$O$23:$X$23,$G80),\"-\")","v":1.6067175433407456E-5},{"$f":"IF(P$60<=vantHoff_EOS!$N$19,y_iindex_NS_n0i_vi_X(P$3,vantHoff_EOS!$N$19,vantHoff_EOS!$O$31:$X$31,vantHoff_EOS!$O$23:$X$23,$G80),\"-\")","v":1.6067175433407456E-5},{"$f":"IF(Q$60<=vantHoff_EOS!$N$19,y_iindex_NS_n0i_vi_X(Q$3,vantHoff_EOS!$N$19,vantHoff_EOS!$O$31:$X$31,vantHoff_EOS!$O$23:$X$23,$G80),\"-\")","v":1.6067175433407456E-5},{"$f":"IF(R$60<=vantHoff_EOS!$N$19,y_iindex_NS_n0i_vi_X(R$3,vantHoff_EOS!$N$19,vantHoff_EOS!$O$31:$X$31,vantHoff_EOS!$O$23:$X$23,$G80),\"-\")","v":0.11988415652350341},{"$f":"IF(S$60<=vantHoff_EOS!$N$19,y_iindex_NS_n0i_vi_X(S$3,vantHoff_EOS!$N$19,vantHoff_EOS!$O$31:$X$31,vantHoff_EOS!$O$23:$X$23,$G80),\"-\")","v":0.88006764195019627},{"$f":"IF(T$60<=vantHoff_EOS!$N$19,y_iindex_NS_n0i_vi_X(T$3,vantHoff_EOS!$N$19,vantHoff_EOS!$O$31:$X$31,vantHoff_EOS!$O$23:$X$23,$G80),\"-\")","v":"-"},{"$f":"IF(U$60<=vantHoff_EOS!$N$19,y_iindex_NS_n0i_vi_X(U$3,vantHoff_EOS!$N$19,vantHoff_EOS!$O$31:$X$31,vantHoff_EOS!$O$23:$X$23,$G80),\"-\")","v":"-"},{"$f":"IF(V$60<=vantHoff_EOS!$N$19,y_iindex_NS_n0i_vi_X(V$3,vantHoff_EOS!$N$19,vantHoff_EOS!$O$31:$X$31,vantHoff_EOS!$O$23:$X$23,$G80),\"-\")","v":"-"},{"$f":"IF(W$60<=vantHoff_EOS!$N$19,y_iindex_NS_n0i_vi_X(W$3,vantHoff_EOS!$N$19,vantHoff_EOS!$O$31:$X$31,vantHoff_EOS!$O$23:$X$23,$G80),\"-\")","v":"-"},{"$f":"IF(X$60<=vantHoff_EOS!$N$19,y_iindex_NS_n0i_vi_X(X$3,vantHoff_EOS!$N$19,vantHoff_EOS!$O$31:$X$31,vantHoff_EOS!$O$23:$X$23,$G80),\"-\")","v":"-"},0.99999999999999989,{"$f":"IF(Z$60<=vantHoff_EOS!$N$19,Phi_i_NS_Tci_Pci_wi_kijm_TinC_PinPa_yi(Z$3,vantHoff_EOS!$N$19,vantHoff_EOS!$X$5:$X$14,vantHoff_EOS!$Y$5:$Y$14,vantHoff_EOS!$Z$5:$Z$14,vantHoff_EOS!$AE$5:$AN$14,B80,$C$59,$O80:$X80),\"-\")","v":4.5305639883213171},{"$f":"IF(AA$60<=vantHoff_EOS!$N$19,Phi_i_NS_Tci_Pci_wi_kijm_TinC_PinPa_yi(AA$3,vantHoff_EOS!$N$19,vantHoff_EOS!$X$5:$X$14,vantHoff_EOS!$Y$5:$Y$14,vantHoff_EOS!$Z$5:$Z$14,vantHoff_EOS!$AE$5:$AN$14,C80,$C$59,$O80:$X80),\"-\")","v":1.1202408613909873},{"$f":"IF(AB$60<=vantHoff_EOS!$N$19,Phi_i_NS_Tci_Pci_wi_kijm_TinC_PinPa_yi(AB$3,vantHoff_EOS!$N$19,vantHoff_EOS!$X$5:$X$14,vantHoff_EOS!$Y$5:$Y$14,vantHoff_EOS!$Z$5:$Z$14,vantHoff_EOS!$AE$5:$AN$14,D80,$C$59,$O80:$X80),\"-\")","v":6.5045634395532514E-2},{"$f":"IF(AC$60<=vantHoff_EOS!$N$19,Phi_i_NS_Tci_Pci_wi_kijm_TinC_PinPa_yi(AC$3,vantHoff_EOS!$N$19,vantHoff_EOS!$X$5:$X$14,vantHoff_EOS!$Y$5:$Y$14,vantHoff_EOS!$Z$5:$Z$14,vantHoff_EOS!$AE$5:$AN$14,E80,$C$59,$O80:$X80),\"-\")","v":1.3145311486636138E-3},{"$f":"IF(AD$60<=vantHoff_EOS!$N$19,Phi_i_NS_Tci_Pci_wi_kijm_TinC_PinPa_yi(AD$3,vantHoff_EOS!$N$19,vantHoff_EOS!$X$5:$X$14,vantHoff_EOS!$Y$5:$Y$14,vantHoff_EOS!$Z$5:$Z$14,vantHoff_EOS!$AE$5:$AN$14,F80,$C$59,$O80:$X80),\"-\")","v":0.9999595096745737},{"$f":"IF(AE$60<=vantHoff_EOS!$N$19,Phi_i_NS_Tci_Pci_wi_kijm_TinC_PinPa_yi(AE$3,vantHoff_EOS!$N$19,vantHoff_EOS!$X$5:$X$14,vantHoff_EOS!$Y$5:$Y$14,vantHoff_EOS!$Z$5:$Z$14,vantHoff_EOS!$AE$5:$AN$14,G80,$C$59,$O80:$X80),\"-\")","v":"-"},{"$f":"IF(AF$60<=vantHoff_EOS!$N$19,Phi_i_NS_Tci_Pci_wi_kijm_TinC_PinPa_yi(AF$3,vantHoff_EOS!$N$19,vantHoff_EOS!$X$5:$X$14,vantHoff_EOS!$Y$5:$Y$14,vantHoff_EOS!$Z$5:$Z$14,vantHoff_EOS!$AE$5:$AN$14,H80,$C$59,$O80:$X80),\"-\")","v":"-"},{"$f":"IF(AG$60<=vantHoff_EOS!$N$19,Phi_i_NS_Tci_Pci_wi_kijm_TinC_PinPa_yi(AG$3,vantHoff_EOS!$N$19,vantHoff_EOS!$X$5:$X$14,vantHoff_EOS!$Y$5:$Y$14,vantHoff_EOS!$Z$5:$Z$14,vantHoff_EOS!$AE$5:$AN$14,I80,$C$59,$O80:$X80),\"-\")","v":"-"},{"$f":"IF(AH$60<=vantHoff_EOS!$N$19,Phi_i_NS_Tci_Pci_wi_kijm_TinC_PinPa_yi(AH$3,vantHoff_EOS!$N$19,vantHoff_EOS!$X$5:$X$14,vantHoff_EOS!$Y$5:$Y$14,vantHoff_EOS!$Z$5:$Z$14,vantHoff_EOS!$AE$5:$AN$14,J80,$C$59,$O80:$X80),\"-\")","v":"-"},{"$f":"IF(AI$60<=vantHoff_EOS!$N$19,Phi_i_NS_Tci_Pci_wi_kijm_TinC_PinPa_yi(AI$3,vantHoff_EOS!$N$19,vantHoff_EOS!$X$5:$X$14,vantHoff_EOS!$Y$5:$Y$14,vantHoff_EOS!$Z$5:$Z$14,vantHoff_EOS!$AE$5:$AN$14,K80,$C$59,$O80:$X80),\"-\")","v":"-"}]
[21,{"$f":"B80+vantHoff_EOS!$B$31","v":40},313.14999999999998,3.1933578157432542E-3,{"$f":"lnKaT_Tref_lnKaTref_dHTref_da_db_dc_dd_de_TinC(vantHoff_EOS!$E$7,vantHoff_EOS!$B$9,vantHoff_EOS!$B$6,vantHoff_EOS!$O$27,vantHoff_EOS!$P$27,vantHoff_EOS!$Q$27,vantHoff_EOS!$R$27,vantHoff_EOS!$S$27,B81)","v":14.030304609568391},1239606.5756896718,{"$f":"MolarExtentX_NS_vi_n0i_dHfi_dGfi_TrefinC_da_db_dc_dd_de_Tci_Pci_wi_kijm_TinC_PinPa(vantHoff_EOS!$N$19,vantHoff_EOS!$O$23:$X$23,vantHoff_EOS!$O$31:$X$31,vantHoff_EOS!$T$5:$T$14,vantHoff_EOS!$U$5:$U$14,vantHoff_EOS!$E$7,vantHoff_EOS!$O$27,vantHoff_EOS!$P$27,vantHoff_EOS!$Q$27,vantHoff_EOS!$R$27,vantHoff_EOS!$S$27,vantHoff_EOS!$X$5:$X$14,vantHoff_EOS!$Y$5:$Y$14,vantHoff_EOS!$Z$5:$Z$14,vantHoff_EOS!$AE$5:$AN$14,B81,$C$59)","v":0.99984758056100587},{"$f":"Ky_NS_n0i_vi_X(vantHoff_EOS!$N$19,vantHoff_EOS!$O$31:$X$31,vantHoff_EOS!$O$23:$X$23,G81)","v":19641586888032.406},{"$f":"Kp_NS_vi_PinPa(vantHoff_EOS!$N$19,vantHoff_EOS!$O$23:$X$23,$C$59)","v":6.9444444444444444E-5},{"$f":"Kphi_NS_n0i_vi_X_Tci_Pci_wi_kijm_TinC_PinPa(vantHoff_EOS!$N$19,vantHoff_EOS!$O$31:$X$31,vantHoff_EOS!$O$23:$X$23,G81,vantHoff_EOS!$X$5:$X$14,vantHoff_EOS!$Y$5:$Y$14,vantHoff_EOS!$Z$5:$Z$14,vantHoff_EOS!$AE$5:$AN$14,B81,$C$59)","v":9.0880308152709347E-4},30.608670214370477,-9.5749834855640916,-7.0033821192382879,{"$f":"nT_NS_n0i_vi_X(vantHoff_EOS!$N$19,vantHoff_EOS!$O$31:$X$31,vantHoff_EOS!$O$23:$X$23,G81)","v":8.3403048388779872},{"$f":"IF(O$60<=vantHoff_EOS!$N$19,y_iindex_NS_n0i_vi_X(O$3,vantHoff_EOS!$N$19,vantHoff_EOS!$O$31:$X$31,vantHoff_EOS!$O$23:$X$23,$G81),\"-\")","v":1.8275044130717696E-5},{"$f":"IF(P$60<=vantHoff_EOS!$N$19,y_iindex_NS_n0i_vi_X(P$3,vantHoff_EOS!$N$19,vantHoff_EOS!$O$31:$X$31,vantHoff_EOS!$O$23:$X$23,$G81),\"-\")","v":1.8275044130717696E-5},{"$f":"IF(Q$60<=vantHoff_EOS!$N$19,y_iindex_NS_n0i_vi_X(Q$3,vantHoff_EOS!$N$19,vantHoff_EOS!$O$31:$X$31,vantHoff_EOS!$O$23:$X$23,$G81),\"-\")","v":1.8275044130717696E-5},{"$f":"IF(R$60<=vantHoff_EOS!$N$19,y_iindex_NS_n0i_vi_X(R$3,vantHoff_EOS!$N$19,vantHoff_EOS!$O$31:$X$31,vantHoff_EOS!$O$23:$X$23,$G81),\"-\")","v":0.1198814191898907},{"$f":"IF(S$60<=vantHoff_EOS!$N$19,y_iindex_NS_n0i_vi_X(S$3,vantHoff_EOS!$N$19,vantHoff_EOS!$O$31:$X$31,vantHoff_EOS!$O$23:$X$23,$G81),\"-\")","v":0.88006375567771722},{"$f":"IF(T$60<=vantHoff_EOS!$N$19,y_iindex_NS_n0i_vi_X(T$3,vantHoff_EOS!$N$19,vantHoff_EOS!$O$31:$X$31,vantHoff_EOS!$O$23:$X$23,$G81),\"-\")","v":"-"},{"$f":"IF(U$60<=vantHoff_EOS!$N$19,y_iindex_NS_n0i_vi_X(U$3,vantHoff_EOS!$N$19,vantHoff_EOS!$O$31:$X$31,vantHoff_EOS!$O$23:$X$23,$G81),\"-\")","v":"-"},{"$f":"IF(V$60<=vantHoff_EOS!$N$19,y_iindex_NS_n0i_vi_X(V$3,vantHoff_EOS!$N$19,vantHoff_EOS!$O$31:$X$31,vantHoff_EOS!$O$23:$X$23,$G81),\"-\")","v":"-"},{"$f":"IF(W$60<=vantHoff_EOS!$N$19,y_iindex_NS_n0i_vi_X(W$3,vantHoff_EOS!$N$19,vantHoff_EOS!$O$31:$X$31,vantHoff_EOS!$O$23:$X$23,$G81),\"-\")","v":"-"},{"$f":"IF(X$60<=vantHoff_EOS!$N$19,y_iindex_NS_n0i_vi_X(X$3,vantHoff_EOS!$N$19,vantHoff_EOS!$O$31:$X$31,vantHoff_EOS!$O$23:$X$23,$G81),\"-\")","v":"-"},1,{"$f":"IF(Z$60<=vantHoff_EOS!$N$19,Phi_i_NS_Tci_Pci_wi_kijm_TinC_PinPa_yi(Z$3,vantHoff_EOS!$N$19,vantHoff_EOS!$X$5:$X$14,vantHoff_EOS!$Y$5:$Y$14,vantHoff_EOS!$Z$5:$Z$14,vantHoff_EOS!$AE$5:$AN$14,B81,$C$59,$O81:$X81),\"-\")","v":4.4558571654131276},{"$f":"IF(AA$60<=vantHoff_EOS!$N$19,Phi_i_NS_Tci_Pci_wi_kijm_TinC_PinPa_yi(AA$3,vantHoff_EOS!$N$19,vantHoff_EOS!$X$5:$X$14,vantHoff_EOS!$Y$5:$Y$14,vantHoff_EOS!$Z$5:$Z$14,vantHoff_EOS!$AE$5:$AN$14,C81,$C$59,$O81:$X81),\"-\")","v":1.1188435633669194},{"$f":"IF(AB$60<=vantHoff_EOS!$N$19,Phi_i_NS_Tci_Pci_wi_kijm_TinC_PinPa_yi(AB$3,vantHoff_EOS!$N$19,vantHoff_EOS!$X$5:$X$14,vantHoff_EOS!$Y$5:$Y$14,vantHoff_EOS!$Z$5:$Z$14,vantHoff_EOS!$AE$5:$AN$14,D81,$C$59,$O81:$X81),\"-\")","v":6.5045401746583159E-2},{"$f":"IF(AC$60<=vantHoff_EOS!$N$19,Phi_i_NS_Tci_Pci_wi_kijm_TinC_PinPa_yi(AC$3,vantHoff_EOS!$N$19,vantHoff_EOS!$X$5:$X$14,vantHoff_EOS!$Y$5:$Y$14,vantHoff_EOS!$Z$5:$Z$14,vantHoff_EOS!$AE$5:$AN$14,E81,$C$59,$O81:$X81),\"-\")","v":1.2948072691843884E-3},{"$f":"IF(AD$60<=vantHoff_EOS!$N$19,Phi_i_NS_Tci_Pci_wi_kijm_TinC_PinPa_yi(AD$3,vantHoff_EOS!$N$19,vantHoff_EOS!$X$5:$X$14,vantHoff_EOS!$Y$5:$Y$14,vantHoff_EOS!$Z$5:$Z$14,vantHoff_EOS!$AE$5:$AN$14,F81,$C$59,$O81:$X81),\"-\")","v":0.99994706406898448},{"$f":"IF(AE$60<=vantHoff_EOS!$N$19,Phi_i_NS_Tci_Pci_wi_kijm_TinC_PinPa_yi(AE$3,vantHoff_EOS!$N$19,vantHoff_EOS!$X$5:$X$14,vantHoff_EOS!$Y$5:$Y$14,vantHoff_EOS!$Z$5:$Z$14,vantHoff_EOS!$AE$5:$AN$14,G81,$C$59,$O81:$X81),\"-\")","v":"-"},{"$f":"IF(AF$60<=vantHoff_EOS!$N$19,Phi_i_NS_Tci_Pci_wi_kijm_TinC_PinPa_yi(AF$3,vantHoff_EOS!$N$19,vantHoff_EOS!$X$5:$X$14,vantHoff_EOS!$Y$5:$Y$14,vantHoff_EOS!$Z$5:$Z$14,vantHoff_EOS!$AE$5:$AN$14,H81,$C$59,$O81:$X81),\"-\")","v":"-"},{"$f":"IF(AG$60<=vantHoff_EOS!$N$19,Phi_i_NS_Tci_Pci_wi_kijm_TinC_PinPa_yi(AG$3,vantHoff_EOS!$N$19,vantHoff_EOS!$X$5:$X$14,vantHoff_EOS!$Y$5:$Y$14,vantHoff_EOS!$Z$5:$Z$14,vantHoff_EOS!$AE$5:$AN$14,I81,$C$59,$O81:$X81),\"-\")","v":"-"},{"$f":"IF(AH$60<=vantHoff_EOS!$N$19,Phi_i_NS_Tci_Pci_wi_kijm_TinC_PinPa_yi(AH$3,vantHoff_EOS!$N$19,vantHoff_EOS!$X$5:$X$14,vantHoff_EOS!$Y$5:$Y$14,vantHoff_EOS!$Z$5:$Z$14,vantHoff_EOS!$AE$5:$AN$14,J81,$C$59,$O81:$X81),\"-\")","v":"-"},{"$f":"IF(AI$60<=vantHoff_EOS!$N$19,Phi_i_NS_Tci_Pci_wi_kijm_TinC_PinPa_yi(AI$3,vantHoff_EOS!$N$19,vantHoff_EOS!$X$5:$X$14,vantHoff_EOS!$Y$5:$Y$14,vantHoff_EOS!$Z$5:$Z$14,vantHoff_EOS!$AE$5:$AN$14,K81,$C$59,$O81:$X81),\"-\")","v":"-"}]
[22,{"$f":"B81+vantHoff_EOS!$B$31","v":42},315.14999999999998,3.1730921783277807E-3,{"$f":"lnKaT_Tref_lnKaTref_dHTref_da_db_dc_dd_de_TinC(vantHoff_EOS!$E$7,vantHoff_EOS!$B$9,vantHoff_EOS!$B$6,vantHoff_EOS!$O$27,vantHoff_EOS!$P$27,vantHoff_EOS!$Q$27,vantHoff_EOS!$R$27,vantHoff_EOS!$S$27,B82)","v":13.749506346637844},936126.92194726923,{"$f":"MolarExtentX_NS_vi_n0i_dHfi_dGfi_TrefinC_da_db_dc_dd_de_Tci_Pci_wi_kijm_TinC_PinPa(vantHoff_EOS!$N$19,vantHoff_EOS!$O$23:$X$23,vantHoff_EOS!$O$31:$X$31,vantHoff_EOS!$T$5:$T$14,vantHoff_EOS!$U$5:$U$14,vantHoff_EOS!$E$7,vantHoff_EOS!$O$27,vantHoff_EOS!$P$27,vantHoff_EOS!$Q$27,vantHoff_EOS!$R$27,vantHoff_EOS!$S$27,vantHoff_EOS!$X$5:$X$14,vantHoff_EOS!$Y$5:$Y$14,vantHoff_EOS!$Z$5:$Z$14,vantHoff_EOS!$AE$5:$AN$14,B82,$C$59)","v":0.99982679068074598},{"$f":"Ky_NS_n0i_vi_X(vantHoff_EOS!$N$19,vantHoff_EOS!$O$31:$X$31,vantHoff_EOS!$O$23:$X$23,G82)","v":13383792174809.164},{"$f":"Kp_NS_vi_PinPa(vantHoff_EOS!$N$19,vantHoff_EOS!$O$23:$X$23,$C$59)","v":6.9444444444444444E-5},{"$f":"Kphi_NS_n0i_vi_X_Tci_Pci_wi_kijm_TinC_PinPa(vantHoff_EOS!$N$19,vantHoff_EOS!$O$31:$X$31,vantHoff_EOS!$O$23:$X$23,G82,vantHoff_EOS!$X$5:$X$14,vantHoff_EOS!$Y$5:$Y$14,vantHoff_EOS!$Z$5:$Z$14,vantHoff_EOS!$AE$5:$AN$14,B82,$C$59)","v":1.0072053944026316E-3},30.225065551609156,-9.5749834855640916,-6.9005757194078994,{"$f":"nT_NS_n0i_vi_X(vantHoff_EOS!$N$19,vantHoff_EOS!$O$31:$X$31,vantHoff_EOS!$O$23:$X$23,G82)","v":8.3403464186385072},{"$f":"IF(O$60<=vantHoff_EOS!$N$19,y_iindex_NS_n0i_vi_X(O$3,vantHoff_EOS!$N$19,vantHoff_EOS!$O$31:$X$31,vantHoff_EOS!$O$23:$X$23,$G82),\"-\")","v":2.0767640882031204E-5},{"$f":"IF(P$60<=vantHoff_EOS!$N$19,y_iindex_NS_n0i_vi_X(P$3,vantHoff_EOS!$N$19,vantHoff_EOS!$O$31:$X$31,vantHoff_EOS!$O$23:$X$23,$G82),\"-\")","v":2.0767640882031204E-5},{"$f":"IF(Q$60<=vantHoff_EOS!$N$19,y_iindex_NS_n0i_vi_X(Q$3,vantHoff_EOS!$N$19,vantHoff_EOS!$O$31:$X$31,vantHoff_EOS!$O$23:$X$23,$G82),\"-\")","v":2.0767640882031204E-5},{"$f":"IF(R$60<=vantHoff_EOS!$N$19,y_iindex_NS_n0i_vi_X(R$3,vantHoff_EOS!$N$19,vantHoff_EOS!$O$31:$X$31,vantHoff_EOS!$O$23:$X$23,$G82),\"-\")","v":0.1198783288481151},{"$f":"IF(S$60<=vantHoff_EOS!$N$19,y_iindex_NS_n0i_vi_X(S$3,vantHoff_EOS!$N$19,vantHoff_EOS!$O$31:$X$31,vantHoff_EOS!$O$23:$X$23,$G82),\"-\")","v":0.88005936822923891},{"$f":"IF(T$60<=vantHoff_EOS!$N$19,y_iindex_NS_n0i_vi_X(T$3,vantHoff_EOS!$N$19,vantHoff_EOS!$O$31:$X$31,vantHoff_EOS!$O$23:$X$23,$G82),\"-\")","v":"-"},{"$f":"IF(U$60<=vantHoff_EOS!$N$19,y_iindex_NS_n0i_vi_X(U$3,vantHoff_EOS!$N$19,vantHoff_EOS!$O$31:$X$31,vantHoff_EOS!$O$23:$X$23,$G82),\"-\")","v":"-"},{"$f":"IF(V$60<=vantHoff_EOS!$N$19,y_iindex_NS_n0i_vi_X(V$3,vantHoff_EOS!$N$19,vantHoff_EOS!$O$31:$X$31,vantHoff_EOS!$O$23:$X$23,$G82),\"-\")","v":"-"},{"$f":"IF(W$60<=vantHoff_EOS!$N$19,y_iindex_NS_n0i_vi_X(W$3,vantHoff_EOS!$N$19,vantHoff_EOS!$O$31:$X$31,vantHoff_EOS!$O$23:$X$23,$G82),\"-\")","v":"-"},{"$f":"IF(X$60<=vantHoff_EOS!$N$19,y_iindex_NS_n0i_vi_X(X$3,vantHoff_EOS!$N$19,vantHoff_EOS!$O$31:$X$31,vantHoff_EOS!$O$23:$X$23,$G82),\"-\")","v":"-"},1,{"$f":"IF(Z$60<=vantHoff_EOS!$N$19,Phi_i_NS_Tci_Pci_wi_kijm_TinC_PinPa_yi(Z$3,vantHoff_EOS!$N$19,vantHoff_EOS!$X$5:$X$14,vantHoff_EOS!$Y$5:$Y$14,vantHoff_EOS!$Z$5:$Z$14,vantHoff_EOS!$AE$5:$AN$14,B82,$C$59,$O82:$X82),\"-\")","v":4.3798776229628142},{"$f":"IF(AA$60<=vantHoff_EOS!$N$19,Phi_i_NS_Tci_Pci_wi_kijm_TinC_PinPa_yi(AA$3,vantHoff_EOS!$N$19,vantHoff_EOS!$X$5:$X$14,vantHoff_EOS!$Y$5:$Y$14,vantHoff_EOS!$Z$5:$Z$14,vantHoff_EOS!$AE$5:$AN$14,C82,$C$59,$O82:$X82),\"-\")","v":1.1174709079683227},{"$f":"IF(AB$60<=vantHoff_EOS!$N$19,Phi_i_NS_Tci_Pci_wi_kijm_TinC_PinPa_yi(AB$3,vantHoff_EOS!$N$19,vantHoff_EOS!$X$5:$X$14,vantHoff_EOS!$Y$5:$Y$14,vantHoff_EOS!$Z$5:$Z$14,vantHoff_EOS!$AE$5:$AN$14,D82,$C$59,$O82:$X82),\"-\")","v":6.5045143902419361E-2},{"$f":"IF(AC$60<=vantHoff_EOS!$N$19,Phi_i_NS_Tci_Pci_wi_kijm_TinC_PinPa_yi(AC$3,vantHoff_EOS!$N$19,vantHoff_EOS!$X$5:$X$14,vantHoff_EOS!$Y$5:$Y$14,vantHoff_EOS!$Z$5:$Z$14,vantHoff_EOS!$AE$5:$AN$14,E82,$C$59,$O82:$X82),\"-\")","v":1.2755857518748455E-3},{"$f":"IF(AD$60<=vantHoff_EOS!$N$19,Phi_i_NS_Tci_Pci_wi_kijm_TinC_PinPa_yi(AD$3,vantHoff_EOS!$N$19,vantHoff_EOS!$X$5:$X$14,vantHoff_EOS!$Y$5:$Y$14,vantHoff_EOS!$Z$5:$Z$14,vantHoff_EOS!$AE$5:$AN$14,F82,$C$59,$O82:$X82),\"-\")","v":0.99993120745497832},{"$f":"IF(AE$60<=vantHoff_EOS!$N$19,Phi_i_NS_Tci_Pci_wi_kijm_TinC_PinPa_yi(AE$3,vantHoff_EOS!$N$19,vantHoff_EOS!$X$5:$X$14,vantHoff_EOS!$Y$5:$Y$14,vantHoff_EOS!$Z$5:$Z$14,vantHoff_EOS!$AE$5:$AN$14,G82,$C$59,$O82:$X82),\"-\")","v":"-"},{"$f":"IF(AF$60<=vantHoff_EOS!$N$19,Phi_i_NS_Tci_Pci_wi_kijm_TinC_PinPa_yi(AF$3,vantHoff_EOS!$N$19,vantHoff_EOS!$X$5:$X$14,vantHoff_EOS!$Y$5:$Y$14,vantHoff_EOS!$Z$5:$Z$14,vantHoff_EOS!$AE$5:$AN$14,H82,$C$59,$O82:$X82),\"-\")","v":"-"},{"$f":"IF(AG$60<=vantHoff_EOS!$N$19,Phi_i_NS_Tci_Pci_wi_kijm_TinC_PinPa_yi(AG$3,vantHoff_EOS!$N$19,vantHoff_EOS!$X$5:$X$14,vantHoff_EOS!$Y$5:$Y$14,vantHoff_EOS!$Z$5:$Z$14,vantHoff_EOS!$AE$5:$AN$14,I82,$C$59,$O82:$X82),\"-\")","v":"-"},{"$f":"IF(AH$60<=vantHoff_EOS!$N$19,Phi_i_NS_Tci_Pci_wi_kijm_TinC_PinPa_yi(AH$3,vantHoff_EOS!$N$19,vantHoff_EOS!$X$5:$X$14,vantHoff_EOS!$Y$5:$Y$14,vantHoff_EOS!$Z$5:$Z$14,vantHoff_EOS!$AE$5:$AN$14,J82,$C$59,$O82:$X82),\"-\")","v":"-"},{"$f":"IF(AI$60<=vantHoff_EOS!$N$19,Phi_i_NS_Tci_Pci_wi_kijm_TinC_PinPa_yi(AI$3,vantHoff_EOS!$N$19,vantHoff_EOS!$X$5:$X$14,vantHoff_EOS!$Y$5:$Y$14,vantHoff_EOS!$Z$5:$Z$14,vantHoff_EOS!$AE$5:$AN$14,K82,$C$59,$O82:$X82),\"-\")","v":"-"}]
[23,{"$f":"B82+vantHoff_EOS!$B$31","v":44},317.14999999999998,3.1530821377896896E-3,{"$f":"lnKaT_Tref_lnKaTref_dHTref_da_db_dc_dd_de_TinC(vantHoff_EOS!$E$7,vantHoff_EOS!$B$9,vantHoff_EOS!$B$6,vantHoff_EOS!$O$27,vantHoff_EOS!$P$27,vantHoff_EOS!$Q$27,vantHoff_EOS!$R$27,vantHoff_EOS!$S$27,B83)","v":13.472174071482151},709399.46806405263,{"$f":"MolarExtentX_NS_vi_n0i_dHfi_dGfi_TrefinC_da_db_dc_dd_de_Tci_Pci_wi_kijm_TinC_PinPa(vantHoff_EOS!$N$19,vantHoff_EOS!$O$23:$X$23,vantHoff_EOS!$O$31:$X$31,vantHoff_EOS!$T$5:$T$14,vantHoff_EOS!$U$5:$U$14,vantHoff_EOS!$E$7,vantHoff_EOS!$O$27,vantHoff_EOS!$P$27,vantHoff_EOS!$Q$27,vantHoff_EOS!$R$27,vantHoff_EOS!$S$27,vantHoff_EOS!$X$5:$X$14,vantHoff_EOS!$Y$5:$Y$14,vantHoff_EOS!$Z$5:$Z$14,vantHoff_EOS!$AE$5:$AN$14,B83,$C$59)","v":0.99980333059780979},{"$f":"Ky_NS_n0i_vi_X(vantHoff_EOS!$N$19,vantHoff_EOS!$O$31:$X$31,vantHoff_EOS!$O$23:$X$23,G83)","v":9142758570178.9277},{"$f":"Kp_NS_vi_PinPa(vantHoff_EOS!$N$19,vantHoff_EOS!$O$23:$X$23,$C$59)","v":6.9444444444444444E-5},{"$f":"Kphi_NS_n0i_vi_X_Tci_Pci_wi_kijm_TinC_PinPa(vantHoff_EOS!$N$19,vantHoff_EOS!$O$31:$X$31,vantHoff_EOS!$O$23:$X$23,G83,vantHoff_EOS!$X$5:$X$14,vantHoff_EOS!$Y$5:$Y$14,vantHoff_EOS!$Z$5:$Z$14,vantHoff_EOS!$AE$5:$AN$14,B83,$C$59)","v":1.1173162084191059E-3},29.843983268788108,-9.5749834855640916,-6.7968257117417421,{"$f":"nT_NS_n0i_vi_X(vantHoff_EOS!$N$19,vantHoff_EOS!$O$31:$X$31,vantHoff_EOS!$O$23:$X$23,G83)","v":8.3403933388043807},{"$f":"IF(O$60<=vantHoff_EOS!$N$19,y_iindex_NS_n0i_vi_X(O$3,vantHoff_EOS!$N$19,vantHoff_EOS!$O$31:$X$31,vantHoff_EOS!$O$23:$X$23,$G83),\"-\")","v":2.3580350973998709E-5},{"$f":"IF(P$60<=vantHoff_EOS!$N$19,y_iindex_NS_n0i_vi_X(P$3,vantHoff_EOS!$N$19,vantHoff_EOS!$O$31:$X$31,vantHoff_EOS!$O$23:$X$23,$G83),\"-\")","v":2.3580350973998709E-5},{"$f":"IF(Q$60<=vantHoff_EOS!$N$19,y_iindex_NS_n0i_vi_X(Q$3,vantHoff_EOS!$N$19,vantHoff_EOS!$O$31:$X$31,vantHoff_EOS!$O$23:$X$23,$G83),\"-\")","v":2.3580350973998709E-5},{"$f":"IF(R$60<=vantHoff_EOS!$N$19,y_iindex_NS_n0i_vi_X(R$3,vantHoff_EOS!$N$19,vantHoff_EOS!$O$31:$X$31,vantHoff_EOS!$O$23:$X$23,$G83),\"-\")","v":0.1198748416272097},{"$f":"IF(S$60<=vantHoff_EOS!$N$19,y_iindex_NS_n0i_vi_X(S$3,vantHoff_EOS!$N$19,vantHoff_EOS!$O$31:$X$31,vantHoff_EOS!$O$23:$X$23,$G83),\"-\")","v":0.88005441731986822},{"$f":"IF(T$60<=vantHoff_EOS!$N$19,y_iindex_NS_n0i_vi_X(T$3,vantHoff_EOS!$N$19,vantHoff_EOS!$O$31:$X$31,vantHoff_EOS!$O$23:$X$23,$G83),\"-\")","v":"-"},{"$f":"IF(U$60<=vantHoff_EOS!$N$19,y_iindex_NS_n0i_vi_X(U$3,vantHoff_EOS!$N$19,vantHoff_EOS!$O$31:$X$31,vantHoff_EOS!$O$23:$X$23,$G83),\"-\")","v":"-"},{"$f":"IF(V$60<=vantHoff_EOS!$N$19,y_iindex_NS_n0i_vi_X(V$3,vantHoff_EOS!$N$19,vantHoff_EOS!$O$31:$X$31,vantHoff_EOS!$O$23:$X$23,$G83),\"-\")","v":"-"},{"$f":"IF(W$60<=vantHoff_EOS!$N$19,y_iindex_NS_n0i_vi_X(W$3,vantHoff_EOS!$N$19,vantHoff_EOS!$O$31:$X$31,vantHoff_EOS!$O$23:$X$23,$G83),\"-\")","v":"-"},{"$f":"IF(X$60<=vantHoff_EOS!$N$19,y_iindex_NS_n0i_vi_X(X$3,vantHoff_EOS!$N$19,vantHoff_EOS!$O$31:$X$31,vantHoff_EOS!$O$23:$X$23,$G83),\"-\")","v":"-"},0.99999999999999989,{"$f":"IF(Z$60<=vantHoff_EOS!$N$19,Phi_i_NS_Tci_Pci_wi_kijm_TinC_PinPa_yi(Z$3,vantHoff_EOS!$N$19,vantHoff_EOS!$X$5:$X$14,vantHoff_EOS!$Y$5:$Y$14,vantHoff_EOS!$Z$5:$Z$14,vantHoff_EOS!$AE$5:$AN$14,B83,$C$59,$O83:$X83),\"-\")","v":4.3026238130803112},{"$f":"IF(AA$60<=vantHoff_EOS!$N$19,Phi_i_NS_Tci_Pci_wi_kijm_TinC_PinPa_yi(AA$3,vantHoff_EOS!$N$19,vantHoff_EOS!$X$5:$X$14,vantHoff_EOS!$Y$5:$Y$14,vantHoff_EOS!$Z$5:$Z$14,vantHoff_EOS!$AE$5:$AN$14,C83,$C$59,$O83:$X83),\"-\")","v":1.1161222797654375},{"$f":"IF(AB$60<=vantHoff_EOS!$N$19,Phi_i_NS_Tci_Pci_wi_kijm_TinC_PinPa_yi(AB$3,vantHoff_EOS!$N$19,vantHoff_EOS!$X$5:$X$14,vantHoff_EOS!$Y$5:$Y$14,vantHoff_EOS!$Z$5:$Z$14,vantHoff_EOS!$AE$5:$AN$14,D83,$C$59,$O83:$X83),\"-\")","v":6.504485767272046E-2},{"$f":"IF(AC$60<=vantHoff_EOS!$N$19,Phi_i_NS_Tci_Pci_wi_kijm_TinC_PinPa_yi(AC$3,vantHoff_EOS!$N$19,vantHoff_EOS!$X$5:$X$14,vantHoff_EOS!$Y$5:$Y$14,vantHoff_EOS!$Z$5:$Z$14,vantHoff_EOS!$AE$5:$AN$14,E83,$C$59,$O83:$X83),\"-\")","v":1.2568498003114274E-3},{"$f":"IF(AD$60<=vantHoff_EOS!$N$19,Phi_i_NS_Tci_Pci_wi_kijm_TinC_PinPa_yi(AD$3,vantHoff_EOS!$N$19,vantHoff_EOS!$X$5:$X$14,vantHoff_EOS!$Y$5:$Y$14,vantHoff_EOS!$Z$5:$Z$14,vantHoff_EOS!$AE$5:$AN$14,F83,$C$59,$O83:$X83),\"-\")","v":0.99991116435722682},{"$f":"IF(AE$60<=vantHoff_EOS!$N$19,Phi_i_NS_Tci_Pci_wi_kijm_TinC_PinPa_yi(AE$3,vantHoff_EOS!$N$19,vantHoff_EOS!$X$5:$X$14,vantHoff_EOS!$Y$5:$Y$14,vantHoff_EOS!$Z$5:$Z$14,vantHoff_EOS!$AE$5:$AN$14,G83,$C$59,$O83:$X83),\"-\")","v":"-"},{"$f":"IF(AF$60<=vantHoff_EOS!$N$19,Phi_i_NS_Tci_Pci_wi_kijm_TinC_PinPa_yi(AF$3,vantHoff_EOS!$N$19,vantHoff_EOS!$X$5:$X$14,vantHoff_EOS!$Y$5:$Y$14,vantHoff_EOS!$Z$5:$Z$14,vantHoff_EOS!$AE$5:$AN$14,H83,$C$59,$O83:$X83),\"-\")","v":"-"},{"$f":"IF(AG$60<=vantHoff_EOS!$N$19,Phi_i_NS_Tci_Pci_wi_kijm_TinC_PinPa_yi(AG$3,vantHoff_EOS!$N$19,vantHoff_EOS!$X$5:$X$14,vantHoff_EOS!$Y$5:$Y$14,vantHoff_EOS!$Z$5:$Z$14,vantHoff_EOS!$AE$5:$AN$14,I83,$C$59,$O83:$X83),\"-\")","v":"-"},{"$f":"IF(AH$60<=vantHoff_EOS!$N$19,Phi_i_NS_Tci_Pci_wi_kijm_TinC_PinPa_yi(AH$3,vantHoff_EOS!$N$19,vantHoff_EOS!$X$5:$X$14,vantHoff_EOS!$Y$5:$Y$14,vantHoff_EOS!$Z$5:$Z$14,vantHoff_EOS!$AE$5:$AN$14,J83,$C$59,$O83:$X83),\"-\")","v":"-"},{"$f":"IF(AI$60<=vantHoff_EOS!$N$19,Phi_i_NS_Tci_Pci_wi_kijm_TinC_PinPa_yi(AI$3,vantHoff_EOS!$N$19,vantHoff_EOS!$X$5:$X$14,vantHoff_EOS!$Y$5:$Y$14,vantHoff_EOS!$Z$5:$Z$14,vantHoff_EOS!$AE$5:$AN$14,K83,$C$59,$O83:$X83),\"-\")","v":"-"}]
[24,{"$f":"B83+vantHoff_EOS!$B$31","v":46},319.14999999999998,3.1333228889237038E-3,{"$f":"lnKaT_Tref_lnKaTref_dHTref_da_db_dc_dd_de_TinC(vantHoff_EOS!$E$7,vantHoff_EOS!$B$9,vantHoff_EOS!$B$6,vantHoff_EOS!$O$27,vantHoff_EOS!$P$27,vantHoff_EOS!$Q$27,vantHoff_EOS!$R$27,vantHoff_EOS!$S$27,B84)","v":13.198243551233677},539416.64697473845,{"$f":"MolarExtentX_NS_vi_n0i_dHfi_dGfi_TrefinC_da_db_dc_dd_de_Tci_Pci_wi_kijm_TinC_PinPa(vantHoff_EOS!$N$19,vantHoff_EOS!$O$23:$X$23,vantHoff_EOS!$O$31:$X$31,vantHoff_EOS!$T$5:$T$14,vantHoff_EOS!$U$5:$U$14,vantHoff_EOS!$E$7,vantHoff_EOS!$O$27,vantHoff_EOS!$P$27,vantHoff_EOS!$Q$27,vantHoff_EOS!$R$27,vantHoff_EOS!$S$27,vantHoff_EOS!$X$5:$X$14,vantHoff_EOS!$Y$5:$Y$14,vantHoff_EOS!$Z$5:$Z$14,vantHoff_EOS!$AE$5:$AN$14,B84,$C$59)","v":0.99977686817118538},{"$f":"Ky_NS_n0i_vi_X(vantHoff_EOS!$N$19,vantHoff_EOS!$O$31:$X$31,vantHoff_EOS!$O$23:$X$23,G84)","v":6260327979232.7129},{"$f":"Kp_NS_vi_PinPa(vantHoff_EOS!$N$19,vantHoff_EOS!$O$23:$X$23,$C$59)","v":6.9444444444444444E-5},{"$f":"Kphi_NS_n0i_vi_X_Tci_Pci_wi_kijm_TinC_PinPa(vantHoff_EOS!$N$19,vantHoff_EOS!$O$31:$X$31,vantHoff_EOS!$O$23:$X$23,G84,vantHoff_EOS!$X$5:$X$14,vantHoff_EOS!$Y$5:$Y$14,vantHoff_EOS!$Z$5:$Z$14,vantHoff_EOS!$AE$5:$AN$14,B84,$C$59)","v":1.2407656183828864E-3},29.465253692516775,-9.5749834855640916,-6.6920266557195038,{"$f":"nT_NS_n0i_vi_X(vantHoff_EOS!$N$19,vantHoff_EOS!$O$31:$X$31,vantHoff_EOS!$O$23:$X$23,G84)","v":8.3404462636576291},{"$f":"IF(O$60<=vantHoff_EOS!$N$19,y_iindex_NS_n0i_vi_X(O$3,vantHoff_EOS!$N$19,vantHoff_EOS!$O$31:$X$31,vantHoff_EOS!$O$23:$X$23,$G84),\"-\")","v":2.6752984404069894E-5},{"$f":"IF(P$60<=vantHoff_EOS!$N$19,y_iindex_NS_n0i_vi_X(P$3,vantHoff_EOS!$N$19,vantHoff_EOS!$O$31:$X$31,vantHoff_EOS!$O$23:$X$23,$G84),\"-\")","v":2.6752984404069894E-5},{"$f":"IF(Q$60<=vantHoff_EOS!$N$19,y_iindex_NS_n0i_vi_X(Q$3,vantHoff_EOS!$N$19,vantHoff_EOS!$O$31:$X$31,vantHoff_EOS!$O$23:$X$23,$G84),\"-\")","v":2.6752984404069894E-5},{"$f":"IF(R$60<=vantHoff_EOS!$N$19,y_iindex_NS_n0i_vi_X(R$3,vantHoff_EOS!$N$19,vantHoff_EOS!$O$31:$X$31,vantHoff_EOS!$O$23:$X$23,$G84),\"-\")","v":0.1198709081704151},{"$f":"IF(S$60<=vantHoff_EOS!$N$19,y_iindex_NS_n0i_vi_X(S$3,vantHoff_EOS!$N$19,vantHoff_EOS!$O$31:$X$31,vantHoff_EOS!$O$23:$X$23,$G84),\"-\")","v":0.8800488328763727},{"$f":"IF(T$60<=vantHoff_EOS!$N$19,y_iindex_NS_n0i_vi_X(T$3,vantHoff_EOS!$N$19,vantHoff_EOS!$O$31:$X$31,vantHoff_EOS!$O$23:$X$23,$G84),\"-\")","v":"-"},{"$f":"IF(U$60<=vantHoff_EOS!$N$19,y_iindex_NS_n0i_vi_X(U$3,vantHoff_EOS!$N$19,vantHoff_EOS!$O$31:$X$31,vantHoff_EOS!$O$23:$X$23,$G84),\"-\")","v":"-"},{"$f":"IF(V$60<=vantHoff_EOS!$N$19,y_iindex_NS_n0i_vi_X(V$3,vantHoff_EOS!$N$19,vantHoff_EOS!$O$31:$X$31,vantHoff_EOS!$O$23:$X$23,$G84),\"-\")","v":"-"},{"$f":"IF(W$60<=vantHoff_EOS!$N$19,y_iindex_NS_n0i_vi_X(W$3,vantHoff_EOS!$N$19,vantHoff_EOS!$O$31:$X$31,vantHoff_EOS!$O$23:$X$23,$G84),\"-\")","v":"-"},{"$f":"IF(X$60<=vantHoff_EOS!$N$19,y_iindex_NS_n0i_vi_X(X$3,vantHoff_EOS!$N$19,vantHoff_EOS!$O$31:$X$31,vantHoff_EOS!$O$23:$X$23,$G84),\"-\")","v":"-"},1,{"$f":"IF(Z$60<=vantHoff_EOS!$N$19,Phi_i_NS_Tci_Pci_wi_kijm_TinC_PinPa_yi(Z$3,vantHoff_EOS!$N$19,vantHoff_EOS!$X$5:$X$14,vantHoff_EOS!$Y$5:$Y$14,vantHoff_EOS!$Z$5:$Z$14,vantHoff_EOS!$AE$5:$AN$14,B84,$C$59,$O84:$X84),\"-\")","v":4.2241001768874034},{"$f":"IF(AA$60<=vantHoff_EOS!$N$19,Phi_i_NS_Tci_Pci_wi_kijm_TinC_PinPa_yi(AA$3,vantHoff_EOS!$N$19,vantHoff_EOS!$X$5:$X$14,vantHoff_EOS!$Y$5:$Y$14,vantHoff_EOS!$Z$5:$Z$14,vantHoff_EOS!$AE$5:$AN$14,C84,$C$59,$O84:$X84),\"-\")","v":1.1147970806258667},{"$f":"IF(AB$60<=vantHoff_EOS!$N$19,Phi_i_NS_Tci_Pci_wi_kijm_TinC_PinPa_yi(AB$3,vantHoff_EOS!$N$19,vantHoff_EOS!$X$5:$X$14,vantHoff_EOS!$Y$5:$Y$14,vantHoff_EOS!$Z$5:$Z$14,vantHoff_EOS!$AE$5:$AN$14,D84,$C$59,$O84:$X84),\"-\")","v":6.5044539470105994E-2},{"$f":"IF(AC$60<=vantHoff_EOS!$N$19,Phi_i_NS_Tci_Pci_wi_kijm_TinC_PinPa_yi(AC$3,vantHoff_EOS!$N$19,vantHoff_EOS!$X$5:$X$14,vantHoff_EOS!$Y$5:$Y$14,vantHoff_EOS!$Z$5:$Z$14,vantHoff_EOS!$AE$5:$AN$14,E84,$C$59,$O84:$X84),\"-\")","v":1.2385833310643748E-3},{"$f":"IF(AD$60<=vantHoff_EOS!$N$19,Phi_i_NS_Tci_Pci_wi_kijm_TinC_PinPa_yi(AD$3,vantHoff_EOS!$N$19,vantHoff_EOS!$X$5:$X$14,vantHoff_EOS!$Y$5:$Y$14,vantHoff_EOS!$Z$5:$Z$14,vantHoff_EOS!$AE$5:$AN$14,F84,$C$59,$O84:$X84),\"-\")","v":0.99988604804831471},{"$f":"IF(AE$60<=vantHoff_EOS!$N$19,Phi_i_NS_Tci_Pci_wi_kijm_TinC_PinPa_yi(AE$3,vantHoff_EOS!$N$19,vantHoff_EOS!$X$5:$X$14,vantHoff_EOS!$Y$5:$Y$14,vantHoff_EOS!$Z$5:$Z$14,vantHoff_EOS!$AE$5:$AN$14,G84,$C$59,$O84:$X84),\"-\")","v":"-"},{"$f":"IF(AF$60<=vantHoff_EOS!$N$19,Phi_i_NS_Tci_Pci_wi_kijm_TinC_PinPa_yi(AF$3,vantHoff_EOS!$N$19,vantHoff_EOS!$X$5:$X$14,vantHoff_EOS!$Y$5:$Y$14,vantHoff_EOS!$Z$5:$Z$14,vantHoff_EOS!$AE$5:$AN$14,H84,$C$59,$O84:$X84),\"-\")","v":"-"},{"$f":"IF(AG$60<=vantHoff_EOS!$N$19,Phi_i_NS_Tci_Pci_wi_kijm_TinC_PinPa_yi(AG$3,vantHoff_EOS!$N$19,vantHoff_EOS!$X$5:$X$14,vantHoff_EOS!$Y$5:$Y$14,vantHoff_EOS!$Z$5:$Z$14,vantHoff_EOS!$AE$5:$AN$14,I84,$C$59,$O84:$X84),\"-\")","v":"-"},{"$f":"IF(AH$60<=vantHoff_EOS!$N$19,Phi_i_NS_Tci_Pci_wi_kijm_TinC_PinPa_yi(AH$3,vantHoff_EOS!$N$19,vantHoff_EOS!$X$5:$X$14,vantHoff_EOS!$Y$5:$Y$14,vantHoff_EOS!$Z$5:$Z$14,vantHoff_EOS!$AE$5:$AN$14,J84,$C$59,$O84:$X84),\"-\")","v":"-"},{"$f":"IF(AI$60<=vantHoff_EOS!$N$19,Phi_i_NS_Tci_Pci_wi_kijm_TinC_PinPa_yi(AI$3,vantHoff_EOS!$N$19,vantHoff_EOS!$X$5:$X$14,vantHoff_EOS!$Y$5:$Y$14,vantHoff_EOS!$Z$5:$Z$14,vantHoff_EOS!$AE$5:$AN$14,K84,$C$59,$O84:$X84),\"-\")","v":"-"}]
[25,{"$f":"B84+vantHoff_EOS!$B$31","v":48},321.14999999999998,3.1138097462245057E-3,{"$f":"lnKaT_Tref_lnKaTref_dHTref_da_db_dc_dd_de_TinC(vantHoff_EOS!$E$7,vantHoff_EOS!$B$9,vantHoff_EOS!$B$6,vantHoff_EOS!$O$27,vantHoff_EOS!$P$27,vantHoff_EOS!$Q$27,vantHoff_EOS!$R$27,vantHoff_EOS!$S$27,B85)","v":12.927652143493178},411536.14955584146,{"$f":"MolarExtentX_NS_vi_n0i_dHfi_dGfi_TrefinC_da_db_dc_dd_de_Tci_Pci_wi_kijm_TinC_PinPa(vantHoff_EOS!$N$19,vantHoff_EOS!$O$23:$X$23,vantHoff_EOS!$O$31:$X$31,vantHoff_EOS!$T$5:$T$14,vantHoff_EOS!$U$5:$U$14,vantHoff_EOS!$E$7,vantHoff_EOS!$O$27,vantHoff_EOS!$P$27,vantHoff_EOS!$Q$27,vantHoff_EOS!$R$27,vantHoff_EOS!$S$27,vantHoff_EOS!$X$5:$X$14,vantHoff_EOS!$Y$5:$Y$14,vantHoff_EOS!$Z$5:$Z$14,vantHoff_EOS!$AE$5:$AN$14,B85,$C$59)","v":0.99974702889763833},{"$f":"Ky_NS_n0i_vi_X(vantHoff_EOS!$N$19,vantHoff_EOS!$O$31:$X$31,vantHoff_EOS!$O$23:$X$23,G85)","v":4295979245692.769},{"$f":"Kp_NS_vi_PinPa(vantHoff_EOS!$N$19,vantHoff_EOS!$O$23:$X$23,$C$59)","v":6.9444444444444444E-5},{"$f":"Kphi_NS_n0i_vi_X_Tci_Pci_wi_kijm_TinC_PinPa(vantHoff_EOS!$N$19,vantHoff_EOS!$O$31:$X$31,vantHoff_EOS!$O$23:$X$23,G85,vantHoff_EOS!$X$5:$X$14,vantHoff_EOS!$Y$5:$Y$14,vantHoff_EOS!$Z$5:$Z$14,vantHoff_EOS!$AE$5:$AN$14,B85,$C$59)","v":1.3794574448996264E-3},29.088700642046341,-9.5749834855640916,-6.5860650129888914,{"$f":"nT_NS_n0i_vi_X(vantHoff_EOS!$N$19,vantHoff_EOS!$O$31:$X$31,vantHoff_EOS!$O$23:$X$23,G85)","v":8.3405059422047234},{"$f":"IF(O$60<=vantHoff_EOS!$N$19,y_iindex_NS_n0i_vi_X(O$3,vantHoff_EOS!$N$19,vantHoff_EOS!$O$31:$X$31,vantHoff_EOS!$O$23:$X$23,$G85),\"-\")","v":3.0330426489066827E-5},{"$f":"IF(P$60<=vantHoff_EOS!$N$19,y_iindex_NS_n0i_vi_X(P$3,vantHoff_EOS!$N$19,vantHoff_EOS!$O$31:$X$31,vantHoff_EOS!$O$23:$X$23,$G85),\"-\")","v":3.0330426489066827E-5},{"$f":"IF(Q$60<=vantHoff_EOS!$N$19,y_iindex_NS_n0i_vi_X(Q$3,vantHoff_EOS!$N$19,vantHoff_EOS!$O$31:$X$31,vantHoff_EOS!$O$23:$X$23,$G85),\"-\")","v":3.0330426489066827E-5},{"$f":"IF(R$60<=vantHoff_EOS!$N$19,y_iindex_NS_n0i_vi_X(R$3,vantHoff_EOS!$N$19,vantHoff_EOS!$O$31:$X$31,vantHoff_EOS!$O$23:$X$23,$G85),\"-\")","v":0.11986647282854952},{"$f":"IF(S$60<=vantHoff_EOS!$N$19,y_iindex_NS_n0i_vi_X(S$3,vantHoff_EOS!$N$19,vantHoff_EOS!$O$31:$X$31,vantHoff_EOS!$O$23:$X$23,$G85),\"-\")","v":0.88004253589198322},{"$f":"IF(T$60<=vantHoff_EOS!$N$19,y_iindex_NS_n0i_vi_X(T$3,vantHoff_EOS!$N$19,vantHoff_EOS!$O$31:$X$31,vantHoff_EOS!$O$23:$X$23,$G85),\"-\")","v":"-"},{"$f":"IF(U$60<=vantHoff_EOS!$N$19,y_iindex_NS_n0i_vi_X(U$3,vantHoff_EOS!$N$19,vantHoff_EOS!$O$31:$X$31,vantHoff_EOS!$O$23:$X$23,$G85),\"-\")","v":"-"},{"$f":"IF(V$60<=vantHoff_EOS!$N$19,y_iindex_NS_n0i_vi_X(V$3,vantHoff_EOS!$N$19,vantHoff_EOS!$O$31:$X$31,vantHoff_EOS!$O$23:$X$23,$G85),\"-\")","v":"-"},{"$f":"IF(W$60<=vantHoff_EOS!$N$19,y_iindex_NS_n0i_vi_X(W$3,vantHoff_EOS!$N$19,vantHoff_EOS!$O$31:$X$31,vantHoff_EOS!$O$23:$X$23,$G85),\"-\")","v":"-"},{"$f":"IF(X$60<=vantHoff_EOS!$N$19,y_iindex_NS_n0i_vi_X(X$3,vantHoff_EOS!$N$19,vantHoff_EOS!$O$31:$X$31,vantHoff_EOS!$O$23:$X$23,$G85),\"-\")","v":"-"},1,{"$f":"IF(Z$60<=vantHoff_EOS!$N$19,Phi_i_NS_Tci_Pci_wi_kijm_TinC_PinPa_yi(Z$3,vantHoff_EOS!$N$19,vantHoff_EOS!$X$5:$X$14,vantHoff_EOS!$Y$5:$Y$14,vantHoff_EOS!$Z$5:$Z$14,vantHoff_EOS!$AE$5:$AN$14,B85,$C$59,$O85:$X85),\"-\")","v":4.144309277432467},{"$f":"IF(AA$60<=vantHoff_EOS!$N$19,Phi_i_NS_Tci_Pci_wi_kijm_TinC_PinPa_yi(AA$3,vantHoff_EOS!$N$19,vantHoff_EOS!$X$5:$X$14,vantHoff_EOS!$Y$5:$Y$14,vantHoff_EOS!$Z$5:$Z$14,vantHoff_EOS!$AE$5:$AN$14,C85,$C$59,$O85:$X85),\"-\")","v":1.1134947287212005},{"$f":"IF(AB$60<=vantHoff_EOS!$N$19,Phi_i_NS_Tci_Pci_wi_kijm_TinC_PinPa_yi(AB$3,vantHoff_EOS!$N$19,vantHoff_EOS!$X$5:$X$14,vantHoff_EOS!$Y$5:$Y$14,vantHoff_EOS!$Z$5:$Z$14,vantHoff_EOS!$AE$5:$AN$14,D85,$C$59,$O85:$X85),\"-\")","v":6.5044185251866393E-2},{"$f":"IF(AC$60<=vantHoff_EOS!$N$19,Phi_i_NS_Tci_Pci_wi_kijm_TinC_PinPa_yi(AC$3,vantHoff_EOS!$N$19,vantHoff_EOS!$X$5:$X$14,vantHoff_EOS!$Y$5:$Y$14,vantHoff_EOS!$Z$5:$Z$14,vantHoff_EOS!$AE$5:$AN$14,E85,$C$59,$O85:$X85),\"-\")","v":1.2207709410516686E-3},{"$f":"IF(AD$60<=vantHoff_EOS!$N$19,Phi_i_NS_Tci_Pci_wi_kijm_TinC_PinPa_yi(AD$3,vantHoff_EOS!$N$19,vantHoff_EOS!$X$5:$X$14,vantHoff_EOS!$Y$5:$Y$14,vantHoff_EOS!$Z$5:$Z$14,vantHoff_EOS!$AE$5:$AN$14,F85,$C$59,$O85:$X85),\"-\")","v":0.99985487516426719},{"$f":"IF(AE$60<=vantHoff_EOS!$N$19,Phi_i_NS_Tci_Pci_wi_kijm_TinC_PinPa_yi(AE$3,vantHoff_EOS!$N$19,vantHoff_EOS!$X$5:$X$14,vantHoff_EOS!$Y$5:$Y$14,vantHoff_EOS!$Z$5:$Z$14,vantHoff_EOS!$AE$5:$AN$14,G85,$C$59,$O85:$X85),\"-\")","v":"-"},{"$f":"IF(AF$60<=vantHoff_EOS!$N$19,Phi_i_NS_Tci_Pci_wi_kijm_TinC_PinPa_yi(AF$3,vantHoff_EOS!$N$19,vantHoff_EOS!$X$5:$X$14,vantHoff_EOS!$Y$5:$Y$14,vantHoff_EOS!$Z$5:$Z$14,vantHoff_EOS!$AE$5:$AN$14,H85,$C$59,$O85:$X85),\"-\")","v":"-"},{"$f":"IF(AG$60<=vantHoff_EOS!$N$19,Phi_i_NS_Tci_Pci_wi_kijm_TinC_PinPa_yi(AG$3,vantHoff_EOS!$N$19,vantHoff_EOS!$X$5:$X$14,vantHoff_EOS!$Y$5:$Y$14,vantHoff_EOS!$Z$5:$Z$14,vantHoff_EOS!$AE$5:$AN$14,I85,$C$59,$O85:$X85),\"-\")","v":"-"},{"$f":"IF(AH$60<=vantHoff_EOS!$N$19,Phi_i_NS_Tci_Pci_wi_kijm_TinC_PinPa_yi(AH$3,vantHoff_EOS!$N$19,vantHoff_EOS!$X$5:$X$14,vantHoff_EOS!$Y$5:$Y$14,vantHoff_EOS!$Z$5:$Z$14,vantHoff_EOS!$AE$5:$AN$14,J85,$C$59,$O85:$X85),\"-\")","v":"-"},{"$f":"IF(AI$60<=vantHoff_EOS!$N$19,Phi_i_NS_Tci_Pci_wi_kijm_TinC_PinPa_yi(AI$3,vantHoff_EOS!$N$19,vantHoff_EOS!$X$5:$X$14,vantHoff_EOS!$Y$5:$Y$14,vantHoff_EOS!$Z$5:$Z$14,vantHoff_EOS!$AE$5:$AN$14,K85,$C$59,$O85:$X85),\"-\")","v":"-"}]
[26,{"$f":"B85+vantHoff_EOS!$B$31","v":50},323.14999999999998,3.0945381401825778E-3,{"$f":"lnKaT_Tref_lnKaTref_dHTref_da_db_dc_dd_de_TinC(vantHoff_EOS!$E$7,vantHoff_EOS!$B$9,vantHoff_EOS!$B$6,vantHoff_EOS!$O$27,vantHoff_EOS!$P$27,vantHoff_EOS!$Q$27,vantHoff_EOS!$R$27,vantHoff_EOS!$S$27,B86)","v":12.660338747267993},315003.41129844135,{"$f":"MolarExtentX_NS_vi_n0i_dHfi_dGfi_TrefinC_da_db_dc_dd_de_Tci_Pci_wi_kijm_TinC_PinPa(vantHoff_EOS!$N$19,vantHoff_EOS!$O$23:$X$23,vantHoff_EOS!$O$31:$X$31,vantHoff_EOS!$T$5:$T$14,vantHoff_EOS!$U$5:$U$14,vantHoff_EOS!$E$7,vantHoff_EOS!$O$27,vantHoff_EOS!$P$27,vantHoff_EOS!$Q$27,vantHoff_EOS!$R$27,vantHoff_EOS!$S$27,vantHoff_EOS!$X$5:$X$14,vantHoff_EOS!$Y$5:$Y$14,vantHoff_EOS!$Z$5:$Z$14,vantHoff_EOS!$AE$5:$AN$14,B86,$C$59)","v":0.99971339004010651},{"$f":"Ky_NS_n0i_vi_X(vantHoff_EOS!$N$19,vantHoff_EOS!$O$31:$X$31,vantHoff_EOS!$O$23:$X$23,G86)","v":2953884245592.1763},{"$f":"Kp_NS_vi_PinPa(vantHoff_EOS!$N$19,vantHoff_EOS!$O$23:$X$23,$C$59)","v":6.9444444444444444E-5},{"$f":"Kphi_NS_n0i_vi_X_Tci_Pci_wi_kijm_TinC_PinPa(vantHoff_EOS!$N$19,vantHoff_EOS!$O$31:$X$31,vantHoff_EOS!$O$23:$X$23,G86,vantHoff_EOS!$X$5:$X$14,vantHoff_EOS!$Y$5:$Y$14,vantHoff_EOS!$Z$5:$Z$14,vantHoff_EOS!$AE$5:$AN$14,B86,$C$59)","v":1.5356218272485924E-3},28.714142113620728,-9.5749834855640916,-6.4788198807887474,{"$f":"nT_NS_n0i_vi_X(vantHoff_EOS!$N$19,vantHoff_EOS!$O$31:$X$31,vantHoff_EOS!$O$23:$X$23,G86)","v":8.3405732199197864},{"$f":"IF(O$60<=vantHoff_EOS!$N$19,y_iindex_NS_n0i_vi_X(O$3,vantHoff_EOS!$N$19,vantHoff_EOS!$O$31:$X$31,vantHoff_EOS!$O$23:$X$23,$G86),\"-\")","v":3.4363340784417649E-5},{"$f":"IF(P$60<=vantHoff_EOS!$N$19,y_iindex_NS_n0i_vi_X(P$3,vantHoff_EOS!$N$19,vantHoff_EOS!$O$31:$X$31,vantHoff_EOS!$O$23:$X$23,$G86),\"-\")","v":3.4363340784417649E-5},{"$f":"IF(Q$60<=vantHoff_EOS!$N$19,y_iindex_NS_n0i_vi_X(Q$3,vantHoff_EOS!$N$19,vantHoff_EOS!$O$31:$X$31,vantHoff_EOS!$O$23:$X$23,$G86),\"-\")","v":3.4363340784417649E-5},{"$f":"IF(R$60<=vantHoff_EOS!$N$19,y_iindex_NS_n0i_vi_X(R$3,vantHoff_EOS!$N$19,vantHoff_EOS!$O$31:$X$31,vantHoff_EOS!$O$23:$X$23,$G86),\"-\")","v":0.11986147278852388},{"$f":"IF(S$60<=vantHoff_EOS!$N$19,y_iindex_NS_n0i_vi_X(S$3,vantHoff_EOS!$N$19,vantHoff_EOS!$O$31:$X$31,vantHoff_EOS!$O$23:$X$23,$G86),\"-\")","v":0.88003543718912292},{"$f":"IF(T$60<=vantHoff_EOS!$N$19,y_iindex_NS_n0i_vi_X(T$3,vantHoff_EOS!$N$19,vantHoff_EOS!$O$31:$X$31,vantHoff_EOS!$O$23:$X$23,$G86),\"-\")","v":"-"},{"$f":"IF(U$60<=vantHoff_EOS!$N$19,y_iindex_NS_n0i_vi_X(U$3,vantHoff_EOS!$N$19,vantHoff_EOS!$O$31:$X$31,vantHoff_EOS!$O$23:$X$23,$G86),\"-\")","v":"-"},{"$f":"IF(V$60<=vantHoff_EOS!$N$19,y_iindex_NS_n0i_vi_X(V$3,vantHoff_EOS!$N$19,vantHoff_EOS!$O$31:$X$31,vantHoff_EOS!$O$23:$X$23,$G86),\"-\")","v":"-"},{"$f":"IF(W$60<=vantHoff_EOS!$N$19,y_iindex_NS_n0i_vi_X(W$3,vantHoff_EOS!$N$19,vantHoff_EOS!$O$31:$X$31,vantHoff_EOS!$O$23:$X$23,$G86),\"-\")","v":"-"},{"$f":"IF(X$60<=vantHoff_EOS!$N$19,y_iindex_NS_n0i_vi_X(X$3,vantHoff_EOS!$N$19,vantHoff_EOS!$O$31:$X$31,vantHoff_EOS!$O$23:$X$23,$G86),\"-\")","v":"-"},1,{"$f":"IF(Z$60<=vantHoff_EOS!$N$19,Phi_i_NS_Tci_Pci_wi_kijm_TinC_PinPa_yi(Z$3,vantHoff_EOS!$N$19,vantHoff_EOS!$X$5:$X$14,vantHoff_EOS!$Y$5:$Y$14,vantHoff_EOS!$Z$5:$Z$14,vantHoff_EOS!$AE$5:$AN$14,B86,$C$59,$O86:$X86),\"-\")","v":4.0632538358238728},{"$f":"IF(AA$60<=vantHoff_EOS!$N$19,Phi_i_NS_Tci_Pci_wi_kijm_TinC_PinPa_yi(AA$3,vantHoff_EOS!$N$19,vantHoff_EOS!$X$5:$X$14,vantHoff_EOS!$Y$5:$Y$14,vantHoff_EOS!$Z$5:$Z$14,vantHoff_EOS!$AE$5:$AN$14,C86,$C$59,$O86:$X86),\"-\")","v":1.1122146575645133},{"$f":"IF(AB$60<=vantHoff_EOS!$N$19,Phi_i_NS_Tci_Pci_wi_kijm_TinC_PinPa_yi(AB$3,vantHoff_EOS!$N$19,vantHoff_EOS!$X$5:$X$14,vantHoff_EOS!$Y$5:$Y$14,vantHoff_EOS!$Z$5:$Z$14,vantHoff_EOS!$AE$5:$AN$14,D86,$C$59,$O86:$X86),\"-\")","v":6.5043790457070927E-2},{"$f":"IF(AC$60<=vantHoff_EOS!$N$19,Phi_i_NS_Tci_Pci_wi_kijm_TinC_PinPa_yi(AC$3,vantHoff_EOS!$N$19,vantHoff_EOS!$X$5:$X$14,vantHoff_EOS!$Y$5:$Y$14,vantHoff_EOS!$Z$5:$Z$14,vantHoff_EOS!$AE$5:$AN$14,E86,$C$59,$O86:$X86),\"-\")","v":1.2033978768443262E-3},{"$f":"IF(AD$60<=vantHoff_EOS!$N$19,Phi_i_NS_Tci_Pci_wi_kijm_TinC_PinPa_yi(AD$3,vantHoff_EOS!$N$19,vantHoff_EOS!$X$5:$X$14,vantHoff_EOS!$Y$5:$Y$14,vantHoff_EOS!$Z$5:$Z$14,vantHoff_EOS!$AE$5:$AN$14,F86,$C$59,$O86:$X86),\"-\")","v":0.99981660052783439},{"$f":"IF(AE$60<=vantHoff_EOS!$N$19,Phi_i_NS_Tci_Pci_wi_kijm_TinC_PinPa_yi(AE$3,vantHoff_EOS!$N$19,vantHoff_EOS!$X$5:$X$14,vantHoff_EOS!$Y$5:$Y$14,vantHoff_EOS!$Z$5:$Z$14,vantHoff_EOS!$AE$5:$AN$14,G86,$C$59,$O86:$X86),\"-\")","v":"-"},{"$f":"IF(AF$60<=vantHoff_EOS!$N$19,Phi_i_NS_Tci_Pci_wi_kijm_TinC_PinPa_yi(AF$3,vantHoff_EOS!$N$19,vantHoff_EOS!$X$5:$X$14,vantHoff_EOS!$Y$5:$Y$14,vantHoff_EOS!$Z$5:$Z$14,vantHoff_EOS!$AE$5:$AN$14,H86,$C$59,$O86:$X86),\"-\")","v":"-"},{"$f":"IF(AG$60<=vantHoff_EOS!$N$19,Phi_i_NS_Tci_Pci_wi_kijm_TinC_PinPa_yi(AG$3,vantHoff_EOS!$N$19,vantHoff_EOS!$X$5:$X$14,vantHoff_EOS!$Y$5:$Y$14,vantHoff_EOS!$Z$5:$Z$14,vantHoff_EOS!$AE$5:$AN$14,I86,$C$59,$O86:$X86),\"-\")","v":"-"},{"$f":"IF(AH$60<=vantHoff_EOS!$N$19,Phi_i_NS_Tci_Pci_wi_kijm_TinC_PinPa_yi(AH$3,vantHoff_EOS!$N$19,vantHoff_EOS!$X$5:$X$14,vantHoff_EOS!$Y$5:$Y$14,vantHoff_EOS!$Z$5:$Z$14,vantHoff_EOS!$AE$5:$AN$14,J86,$C$59,$O86:$X86),\"-\")","v":"-"},{"$f":"IF(AI$60<=vantHoff_EOS!$N$19,Phi_i_NS_Tci_Pci_wi_kijm_TinC_PinPa_yi(AI$3,vantHoff_EOS!$N$19,vantHoff_EOS!$X$5:$X$14,vantHoff_EOS!$Y$5:$Y$14,vantHoff_EOS!$Z$5:$Z$14,vantHoff_EOS!$AE$5:$AN$14,K86,$C$59,$O86:$X86),\"-\")","v":"-"}]
[27,{"$f":"B86+vantHoff_EOS!$B$31","v":52},325.14999999999998,3.0755036137167465E-3,{"$f":"lnKaT_Tref_lnKaTref_dHTref_da_db_dc_dd_de_TinC(vantHoff_EOS!$E$7,vantHoff_EOS!$B$9,vantHoff_EOS!$B$6,vantHoff_EOS!$O$27,vantHoff_EOS!$P$27,vantHoff_EOS!$Q$27,vantHoff_EOS!$R$27,vantHoff_EOS!$S$27,B87)","v":12.396243755717109},241891.30605711858,{"$f":"MolarExtentX_NS_vi_n0i_dHfi_dGfi_TrefinC_da_db_dc_dd_de_Tci_Pci_wi_kijm_TinC_PinPa(vantHoff_EOS!$N$19,vantHoff_EOS!$O$23:$X$23,vantHoff_EOS!$O$31:$X$31,vantHoff_EOS!$T$5:$T$14,vantHoff_EOS!$U$5:$U$14,vantHoff_EOS!$E$7,vantHoff_EOS!$O$27,vantHoff_EOS!$P$27,vantHoff_EOS!$Q$27,vantHoff_EOS!$R$27,vantHoff_EOS!$S$27,vantHoff_EOS!$X$5:$X$14,vantHoff_EOS!$Y$5:$Y$14,vantHoff_EOS!$Z$5:$Z$14,vantHoff_EOS!$AE$5:$AN$14,B87,$C$59)","v":0.99967547372887333},{"$f":"Ky_NS_n0i_vi_X(vantHoff_EOS!$N$19,vantHoff_EOS!$O$31:$X$31,vantHoff_EOS!$O$23:$X$23,G87)","v":2034741082950.8159},{"$f":"Kp_NS_vi_PinPa(vantHoff_EOS!$N$19,vantHoff_EOS!$O$23:$X$23,$C$59)","v":6.9444444444444444E-5},{"$f":"Kphi_NS_n0i_vi_X_Tci_Pci_wi_kijm_TinC_PinPa(vantHoff_EOS!$N$19,vantHoff_EOS!$O$31:$X$31,vantHoff_EOS!$O$23:$X$23,G87,vantHoff_EOS!$X$5:$X$14,vantHoff_EOS!$Y$5:$Y$14,vantHoff_EOS!$Z$5:$Z$14,vantHoff_EOS!$AE$5:$AN$14,B87,$C$59)","v":1.7118809562401427E-3},28.341389694763233,-9.5749834855640916,-6.3701625385867091,{"$f":"nT_NS_n0i_vi_X(vantHoff_EOS!$N$19,vantHoff_EOS!$O$31:$X$31,vantHoff_EOS!$O$23:$X$23,G87)","v":8.3406490525422541},{"$f":"IF(O$60<=vantHoff_EOS!$N$19,y_iindex_NS_n0i_vi_X(O$3,vantHoff_EOS!$N$19,vantHoff_EOS!$O$31:$X$31,vantHoff_EOS!$O$23:$X$23,$G87),\"-\")","v":3.8908994861467256E-5},{"$f":"IF(P$60<=vantHoff_EOS!$N$19,y_iindex_NS_n0i_vi_X(P$3,vantHoff_EOS!$N$19,vantHoff_EOS!$O$31:$X$31,vantHoff_EOS!$O$23:$X$23,$G87),\"-\")","v":3.8908994861467256E-5},{"$f":"IF(Q$60<=vantHoff_EOS!$N$19,y_iindex_NS_n0i_vi_X(Q$3,vantHoff_EOS!$N$19,vantHoff_EOS!$O$31:$X$31,vantHoff_EOS!$O$23:$X$23,$G87),\"-\")","v":3.8908994861467256E-5},{"$f":"IF(R$60<=vantHoff_EOS!$N$19,y_iindex_NS_n0i_vi_X(R$3,vantHoff_EOS!$N$19,vantHoff_EOS!$O$31:$X$31,vantHoff_EOS!$O$23:$X$23,$G87),\"-\")","v":0.11985583704953626},{"$f":"IF(S$60<=vantHoff_EOS!$N$19,y_iindex_NS_n0i_vi_X(S$3,vantHoff_EOS!$N$19,vantHoff_EOS!$O$31:$X$31,vantHoff_EOS!$O$23:$X$23,$G87),\"-\")","v":0.88002743596587929},{"$f":"IF(T$60<=vantHoff_EOS!$N$19,y_iindex_NS_n0i_vi_X(T$3,vantHoff_EOS!$N$19,vantHoff_EOS!$O$31:$X$31,vantHoff_EOS!$O$23:$X$23,$G87),\"-\")","v":"-"},{"$f":"IF(U$60<=vantHoff_EOS!$N$19,y_iindex_NS_n0i_vi_X(U$3,vantHoff_EOS!$N$19,vantHoff_EOS!$O$31:$X$31,vantHoff_EOS!$O$23:$X$23,$G87),\"-\")","v":"-"},{"$f":"IF(V$60<=vantHoff_EOS!$N$19,y_iindex_NS_n0i_vi_X(V$3,vantHoff_EOS!$N$19,vantHoff_EOS!$O$31:$X$31,vantHoff_EOS!$O$23:$X$23,$G87),\"-\")","v":"-"},{"$f":"IF(W$60<=vantHoff_EOS!$N$19,y_iindex_NS_n0i_vi_X(W$3,vantHoff_EOS!$N$19,vantHoff_EOS!$O$31:$X$31,vantHoff_EOS!$O$23:$X$23,$G87),\"-\")","v":"-"},{"$f":"IF(X$60<=vantHoff_EOS!$N$19,y_iindex_NS_n0i_vi_X(X$3,vantHoff_EOS!$N$19,vantHoff_EOS!$O$31:$X$31,vantHoff_EOS!$O$23:$X$23,$G87),\"-\")","v":"-"},1,{"$f":"IF(Z$60<=vantHoff_EOS!$N$19,Phi_i_NS_Tci_Pci_wi_kijm_TinC_PinPa_yi(Z$3,vantHoff_EOS!$N$19,vantHoff_EOS!$X$5:$X$14,vantHoff_EOS!$Y$5:$Y$14,vantHoff_EOS!$Z$5:$Z$14,vantHoff_EOS!$AE$5:$AN$14,B87,$C$59,$O87:$X87),\"-\")","v":3.9809372703099286},{"$f":"IF(AA$60<=vantHoff_EOS!$N$19,Phi_i_NS_Tci_Pci_wi_kijm_TinC_PinPa_yi(AA$3,vantHoff_EOS!$N$19,vantHoff_EOS!$X$5:$X$14,vantHoff_EOS!$Y$5:$Y$14,vantHoff_EOS!$Z$5:$Z$14,vantHoff_EOS!$AE$5:$AN$14,C87,$C$59,$O87:$X87),\"-\")","v":1.110956315035794},{"$f":"IF(AB$60<=vantHoff_EOS!$N$19,Phi_i_NS_Tci_Pci_wi_kijm_TinC_PinPa_yi(AB$3,vantHoff_EOS!$N$19,vantHoff_EOS!$X$5:$X$14,vantHoff_EOS!$Y$5:$Y$14,vantHoff_EOS!$Z$5:$Z$14,vantHoff_EOS!$AE$5:$AN$14,D87,$C$59,$O87:$X87),\"-\")","v":6.5043349932730601E-2},{"$f":"IF(AC$60<=vantHoff_EOS!$N$19,Phi_i_NS_Tci_Pci_wi_kijm_TinC_PinPa_yi(AC$3,vantHoff_EOS!$N$19,vantHoff_EOS!$X$5:$X$14,vantHoff_EOS!$Y$5:$Y$14,vantHoff_EOS!$Z$5:$Z$14,vantHoff_EOS!$AE$5:$AN$14,E87,$C$59,$O87:$X87),\"-\")","v":1.1864500061068194E-3},{"$f":"IF(AD$60<=vantHoff_EOS!$N$19,Phi_i_NS_Tci_Pci_wi_kijm_TinC_PinPa_yi(AD$3,vantHoff_EOS!$N$19,vantHoff_EOS!$X$5:$X$14,vantHoff_EOS!$Y$5:$Y$14,vantHoff_EOS!$Z$5:$Z$14,vantHoff_EOS!$AE$5:$AN$14,F87,$C$59,$O87:$X87),\"-\")","v":0.99977018229189496},{"$f":"IF(AE$60<=vantHoff_EOS!$N$19,Phi_i_NS_Tci_Pci_wi_kijm_TinC_PinPa_yi(AE$3,vantHoff_EOS!$N$19,vantHoff_EOS!$X$5:$X$14,vantHoff_EOS!$Y$5:$Y$14,vantHoff_EOS!$Z$5:$Z$14,vantHoff_EOS!$AE$5:$AN$14,G87,$C$59,$O87:$X87),\"-\")","v":"-"},{"$f":"IF(AF$60<=vantHoff_EOS!$N$19,Phi_i_NS_Tci_Pci_wi_kijm_TinC_PinPa_yi(AF$3,vantHoff_EOS!$N$19,vantHoff_EOS!$X$5:$X$14,vantHoff_EOS!$Y$5:$Y$14,vantHoff_EOS!$Z$5:$Z$14,vantHoff_EOS!$AE$5:$AN$14,H87,$C$59,$O87:$X87),\"-\")","v":"-"},{"$f":"IF(AG$60<=vantHoff_EOS!$N$19,Phi_i_NS_Tci_Pci_wi_kijm_TinC_PinPa_yi(AG$3,vantHoff_EOS!$N$19,vantHoff_EOS!$X$5:$X$14,vantHoff_EOS!$Y$5:$Y$14,vantHoff_EOS!$Z$5:$Z$14,vantHoff_EOS!$AE$5:$AN$14,I87,$C$59,$O87:$X87),\"-\")","v":"-"},{"$f":"IF(AH$60<=vantHoff_EOS!$N$19,Phi_i_NS_Tci_Pci_wi_kijm_TinC_PinPa_yi(AH$3,vantHoff_EOS!$N$19,vantHoff_EOS!$X$5:$X$14,vantHoff_EOS!$Y$5:$Y$14,vantHoff_EOS!$Z$5:$Z$14,vantHoff_EOS!$AE$5:$AN$14,J87,$C$59,$O87:$X87),\"-\")","v":"-"},{"$f":"IF(AI$60<=vantHoff_EOS!$N$19,Phi_i_NS_Tci_Pci_wi_kijm_TinC_PinPa_yi(AI$3,vantHoff_EOS!$N$19,vantHoff_EOS!$X$5:$X$14,vantHoff_EOS!$Y$5:$Y$14,vantHoff_EOS!$Z$5:$Z$14,vantHoff_EOS!$AE$5:$AN$14,K87,$C$59,$O87:$X87),\"-\")","v":"-"}]
[28,{"$f":"B87+vantHoff_EOS!$B$31","v":54},327.14999999999998,3.0567018187375823E-3,{"$f":"lnKaT_Tref_lnKaTref_dHTref_da_db_dc_dd_de_TinC(vantHoff_EOS!$E$7,vantHoff_EOS!$B$9,vantHoff_EOS!$B$6,vantHoff_EOS!$O$27,vantHoff_EOS!$P$27,vantHoff_EOS!$Q$27,vantHoff_EOS!$R$27,vantHoff_EOS!$S$27,B88)","v":12.13530901062593},186336.41664572764,{"$f":"MolarExtentX_NS_vi_n0i_dHfi_dGfi_TrefinC_da_db_dc_dd_de_Tci_Pci_wi_kijm_TinC_PinPa(vantHoff_EOS!$N$19,vantHoff_EOS!$O$23:$X$23,vantHoff_EOS!$O$31:$X$31,vantHoff_EOS!$T$5:$T$14,vantHoff_EOS!$U$5:$U$14,vantHoff_EOS!$E$7,vantHoff_EOS!$O$27,vantHoff_EOS!$P$27,vantHoff_EOS!$Q$27,vantHoff_EOS!$R$27,vantHoff_EOS!$S$27,vantHoff_EOS!$X$5:$X$14,vantHoff_EOS!$Y$5:$Y$14,vantHoff_EOS!$Z$5:$Z$14,vantHoff_EOS!$AE$5:$AN$14,B88,$C$59)","v":0.99963273898917404},{"$f":"Ky_NS_n0i_vi_X(vantHoff_EOS!$N$19,vantHoff_EOS!$O$31:$X$31,vantHoff_EOS!$O$23:$X$23,G88)","v":1403862560677.7559},{"$f":"Kp_NS_vi_PinPa(vantHoff_EOS!$N$19,vantHoff_EOS!$O$23:$X$23,$C$59)","v":6.9444444444444444E-5},{"$f":"Kphi_NS_n0i_vi_X_Tci_Pci_wi_kijm_TinC_PinPa(vantHoff_EOS!$N$19,vantHoff_EOS!$O$31:$X$31,vantHoff_EOS!$O$23:$X$23,G88,vantHoff_EOS!$X$5:$X$14,vantHoff_EOS!$Y$5:$Y$14,vantHoff_EOS!$Z$5:$Z$14,vantHoff_EOS!$AE$5:$AN$14,B88,$C$59)","v":1.9113297292794465E-3},27.970248525485346,-9.5749834855640916,-6.2599560858137382,{"$f":"nT_NS_n0i_vi_X(vantHoff_EOS!$N$19,vantHoff_EOS!$O$31:$X$31,vantHoff_EOS!$O$23:$X$23,G88)","v":8.340734522021652},{"$f":"IF(O$60<=vantHoff_EOS!$N$19,y_iindex_NS_n0i_vi_X(O$3,vantHoff_EOS!$N$19,vantHoff_EOS!$O$31:$X$31,vantHoff_EOS!$O$23:$X$23,$G88),\"-\")","v":4.403221441184787E-5},{"$f":"IF(P$60<=vantHoff_EOS!$N$19,y_iindex_NS_n0i_vi_X(P$3,vantHoff_EOS!$N$19,vantHoff_EOS!$O$31:$X$31,vantHoff_EOS!$O$23:$X$23,$G88),\"-\")","v":4.403221441184787E-5},{"$f":"IF(Q$60<=vantHoff_EOS!$N$19,y_iindex_NS_n0i_vi_X(Q$3,vantHoff_EOS!$N$19,vantHoff_EOS!$O$31:$X$31,vantHoff_EOS!$O$23:$X$23,$G88),\"-\")","v":4.403221441184787E-5},{"$f":"IF(R$60<=vantHoff_EOS!$N$19,y_iindex_NS_n0i_vi_X(R$3,vantHoff_EOS!$N$19,vantHoff_EOS!$O$31:$X$31,vantHoff_EOS!$O$23:$X$23,$G88),\"-\")","v":0.11984948524016564},{"$f":"IF(S$60<=vantHoff_EOS!$N$19,y_iindex_NS_n0i_vi_X(S$3,vantHoff_EOS!$N$19,vantHoff_EOS!$O$31:$X$31,vantHoff_EOS!$O$23:$X$23,$G88),\"-\")","v":0.88001841811659876},{"$f":"IF(T$60<=vantHoff_EOS!$N$19,y_iindex_NS_n0i_vi_X(T$3,vantHoff_EOS!$N$19,vantHoff_EOS!$O$31:$X$31,vantHoff_EOS!$O$23:$X$23,$G88),\"-\")","v":"-"},{"$f":"IF(U$60<=vantHoff_EOS!$N$19,y_iindex_NS_n0i_vi_X(U$3,vantHoff_EOS!$N$19,vantHoff_EOS!$O$31:$X$31,vantHoff_EOS!$O$23:$X$23,$G88),\"-\")","v":"-"},{"$f":"IF(V$60<=vantHoff_EOS!$N$19,y_iindex_NS_n0i_vi_X(V$3,vantHoff_EOS!$N$19,vantHoff_EOS!$O$31:$X$31,vantHoff_EOS!$O$23:$X$23,$G88),\"-\")","v":"-"},{"$f":"IF(W$60<=vantHoff_EOS!$N$19,y_iindex_NS_n0i_vi_X(W$3,vantHoff_EOS!$N$19,vantHoff_EOS!$O$31:$X$31,vantHoff_EOS!$O$23:$X$23,$G88),\"-\")","v":"-"},{"$f":"IF(X$60<=vantHoff_EOS!$N$19,y_iindex_NS_n0i_vi_X(X$3,vantHoff_EOS!$N$19,vantHoff_EOS!$O$31:$X$31,vantHoff_EOS!$O$23:$X$23,$G88),\"-\")","v":"-"},1,{"$f":"IF(Z$60<=vantHoff_EOS!$N$19,Phi_i_NS_Tci_Pci_wi_kijm_TinC_PinPa_yi(Z$3,vantHoff_EOS!$N$19,vantHoff_EOS!$X$5:$X$14,vantHoff_EOS!$Y$5:$Y$14,vantHoff_EOS!$Z$5:$Z$14,vantHoff_EOS!$AE$5:$AN$14,B88,$C$59,$O88:$X88),\"-\")","v":3.8973644239743117},{"$f":"IF(AA$60<=vantHoff_EOS!$N$19,Phi_i_NS_Tci_Pci_wi_kijm_TinC_PinPa_yi(AA$3,vantHoff_EOS!$N$19,vantHoff_EOS!$X$5:$X$14,vantHoff_EOS!$Y$5:$Y$14,vantHoff_EOS!$Z$5:$Z$14,vantHoff_EOS!$AE$5:$AN$14,C88,$C$59,$O88:$X88),\"-\")","v":1.1097191623961165},{"$f":"IF(AB$60<=vantHoff_EOS!$N$19,Phi_i_NS_Tci_Pci_wi_kijm_TinC_PinPa_yi(AB$3,vantHoff_EOS!$N$19,vantHoff_EOS!$X$5:$X$14,vantHoff_EOS!$Y$5:$Y$14,vantHoff_EOS!$Z$5:$Z$14,vantHoff_EOS!$AE$5:$AN$14,D88,$C$59,$O88:$X88),\"-\")","v":6.5042857848551586E-2},{"$f":"IF(AC$60<=vantHoff_EOS!$N$19,Phi_i_NS_Tci_Pci_wi_kijm_TinC_PinPa_yi(AC$3,vantHoff_EOS!$N$19,vantHoff_EOS!$X$5:$X$14,vantHoff_EOS!$Y$5:$Y$14,vantHoff_EOS!$Z$5:$Z$14,vantHoff_EOS!$AE$5:$AN$14,E88,$C$59,$O88:$X88),\"-\")","v":1.1699137910368977E-3},{"$f":"IF(AD$60<=vantHoff_EOS!$N$19,Phi_i_NS_Tci_Pci_wi_kijm_TinC_PinPa_yi(AD$3,vantHoff_EOS!$N$19,vantHoff_EOS!$X$5:$X$14,vantHoff_EOS!$Y$5:$Y$14,vantHoff_EOS!$Z$5:$Z$14,vantHoff_EOS!$AE$5:$AN$14,F88,$C$59,$O88:$X88),\"-\")","v":0.99971469102161337},{"$f":"IF(AE$60<=vantHoff_EOS!$N$19,Phi_i_NS_Tci_Pci_wi_kijm_TinC_PinPa_yi(AE$3,vantHoff_EOS!$N$19,vantHoff_EOS!$X$5:$X$14,vantHoff_EOS!$Y$5:$Y$14,vantHoff_EOS!$Z$5:$Z$14,vantHoff_EOS!$AE$5:$AN$14,G88,$C$59,$O88:$X88),\"-\")","v":"-"},{"$f":"IF(AF$60<=vantHoff_EOS!$N$19,Phi_i_NS_Tci_Pci_wi_kijm_TinC_PinPa_yi(AF$3,vantHoff_EOS!$N$19,vantHoff_EOS!$X$5:$X$14,vantHoff_EOS!$Y$5:$Y$14,vantHoff_EOS!$Z$5:$Z$14,vantHoff_EOS!$AE$5:$AN$14,H88,$C$59,$O88:$X88),\"-\")","v":"-"},{"$f":"IF(AG$60<=vantHoff_EOS!$N$19,Phi_i_NS_Tci_Pci_wi_kijm_TinC_PinPa_yi(AG$3,vantHoff_EOS!$N$19,vantHoff_EOS!$X$5:$X$14,vantHoff_EOS!$Y$5:$Y$14,vantHoff_EOS!$Z$5:$Z$14,vantHoff_EOS!$AE$5:$AN$14,I88,$C$59,$O88:$X88),\"-\")","v":"-"},{"$f":"IF(AH$60<=vantHoff_EOS!$N$19,Phi_i_NS_Tci_Pci_wi_kijm_TinC_PinPa_yi(AH$3,vantHoff_EOS!$N$19,vantHoff_EOS!$X$5:$X$14,vantHoff_EOS!$Y$5:$Y$14,vantHoff_EOS!$Z$5:$Z$14,vantHoff_EOS!$AE$5:$AN$14,J88,$C$59,$O88:$X88),\"-\")","v":"-"},{"$f":"IF(AI$60<=vantHoff_EOS!$N$19,Phi_i_NS_Tci_Pci_wi_kijm_TinC_PinPa_yi(AI$3,vantHoff_EOS!$N$19,vantHoff_EOS!$X$5:$X$14,vantHoff_EOS!$Y$5:$Y$14,vantHoff_EOS!$Z$5:$Z$14,vantHoff_EOS!$AE$5:$AN$14,K88,$C$59,$O88:$X88),\"-\")","v":"-"}]
[29,{"$f":"B88+vantHoff_EOS!$B$31","v":56},329.15,3.0381285128360932E-3,{"$f":"lnKaT_Tref_lnKaTref_dHTref_da_db_dc_dd_de_TinC(vantHoff_EOS!$E$7,vantHoff_EOS!$B$9,vantHoff_EOS!$B$6,vantHoff_EOS!$O$27,vantHoff_EOS!$P$27,vantHoff_EOS!$Q$27,vantHoff_EOS!$R$27,vantHoff_EOS!$S$27,B89)","v":11.877477758537363},143986.92251086643,{"$f":"MolarExtentX_NS_vi_n0i_dHfi_dGfi_TrefinC_da_db_dc_dd_de_Tci_Pci_wi_kijm_TinC_PinPa(vantHoff_EOS!$N$19,vantHoff_EOS!$O$23:$X$23,vantHoff_EOS!$O$31:$X$31,vantHoff_EOS!$T$5:$T$14,vantHoff_EOS!$U$5:$U$14,vantHoff_EOS!$E$7,vantHoff_EOS!$O$27,vantHoff_EOS!$P$27,vantHoff_EOS!$Q$27,vantHoff_EOS!$R$27,vantHoff_EOS!$S$27,vantHoff_EOS!$X$5:$X$14,vantHoff_EOS!$Y$5:$Y$14,vantHoff_EOS!$Z$5:$Z$14,vantHoff_EOS!$AE$5:$AN$14,B89,$C$59)","v":0.99958457235448384},{"$f":"Ky_NS_n0i_vi_X(vantHoff_EOS!$N$19,vantHoff_EOS!$O$31:$X$31,vantHoff_EOS!$O$23:$X$23,G89)","v":969955902698.11792},{"$f":"Kp_NS_vi_PinPa(vantHoff_EOS!$N$19,vantHoff_EOS!$O$23:$X$23,$C$59)","v":6.9444444444444444E-5},{"$f":"Kphi_NS_n0i_vi_X_Tci_Pci_wi_kijm_TinC_PinPa(vantHoff_EOS!$N$19,vantHoff_EOS!$O$31:$X$31,vantHoff_EOS!$O$23:$X$23,G89,vantHoff_EOS!$X$5:$X$14,vantHoff_EOS!$Y$5:$Y$14,vantHoff_EOS!$Z$5:$Z$14,vantHoff_EOS!$AE$5:$AN$14,B89,$C$59)","v":2.137634920335898E-3},27.60051644627449,-9.5749834855640916,-6.1480552385204001,{"$f":"nT_NS_n0i_vi_X(vantHoff_EOS!$N$19,vantHoff_EOS!$O$31:$X$31,vantHoff_EOS!$O$23:$X$23,G89)","v":8.3408308552910313},{"$f":"IF(O$60<=vantHoff_EOS!$N$19,y_iindex_NS_n0i_vi_X(O$3,vantHoff_EOS!$N$19,vantHoff_EOS!$O$31:$X$31,vantHoff_EOS!$O$23:$X$23,$G89),\"-\")","v":4.9806506416880101E-5},{"$f":"IF(P$60<=vantHoff_EOS!$N$19,y_iindex_NS_n0i_vi_X(P$3,vantHoff_EOS!$N$19,vantHoff_EOS!$O$31:$X$31,vantHoff_EOS!$O$23:$X$23,$G89),\"-\")","v":4.9806506416880101E-5},{"$f":"IF(Q$60<=vantHoff_EOS!$N$19,y_iindex_NS_n0i_vi_X(Q$3,vantHoff_EOS!$N$19,vantHoff_EOS!$O$31:$X$31,vantHoff_EOS!$O$23:$X$23,$G89),\"-\")","v":4.9806506416880101E-5},{"$f":"IF(R$60<=vantHoff_EOS!$N$19,y_iindex_NS_n0i_vi_X(R$3,vantHoff_EOS!$N$19,vantHoff_EOS!$O$31:$X$31,vantHoff_EOS!$O$23:$X$23,$G89),\"-\")","v":0.11984232622585726},{"$f":"IF(S$60<=vantHoff_EOS!$N$19,y_iindex_NS_n0i_vi_X(S$3,vantHoff_EOS!$N$19,vantHoff_EOS!$O$31:$X$31,vantHoff_EOS!$O$23:$X$23,$G89),\"-\")","v":0.88000825425489215},{"$f":"IF(T$60<=vantHoff_EOS!$N$19,y_iindex_NS_n0i_vi_X(T$3,vantHoff_EOS!$N$19,vantHoff_EOS!$O$31:$X$31,vantHoff_EOS!$O$23:$X$23,$G89),\"-\")","v":"-"},{"$f":"IF(U$60<=vantHoff_EOS!$N$19,y_iindex_NS_n0i_vi_X(U$3,vantHoff_EOS!$N$19,vantHoff_EOS!$O$31:$X$31,vantHoff_EOS!$O$23:$X$23,$G89),\"-\")","v":"-"},{"$f":"IF(V$60<=vantHoff_EOS!$N$19,y_iindex_NS_n0i_vi_X(V$3,vantHoff_EOS!$N$19,vantHoff_EOS!$O$31:$X$31,vantHoff_EOS!$O$23:$X$23,$G89),\"-\")","v":"-"},{"$f":"IF(W$60<=vantHoff_EOS!$N$19,y_iindex_NS_n0i_vi_X(W$3,vantHoff_EOS!$N$19,vantHoff_EOS!$O$31:$X$31,vantHoff_EOS!$O$23:$X$23,$G89),\"-\")","v":"-"},{"$f":"IF(X$60<=vantHoff_EOS!$N$19,y_iindex_NS_n0i_vi_X(X$3,vantHoff_EOS!$N$19,vantHoff_EOS!$O$31:$X$31,vantHoff_EOS!$O$23:$X$23,$G89),\"-\")","v":"-"},1,{"$f":"IF(Z$60<=vantHoff_EOS!$N$19,Phi_i_NS_Tci_Pci_wi_kijm_TinC_PinPa_yi(Z$3,vantHoff_EOS!$N$19,vantHoff_EOS!$X$5:$X$14,vantHoff_EOS!$Y$5:$Y$14,vantHoff_EOS!$Z$5:$Z$14,vantHoff_EOS!$AE$5:$AN$14,B89,$C$59,$O89:$X89),\"-\")","v":3.8125425410767635},{"$f":"IF(AA$60<=vantHoff_EOS!$N$19,Phi_i_NS_Tci_Pci_wi_kijm_TinC_PinPa_yi(AA$3,vantHoff_EOS!$N$19,vantHoff_EOS!$X$5:$X$14,vantHoff_EOS!$Y$5:$Y$14,vantHoff_EOS!$Z$5:$Z$14,vantHoff_EOS!$AE$5:$AN$14,C89,$C$59,$O89:$X89),\"-\")","v":1.1085026732708132},{"$f":"IF(AB$60<=vantHoff_EOS!$N$19,Phi_i_NS_Tci_Pci_wi_kijm_TinC_PinPa_yi(AB$3,vantHoff_EOS!$N$19,vantHoff_EOS!$X$5:$X$14,vantHoff_EOS!$Y$5:$Y$14,vantHoff_EOS!$Z$5:$Z$14,vantHoff_EOS!$AE$5:$AN$14,D89,$C$59,$O89:$X89),\"-\")","v":6.504230759665916E-2},{"$f":"IF(AC$60<=vantHoff_EOS!$N$19,Phi_i_NS_Tci_Pci_wi_kijm_TinC_PinPa_yi(AC$3,vantHoff_EOS!$N$19,vantHoff_EOS!$X$5:$X$14,vantHoff_EOS!$Y$5:$Y$14,vantHoff_EOS!$Z$5:$Z$14,vantHoff_EOS!$AE$5:$AN$14,E89,$C$59,$O89:$X89),\"-\")","v":1.1537762638295348E-3},{"$f":"IF(AD$60<=vantHoff_EOS!$N$19,Phi_i_NS_Tci_Pci_wi_kijm_TinC_PinPa_yi(AD$3,vantHoff_EOS!$N$19,vantHoff_EOS!$X$5:$X$14,vantHoff_EOS!$Y$5:$Y$14,vantHoff_EOS!$Z$5:$Z$14,vantHoff_EOS!$AE$5:$AN$14,F89,$C$59,$O89:$X89),\"-\")","v":0.99964948058083403},{"$f":"IF(AE$60<=vantHoff_EOS!$N$19,Phi_i_NS_Tci_Pci_wi_kijm_TinC_PinPa_yi(AE$3,vantHoff_EOS!$N$19,vantHoff_EOS!$X$5:$X$14,vantHoff_EOS!$Y$5:$Y$14,vantHoff_EOS!$Z$5:$Z$14,vantHoff_EOS!$AE$5:$AN$14,G89,$C$59,$O89:$X89),\"-\")","v":"-"},{"$f":"IF(AF$60<=vantHoff_EOS!$N$19,Phi_i_NS_Tci_Pci_wi_kijm_TinC_PinPa_yi(AF$3,vantHoff_EOS!$N$19,vantHoff_EOS!$X$5:$X$14,vantHoff_EOS!$Y$5:$Y$14,vantHoff_EOS!$Z$5:$Z$14,vantHoff_EOS!$AE$5:$AN$14,H89,$C$59,$O89:$X89),\"-\")","v":"-"},{"$f":"IF(AG$60<=vantHoff_EOS!$N$19,Phi_i_NS_Tci_Pci_wi_kijm_TinC_PinPa_yi(AG$3,vantHoff_EOS!$N$19,vantHoff_EOS!$X$5:$X$14,vantHoff_EOS!$Y$5:$Y$14,vantHoff_EOS!$Z$5:$Z$14,vantHoff_EOS!$AE$5:$AN$14,I89,$C$59,$O89:$X89),\"-\")","v":"-"},{"$f":"IF(AH$60<=vantHoff_EOS!$N$19,Phi_i_NS_Tci_Pci_wi_kijm_TinC_PinPa_yi(AH$3,vantHoff_EOS!$N$19,vantHoff_EOS!$X$5:$X$14,vantHoff_EOS!$Y$5:$Y$14,vantHoff_EOS!$Z$5:$Z$14,vantHoff_EOS!$AE$5:$AN$14,J89,$C$59,$O89:$X89),\"-\")","v":"-"},{"$f":"IF(AI$60<=vantHoff_EOS!$N$19,Phi_i_NS_Tci_Pci_wi_kijm_TinC_PinPa_yi(AI$3,vantHoff_EOS!$N$19,vantHoff_EOS!$X$5:$X$14,vantHoff_EOS!$Y$5:$Y$14,vantHoff_EOS!$Z$5:$Z$14,vantHoff_EOS!$AE$5:$AN$14,K89,$C$59,$O89:$X89),\"-\")","v":"-"}]
[30,{"$f":"B89+vantHoff_EOS!$B$31","v":58},331.15,3.0197795560924054E-3,{"$f":"lnKaT_Tref_lnKaTref_dHTref_da_db_dc_dd_de_TinC(vantHoff_EOS!$E$7,vantHoff_EOS!$B$9,vantHoff_EOS!$B$6,vantHoff_EOS!$O$27,vantHoff_EOS!$P$27,vantHoff_EOS!$Q$27,vantHoff_EOS!$R$27,vantHoff_EOS!$S$27,B90)","v":11.622694608469143},111602.04001528634,{"$f":"MolarExtentX_NS_vi_n0i_dHfi_dGfi_TrefinC_da_db_dc_dd_de_Tci_Pci_wi_kijm_TinC_PinPa(vantHoff_EOS!$N$19,vantHoff_EOS!$O$23:$X$23,vantHoff_EOS!$O$31:$X$31,vantHoff_EOS!$T$5:$T$14,vantHoff_EOS!$U$5:$U$14,vantHoff_EOS!$E$7,vantHoff_EOS!$O$27,vantHoff_EOS!$P$27,vantHoff_EOS!$Q$27,vantHoff_EOS!$R$27,vantHoff_EOS!$S$27,vantHoff_EOS!$X$5:$X$14,vantHoff_EOS!$Y$5:$Y$14,vantHoff_EOS!$Z$5:$Z$14,vantHoff_EOS!$AE$5:$AN$14,B90,$C$59)","v":0.99953027706064801},{"$f":"Ky_NS_n0i_vi_X(vantHoff_EOS!$N$19,vantHoff_EOS!$O$31:$X$31,vantHoff_EOS!$O$23:$X$23,G90)","v":670966104002.27942},{"$f":"Kp_NS_vi_PinPa(vantHoff_EOS!$N$19,vantHoff_EOS!$O$23:$X$23,$C$59)","v":6.9444444444444444E-5},{"$f":"Kphi_NS_n0i_vi_X_Tci_Pci_wi_kijm_TinC_PinPa(vantHoff_EOS!$N$19,vantHoff_EOS!$O$31:$X$31,vantHoff_EOS!$O$23:$X$23,G90,vantHoff_EOS!$X$5:$X$14,vantHoff_EOS!$Y$5:$Y$14,vantHoff_EOS!$Z$5:$Z$14,vantHoff_EOS!$AE$5:$AN$14,B90,$C$59)","v":2.3951572671254144E-3},27.231984456997246,-9.5749834855640916,-6.0343063855045669,{"$f":"nT_NS_n0i_vi_X(vantHoff_EOS!$N$19,vantHoff_EOS!$O$31:$X$31,vantHoff_EOS!$O$23:$X$23,G90)","v":8.3409394458787034},{"$f":"IF(O$60<=vantHoff_EOS!$N$19,y_iindex_NS_n0i_vi_X(O$3,vantHoff_EOS!$N$19,vantHoff_EOS!$O$31:$X$31,vantHoff_EOS!$O$23:$X$23,$G90),\"-\")","v":5.6315351813767584E-5},{"$f":"IF(P$60<=vantHoff_EOS!$N$19,y_iindex_NS_n0i_vi_X(P$3,vantHoff_EOS!$N$19,vantHoff_EOS!$O$31:$X$31,vantHoff_EOS!$O$23:$X$23,$G90),\"-\")","v":5.6315351813767584E-5},{"$f":"IF(Q$60<=vantHoff_EOS!$N$19,y_iindex_NS_n0i_vi_X(Q$3,vantHoff_EOS!$N$19,vantHoff_EOS!$O$31:$X$31,vantHoff_EOS!$O$23:$X$23,$G90),\"-\")","v":5.6315351813767584E-5},{"$f":"IF(R$60<=vantHoff_EOS!$N$19,y_iindex_NS_n0i_vi_X(R$3,vantHoff_EOS!$N$19,vantHoff_EOS!$O$31:$X$31,vantHoff_EOS!$O$23:$X$23,$G90),\"-\")","v":0.11983425650626447},{"$f":"IF(S$60<=vantHoff_EOS!$N$19,y_iindex_NS_n0i_vi_X(S$3,vantHoff_EOS!$N$19,vantHoff_EOS!$O$31:$X$31,vantHoff_EOS!$O$23:$X$23,$G90),\"-\")","v":0.87999679743829429},{"$f":"IF(T$60<=vantHoff_EOS!$N$19,y_iindex_NS_n0i_vi_X(T$3,vantHoff_EOS!$N$19,vantHoff_EOS!$O$31:$X$31,vantHoff_EOS!$O$23:$X$23,$G90),\"-\")","v":"-"},{"$f":"IF(U$60<=vantHoff_EOS!$N$19,y_iindex_NS_n0i_vi_X(U$3,vantHoff_EOS!$N$19,vantHoff_EOS!$O$31:$X$31,vantHoff_EOS!$O$23:$X$23,$G90),\"-\")","v":"-"},{"$f":"IF(V$60<=vantHoff_EOS!$N$19,y_iindex_NS_n0i_vi_X(V$3,vantHoff_EOS!$N$19,vantHoff_EOS!$O$31:$X$31,vantHoff_EOS!$O$23:$X$23,$G90),\"-\")","v":"-"},{"$f":"IF(W$60<=vantHoff_EOS!$N$19,y_iindex_NS_n0i_vi_X(W$3,vantHoff_EOS!$N$19,vantHoff_EOS!$O$31:$X$31,vantHoff_EOS!$O$23:$X$23,$G90),\"-\")","v":"-"},{"$f":"IF(X$60<=vantHoff_EOS!$N$19,y_iindex_NS_n0i_vi_X(X$3,vantHoff_EOS!$N$19,vantHoff_EOS!$O$31:$X$31,vantHoff_EOS!$O$23:$X$23,$G90),\"-\")","v":"-"},1,{"$f":"IF(Z$60<=vantHoff_EOS!$N$19,Phi_i_NS_Tci_Pci_wi_kijm_TinC_PinPa_yi(Z$3,vantHoff_EOS!$N$19,vantHoff_EOS!$X$5:$X$14,vantHoff_EOS!$Y$5:$Y$14,vantHoff_EOS!$Z$5:$Z$14,vantHoff_EOS!$AE$5:$AN$14,B90,$C$59,$O90:$X90),\"-\")","v":3.7264825723344903},{"$f":"IF(AA$60<=vantHoff_EOS!$N$19,Phi_i_NS_Tci_Pci_wi_kijm_TinC_PinPa_yi(AA$3,vantHoff_EOS!$N$19,vantHoff_EOS!$X$5:$X$14,vantHoff_EOS!$Y$5:$Y$14,vantHoff_EOS!$Z$5:$Z$14,vantHoff_EOS!$AE$5:$AN$14,C90,$C$59,$O90:$X90),\"-\")","v":1.1073063326075889},{"$f":"IF(AB$60<=vantHoff_EOS!$N$19,Phi_i_NS_Tci_Pci_wi_kijm_TinC_PinPa_yi(AB$3,vantHoff_EOS!$N$19,vantHoff_EOS!$X$5:$X$14,vantHoff_EOS!$Y$5:$Y$14,vantHoff_EOS!$Z$5:$Z$14,vantHoff_EOS!$AE$5:$AN$14,D90,$C$59,$O90:$X90),\"-\")","v":6.5041691676308355E-2},{"$f":"IF(AC$60<=vantHoff_EOS!$N$19,Phi_i_NS_Tci_Pci_wi_kijm_TinC_PinPa_yi(AC$3,vantHoff_EOS!$N$19,vantHoff_EOS!$X$5:$X$14,vantHoff_EOS!$Y$5:$Y$14,vantHoff_EOS!$Z$5:$Z$14,vantHoff_EOS!$AE$5:$AN$14,E90,$C$59,$O90:$X90),\"-\")","v":1.1380250040092415E-3},{"$f":"IF(AD$60<=vantHoff_EOS!$N$19,Phi_i_NS_Tci_Pci_wi_kijm_TinC_PinPa_yi(AD$3,vantHoff_EOS!$N$19,vantHoff_EOS!$X$5:$X$14,vantHoff_EOS!$Y$5:$Y$14,vantHoff_EOS!$Z$5:$Z$14,vantHoff_EOS!$AE$5:$AN$14,F90,$C$59,$O90:$X90),\"-\")","v":0.99957444357986536},{"$f":"IF(AE$60<=vantHoff_EOS!$N$19,Phi_i_NS_Tci_Pci_wi_kijm_TinC_PinPa_yi(AE$3,vantHoff_EOS!$N$19,vantHoff_EOS!$X$5:$X$14,vantHoff_EOS!$Y$5:$Y$14,vantHoff_EOS!$Z$5:$Z$14,vantHoff_EOS!$AE$5:$AN$14,G90,$C$59,$O90:$X90),\"-\")","v":"-"},{"$f":"IF(AF$60<=vantHoff_EOS!$N$19,Phi_i_NS_Tci_Pci_wi_kijm_TinC_PinPa_yi(AF$3,vantHoff_EOS!$N$19,vantHoff_EOS!$X$5:$X$14,vantHoff_EOS!$Y$5:$Y$14,vantHoff_EOS!$Z$5:$Z$14,vantHoff_EOS!$AE$5:$AN$14,H90,$C$59,$O90:$X90),\"-\")","v":"-"},{"$f":"IF(AG$60<=vantHoff_EOS!$N$19,Phi_i_NS_Tci_Pci_wi_kijm_TinC_PinPa_yi(AG$3,vantHoff_EOS!$N$19,vantHoff_EOS!$X$5:$X$14,vantHoff_EOS!$Y$5:$Y$14,vantHoff_EOS!$Z$5:$Z$14,vantHoff_EOS!$AE$5:$AN$14,I90,$C$59,$O90:$X90),\"-\")","v":"-"},{"$f":"IF(AH$60<=vantHoff_EOS!$N$19,Phi_i_NS_Tci_Pci_wi_kijm_TinC_PinPa_yi(AH$3,vantHoff_EOS!$N$19,vantHoff_EOS!$X$5:$X$14,vantHoff_EOS!$Y$5:$Y$14,vantHoff_EOS!$Z$5:$Z$14,vantHoff_EOS!$AE$5:$AN$14,J90,$C$59,$O90:$X90),\"-\")","v":"-"},{"$f":"IF(AI$60<=vantHoff_EOS!$N$19,Phi_i_NS_Tci_Pci_wi_kijm_TinC_PinPa_yi(AI$3,vantHoff_EOS!$N$19,vantHoff_EOS!$X$5:$X$14,vantHoff_EOS!$Y$5:$Y$14,vantHoff_EOS!$Z$5:$Z$14,vantHoff_EOS!$AE$5:$AN$14,K90,$C$59,$O90:$X90),\"-\")","v":"-"}]
[31,{"$f":"B90+vantHoff_EOS!$B$31","v":60},333.15,3.0016509079993999E-3,{"$f":"lnKaT_Tref_lnKaTref_dHTref_da_db_dc_dd_de_TinC(vantHoff_EOS!$E$7,vantHoff_EOS!$B$9,vantHoff_EOS!$B$6,vantHoff_EOS!$O$27,vantHoff_EOS!$P$27,vantHoff_EOS!$Q$27,vantHoff_EOS!$R$27,vantHoff_EOS!$S$27,B91)","v":11.370905491151026},86760.392694887007,{"$f":"MolarExtentX_NS_vi_n0i_dHfi_dGfi_TrefinC_da_db_dc_dd_de_Tci_Pci_wi_kijm_TinC_PinPa(vantHoff_EOS!$N$19,vantHoff_EOS!$O$23:$X$23,vantHoff_EOS!$O$31:$X$31,vantHoff_EOS!$T$5:$T$14,vantHoff_EOS!$U$5:$U$14,vantHoff_EOS!$E$7,vantHoff_EOS!$O$27,vantHoff_EOS!$P$27,vantHoff_EOS!$Q$27,vantHoff_EOS!$R$27,vantHoff_EOS!$S$27,vantHoff_EOS!$X$5:$X$14,vantHoff_EOS!$Y$5:$Y$14,vantHoff_EOS!$Z$5:$Z$14,vantHoff_EOS!$AE$5:$AN$14,B91,$C$59)","v":0.99946906042749684},{"$f":"Ky_NS_n0i_vi_X(vantHoff_EOS!$N$19,vantHoff_EOS!$O$31:$X$31,vantHoff_EOS!$O$23:$X$23,G91)","v":464597376799.59399},{"$f":"Kp_NS_vi_PinPa(vantHoff_EOS!$N$19,vantHoff_EOS!$O$23:$X$23,$C$59)","v":6.9444444444444444E-5},{"$f":"Kphi_NS_n0i_vi_X_Tci_Pci_wi_kijm_TinC_PinPa(vantHoff_EOS!$N$19,vantHoff_EOS!$O$31:$X$31,vantHoff_EOS!$O$23:$X$23,G91,vantHoff_EOS!$X$5:$X$14,vantHoff_EOS!$Y$5:$Y$14,vantHoff_EOS!$Z$5:$Z$14,vantHoff_EOS!$AE$5:$AN$14,B91,$C$59)","v":2.6891017910226321E-3},26.864437011118682,-9.5749834855640916,-5.9185480478106749,{"$f":"nT_NS_n0i_vi_X(vantHoff_EOS!$N$19,vantHoff_EOS!$O$31:$X$31,vantHoff_EOS!$O$23:$X$23,G91)","v":8.3410618791450055},{"$f":"IF(O$60<=vantHoff_EOS!$N$19,y_iindex_NS_n0i_vi_X(O$3,vantHoff_EOS!$N$19,vantHoff_EOS!$O$31:$X$31,vantHoff_EOS!$O$23:$X$23,$G91),\"-\")","v":6.3653714622434574E-5},{"$f":"IF(P$60<=vantHoff_EOS!$N$19,y_iindex_NS_n0i_vi_X(P$3,vantHoff_EOS!$N$19,vantHoff_EOS!$O$31:$X$31,vantHoff_EOS!$O$23:$X$23,$G91),\"-\")","v":6.3653714622434574E-5},{"$f":"IF(Q$60<=vantHoff_EOS!$N$19,y_iindex_NS_n0i_vi_X(Q$3,vantHoff_EOS!$N$19,vantHoff_EOS!$O$31:$X$31,vantHoff_EOS!$O$23:$X$23,$G91),\"-\")","v":6.3653714622434574E-5},{"$f":"IF(R$60<=vantHoff_EOS!$N$19,y_iindex_NS_n0i_vi_X(R$3,vantHoff_EOS!$N$19,vantHoff_EOS!$O$31:$X$31,vantHoff_EOS!$O$23:$X$23,$G91),\"-\")","v":0.11982515834422111},{"$f":"IF(S$60<=vantHoff_EOS!$N$19,y_iindex_NS_n0i_vi_X(S$3,vantHoff_EOS!$N$19,vantHoff_EOS!$O$31:$X$31,vantHoff_EOS!$O$23:$X$23,$G91),\"-\")","v":0.87998388051191168},{"$f":"IF(T$60<=vantHoff_EOS!$N$19,y_iindex_NS_n0i_vi_X(T$3,vantHoff_EOS!$N$19,vantHoff_EOS!$O$31:$X$31,vantHoff_EOS!$O$23:$X$23,$G91),\"-\")","v":"-"},{"$f":"IF(U$60<=vantHoff_EOS!$N$19,y_iindex_NS_n0i_vi_X(U$3,vantHoff_EOS!$N$19,vantHoff_EOS!$O$31:$X$31,vantHoff_EOS!$O$23:$X$23,$G91),\"-\")","v":"-"},{"$f":"IF(V$60<=vantHoff_EOS!$N$19,y_iindex_NS_n0i_vi_X(V$3,vantHoff_EOS!$N$19,vantHoff_EOS!$O$31:$X$31,vantHoff_EOS!$O$23:$X$23,$G91),\"-\")","v":"-"},{"$f":"IF(W$60<=vantHoff_EOS!$N$19,y_iindex_NS_n0i_vi_X(W$3,vantHoff_EOS!$N$19,vantHoff_EOS!$O$31:$X$31,vantHoff_EOS!$O$23:$X$23,$G91),\"-\")","v":"-"},{"$f":"IF(X$60<=vantHoff_EOS!$N$19,y_iindex_NS_n0i_vi_X(X$3,vantHoff_EOS!$N$19,vantHoff_EOS!$O$31:$X$31,vantHoff_EOS!$O$23:$X$23,$G91),\"-\")","v":"-"},1,{"$f":"IF(Z$60<=vantHoff_EOS!$N$19,Phi_i_NS_Tci_Pci_wi_kijm_TinC_PinPa_yi(Z$3,vantHoff_EOS!$N$19,vantHoff_EOS!$X$5:$X$14,vantHoff_EOS!$Y$5:$Y$14,vantHoff_EOS!$Z$5:$Z$14,vantHoff_EOS!$AE$5:$AN$14,B91,$C$59,$O91:$X91),\"-\")","v":3.6392009117913013},{"$f":"IF(AA$60<=vantHoff_EOS!$N$19,Phi_i_NS_Tci_Pci_wi_kijm_TinC_PinPa_yi(AA$3,vantHoff_EOS!$N$19,vantHoff_EOS!$X$5:$X$14,vantHoff_EOS!$Y$5:$Y$14,vantHoff_EOS!$Z$5:$Z$14,vantHoff_EOS!$AE$5:$AN$14,C91,$C$59,$O91:$X91),\"-\")","v":1.1061296355887016},{"$f":"IF(AB$60<=vantHoff_EOS!$N$19,Phi_i_NS_Tci_Pci_wi_kijm_TinC_PinPa_yi(AB$3,vantHoff_EOS!$N$19,vantHoff_EOS!$X$5:$X$14,vantHoff_EOS!$Y$5:$Y$14,vantHoff_EOS!$Z$5:$Z$14,vantHoff_EOS!$AE$5:$AN$14,D91,$C$59,$O91:$X91),\"-\")","v":6.5041001559425701E-2},{"$f":"IF(AC$60<=vantHoff_EOS!$N$19,Phi_i_NS_Tci_Pci_wi_kijm_TinC_PinPa_yi(AC$3,vantHoff_EOS!$N$19,vantHoff_EOS!$X$5:$X$14,vantHoff_EOS!$Y$5:$Y$14,vantHoff_EOS!$Z$5:$Z$14,vantHoff_EOS!$AE$5:$AN$14,E91,$C$59,$O91:$X91),\"-\")","v":1.1226481176806989E-3},{"$f":"IF(AD$60<=vantHoff_EOS!$N$19,Phi_i_NS_Tci_Pci_wi_kijm_TinC_PinPa_yi(AD$3,vantHoff_EOS!$N$19,vantHoff_EOS!$X$5:$X$14,vantHoff_EOS!$Y$5:$Y$14,vantHoff_EOS!$Z$5:$Z$14,vantHoff_EOS!$AE$5:$AN$14,F91,$C$59,$O91:$X91),\"-\")","v":0.99949037936516238},{"$f":"IF(AE$60<=vantHoff_EOS!$N$19,Phi_i_NS_Tci_Pci_wi_kijm_TinC_PinPa_yi(AE$3,vantHoff_EOS!$N$19,vantHoff_EOS!$X$5:$X$14,vantHoff_EOS!$Y$5:$Y$14,vantHoff_EOS!$Z$5:$Z$14,vantHoff_EOS!$AE$5:$AN$14,G91,$C$59,$O91:$X91),\"-\")","v":"-"},{"$f":"IF(AF$60<=vantHoff_EOS!$N$19,Phi_i_NS_Tci_Pci_wi_kijm_TinC_PinPa_yi(AF$3,vantHoff_EOS!$N$19,vantHoff_EOS!$X$5:$X$14,vantHoff_EOS!$Y$5:$Y$14,vantHoff_EOS!$Z$5:$Z$14,vantHoff_EOS!$AE$5:$AN$14,H91,$C$59,$O91:$X91),\"-\")","v":"-"},{"$f":"IF(AG$60<=vantHoff_EOS!$N$19,Phi_i_NS_Tci_Pci_wi_kijm_TinC_PinPa_yi(AG$3,vantHoff_EOS!$N$19,vantHoff_EOS!$X$5:$X$14,vantHoff_EOS!$Y$5:$Y$14,vantHoff_EOS!$Z$5:$Z$14,vantHoff_EOS!$AE$5:$AN$14,I91,$C$59,$O91:$X91),\"-\")","v":"-"},{"$f":"IF(AH$60<=vantHoff_EOS!$N$19,Phi_i_NS_Tci_Pci_wi_kijm_TinC_PinPa_yi(AH$3,vantHoff_EOS!$N$19,vantHoff_EOS!$X$5:$X$14,vantHoff_EOS!$Y$5:$Y$14,vantHoff_EOS!$Z$5:$Z$14,vantHoff_EOS!$AE$5:$AN$14,J91,$C$59,$O91:$X91),\"-\")","v":"-"},{"$f":"IF(AI$60<=vantHoff_EOS!$N$19,Phi_i_NS_Tci_Pci_wi_kijm_TinC_PinPa_yi(AI$3,vantHoff_EOS!$N$19,vantHoff_EOS!$X$5:$X$14,vantHoff_EOS!$Y$5:$Y$14,vantHoff_EOS!$Z$5:$Z$14,vantHoff_EOS!$AE$5:$AN$14,K91,$C$59,$O91:$X91),\"-\")","v":"-"}]
[32,{"$f":"B91+vantHoff_EOS!$B$31","v":62},335.15,2.9837386244964941E-3,{"$f":"lnKaT_Tref_lnKaTref_dHTref_da_db_dc_dd_de_TinC(vantHoff_EOS!$E$7,vantHoff_EOS!$B$9,vantHoff_EOS!$B$6,vantHoff_EOS!$O$27,vantHoff_EOS!$P$27,vantHoff_EOS!$Q$27,vantHoff_EOS!$R$27,vantHoff_EOS!$S$27,B92)","v":11.122057619718296},67646.954879511701,{"$f":"MolarExtentX_NS_vi_n0i_dHfi_dGfi_TrefinC_da_db_dc_dd_de_Tci_Pci_wi_kijm_TinC_PinPa(vantHoff_EOS!$N$19,vantHoff_EOS!$O$23:$X$23,vantHoff_EOS!$O$31:$X$31,vantHoff_EOS!$T$5:$T$14,vantHoff_EOS!$U$5:$U$14,vantHoff_EOS!$E$7,vantHoff_EOS!$O$27,vantHoff_EOS!$P$27,vantHoff_EOS!$Q$27,vantHoff_EOS!$R$27,vantHoff_EOS!$S$27,vantHoff_EOS!$X$5:$X$14,vantHoff_EOS!$Y$5:$Y$14,vantHoff_EOS!$Z$5:$Z$14,vantHoff_EOS!$AE$5:$AN$14,B92,$C$59)","v":0.99940001926480493},{"$f":"Ky_NS_n0i_vi_X(vantHoff_EOS!$N$19,vantHoff_EOS!$O$31:$X$31,vantHoff_EOS!$O$23:$X$23,G92)","v":321947087870.91614},{"$f":"Kp_NS_vi_PinPa(vantHoff_EOS!$N$19,vantHoff_EOS!$O$23:$X$23,$C$59)","v":6.9444444444444444E-5},{"$f":"Kphi_NS_n0i_vi_X_Tci_Pci_wi_kijm_TinC_PinPa(vantHoff_EOS!$N$19,vantHoff_EOS!$O$31:$X$31,vantHoff_EOS!$O$23:$X$23,G92,vantHoff_EOS!$X$5:$X$14,vantHoff_EOS!$Y$5:$Y$14,vantHoff_EOS!$Z$5:$Z$14,vantHoff_EOS!$AE$5:$AN$14,B92,$C$59)","v":3.0257026063064815E-3},26.497653045606004,-9.5749834855640916,-5.8006119479214338,{"$f":"nT_NS_n0i_vi_X(vantHoff_EOS!$N$19,vantHoff_EOS!$O$31:$X$31,vantHoff_EOS!$O$23:$X$23,G92)","v":8.3411999614703909},{"$f":"IF(O$60<=vantHoff_EOS!$N$19,y_iindex_NS_n0i_vi_X(O$3,vantHoff_EOS!$N$19,vantHoff_EOS!$O$31:$X$31,vantHoff_EOS!$O$23:$X$23,$G92),\"-\")","v":7.1929786837205439E-5},{"$f":"IF(P$60<=vantHoff_EOS!$N$19,y_iindex_NS_n0i_vi_X(P$3,vantHoff_EOS!$N$19,vantHoff_EOS!$O$31:$X$31,vantHoff_EOS!$O$23:$X$23,$G92),\"-\")","v":7.1929786837205439E-5},{"$f":"IF(Q$60<=vantHoff_EOS!$N$19,y_iindex_NS_n0i_vi_X(Q$3,vantHoff_EOS!$N$19,vantHoff_EOS!$O$31:$X$31,vantHoff_EOS!$O$23:$X$23,$G92),\"-\")","v":7.1929786837205439E-5},{"$f":"IF(R$60<=vantHoff_EOS!$N$19,y_iindex_NS_n0i_vi_X(R$3,vantHoff_EOS!$N$19,vantHoff_EOS!$O$31:$X$31,vantHoff_EOS!$O$23:$X$23,$G92),\"-\")","v":0.11981489760241046},{"$f":"IF(S$60<=vantHoff_EOS!$N$19,y_iindex_NS_n0i_vi_X(S$3,vantHoff_EOS!$N$19,vantHoff_EOS!$O$31:$X$31,vantHoff_EOS!$O$23:$X$23,$G92),\"-\")","v":0.87996931303707782},{"$f":"IF(T$60<=vantHoff_EOS!$N$19,y_iindex_NS_n0i_vi_X(T$3,vantHoff_EOS!$N$19,vantHoff_EOS!$O$31:$X$31,vantHoff_EOS!$O$23:$X$23,$G92),\"-\")","v":"-"},{"$f":"IF(U$60<=vantHoff_EOS!$N$19,y_iindex_NS_n0i_vi_X(U$3,vantHoff_EOS!$N$19,vantHoff_EOS!$O$31:$X$31,vantHoff_EOS!$O$23:$X$23,$G92),\"-\")","v":"-"},{"$f":"IF(V$60<=vantHoff_EOS!$N$19,y_iindex_NS_n0i_vi_X(V$3,vantHoff_EOS!$N$19,vantHoff_EOS!$O$31:$X$31,vantHoff_EOS!$O$23:$X$23,$G92),\"-\")","v":"-"},{"$f":"IF(W$60<=vantHoff_EOS!$N$19,y_iindex_NS_n0i_vi_X(W$3,vantHoff_EOS!$N$19,vantHoff_EOS!$O$31:$X$31,vantHoff_EOS!$O$23:$X$23,$G92),\"-\")","v":"-"},{"$f":"IF(X$60<=vantHoff_EOS!$N$19,y_iindex_NS_n0i_vi_X(X$3,vantHoff_EOS!$N$19,vantHoff_EOS!$O$31:$X$31,vantHoff_EOS!$O$23:$X$23,$G92),\"-\")","v":"-"},0.99999999999999989,{"$f":"IF(Z$60<=vantHoff_EOS!$N$19,Phi_i_NS_Tci_Pci_wi_kijm_TinC_PinPa_yi(Z$3,vantHoff_EOS!$N$19,vantHoff_EOS!$X$5:$X$14,vantHoff_EOS!$Y$5:$Y$14,vantHoff_EOS!$Z$5:$Z$14,vantHoff_EOS!$AE$5:$AN$14,B92,$C$59,$O92:$X92),\"-\")","v":3.5507216983641867},{"$f":"IF(AA$60<=vantHoff_EOS!$N$19,Phi_i_NS_Tci_Pci_wi_kijm_TinC_PinPa_yi(AA$3,vantHoff_EOS!$N$19,vantHoff_EOS!$X$5:$X$14,vantHoff_EOS!$Y$5:$Y$14,vantHoff_EOS!$Z$5:$Z$14,vantHoff_EOS!$AE$5:$AN$14,C92,$C$59,$O92:$X92),\"-\")","v":1.1049720864944512},{"$f":"IF(AB$60<=vantHoff_EOS!$N$19,Phi_i_NS_Tci_Pci_wi_kijm_TinC_PinPa_yi(AB$3,vantHoff_EOS!$N$19,vantHoff_EOS!$X$5:$X$14,vantHoff_EOS!$Y$5:$Y$14,vantHoff_EOS!$Z$5:$Z$14,vantHoff_EOS!$AE$5:$AN$14,D92,$C$59,$O92:$X92),\"-\")","v":6.5040227535342318E-2},{"$f":"IF(AC$60<=vantHoff_EOS!$N$19,Phi_i_NS_Tci_Pci_wi_kijm_TinC_PinPa_yi(AC$3,vantHoff_EOS!$N$19,vantHoff_EOS!$X$5:$X$14,vantHoff_EOS!$Y$5:$Y$14,vantHoff_EOS!$Z$5:$Z$14,vantHoff_EOS!$AE$5:$AN$14,E92,$C$59,$O92:$X92),\"-\")","v":1.1076342186223072E-3},{"$f":"IF(AD$60<=vantHoff_EOS!$N$19,Phi_i_NS_Tci_Pci_wi_kijm_TinC_PinPa_yi(AD$3,vantHoff_EOS!$N$19,vantHoff_EOS!$X$5:$X$14,vantHoff_EOS!$Y$5:$Y$14,vantHoff_EOS!$Z$5:$Z$14,vantHoff_EOS!$AE$5:$AN$14,F92,$C$59,$O92:$X92),\"-\")","v":0.9993995074264258},{"$f":"IF(AE$60<=vantHoff_EOS!$N$19,Phi_i_NS_Tci_Pci_wi_kijm_TinC_PinPa_yi(AE$3,vantHoff_EOS!$N$19,vantHoff_EOS!$X$5:$X$14,vantHoff_EOS!$Y$5:$Y$14,vantHoff_EOS!$Z$5:$Z$14,vantHoff_EOS!$AE$5:$AN$14,G92,$C$59,$O92:$X92),\"-\")","v":"-"},{"$f":"IF(AF$60<=vantHoff_EOS!$N$19,Phi_i_NS_Tci_Pci_wi_kijm_TinC_PinPa_yi(AF$3,vantHoff_EOS!$N$19,vantHoff_EOS!$X$5:$X$14,vantHoff_EOS!$Y$5:$Y$14,vantHoff_EOS!$Z$5:$Z$14,vantHoff_EOS!$AE$5:$AN$14,H92,$C$59,$O92:$X92),\"-\")","v":"-"},{"$f":"IF(AG$60<=vantHoff_EOS!$N$19,Phi_i_NS_Tci_Pci_wi_kijm_TinC_PinPa_yi(AG$3,vantHoff_EOS!$N$19,vantHoff_EOS!$X$5:$X$14,vantHoff_EOS!$Y$5:$Y$14,vantHoff_EOS!$Z$5:$Z$14,vantHoff_EOS!$AE$5:$AN$14,I92,$C$59,$O92:$X92),\"-\")","v":"-"},{"$f":"IF(AH$60<=vantHoff_EOS!$N$19,Phi_i_NS_Tci_Pci_wi_kijm_TinC_PinPa_yi(AH$3,vantHoff_EOS!$N$19,vantHoff_EOS!$X$5:$X$14,vantHoff_EOS!$Y$5:$Y$14,vantHoff_EOS!$Z$5:$Z$14,vantHoff_EOS!$AE$5:$AN$14,J92,$C$59,$O92:$X92),\"-\")","v":"-"},{"$f":"IF(AI$60<=vantHoff_EOS!$N$19,Phi_i_NS_Tci_Pci_wi_kijm_TinC_PinPa_yi(AI$3,vantHoff_EOS!$N$19,vantHoff_EOS!$X$5:$X$14,vantHoff_EOS!$Y$5:$Y$14,vantHoff_EOS!$Z$5:$Z$14,vantHoff_EOS!$AE$5:$AN$14,K92,$C$59,$O92:$X92),\"-\")","v":"-"}]
[33,{"$f":"B92+vantHoff_EOS!$B$31","v":64},337.15,2.9660388551090021E-3,{"$f":"lnKaT_Tref_lnKaTref_dHTref_da_db_dc_dd_de_TinC(vantHoff_EOS!$E$7,vantHoff_EOS!$B$9,vantHoff_EOS!$B$6,vantHoff_EOS!$O$27,vantHoff_EOS!$P$27,vantHoff_EOS!$Q$27,vantHoff_EOS!$R$27,vantHoff_EOS!$S$27,B93)","v":10.87609945180132},52896.870208805347,{"$f":"MolarExtentX_NS_vi_n0i_dHfi_dGfi_TrefinC_da_db_dc_dd_de_Tci_Pci_wi_kijm_TinC_PinPa(vantHoff_EOS!$N$19,vantHoff_EOS!$O$23:$X$23,vantHoff_EOS!$O$31:$X$31,vantHoff_EOS!$T$5:$T$14,vantHoff_EOS!$U$5:$U$14,vantHoff_EOS!$E$7,vantHoff_EOS!$O$27,vantHoff_EOS!$P$27,vantHoff_EOS!$Q$27,vantHoff_EOS!$R$27,vantHoff_EOS!$S$27,vantHoff_EOS!$X$5:$X$14,vantHoff_EOS!$Y$5:$Y$14,vantHoff_EOS!$Z$5:$Z$14,vantHoff_EOS!$AE$5:$AN$14,B93,$C$59)","v":0.99932212308690127},{"$f":"Ky_NS_n0i_vi_X(vantHoff_EOS!$N$19,vantHoff_EOS!$O$31:$X$31,vantHoff_EOS!$O$23:$X$23,G93)","v":223216482752.83084},{"$f":"Kp_NS_vi_PinPa(vantHoff_EOS!$N$19,vantHoff_EOS!$O$23:$X$23,$C$59)","v":6.9444444444444444E-5},{"$f":"Kphi_NS_n0i_vi_X_Tci_Pci_wi_kijm_TinC_PinPa(vantHoff_EOS!$N$19,vantHoff_EOS!$O$31:$X$31,vantHoff_EOS!$O$23:$X$23,G93,vantHoff_EOS!$X$5:$X$14,vantHoff_EOS!$Y$5:$Y$14,vantHoff_EOS!$Z$5:$Z$14,vantHoff_EOS!$AE$5:$AN$14,B93,$C$59)","v":3.4124492892064844E-3},26.131407912185896,-9.5749834855640916,-5.6803249788872661,{"$f":"nT_NS_n0i_vi_X(vantHoff_EOS!$N$19,vantHoff_EOS!$O$31:$X$31,vantHoff_EOS!$O$23:$X$23,G93)","v":8.341355753826198},{"$f":"IF(O$60<=vantHoff_EOS!$N$19,y_iindex_NS_n0i_vi_X(O$3,vantHoff_EOS!$N$19,vantHoff_EOS!$O$31:$X$31,vantHoff_EOS!$O$23:$X$23,$G93),\"-\")","v":8.1266994611491763E-5},{"$f":"IF(P$60<=vantHoff_EOS!$N$19,y_iindex_NS_n0i_vi_X(P$3,vantHoff_EOS!$N$19,vantHoff_EOS!$O$31:$X$31,vantHoff_EOS!$O$23:$X$23,$G93),\"-\")","v":8.1266994611491763E-5},{"$f":"IF(Q$60<=vantHoff_EOS!$N$19,y_iindex_NS_n0i_vi_X(Q$3,vantHoff_EOS!$N$19,vantHoff_EOS!$O$31:$X$31,vantHoff_EOS!$O$23:$X$23,$G93),\"-\")","v":8.1266994611491763E-5},{"$f":"IF(R$60<=vantHoff_EOS!$N$19,y_iindex_NS_n0i_vi_X(R$3,vantHoff_EOS!$N$19,vantHoff_EOS!$O$31:$X$31,vantHoff_EOS!$O$23:$X$23,$G93),\"-\")","v":0.11980332125608119},{"$f":"IF(S$60<=vantHoff_EOS!$N$19,y_iindex_NS_n0i_vi_X(S$3,vantHoff_EOS!$N$19,vantHoff_EOS!$O$31:$X$31,vantHoff_EOS!$O$23:$X$23,$G93),\"-\")","v":0.87995287776008424},{"$f":"IF(T$60<=vantHoff_EOS!$N$19,y_iindex_NS_n0i_vi_X(T$3,vantHoff_EOS!$N$19,vantHoff_EOS!$O$31:$X$31,vantHoff_EOS!$O$23:$X$23,$G93),\"-\")","v":"-"},{"$f":"IF(U$60<=vantHoff_EOS!$N$19,y_iindex_NS_n0i_vi_X(U$3,vantHoff_EOS!$N$19,vantHoff_EOS!$O$31:$X$31,vantHoff_EOS!$O$23:$X$23,$G93),\"-\")","v":"-"},{"$f":"IF(V$60<=vantHoff_EOS!$N$19,y_iindex_NS_n0i_vi_X(V$3,vantHoff_EOS!$N$19,vantHoff_EOS!$O$31:$X$31,vantHoff_EOS!$O$23:$X$23,$G93),\"-\")","v":"-"},{"$f":"IF(W$60<=vantHoff_EOS!$N$19,y_iindex_NS_n0i_vi_X(W$3,vantHoff_EOS!$N$19,vantHoff_EOS!$O$31:$X$31,vantHoff_EOS!$O$23:$X$23,$G93),\"-\")","v":"-"},{"$f":"IF(X$60<=vantHoff_EOS!$N$19,y_iindex_NS_n0i_vi_X(X$3,vantHoff_EOS!$N$19,vantHoff_EOS!$O$31:$X$31,vantHoff_EOS!$O$23:$X$23,$G93),\"-\")","v":"-"},0.99999999999999989,{"$f":"IF(Z$60<=vantHoff_EOS!$N$19,Phi_i_NS_Tci_Pci_wi_kijm_TinC_PinPa_yi(Z$3,vantHoff_EOS!$N$19,vantHoff_EOS!$X$5:$X$14,vantHoff_EOS!$Y$5:$Y$14,vantHoff_EOS!$Z$5:$Z$14,vantHoff_EOS!$AE$5:$AN$14,B93,$C$59,$O93:$X93),\"-\")","v":3.4610798498042197},{"$f":"IF(AA$60<=vantHoff_EOS!$N$19,Phi_i_NS_Tci_Pci_wi_kijm_TinC_PinPa_yi(AA$3,vantHoff_EOS!$N$19,vantHoff_EOS!$X$5:$X$14,vantHoff_EOS!$Y$5:$Y$14,vantHoff_EOS!$Z$5:$Z$14,vantHoff_EOS!$AE$5:$AN$14,C93,$C$59,$O93:$X93),\"-\")","v":1.103833197512438},{"$f":"IF(AB$60<=vantHoff_EOS!$N$19,Phi_i_NS_Tci_Pci_wi_kijm_TinC_PinPa_yi(AB$3,vantHoff_EOS!$N$19,vantHoff_EOS!$X$5:$X$14,vantHoff_EOS!$Y$5:$Y$14,vantHoff_EOS!$Z$5:$Z$14,vantHoff_EOS!$AE$5:$AN$14,D93,$C$59,$O93:$X93),\"-\")","v":6.5039358532544819E-2},{"$f":"IF(AC$60<=vantHoff_EOS!$N$19,Phi_i_NS_Tci_Pci_wi_kijm_TinC_PinPa_yi(AC$3,vantHoff_EOS!$N$19,vantHoff_EOS!$X$5:$X$14,vantHoff_EOS!$Y$5:$Y$14,vantHoff_EOS!$Z$5:$Z$14,vantHoff_EOS!$AE$5:$AN$14,E93,$C$59,$O93:$X93),\"-\")","v":1.092972411175921E-3},{"$f":"IF(AD$60<=vantHoff_EOS!$N$19,Phi_i_NS_Tci_Pci_wi_kijm_TinC_PinPa_yi(AD$3,vantHoff_EOS!$N$19,vantHoff_EOS!$X$5:$X$14,vantHoff_EOS!$Y$5:$Y$14,vantHoff_EOS!$Z$5:$Z$14,vantHoff_EOS!$AE$5:$AN$14,F93,$C$59,$O93:$X93),\"-\")","v":0.99930616248473758},{"$f":"IF(AE$60<=vantHoff_EOS!$N$19,Phi_i_NS_Tci_Pci_wi_kijm_TinC_PinPa_yi(AE$3,vantHoff_EOS!$N$19,vantHoff_EOS!$X$5:$X$14,vantHoff_EOS!$Y$5:$Y$14,vantHoff_EOS!$Z$5:$Z$14,vantHoff_EOS!$AE$5:$AN$14,G93,$C$59,$O93:$X93),\"-\")","v":"-"},{"$f":"IF(AF$60<=vantHoff_EOS!$N$19,Phi_i_NS_Tci_Pci_wi_kijm_TinC_PinPa_yi(AF$3,vantHoff_EOS!$N$19,vantHoff_EOS!$X$5:$X$14,vantHoff_EOS!$Y$5:$Y$14,vantHoff_EOS!$Z$5:$Z$14,vantHoff_EOS!$AE$5:$AN$14,H93,$C$59,$O93:$X93),\"-\")","v":"-"},{"$f":"IF(AG$60<=vantHoff_EOS!$N$19,Phi_i_NS_Tci_Pci_wi_kijm_TinC_PinPa_yi(AG$3,vantHoff_EOS!$N$19,vantHoff_EOS!$X$5:$X$14,vantHoff_EOS!$Y$5:$Y$14,vantHoff_EOS!$Z$5:$Z$14,vantHoff_EOS!$AE$5:$AN$14,I93,$C$59,$O93:$X93),\"-\")","v":"-"},{"$f":"IF(AH$60<=vantHoff_EOS!$N$19,Phi_i_NS_Tci_Pci_wi_kijm_TinC_PinPa_yi(AH$3,vantHoff_EOS!$N$19,vantHoff_EOS!$X$5:$X$14,vantHoff_EOS!$Y$5:$Y$14,vantHoff_EOS!$Z$5:$Z$14,vantHoff_EOS!$AE$5:$AN$14,J93,$C$59,$O93:$X93),\"-\")","v":"-"},{"$f":"IF(AI$60<=vantHoff_EOS!$N$19,Phi_i_NS_Tci_Pci_wi_kijm_TinC_PinPa_yi(AI$3,vantHoff_EOS!$N$19,vantHoff_EOS!$X$5:$X$14,vantHoff_EOS!$Y$5:$Y$14,vantHoff_EOS!$Z$5:$Z$14,vantHoff_EOS!$AE$5:$AN$14,K93,$C$59,$O93:$X93),\"-\")","v":"-"}]
[34,{"$f":"B93+vantHoff_EOS!$B$31","v":66},339.15,2.9485478401887074E-3,{"$f":"lnKaT_Tref_lnKaTref_dHTref_da_db_dc_dd_de_TinC(vantHoff_EOS!$E$7,vantHoff_EOS!$B$9,vantHoff_EOS!$B$6,vantHoff_EOS!$O$27,vantHoff_EOS!$P$27,vantHoff_EOS!$Q$27,vantHoff_EOS!$R$27,vantHoff_EOS!$S$27,B94)","v":10.632980652953526},41480.580334564984,{"$f":"MolarExtentX_NS_vi_n0i_dHfi_dGfi_TrefinC_da_db_dc_dd_de_Tci_Pci_wi_kijm_TinC_PinPa(vantHoff_EOS!$N$19,vantHoff_EOS!$O$23:$X$23,vantHoff_EOS!$O$31:$X$31,vantHoff_EOS!$T$5:$T$14,vantHoff_EOS!$U$5:$U$14,vantHoff_EOS!$E$7,vantHoff_EOS!$O$27,vantHoff_EOS!$P$27,vantHoff_EOS!$Q$27,vantHoff_EOS!$R$27,vantHoff_EOS!$S$27,vantHoff_EOS!$X$5:$X$14,vantHoff_EOS!$Y$5:$Y$14,vantHoff_EOS!$Z$5:$Z$14,vantHoff_EOS!$AE$5:$AN$14,B94,$C$59)","v":0.99923419501254684},{"$f":"Ky_NS_n0i_vi_X(vantHoff_EOS!$N$19,vantHoff_EOS!$O$31:$X$31,vantHoff_EOS!$O$23:$X$23,G94)","v":154811891222.20197},{"$f":"Kp_NS_vi_PinPa(vantHoff_EOS!$N$19,vantHoff_EOS!$O$23:$X$23,$C$59)","v":6.9444444444444444E-5},{"$f":"Kphi_NS_n0i_vi_X_Tci_Pci_wi_kijm_TinC_PinPa(vantHoff_EOS!$N$19,vantHoff_EOS!$O$31:$X$31,vantHoff_EOS!$O$23:$X$23,G94,vantHoff_EOS!$X$5:$X$14,vantHoff_EOS!$Y$5:$Y$14,vantHoff_EOS!$Z$5:$Z$14,vantHoff_EOS!$AE$5:$AN$14,B94,$C$59)","v":3.8583622413506328E-3},25.765476611832678,-9.5749834855640916,-5.5575124753473215,{"$f":"nT_NS_n0i_vi_X(vantHoff_EOS!$N$19,vantHoff_EOS!$O$31:$X$31,vantHoff_EOS!$O$23:$X$23,G94)","v":8.3415316099749059},{"$f":"IF(O$60<=vantHoff_EOS!$N$19,y_iindex_NS_n0i_vi_X(O$3,vantHoff_EOS!$N$19,vantHoff_EOS!$O$31:$X$31,vantHoff_EOS!$O$23:$X$23,$G94),\"-\")","v":9.1806280100574918E-5},{"$f":"IF(P$60<=vantHoff_EOS!$N$19,y_iindex_NS_n0i_vi_X(P$3,vantHoff_EOS!$N$19,vantHoff_EOS!$O$31:$X$31,vantHoff_EOS!$O$23:$X$23,$G94),\"-\")","v":9.1806280100574918E-5},{"$f":"IF(Q$60<=vantHoff_EOS!$N$19,y_iindex_NS_n0i_vi_X(Q$3,vantHoff_EOS!$N$19,vantHoff_EOS!$O$31:$X$31,vantHoff_EOS!$O$23:$X$23,$G94),\"-\")","v":9.1806280100574918E-5},{"$f":"IF(R$60<=vantHoff_EOS!$N$19,y_iindex_NS_n0i_vi_X(R$3,vantHoff_EOS!$N$19,vantHoff_EOS!$O$31:$X$31,vantHoff_EOS!$O$23:$X$23,$G94),\"-\")","v":0.11979025456400001},{"$f":"IF(S$60<=vantHoff_EOS!$N$19,y_iindex_NS_n0i_vi_X(S$3,vantHoff_EOS!$N$19,vantHoff_EOS!$O$31:$X$31,vantHoff_EOS!$O$23:$X$23,$G94),\"-\")","v":0.87993432659569826},{"$f":"IF(T$60<=vantHoff_EOS!$N$19,y_iindex_NS_n0i_vi_X(T$3,vantHoff_EOS!$N$19,vantHoff_EOS!$O$31:$X$31,vantHoff_EOS!$O$23:$X$23,$G94),\"-\")","v":"-"},{"$f":"IF(U$60<=vantHoff_EOS!$N$19,y_iindex_NS_n0i_vi_X(U$3,vantHoff_EOS!$N$19,vantHoff_EOS!$O$31:$X$31,vantHoff_EOS!$O$23:$X$23,$G94),\"-\")","v":"-"},{"$f":"IF(V$60<=vantHoff_EOS!$N$19,y_iindex_NS_n0i_vi_X(V$3,vantHoff_EOS!$N$19,vantHoff_EOS!$O$31:$X$31,vantHoff_EOS!$O$23:$X$23,$G94),\"-\")","v":"-"},{"$f":"IF(W$60<=vantHoff_EOS!$N$19,y_iindex_NS_n0i_vi_X(W$3,vantHoff_EOS!$N$19,vantHoff_EOS!$O$31:$X$31,vantHoff_EOS!$O$23:$X$23,$G94),\"-\")","v":"-"},{"$f":"IF(X$60<=vantHoff_EOS!$N$19,y_iindex_NS_n0i_vi_X(X$3,vantHoff_EOS!$N$19,vantHoff_EOS!$O$31:$X$31,vantHoff_EOS!$O$23:$X$23,$G94),\"-\")","v":"-"},1,{"$f":"IF(Z$60<=vantHoff_EOS!$N$19,Phi_i_NS_Tci_Pci_wi_kijm_TinC_PinPa_yi(Z$3,vantHoff_EOS!$N$19,vantHoff_EOS!$X$5:$X$14,vantHoff_EOS!$Y$5:$Y$14,vantHoff_EOS!$Z$5:$Z$14,vantHoff_EOS!$AE$5:$AN$14,B94,$C$59,$O94:$X94),\"-\")","v":3.3703250352291159},{"$f":"IF(AA$60<=vantHoff_EOS!$N$19,Phi_i_NS_Tci_Pci_wi_kijm_TinC_PinPa_yi(AA$3,vantHoff_EOS!$N$19,vantHoff_EOS!$X$5:$X$14,vantHoff_EOS!$Y$5:$Y$14,vantHoff_EOS!$Z$5:$Z$14,vantHoff_EOS!$AE$5:$AN$14,C94,$C$59,$O94:$X94),\"-\")","v":1.1027124874940648},{"$f":"IF(AB$60<=vantHoff_EOS!$N$19,Phi_i_NS_Tci_Pci_wi_kijm_TinC_PinPa_yi(AB$3,vantHoff_EOS!$N$19,vantHoff_EOS!$X$5:$X$14,vantHoff_EOS!$Y$5:$Y$14,vantHoff_EOS!$Z$5:$Z$14,vantHoff_EOS!$AE$5:$AN$14,D94,$C$59,$O94:$X94),\"-\")","v":6.5038381916310284E-2},{"$f":"IF(AC$60<=vantHoff_EOS!$N$19,Phi_i_NS_Tci_Pci_wi_kijm_TinC_PinPa_yi(AC$3,vantHoff_EOS!$N$19,vantHoff_EOS!$X$5:$X$14,vantHoff_EOS!$Y$5:$Y$14,vantHoff_EOS!$Z$5:$Z$14,vantHoff_EOS!$AE$5:$AN$14,E94,$C$59,$O94:$X94),\"-\")","v":1.0786522748445942E-3},{"$f":"IF(AD$60<=vantHoff_EOS!$N$19,Phi_i_NS_Tci_Pci_wi_kijm_TinC_PinPa_yi(AD$3,vantHoff_EOS!$N$19,vantHoff_EOS!$X$5:$X$14,vantHoff_EOS!$Y$5:$Y$14,vantHoff_EOS!$Z$5:$Z$14,vantHoff_EOS!$AE$5:$AN$14,F94,$C$59,$O94:$X94),\"-\")","v":0.99921770614960759},{"$f":"IF(AE$60<=vantHoff_EOS!$N$19,Phi_i_NS_Tci_Pci_wi_kijm_TinC_PinPa_yi(AE$3,vantHoff_EOS!$N$19,vantHoff_EOS!$X$5:$X$14,vantHoff_EOS!$Y$5:$Y$14,vantHoff_EOS!$Z$5:$Z$14,vantHoff_EOS!$AE$5:$AN$14,G94,$C$59,$O94:$X94),\"-\")","v":"-"},{"$f":"IF(AF$60<=vantHoff_EOS!$N$19,Phi_i_NS_Tci_Pci_wi_kijm_TinC_PinPa_yi(AF$3,vantHoff_EOS!$N$19,vantHoff_EOS!$X$5:$X$14,vantHoff_EOS!$Y$5:$Y$14,vantHoff_EOS!$Z$5:$Z$14,vantHoff_EOS!$AE$5:$AN$14,H94,$C$59,$O94:$X94),\"-\")","v":"-"},{"$f":"IF(AG$60<=vantHoff_EOS!$N$19,Phi_i_NS_Tci_Pci_wi_kijm_TinC_PinPa_yi(AG$3,vantHoff_EOS!$N$19,vantHoff_EOS!$X$5:$X$14,vantHoff_EOS!$Y$5:$Y$14,vantHoff_EOS!$Z$5:$Z$14,vantHoff_EOS!$AE$5:$AN$14,I94,$C$59,$O94:$X94),\"-\")","v":"-"},{"$f":"IF(AH$60<=vantHoff_EOS!$N$19,Phi_i_NS_Tci_Pci_wi_kijm_TinC_PinPa_yi(AH$3,vantHoff_EOS!$N$19,vantHoff_EOS!$X$5:$X$14,vantHoff_EOS!$Y$5:$Y$14,vantHoff_EOS!$Z$5:$Z$14,vantHoff_EOS!$AE$5:$AN$14,J94,$C$59,$O94:$X94),\"-\")","v":"-"},{"$f":"IF(AI$60<=vantHoff_EOS!$N$19,Phi_i_NS_Tci_Pci_wi_kijm_TinC_PinPa_yi(AI$3,vantHoff_EOS!$N$19,vantHoff_EOS!$X$5:$X$14,vantHoff_EOS!$Y$5:$Y$14,vantHoff_EOS!$Z$5:$Z$14,vantHoff_EOS!$AE$5:$AN$14,K94,$C$59,$O94:$X94),\"-\")","v":"-"}]
[35,{"$f":"B94+vantHoff_EOS!$B$31","v":68},341.15,2.9312619082515023E-3,{"$f":"lnKaT_Tref_lnKaTref_dHTref_da_db_dc_dd_de_TinC(vantHoff_EOS!$E$7,vantHoff_EOS!$B$9,vantHoff_EOS!$B$6,vantHoff_EOS!$O$27,vantHoff_EOS!$P$27,vantHoff_EOS!$Q$27,vantHoff_EOS!$R$27,vantHoff_EOS!$S$27,B95)","v":10.392652061363064},32619.060074376444,{"$f":"MolarExtentX_NS_vi_n0i_dHfi_dGfi_TrefinC_da_db_dc_dd_de_Tci_Pci_wi_kijm_TinC_PinPa(vantHoff_EOS!$N$19,vantHoff_EOS!$O$23:$X$23,vantHoff_EOS!$O$31:$X$31,vantHoff_EOS!$T$5:$T$14,vantHoff_EOS!$U$5:$U$14,vantHoff_EOS!$E$7,vantHoff_EOS!$O$27,vantHoff_EOS!$P$27,vantHoff_EOS!$Q$27,vantHoff_EOS!$R$27,vantHoff_EOS!$S$27,vantHoff_EOS!$X$5:$X$14,vantHoff_EOS!$Y$5:$Y$14,vantHoff_EOS!$Z$5:$Z$14,vantHoff_EOS!$AE$5:$AN$14,B95,$C$59)","v":0.99913489039672509},{"$f":"Ky_NS_n0i_vi_X(vantHoff_EOS!$N$19,vantHoff_EOS!$O$31:$X$31,vantHoff_EOS!$O$23:$X$23,G95)","v":107379902780.9877},{"$f":"Kp_NS_vi_PinPa(vantHoff_EOS!$N$19,vantHoff_EOS!$O$23:$X$23,$C$59)","v":6.9444444444444444E-5},{"$f":"Kphi_NS_n0i_vi_X_Tci_Pci_wi_kijm_TinC_PinPa(vantHoff_EOS!$N$19,vantHoff_EOS!$O$31:$X$31,vantHoff_EOS!$O$23:$X$23,G95,vantHoff_EOS!$X$5:$X$14,vantHoff_EOS!$Y$5:$Y$14,vantHoff_EOS!$Z$5:$Z$14,vantHoff_EOS!$AE$5:$AN$14,B95,$C$59)","v":4.3743238023809744E-3},25.399638876566868,-9.5749834855640916,-5.4320033305738802,{"$f":"nT_NS_n0i_vi_X(vantHoff_EOS!$N$19,vantHoff_EOS!$O$31:$X$31,vantHoff_EOS!$O$23:$X$23,G95)","v":8.3417302192065499},{"$f":"IF(O$60<=vantHoff_EOS!$N$19,y_iindex_NS_n0i_vi_X(O$3,vantHoff_EOS!$N$19,vantHoff_EOS!$O$31:$X$31,vantHoff_EOS!$O$23:$X$23,$G95),\"-\")","v":1.0370865282636683E-4},{"$f":"IF(P$60<=vantHoff_EOS!$N$19,y_iindex_NS_n0i_vi_X(P$3,vantHoff_EOS!$N$19,vantHoff_EOS!$O$31:$X$31,vantHoff_EOS!$O$23:$X$23,$G95),\"-\")","v":1.0370865282636683E-4},{"$f":"IF(Q$60<=vantHoff_EOS!$N$19,y_iindex_NS_n0i_vi_X(Q$3,vantHoff_EOS!$N$19,vantHoff_EOS!$O$31:$X$31,vantHoff_EOS!$O$23:$X$23,$G95),\"-\")","v":1.0370865282636683E-4},{"$f":"IF(R$60<=vantHoff_EOS!$N$19,y_iindex_NS_n0i_vi_X(R$3,vantHoff_EOS!$N$19,vantHoff_EOS!$O$31:$X$31,vantHoff_EOS!$O$23:$X$23,$G95),\"-\")","v":0.11977549790524884},{"$f":"IF(S$60<=vantHoff_EOS!$N$19,y_iindex_NS_n0i_vi_X(S$3,vantHoff_EOS!$N$19,vantHoff_EOS!$O$31:$X$31,vantHoff_EOS!$O$23:$X$23,$G95),\"-\")","v":0.87991337613627207},{"$f":"IF(T$60<=vantHoff_EOS!$N$19,y_iindex_NS_n0i_vi_X(T$3,vantHoff_EOS!$N$19,vantHoff_EOS!$O$31:$X$31,vantHoff_EOS!$O$23:$X$23,$G95),\"-\")","v":"-"},{"$f":"IF(U$60<=vantHoff_EOS!$N$19,y_iindex_NS_n0i_vi_X(U$3,vantHoff_EOS!$N$19,vantHoff_EOS!$O$31:$X$31,vantHoff_EOS!$O$23:$X$23,$G95),\"-\")","v":"-"},{"$f":"IF(V$60<=vantHoff_EOS!$N$19,y_iindex_NS_n0i_vi_X(V$3,vantHoff_EOS!$N$19,vantHoff_EOS!$O$31:$X$31,vantHoff_EOS!$O$23:$X$23,$G95),\"-\")","v":"-"},{"$f":"IF(W$60<=vantHoff_EOS!$N$19,y_iindex_NS_n0i_vi_X(W$3,vantHoff_EOS!$N$19,vantHoff_EOS!$O$31:$X$31,vantHoff_EOS!$O$23:$X$23,$G95),\"-\")","v":"-"},{"$f":"IF(X$60<=vantHoff_EOS!$N$19,y_iindex_NS_n0i_vi_X(X$3,vantHoff_EOS!$N$19,vantHoff_EOS!$O$31:$X$31,vantHoff_EOS!$O$23:$X$23,$G95),\"-\")","v":"-"},1,{"$f":"IF(Z$60<=vantHoff_EOS!$N$19,Phi_i_NS_Tci_Pci_wi_kijm_TinC_PinPa_yi(Z$3,vantHoff_EOS!$N$19,vantHoff_EOS!$X$5:$X$14,vantHoff_EOS!$Y$5:$Y$14,vantHoff_EOS!$Z$5:$Z$14,vantHoff_EOS!$AE$5:$AN$14,B95,$C$59,$O95:$X95),\"-\")","v":3.278526828426271},{"$f":"IF(AA$60<=vantHoff_EOS!$N$19,Phi_i_NS_Tci_Pci_wi_kijm_TinC_PinPa_yi(AA$3,vantHoff_EOS!$N$19,vantHoff_EOS!$X$5:$X$14,vantHoff_EOS!$Y$5:$Y$14,vantHoff_EOS!$Z$5:$Z$14,vantHoff_EOS!$AE$5:$AN$14,C95,$C$59,$O95:$X95),\"-\")","v":1.1016094806708452},{"$f":"IF(AB$60<=vantHoff_EOS!$N$19,Phi_i_NS_Tci_Pci_wi_kijm_TinC_PinPa_yi(AB$3,vantHoff_EOS!$N$19,vantHoff_EOS!$X$5:$X$14,vantHoff_EOS!$Y$5:$Y$14,vantHoff_EOS!$Z$5:$Z$14,vantHoff_EOS!$AE$5:$AN$14,D95,$C$59,$O95:$X95),\"-\")","v":6.5037283262982901E-2},{"$f":"IF(AC$60<=vantHoff_EOS!$N$19,Phi_i_NS_Tci_Pci_wi_kijm_TinC_PinPa_yi(AC$3,vantHoff_EOS!$N$19,vantHoff_EOS!$X$5:$X$14,vantHoff_EOS!$Y$5:$Y$14,vantHoff_EOS!$Z$5:$Z$14,vantHoff_EOS!$AE$5:$AN$14,E95,$C$59,$O95:$X95),\"-\")","v":1.0646638504391258E-3},{"$f":"IF(AD$60<=vantHoff_EOS!$N$19,Phi_i_NS_Tci_Pci_wi_kijm_TinC_PinPa_yi(AD$3,vantHoff_EOS!$N$19,vantHoff_EOS!$X$5:$X$14,vantHoff_EOS!$Y$5:$Y$14,vantHoff_EOS!$Z$5:$Z$14,vantHoff_EOS!$AE$5:$AN$14,F95,$C$59,$O95:$X95),\"-\")","v":0.99914568453924379},{"$f":"IF(AE$60<=vantHoff_EOS!$N$19,Phi_i_NS_Tci_Pci_wi_kijm_TinC_PinPa_yi(AE$3,vantHoff_EOS!$N$19,vantHoff_EOS!$X$5:$X$14,vantHoff_EOS!$Y$5:$Y$14,vantHoff_EOS!$Z$5:$Z$14,vantHoff_EOS!$AE$5:$AN$14,G95,$C$59,$O95:$X95),\"-\")","v":"-"},{"$f":"IF(AF$60<=vantHoff_EOS!$N$19,Phi_i_NS_Tci_Pci_wi_kijm_TinC_PinPa_yi(AF$3,vantHoff_EOS!$N$19,vantHoff_EOS!$X$5:$X$14,vantHoff_EOS!$Y$5:$Y$14,vantHoff_EOS!$Z$5:$Z$14,vantHoff_EOS!$AE$5:$AN$14,H95,$C$59,$O95:$X95),\"-\")","v":"-"},{"$f":"IF(AG$60<=vantHoff_EOS!$N$19,Phi_i_NS_Tci_Pci_wi_kijm_TinC_PinPa_yi(AG$3,vantHoff_EOS!$N$19,vantHoff_EOS!$X$5:$X$14,vantHoff_EOS!$Y$5:$Y$14,vantHoff_EOS!$Z$5:$Z$14,vantHoff_EOS!$AE$5:$AN$14,I95,$C$59,$O95:$X95),\"-\")","v":"-"},{"$f":"IF(AH$60<=vantHoff_EOS!$N$19,Phi_i_NS_Tci_Pci_wi_kijm_TinC_PinPa_yi(AH$3,vantHoff_EOS!$N$19,vantHoff_EOS!$X$5:$X$14,vantHoff_EOS!$Y$5:$Y$14,vantHoff_EOS!$Z$5:$Z$14,vantHoff_EOS!$AE$5:$AN$14,J95,$C$59,$O95:$X95),\"-\")","v":"-"},{"$f":"IF(AI$60<=vantHoff_EOS!$N$19,Phi_i_NS_Tci_Pci_wi_kijm_TinC_PinPa_yi(AI$3,vantHoff_EOS!$N$19,vantHoff_EOS!$X$5:$X$14,vantHoff_EOS!$Y$5:$Y$14,vantHoff_EOS!$Z$5:$Z$14,vantHoff_EOS!$AE$5:$AN$14,K95,$C$59,$O95:$X95),\"-\")","v":"-"}]
[36,{"$f":"B95+vantHoff_EOS!$B$31","v":70},343.15,2.9141774734081308E-3,{"$f":"lnKaT_Tref_lnKaTref_dHTref_da_db_dc_dd_de_TinC(vantHoff_EOS!$E$7,vantHoff_EOS!$B$9,vantHoff_EOS!$B$6,vantHoff_EOS!$O$27,vantHoff_EOS!$P$27,vantHoff_EOS!$Q$27,vantHoff_EOS!$R$27,vantHoff_EOS!$S$27,B96)","v":10.155065653795742},25721.066770546699,{"$f":"MolarExtentX_NS_vi_n0i_dHfi_dGfi_TrefinC_da_db_dc_dd_de_Tci_Pci_wi_kijm_TinC_PinPa(vantHoff_EOS!$N$19,vantHoff_EOS!$O$23:$X$23,vantHoff_EOS!$O$31:$X$31,vantHoff_EOS!$T$5:$T$14,vantHoff_EOS!$U$5:$U$14,vantHoff_EOS!$E$7,vantHoff_EOS!$O$27,vantHoff_EOS!$P$27,vantHoff_EOS!$Q$27,vantHoff_EOS!$R$27,vantHoff_EOS!$S$27,vantHoff_EOS!$X$5:$X$14,vantHoff_EOS!$Y$5:$Y$14,vantHoff_EOS!$Z$5:$Z$14,vantHoff_EOS!$AE$5:$AN$14,B96,$C$59)","v":0.99902267355539787},{"$f":"Ky_NS_n0i_vi_X(vantHoff_EOS!$N$19,vantHoff_EOS!$O$31:$X$31,vantHoff_EOS!$O$23:$X$23,G96)","v":74471833098.277573},{"$f":"Kp_NS_vi_PinPa(vantHoff_EOS!$N$19,vantHoff_EOS!$O$23:$X$23,$C$59)","v":6.9444444444444444E-5},{"$f":"Kphi_NS_n0i_vi_X_Tci_Pci_wi_kijm_TinC_PinPa(vantHoff_EOS!$N$19,vantHoff_EOS!$O$31:$X$31,vantHoff_EOS!$O$23:$X$23,G96,vantHoff_EOS!$X$5:$X$14,vantHoff_EOS!$Y$5:$Y$14,vantHoff_EOS!$Z$5:$Z$14,vantHoff_EOS!$AE$5:$AN$14,B96,$C$59)","v":4.9734691082988225E-3},25.033686811624207,-9.5749834855640916,-5.3036376726510088,{"$f":"nT_NS_n0i_vi_X(vantHoff_EOS!$N$19,vantHoff_EOS!$O$31:$X$31,vantHoff_EOS!$O$23:$X$23,G96)","v":8.3419546528892035},{"$f":"IF(O$60<=vantHoff_EOS!$N$19,y_iindex_NS_n0i_vi_X(O$3,vantHoff_EOS!$N$19,vantHoff_EOS!$O$31:$X$31,vantHoff_EOS!$O$23:$X$23,$G96),\"-\")","v":1.1715796660002705E-4},{"$f":"IF(P$60<=vantHoff_EOS!$N$19,y_iindex_NS_n0i_vi_X(P$3,vantHoff_EOS!$N$19,vantHoff_EOS!$O$31:$X$31,vantHoff_EOS!$O$23:$X$23,$G96),\"-\")","v":1.1715796660002705E-4},{"$f":"IF(Q$60<=vantHoff_EOS!$N$19,y_iindex_NS_n0i_vi_X(Q$3,vantHoff_EOS!$N$19,vantHoff_EOS!$O$31:$X$31,vantHoff_EOS!$O$23:$X$23,$G96),\"-\")","v":1.1715796660002705E-4},{"$f":"IF(R$60<=vantHoff_EOS!$N$19,y_iindex_NS_n0i_vi_X(R$3,vantHoff_EOS!$N$19,vantHoff_EOS!$O$31:$X$31,vantHoff_EOS!$O$23:$X$23,$G96),\"-\")","v":0.1197588233363736},{"$f":"IF(S$60<=vantHoff_EOS!$N$19,y_iindex_NS_n0i_vi_X(S$3,vantHoff_EOS!$N$19,vantHoff_EOS!$O$31:$X$31,vantHoff_EOS!$O$23:$X$23,$G96),\"-\")","v":0.87988970276382639},{"$f":"IF(T$60<=vantHoff_EOS!$N$19,y_iindex_NS_n0i_vi_X(T$3,vantHoff_EOS!$N$19,vantHoff_EOS!$O$31:$X$31,vantHoff_EOS!$O$23:$X$23,$G96),\"-\")","v":"-"},{"$f":"IF(U$60<=vantHoff_EOS!$N$19,y_iindex_NS_n0i_vi_X(U$3,vantHoff_EOS!$N$19,vantHoff_EOS!$O$31:$X$31,vantHoff_EOS!$O$23:$X$23,$G96),\"-\")","v":"-"},{"$f":"IF(V$60<=vantHoff_EOS!$N$19,y_iindex_NS_n0i_vi_X(V$3,vantHoff_EOS!$N$19,vantHoff_EOS!$O$31:$X$31,vantHoff_EOS!$O$23:$X$23,$G96),\"-\")","v":"-"},{"$f":"IF(W$60<=vantHoff_EOS!$N$19,y_iindex_NS_n0i_vi_X(W$3,vantHoff_EOS!$N$19,vantHoff_EOS!$O$31:$X$31,vantHoff_EOS!$O$23:$X$23,$G96),\"-\")","v":"-"},{"$f":"IF(X$60<=vantHoff_EOS!$N$19,y_iindex_NS_n0i_vi_X(X$3,vantHoff_EOS!$N$19,vantHoff_EOS!$O$31:$X$31,vantHoff_EOS!$O$23:$X$23,$G96),\"-\")","v":"-"},1,{"$f":"IF(Z$60<=vantHoff_EOS!$N$19,Phi_i_NS_Tci_Pci_wi_kijm_TinC_PinPa_yi(Z$3,vantHoff_EOS!$N$19,vantHoff_EOS!$X$5:$X$14,vantHoff_EOS!$Y$5:$Y$14,vantHoff_EOS!$Z$5:$Z$14,vantHoff_EOS!$AE$5:$AN$14,B96,$C$59,$O96:$X96),\"-\")","v":3.1857813051194221},{"$f":"IF(AA$60<=vantHoff_EOS!$N$19,Phi_i_NS_Tci_Pci_wi_kijm_TinC_PinPa_yi(AA$3,vantHoff_EOS!$N$19,vantHoff_EOS!$X$5:$X$14,vantHoff_EOS!$Y$5:$Y$14,vantHoff_EOS!$Z$5:$Z$14,vantHoff_EOS!$AE$5:$AN$14,C96,$C$59,$O96:$X96),\"-\")","v":1.1005237053618047},{"$f":"IF(AB$60<=vantHoff_EOS!$N$19,Phi_i_NS_Tci_Pci_wi_kijm_TinC_PinPa_yi(AB$3,vantHoff_EOS!$N$19,vantHoff_EOS!$X$5:$X$14,vantHoff_EOS!$Y$5:$Y$14,vantHoff_EOS!$Z$5:$Z$14,vantHoff_EOS!$AE$5:$AN$14,D96,$C$59,$O96:$X96),\"-\")","v":6.5036046115106161E-2},{"$f":"IF(AC$60<=vantHoff_EOS!$N$19,Phi_i_NS_Tci_Pci_wi_kijm_TinC_PinPa_yi(AC$3,vantHoff_EOS!$N$19,vantHoff_EOS!$X$5:$X$14,vantHoff_EOS!$Y$5:$Y$14,vantHoff_EOS!$Z$5:$Z$14,vantHoff_EOS!$AE$5:$AN$14,E96,$C$59,$O96:$X96),\"-\")","v":1.0509976274915591E-3},{"$f":"IF(AD$60<=vantHoff_EOS!$N$19,Phi_i_NS_Tci_Pci_wi_kijm_TinC_PinPa_yi(AD$3,vantHoff_EOS!$N$19,vantHoff_EOS!$X$5:$X$14,vantHoff_EOS!$Y$5:$Y$14,vantHoff_EOS!$Z$5:$Z$14,vantHoff_EOS!$AE$5:$AN$14,F96,$C$59,$O96:$X96),\"-\")","v":0.99910723875734186},{"$f":"IF(AE$60<=vantHoff_EOS!$N$19,Phi_i_NS_Tci_Pci_wi_kijm_TinC_PinPa_yi(AE$3,vantHoff_EOS!$N$19,vantHoff_EOS!$X$5:$X$14,vantHoff_EOS!$Y$5:$Y$14,vantHoff_EOS!$Z$5:$Z$14,vantHoff_EOS!$AE$5:$AN$14,G96,$C$59,$O96:$X96),\"-\")","v":"-"},{"$f":"IF(AF$60<=vantHoff_EOS!$N$19,Phi_i_NS_Tci_Pci_wi_kijm_TinC_PinPa_yi(AF$3,vantHoff_EOS!$N$19,vantHoff_EOS!$X$5:$X$14,vantHoff_EOS!$Y$5:$Y$14,vantHoff_EOS!$Z$5:$Z$14,vantHoff_EOS!$AE$5:$AN$14,H96,$C$59,$O96:$X96),\"-\")","v":"-"},{"$f":"IF(AG$60<=vantHoff_EOS!$N$19,Phi_i_NS_Tci_Pci_wi_kijm_TinC_PinPa_yi(AG$3,vantHoff_EOS!$N$19,vantHoff_EOS!$X$5:$X$14,vantHoff_EOS!$Y$5:$Y$14,vantHoff_EOS!$Z$5:$Z$14,vantHoff_EOS!$AE$5:$AN$14,I96,$C$59,$O96:$X96),\"-\")","v":"-"},{"$f":"IF(AH$60<=vantHoff_EOS!$N$19,Phi_i_NS_Tci_Pci_wi_kijm_TinC_PinPa_yi(AH$3,vantHoff_EOS!$N$19,vantHoff_EOS!$X$5:$X$14,vantHoff_EOS!$Y$5:$Y$14,vantHoff_EOS!$Z$5:$Z$14,vantHoff_EOS!$AE$5:$AN$14,J96,$C$59,$O96:$X96),\"-\")","v":"-"},{"$f":"IF(AI$60<=vantHoff_EOS!$N$19,Phi_i_NS_Tci_Pci_wi_kijm_TinC_PinPa_yi(AI$3,vantHoff_EOS!$N$19,vantHoff_EOS!$X$5:$X$14,vantHoff_EOS!$Y$5:$Y$14,vantHoff_EOS!$Z$5:$Z$14,vantHoff_EOS!$AE$5:$AN$14,K96,$C$59,$O96:$X96),\"-\")","v":"-"}]
[37,{"$f":"B96+vantHoff_EOS!$B$31","v":72},345.15,2.8972910328842532E-3,{"$f":"lnKaT_Tref_lnKaTref_dHTref_da_db_dc_dd_de_TinC(vantHoff_EOS!$E$7,vantHoff_EOS!$B$9,vantHoff_EOS!$B$6,vantHoff_EOS!$O$27,vantHoff_EOS!$P$27,vantHoff_EOS!$Q$27,vantHoff_EOS!$R$27,vantHoff_EOS!$S$27,B97)","v":9.9201745127194485},20336.539303436715,{"$f":"MolarExtentX_NS_vi_n0i_dHfi_dGfi_TrefinC_da_db_dc_dd_de_Tci_Pci_wi_kijm_TinC_PinPa(vantHoff_EOS!$N$19,vantHoff_EOS!$O$23:$X$23,vantHoff_EOS!$O$31:$X$31,vantHoff_EOS!$T$5:$T$14,vantHoff_EOS!$U$5:$U$14,vantHoff_EOS!$E$7,vantHoff_EOS!$O$27,vantHoff_EOS!$P$27,vantHoff_EOS!$Q$27,vantHoff_EOS!$R$27,vantHoff_EOS!$S$27,vantHoff_EOS!$X$5:$X$14,vantHoff_EOS!$Y$5:$Y$14,vantHoff_EOS!$Z$5:$Z$14,vantHoff_EOS!$AE$5:$AN$14,B97,$C$59)","v":0.99889579347851776},{"$f":"Ky_NS_n0i_vi_X(vantHoff_EOS!$N$19,vantHoff_EOS!$O$31:$X$31,vantHoff_EOS!$O$23:$X$23,G97)","v":51633472328.802391},{"$f":"Kp_NS_vi_PinPa(vantHoff_EOS!$N$19,vantHoff_EOS!$O$23:$X$23,$C$59)","v":6.9444444444444444E-5},{"$f":"Kphi_NS_n0i_vi_X_Tci_Pci_wi_kijm_TinC_PinPa(vantHoff_EOS!$N$19,vantHoff_EOS!$O$31:$X$31,vantHoff_EOS!$O$23:$X$23,G97,vantHoff_EOS!$X$5:$X$14,vantHoff_EOS!$Y$5:$Y$14,vantHoff_EOS!$Z$5:$Z$14,vantHoff_EOS!$AE$5:$AN$14,B97,$C$59)","v":5.6716341690849058E-3},24.66743598766914,-9.5749834855640916,-5.1722779895254467,{"$f":"nT_NS_n0i_vi_X(vantHoff_EOS!$N$19,vantHoff_EOS!$O$31:$X$31,vantHoff_EOS!$O$23:$X$23,G97)","v":8.3422084130429646},{"$f":"IF(O$60<=vantHoff_EOS!$N$19,y_iindex_NS_n0i_vi_X(O$3,vantHoff_EOS!$N$19,vantHoff_EOS!$O$31:$X$31,vantHoff_EOS!$O$23:$X$23,$G97),\"-\")","v":1.3236381385003834E-4},{"$f":"IF(P$60<=vantHoff_EOS!$N$19,y_iindex_NS_n0i_vi_X(P$3,vantHoff_EOS!$N$19,vantHoff_EOS!$O$31:$X$31,vantHoff_EOS!$O$23:$X$23,$G97),\"-\")","v":1.3236381385003834E-4},{"$f":"IF(Q$60<=vantHoff_EOS!$N$19,y_iindex_NS_n0i_vi_X(Q$3,vantHoff_EOS!$N$19,vantHoff_EOS!$O$31:$X$31,vantHoff_EOS!$O$23:$X$23,$G97),\"-\")","v":1.3236381385003834E-4},{"$f":"IF(R$60<=vantHoff_EOS!$N$19,y_iindex_NS_n0i_vi_X(R$3,vantHoff_EOS!$N$19,vantHoff_EOS!$O$31:$X$31,vantHoff_EOS!$O$23:$X$23,$G97),\"-\")","v":0.1197399710029725},{"$f":"IF(S$60<=vantHoff_EOS!$N$19,y_iindex_NS_n0i_vi_X(S$3,vantHoff_EOS!$N$19,vantHoff_EOS!$O$31:$X$31,vantHoff_EOS!$O$23:$X$23,$G97),\"-\")","v":0.8798629375554774},{"$f":"IF(T$60<=vantHoff_EOS!$N$19,y_iindex_NS_n0i_vi_X(T$3,vantHoff_EOS!$N$19,vantHoff_EOS!$O$31:$X$31,vantHoff_EOS!$O$23:$X$23,$G97),\"-\")","v":"-"},{"$f":"IF(U$60<=vantHoff_EOS!$N$19,y_iindex_NS_n0i_vi_X(U$3,vantHoff_EOS!$N$19,vantHoff_EOS!$O$31:$X$31,vantHoff_EOS!$O$23:$X$23,$G97),\"-\")","v":"-"},{"$f":"IF(V$60<=vantHoff_EOS!$N$19,y_iindex_NS_n0i_vi_X(V$3,vantHoff_EOS!$N$19,vantHoff_EOS!$O$31:$X$31,vantHoff_EOS!$O$23:$X$23,$G97),\"-\")","v":"-"},{"$f":"IF(W$60<=vantHoff_EOS!$N$19,y_iindex_NS_n0i_vi_X(W$3,vantHoff_EOS!$N$19,vantHoff_EOS!$O$31:$X$31,vantHoff_EOS!$O$23:$X$23,$G97),\"-\")","v":"-"},{"$f":"IF(X$60<=vantHoff_EOS!$N$19,y_iindex_NS_n0i_vi_X(X$3,vantHoff_EOS!$N$19,vantHoff_EOS!$O$31:$X$31,vantHoff_EOS!$O$23:$X$23,$G97),\"-\")","v":"-"},1,{"$f":"IF(Z$60<=vantHoff_EOS!$N$19,Phi_i_NS_Tci_Pci_wi_kijm_TinC_PinPa_yi(Z$3,vantHoff_EOS!$N$19,vantHoff_EOS!$X$5:$X$14,vantHoff_EOS!$Y$5:$Y$14,vantHoff_EOS!$Z$5:$Z$14,vantHoff_EOS!$AE$5:$AN$14,B97,$C$59,$O97:$X97),\"-\")","v":3.0922193287154007},{"$f":"IF(AA$60<=vantHoff_EOS!$N$19,Phi_i_NS_Tci_Pci_wi_kijm_TinC_PinPa_yi(AA$3,vantHoff_EOS!$N$19,vantHoff_EOS!$X$5:$X$14,vantHoff_EOS!$Y$5:$Y$14,vantHoff_EOS!$Z$5:$Z$14,vantHoff_EOS!$AE$5:$AN$14,C97,$C$59,$O97:$X97),\"-\")","v":1.0994546927330369},{"$f":"IF(AB$60<=vantHoff_EOS!$N$19,Phi_i_NS_Tci_Pci_wi_kijm_TinC_PinPa_yi(AB$3,vantHoff_EOS!$N$19,vantHoff_EOS!$X$5:$X$14,vantHoff_EOS!$Y$5:$Y$14,vantHoff_EOS!$Z$5:$Z$14,vantHoff_EOS!$AE$5:$AN$14,D97,$C$59,$O97:$X97),\"-\")","v":6.5034651727450266E-2},{"$f":"IF(AC$60<=vantHoff_EOS!$N$19,Phi_i_NS_Tci_Pci_wi_kijm_TinC_PinPa_yi(AC$3,vantHoff_EOS!$N$19,vantHoff_EOS!$X$5:$X$14,vantHoff_EOS!$Y$5:$Y$14,vantHoff_EOS!$Z$5:$Z$14,vantHoff_EOS!$AE$5:$AN$14,E97,$C$59,$O97:$X97),\"-\")","v":1.0376445324527493E-3},{"$f":"IF(AD$60<=vantHoff_EOS!$N$19,Phi_i_NS_Tci_Pci_wi_kijm_TinC_PinPa_yi(AD$3,vantHoff_EOS!$N$19,vantHoff_EOS!$X$5:$X$14,vantHoff_EOS!$Y$5:$Y$14,vantHoff_EOS!$Z$5:$Z$14,vantHoff_EOS!$AE$5:$AN$14,F97,$C$59,$O97:$X97),\"-\")","v":0.99912673758181758},{"$f":"IF(AE$60<=vantHoff_EOS!$N$19,Phi_i_NS_Tci_Pci_wi_kijm_TinC_PinPa_yi(AE$3,vantHoff_EOS!$N$19,vantHoff_EOS!$X$5:$X$14,vantHoff_EOS!$Y$5:$Y$14,vantHoff_EOS!$Z$5:$Z$14,vantHoff_EOS!$AE$5:$AN$14,G97,$C$59,$O97:$X97),\"-\")","v":"-"},{"$f":"IF(AF$60<=vantHoff_EOS!$N$19,Phi_i_NS_Tci_Pci_wi_kijm_TinC_PinPa_yi(AF$3,vantHoff_EOS!$N$19,vantHoff_EOS!$X$5:$X$14,vantHoff_EOS!$Y$5:$Y$14,vantHoff_EOS!$Z$5:$Z$14,vantHoff_EOS!$AE$5:$AN$14,H97,$C$59,$O97:$X97),\"-\")","v":"-"},{"$f":"IF(AG$60<=vantHoff_EOS!$N$19,Phi_i_NS_Tci_Pci_wi_kijm_TinC_PinPa_yi(AG$3,vantHoff_EOS!$N$19,vantHoff_EOS!$X$5:$X$14,vantHoff_EOS!$Y$5:$Y$14,vantHoff_EOS!$Z$5:$Z$14,vantHoff_EOS!$AE$5:$AN$14,I97,$C$59,$O97:$X97),\"-\")","v":"-"},{"$f":"IF(AH$60<=vantHoff_EOS!$N$19,Phi_i_NS_Tci_Pci_wi_kijm_TinC_PinPa_yi(AH$3,vantHoff_EOS!$N$19,vantHoff_EOS!$X$5:$X$14,vantHoff_EOS!$Y$5:$Y$14,vantHoff_EOS!$Z$5:$Z$14,vantHoff_EOS!$AE$5:$AN$14,J97,$C$59,$O97:$X97),\"-\")","v":"-"},{"$f":"IF(AI$60<=vantHoff_EOS!$N$19,Phi_i_NS_Tci_Pci_wi_kijm_TinC_PinPa_yi(AI$3,vantHoff_EOS!$N$19,vantHoff_EOS!$X$5:$X$14,vantHoff_EOS!$Y$5:$Y$14,vantHoff_EOS!$Z$5:$Z$14,vantHoff_EOS!$AE$5:$AN$14,K97,$C$59,$O97:$X97),\"-\")","v":"-"}]
[38,{"$f":"B97+vantHoff_EOS!$B$31","v":74},347.15,2.8805991646262425E-3,{"$f":"lnKaT_Tref_lnKaTref_dHTref_da_db_dc_dd_de_TinC(vantHoff_EOS!$E$7,vantHoff_EOS!$B$9,vantHoff_EOS!$B$6,vantHoff_EOS!$O$27,vantHoff_EOS!$P$27,vantHoff_EOS!$Q$27,vantHoff_EOS!$R$27,vantHoff_EOS!$S$27,B98)","v":9.6879327945624958},16121.882579370509,{"$f":"MolarExtentX_NS_vi_n0i_dHfi_dGfi_TrefinC_da_db_dc_dd_de_Tci_Pci_wi_kijm_TinC_PinPa(vantHoff_EOS!$N$19,vantHoff_EOS!$O$23:$X$23,vantHoff_EOS!$O$31:$X$31,vantHoff_EOS!$T$5:$T$14,vantHoff_EOS!$U$5:$U$14,vantHoff_EOS!$E$7,vantHoff_EOS!$O$27,vantHoff_EOS!$P$27,vantHoff_EOS!$Q$27,vantHoff_EOS!$R$27,vantHoff_EOS!$S$27,vantHoff_EOS!$X$5:$X$14,vantHoff_EOS!$Y$5:$Y$14,vantHoff_EOS!$Z$5:$Z$14,vantHoff_EOS!$AE$5:$AN$14,B98,$C$59)","v":0.99875226027210662},{"$f":"Ky_NS_n0i_vi_X(vantHoff_EOS!$N$19,vantHoff_EOS!$O$31:$X$31,vantHoff_EOS!$O$23:$X$23,G98)","v":35783080510.605934},{"$f":"Kp_NS_vi_PinPa(vantHoff_EOS!$N$19,vantHoff_EOS!$O$23:$X$23,$C$59)","v":6.9444444444444444E-5},{"$f":"Kphi_NS_n0i_vi_X_Tci_Pci_wi_kijm_TinC_PinPa(vantHoff_EOS!$N$19,vantHoff_EOS!$O$31:$X$31,vantHoff_EOS!$O$23:$X$23,G98,vantHoff_EOS!$X$5:$X$14,vantHoff_EOS!$Y$5:$Y$14,vantHoff_EOS!$Z$5:$Z$14,vantHoff_EOS!$AE$5:$AN$14,B98,$C$59)","v":6.4878458148483319E-3},24.300741007201491,-9.5749834855640916,-5.0378247271172025,{"$f":"nT_NS_n0i_vi_X(vantHoff_EOS!$N$19,vantHoff_EOS!$O$31:$X$31,vantHoff_EOS!$O$23:$X$23,G98)","v":8.3424954794557866},{"$f":"IF(O$60<=vantHoff_EOS!$N$19,y_iindex_NS_n0i_vi_X(O$3,vantHoff_EOS!$N$19,vantHoff_EOS!$O$31:$X$31,vantHoff_EOS!$O$23:$X$23,$G98),\"-\")","v":1.495643277201724E-4},{"$f":"IF(P$60<=vantHoff_EOS!$N$19,y_iindex_NS_n0i_vi_X(P$3,vantHoff_EOS!$N$19,vantHoff_EOS!$O$31:$X$31,vantHoff_EOS!$O$23:$X$23,$G98),\"-\")","v":1.495643277201724E-4},{"$f":"IF(Q$60<=vantHoff_EOS!$N$19,y_iindex_NS_n0i_vi_X(Q$3,vantHoff_EOS!$N$19,vantHoff_EOS!$O$31:$X$31,vantHoff_EOS!$O$23:$X$23,$G98),\"-\")","v":1.495643277201724E-4},{"$f":"IF(R$60<=vantHoff_EOS!$N$19,y_iindex_NS_n0i_vi_X(R$3,vantHoff_EOS!$N$19,vantHoff_EOS!$O$31:$X$31,vantHoff_EOS!$O$23:$X$23,$G98),\"-\")","v":0.11971864566563231},{"$f":"IF(S$60<=vantHoff_EOS!$N$19,y_iindex_NS_n0i_vi_X(S$3,vantHoff_EOS!$N$19,vantHoff_EOS!$O$31:$X$31,vantHoff_EOS!$O$23:$X$23,$G98),\"-\")","v":0.87983266135120719},{"$f":"IF(T$60<=vantHoff_EOS!$N$19,y_iindex_NS_n0i_vi_X(T$3,vantHoff_EOS!$N$19,vantHoff_EOS!$O$31:$X$31,vantHoff_EOS!$O$23:$X$23,$G98),\"-\")","v":"-"},{"$f":"IF(U$60<=vantHoff_EOS!$N$19,y_iindex_NS_n0i_vi_X(U$3,vantHoff_EOS!$N$19,vantHoff_EOS!$O$31:$X$31,vantHoff_EOS!$O$23:$X$23,$G98),\"-\")","v":"-"},{"$f":"IF(V$60<=vantHoff_EOS!$N$19,y_iindex_NS_n0i_vi_X(V$3,vantHoff_EOS!$N$19,vantHoff_EOS!$O$31:$X$31,vantHoff_EOS!$O$23:$X$23,$G98),\"-\")","v":"-"},{"$f":"IF(W$60<=vantHoff_EOS!$N$19,y_iindex_NS_n0i_vi_X(W$3,vantHoff_EOS!$N$19,vantHoff_EOS!$O$31:$X$31,vantHoff_EOS!$O$23:$X$23,$G98),\"-\")","v":"-"},{"$f":"IF(X$60<=vantHoff_EOS!$N$19,y_iindex_NS_n0i_vi_X(X$3,vantHoff_EOS!$N$19,vantHoff_EOS!$O$31:$X$31,vantHoff_EOS!$O$23:$X$23,$G98),\"-\")","v":"-"},1,{"$f":"IF(Z$60<=vantHoff_EOS!$N$19,Phi_i_NS_Tci_Pci_wi_kijm_TinC_PinPa_yi(Z$3,vantHoff_EOS!$N$19,vantHoff_EOS!$X$5:$X$14,vantHoff_EOS!$Y$5:$Y$14,vantHoff_EOS!$Z$5:$Z$14,vantHoff_EOS!$AE$5:$AN$14,B98,$C$59,$O98:$X98),\"-\")","v":2.9980166675760698},{"$f":"IF(AA$60<=vantHoff_EOS!$N$19,Phi_i_NS_Tci_Pci_wi_kijm_TinC_PinPa_yi(AA$3,vantHoff_EOS!$N$19,vantHoff_EOS!$X$5:$X$14,vantHoff_EOS!$Y$5:$Y$14,vantHoff_EOS!$Z$5:$Z$14,vantHoff_EOS!$AE$5:$AN$14,C98,$C$59,$O98:$X98),\"-\")","v":1.0984019757151693},{"$f":"IF(AB$60<=vantHoff_EOS!$N$19,Phi_i_NS_Tci_Pci_wi_kijm_TinC_PinPa_yi(AB$3,vantHoff_EOS!$N$19,vantHoff_EOS!$X$5:$X$14,vantHoff_EOS!$Y$5:$Y$14,vantHoff_EOS!$Z$5:$Z$14,vantHoff_EOS!$AE$5:$AN$14,D98,$C$59,$O98:$X98),\"-\")","v":6.5033078823157384E-2},{"$f":"IF(AC$60<=vantHoff_EOS!$N$19,Phi_i_NS_Tci_Pci_wi_kijm_TinC_PinPa_yi(AC$3,vantHoff_EOS!$N$19,vantHoff_EOS!$X$5:$X$14,vantHoff_EOS!$Y$5:$Y$14,vantHoff_EOS!$Z$5:$Z$14,vantHoff_EOS!$AE$5:$AN$14,E98,$C$59,$O98:$X98),\"-\")","v":1.0245959168874578E-3},{"$f":"IF(AD$60<=vantHoff_EOS!$N$19,Phi_i_NS_Tci_Pci_wi_kijm_TinC_PinPa_yi(AD$3,vantHoff_EOS!$N$19,vantHoff_EOS!$X$5:$X$14,vantHoff_EOS!$Y$5:$Y$14,vantHoff_EOS!$Z$5:$Z$14,vantHoff_EOS!$AE$5:$AN$14,F98,$C$59,$O98:$X98),\"-\")","v":0.99923753281800587},{"$f":"IF(AE$60<=vantHoff_EOS!$N$19,Phi_i_NS_Tci_Pci_wi_kijm_TinC_PinPa_yi(AE$3,vantHoff_EOS!$N$19,vantHoff_EOS!$X$5:$X$14,vantHoff_EOS!$Y$5:$Y$14,vantHoff_EOS!$Z$5:$Z$14,vantHoff_EOS!$AE$5:$AN$14,G98,$C$59,$O98:$X98),\"-\")","v":"-"},{"$f":"IF(AF$60<=vantHoff_EOS!$N$19,Phi_i_NS_Tci_Pci_wi_kijm_TinC_PinPa_yi(AF$3,vantHoff_EOS!$N$19,vantHoff_EOS!$X$5:$X$14,vantHoff_EOS!$Y$5:$Y$14,vantHoff_EOS!$Z$5:$Z$14,vantHoff_EOS!$AE$5:$AN$14,H98,$C$59,$O98:$X98),\"-\")","v":"-"},{"$f":"IF(AG$60<=vantHoff_EOS!$N$19,Phi_i_NS_Tci_Pci_wi_kijm_TinC_PinPa_yi(AG$3,vantHoff_EOS!$N$19,vantHoff_EOS!$X$5:$X$14,vantHoff_EOS!$Y$5:$Y$14,vantHoff_EOS!$Z$5:$Z$14,vantHoff_EOS!$AE$5:$AN$14,I98,$C$59,$O98:$X98),\"-\")","v":"-"},{"$f":"IF(AH$60<=vantHoff_EOS!$N$19,Phi_i_NS_Tci_Pci_wi_kijm_TinC_PinPa_yi(AH$3,vantHoff_EOS!$N$19,vantHoff_EOS!$X$5:$X$14,vantHoff_EOS!$Y$5:$Y$14,vantHoff_EOS!$Z$5:$Z$14,vantHoff_EOS!$AE$5:$AN$14,J98,$C$59,$O98:$X98),\"-\")","v":"-"},{"$f":"IF(AI$60<=vantHoff_EOS!$N$19,Phi_i_NS_Tci_Pci_wi_kijm_TinC_PinPa_yi(AI$3,vantHoff_EOS!$N$19,vantHoff_EOS!$X$5:$X$14,vantHoff_EOS!$Y$5:$Y$14,vantHoff_EOS!$Z$5:$Z$14,vantHoff_EOS!$AE$5:$AN$14,K98,$C$59,$O98:$X98),\"-\")","v":"-"}]
[39,{"$f":"B98+vantHoff_EOS!$B$31","v":76},349.15,2.8640985249892598E-3,{"$f":"lnKaT_Tref_lnKaTref_dHTref_da_db_dc_dd_de_TinC(vantHoff_EOS!$E$7,vantHoff_EOS!$B$9,vantHoff_EOS!$B$6,vantHoff_EOS!$O$27,vantHoff_EOS!$P$27,vantHoff_EOS!$Q$27,vantHoff_EOS!$R$27,vantHoff_EOS!$S$27,B99)","v":9.4582956990604252},12814.026869210898,{"$f":"MolarExtentX_NS_vi_n0i_dHfi_dGfi_TrefinC_da_db_dc_dd_de_Tci_Pci_wi_kijm_TinC_PinPa(vantHoff_EOS!$N$19,vantHoff_EOS!$O$23:$X$23,vantHoff_EOS!$O$31:$X$31,vantHoff_EOS!$T$5:$T$14,vantHoff_EOS!$U$5:$U$14,vantHoff_EOS!$E$7,vantHoff_EOS!$O$27,vantHoff_EOS!$P$27,vantHoff_EOS!$Q$27,vantHoff_EOS!$R$27,vantHoff_EOS!$S$27,vantHoff_EOS!$X$5:$X$14,vantHoff_EOS!$Y$5:$Y$14,vantHoff_EOS!$Z$5:$Z$14,vantHoff_EOS!$AE$5:$AN$14,B99,$C$59)","v":0.99858982526848361},{"$f":"Ky_NS_n0i_vi_X(vantHoff_EOS!$N$19,vantHoff_EOS!$O$31:$X$31,vantHoff_EOS!$O$23:$X$23,G99)","v":24785297432.872093},{"$f":"Kp_NS_vi_PinPa(vantHoff_EOS!$N$19,vantHoff_EOS!$O$23:$X$23,$C$59)","v":6.9444444444444444E-5},{"$f":"Kphi_NS_n0i_vi_X_Tci_Pci_wi_kijm_TinC_PinPa(vantHoff_EOS!$N$19,vantHoff_EOS!$O$31:$X$31,vantHoff_EOS!$O$23:$X$23,G99,vantHoff_EOS!$X$5:$X$14,vantHoff_EOS!$Y$5:$Y$14,vantHoff_EOS!$Z$5:$Z$14,vantHoff_EOS!$AE$5:$AN$14,B99,$C$59)","v":7.4448156616585479E-3},23.933516468866294,-9.5749834855640916,-4.9002373731716986,{"$f":"nT_NS_n0i_vi_X(vantHoff_EOS!$N$19,vantHoff_EOS!$O$31:$X$31,vantHoff_EOS!$O$23:$X$23,G99)","v":8.3428203494630324},{"$f":"IF(O$60<=vantHoff_EOS!$N$19,y_iindex_NS_n0i_vi_X(O$3,vantHoff_EOS!$N$19,vantHoff_EOS!$O$31:$X$31,vantHoff_EOS!$O$23:$X$23,$G99),\"-\")","v":1.6902853860531136E-4},{"$f":"IF(P$60<=vantHoff_EOS!$N$19,y_iindex_NS_n0i_vi_X(P$3,vantHoff_EOS!$N$19,vantHoff_EOS!$O$31:$X$31,vantHoff_EOS!$O$23:$X$23,$G99),\"-\")","v":1.6902853860531136E-4},{"$f":"IF(Q$60<=vantHoff_EOS!$N$19,y_iindex_NS_n0i_vi_X(Q$3,vantHoff_EOS!$N$19,vantHoff_EOS!$O$31:$X$31,vantHoff_EOS!$O$23:$X$23,$G99),\"-\")","v":1.6902853860531136E-4},{"$f":"IF(R$60<=vantHoff_EOS!$N$19,y_iindex_NS_n0i_vi_X(R$3,vantHoff_EOS!$N$19,vantHoff_EOS!$O$31:$X$31,vantHoff_EOS!$O$23:$X$23,$G99),\"-\")","v":0.11969451377827592},{"$f":"IF(S$60<=vantHoff_EOS!$N$19,y_iindex_NS_n0i_vi_X(S$3,vantHoff_EOS!$N$19,vantHoff_EOS!$O$31:$X$31,vantHoff_EOS!$O$23:$X$23,$G99),\"-\")","v":0.87979840060590819},{"$f":"IF(T$60<=vantHoff_EOS!$N$19,y_iindex_NS_n0i_vi_X(T$3,vantHoff_EOS!$N$19,vantHoff_EOS!$O$31:$X$31,vantHoff_EOS!$O$23:$X$23,$G99),\"-\")","v":"-"},{"$f":"IF(U$60<=vantHoff_EOS!$N$19,y_iindex_NS_n0i_vi_X(U$3,vantHoff_EOS!$N$19,vantHoff_EOS!$O$31:$X$31,vantHoff_EOS!$O$23:$X$23,$G99),\"-\")","v":"-"},{"$f":"IF(V$60<=vantHoff_EOS!$N$19,y_iindex_NS_n0i_vi_X(V$3,vantHoff_EOS!$N$19,vantHoff_EOS!$O$31:$X$31,vantHoff_EOS!$O$23:$X$23,$G99),\"-\")","v":"-"},{"$f":"IF(W$60<=vantHoff_EOS!$N$19,y_iindex_NS_n0i_vi_X(W$3,vantHoff_EOS!$N$19,vantHoff_EOS!$O$31:$X$31,vantHoff_EOS!$O$23:$X$23,$G99),\"-\")","v":"-"},{"$f":"IF(X$60<=vantHoff_EOS!$N$19,y_iindex_NS_n0i_vi_X(X$3,vantHoff_EOS!$N$19,vantHoff_EOS!$O$31:$X$31,vantHoff_EOS!$O$23:$X$23,$G99),\"-\")","v":"-"},1,{"$f":"IF(Z$60<=vantHoff_EOS!$N$19,Phi_i_NS_Tci_Pci_wi_kijm_TinC_PinPa_yi(Z$3,vantHoff_EOS!$N$19,vantHoff_EOS!$X$5:$X$14,vantHoff_EOS!$Y$5:$Y$14,vantHoff_EOS!$Z$5:$Z$14,vantHoff_EOS!$AE$5:$AN$14,B99,$C$59,$O99:$X99),\"-\")","v":2.9034058343270224},{"$f":"IF(AA$60<=vantHoff_EOS!$N$19,Phi_i_NS_Tci_Pci_wi_kijm_TinC_PinPa_yi(AA$3,vantHoff_EOS!$N$19,vantHoff_EOS!$X$5:$X$14,vantHoff_EOS!$Y$5:$Y$14,vantHoff_EOS!$Z$5:$Z$14,vantHoff_EOS!$AE$5:$AN$14,C99,$C$59,$O99:$X99),\"-\")","v":1.0973650882441419},{"$f":"IF(AB$60<=vantHoff_EOS!$N$19,Phi_i_NS_Tci_Pci_wi_kijm_TinC_PinPa_yi(AB$3,vantHoff_EOS!$N$19,vantHoff_EOS!$X$5:$X$14,vantHoff_EOS!$Y$5:$Y$14,vantHoff_EOS!$Z$5:$Z$14,vantHoff_EOS!$AE$5:$AN$14,D99,$C$59,$O99:$X99),\"-\")","v":6.5031303392169004E-2},{"$f":"IF(AC$60<=vantHoff_EOS!$N$19,Phi_i_NS_Tci_Pci_wi_kijm_TinC_PinPa_yi(AC$3,vantHoff_EOS!$N$19,vantHoff_EOS!$X$5:$X$14,vantHoff_EOS!$Y$5:$Y$14,vantHoff_EOS!$Z$5:$Z$14,vantHoff_EOS!$AE$5:$AN$14,E99,$C$59,$O99:$X99),\"-\")","v":1.0118435444721728E-3},{"$f":"IF(AD$60<=vantHoff_EOS!$N$19,Phi_i_NS_Tci_Pci_wi_kijm_TinC_PinPa_yi(AD$3,vantHoff_EOS!$N$19,vantHoff_EOS!$X$5:$X$14,vantHoff_EOS!$Y$5:$Y$14,vantHoff_EOS!$Z$5:$Z$14,vantHoff_EOS!$AE$5:$AN$14,F99,$C$59,$O99:$X99),\"-\")","v":0.99948362941384383},{"$f":"IF(AE$60<=vantHoff_EOS!$N$19,Phi_i_NS_Tci_Pci_wi_kijm_TinC_PinPa_yi(AE$3,vantHoff_EOS!$N$19,vantHoff_EOS!$X$5:$X$14,vantHoff_EOS!$Y$5:$Y$14,vantHoff_EOS!$Z$5:$Z$14,vantHoff_EOS!$AE$5:$AN$14,G99,$C$59,$O99:$X99),\"-\")","v":"-"},{"$f":"IF(AF$60<=vantHoff_EOS!$N$19,Phi_i_NS_Tci_Pci_wi_kijm_TinC_PinPa_yi(AF$3,vantHoff_EOS!$N$19,vantHoff_EOS!$X$5:$X$14,vantHoff_EOS!$Y$5:$Y$14,vantHoff_EOS!$Z$5:$Z$14,vantHoff_EOS!$AE$5:$AN$14,H99,$C$59,$O99:$X99),\"-\")","v":"-"},{"$f":"IF(AG$60<=vantHoff_EOS!$N$19,Phi_i_NS_Tci_Pci_wi_kijm_TinC_PinPa_yi(AG$3,vantHoff_EOS!$N$19,vantHoff_EOS!$X$5:$X$14,vantHoff_EOS!$Y$5:$Y$14,vantHoff_EOS!$Z$5:$Z$14,vantHoff_EOS!$AE$5:$AN$14,I99,$C$59,$O99:$X99),\"-\")","v":"-"},{"$f":"IF(AH$60<=vantHoff_EOS!$N$19,Phi_i_NS_Tci_Pci_wi_kijm_TinC_PinPa_yi(AH$3,vantHoff_EOS!$N$19,vantHoff_EOS!$X$5:$X$14,vantHoff_EOS!$Y$5:$Y$14,vantHoff_EOS!$Z$5:$Z$14,vantHoff_EOS!$AE$5:$AN$14,J99,$C$59,$O99:$X99),\"-\")","v":"-"},{"$f":"IF(AI$60<=vantHoff_EOS!$N$19,Phi_i_NS_Tci_Pci_wi_kijm_TinC_PinPa_yi(AI$3,vantHoff_EOS!$N$19,vantHoff_EOS!$X$5:$X$14,vantHoff_EOS!$Y$5:$Y$14,vantHoff_EOS!$Z$5:$Z$14,vantHoff_EOS!$AE$5:$AN$14,K99,$C$59,$O99:$X99),\"-\")","v":"-"}]
[40,{"$f":"B99+vantHoff_EOS!$B$31","v":78},351.15,2.847785846504343E-3,{"$f":"lnKaT_Tref_lnKaTref_dHTref_da_db_dc_dd_de_TinC(vantHoff_EOS!$E$7,vantHoff_EOS!$B$9,vantHoff_EOS!$B$6,vantHoff_EOS!$O$27,vantHoff_EOS!$P$27,vantHoff_EOS!$Q$27,vantHoff_EOS!$R$27,vantHoff_EOS!$S$27,B100)","v":9.2312194396480116},10210.985603444396,{"$f":"MolarExtentX_NS_vi_n0i_dHfi_dGfi_TrefinC_da_db_dc_dd_de_Tci_Pci_wi_kijm_TinC_PinPa(vantHoff_EOS!$N$19,vantHoff_EOS!$O$23:$X$23,vantHoff_EOS!$O$31:$X$31,vantHoff_EOS!$T$5:$T$14,vantHoff_EOS!$U$5:$U$14,vantHoff_EOS!$E$7,vantHoff_EOS!$O$27,vantHoff_EOS!$P$27,vantHoff_EOS!$Q$27,vantHoff_EOS!$R$27,vantHoff_EOS!$S$27,vantHoff_EOS!$X$5:$X$14,vantHoff_EOS!$Y$5:$Y$14,vantHoff_EOS!$Z$5:$Z$14,vantHoff_EOS!$AE$5:$AN$14,B100,$C$59)","v":0.99840596971082285},{"$f":"Ky_NS_n0i_vi_X(vantHoff_EOS!$N$19,vantHoff_EOS!$O$31:$X$31,vantHoff_EOS!$O$23:$X$23,G100)","v":17158587221.583006},{"$f":"Kp_NS_vi_PinPa(vantHoff_EOS!$N$19,vantHoff_EOS!$O$23:$X$23,$C$59)","v":6.9444444444444444E-5},{"$f":"Kphi_NS_n0i_vi_X_Tci_Pci_wi_kijm_TinC_PinPa(vantHoff_EOS!$N$19,vantHoff_EOS!$O$31:$X$31,vantHoff_EOS!$O$23:$X$23,G100,vantHoff_EOS!$X$5:$X$14,vantHoff_EOS!$Y$5:$Y$14,vantHoff_EOS!$Z$5:$Z$14,vantHoff_EOS!$AE$5:$AN$14,B100,$C$59)","v":8.5693645348492564E-3},23.565764597872366,-9.5749834855640916,-4.7595616990809395,{"$f":"nT_NS_n0i_vi_X(vantHoff_EOS!$N$19,vantHoff_EOS!$O$31:$X$31,vantHoff_EOS!$O$23:$X$23,G100)","v":8.3431880605783544},{"$f":"IF(O$60<=vantHoff_EOS!$N$19,y_iindex_NS_n0i_vi_X(O$3,vantHoff_EOS!$N$19,vantHoff_EOS!$O$31:$X$31,vantHoff_EOS!$O$23:$X$23,$G100),\"-\")","v":1.9105769612325527E-4},{"$f":"IF(P$60<=vantHoff_EOS!$N$19,y_iindex_NS_n0i_vi_X(P$3,vantHoff_EOS!$N$19,vantHoff_EOS!$O$31:$X$31,vantHoff_EOS!$O$23:$X$23,$G100),\"-\")","v":1.9105769612325527E-4},{"$f":"IF(Q$60<=vantHoff_EOS!$N$19,y_iindex_NS_n0i_vi_X(Q$3,vantHoff_EOS!$N$19,vantHoff_EOS!$O$31:$X$31,vantHoff_EOS!$O$23:$X$23,$G100),\"-\")","v":1.9105769612325527E-4},{"$f":"IF(R$60<=vantHoff_EOS!$N$19,y_iindex_NS_n0i_vi_X(R$3,vantHoff_EOS!$N$19,vantHoff_EOS!$O$31:$X$31,vantHoff_EOS!$O$23:$X$23,$G100),\"-\")","v":0.11966720184917093},{"$f":"IF(S$60<=vantHoff_EOS!$N$19,y_iindex_NS_n0i_vi_X(S$3,vantHoff_EOS!$N$19,vantHoff_EOS!$O$31:$X$31,vantHoff_EOS!$O$23:$X$23,$G100),\"-\")","v":0.87975962506245931},{"$f":"IF(T$60<=vantHoff_EOS!$N$19,y_iindex_NS_n0i_vi_X(T$3,vantHoff_EOS!$N$19,vantHoff_EOS!$O$31:$X$31,vantHoff_EOS!$O$23:$X$23,$G100),\"-\")","v":"-"},{"$f":"IF(U$60<=vantHoff_EOS!$N$19,y_iindex_NS_n0i_vi_X(U$3,vantHoff_EOS!$N$19,vantHoff_EOS!$O$31:$X$31,vantHoff_EOS!$O$23:$X$23,$G100),\"-\")","v":"-"},{"$f":"IF(V$60<=vantHoff_EOS!$N$19,y_iindex_NS_n0i_vi_X(V$3,vantHoff_EOS!$N$19,vantHoff_EOS!$O$31:$X$31,vantHoff_EOS!$O$23:$X$23,$G100),\"-\")","v":"-"},{"$f":"IF(W$60<=vantHoff_EOS!$N$19,y_iindex_NS_n0i_vi_X(W$3,vantHoff_EOS!$N$19,vantHoff_EOS!$O$31:$X$31,vantHoff_EOS!$O$23:$X$23,$G100),\"-\")","v":"-"},{"$f":"IF(X$60<=vantHoff_EOS!$N$19,y_iindex_NS_n0i_vi_X(X$3,vantHoff_EOS!$N$19,vantHoff_EOS!$O$31:$X$31,vantHoff_EOS!$O$23:$X$23,$G100),\"-\")","v":"-"},1,{"$f":"IF(Z$60<=vantHoff_EOS!$N$19,Phi_i_NS_Tci_Pci_wi_kijm_TinC_PinPa_yi(Z$3,vantHoff_EOS!$N$19,vantHoff_EOS!$X$5:$X$14,vantHoff_EOS!$Y$5:$Y$14,vantHoff_EOS!$Z$5:$Z$14,vantHoff_EOS!$AE$5:$AN$14,B100,$C$59,$O100:$X100),\"-\")","v":2.8086890424144579},{"$f":"IF(AA$60<=vantHoff_EOS!$N$19,Phi_i_NS_Tci_Pci_wi_kijm_TinC_PinPa_yi(AA$3,vantHoff_EOS!$N$19,vantHoff_EOS!$X$5:$X$14,vantHoff_EOS!$Y$5:$Y$14,vantHoff_EOS!$Z$5:$Z$14,vantHoff_EOS!$AE$5:$AN$14,C100,$C$59,$O100:$X100),\"-\")","v":1.0963435413079774},{"$f":"IF(AB$60<=vantHoff_EOS!$N$19,Phi_i_NS_Tci_Pci_wi_kijm_TinC_PinPa_yi(AB$3,vantHoff_EOS!$N$19,vantHoff_EOS!$X$5:$X$14,vantHoff_EOS!$Y$5:$Y$14,vantHoff_EOS!$Z$5:$Z$14,vantHoff_EOS!$AE$5:$AN$14,D100,$C$59,$O100:$X100),\"-\")","v":6.5029298585264711E-2},{"$f":"IF(AC$60<=vantHoff_EOS!$N$19,Phi_i_NS_Tci_Pci_wi_kijm_TinC_PinPa_yi(AC$3,vantHoff_EOS!$N$19,vantHoff_EOS!$X$5:$X$14,vantHoff_EOS!$Y$5:$Y$14,vantHoff_EOS!$Z$5:$Z$14,vantHoff_EOS!$AE$5:$AN$14,E100,$C$59,$O100:$X100),\"-\")","v":9.9937957493099572E-4},{"$f":"IF(AD$60<=vantHoff_EOS!$N$19,Phi_i_NS_Tci_Pci_wi_kijm_TinC_PinPa_yi(AD$3,vantHoff_EOS!$N$19,vantHoff_EOS!$X$5:$X$14,vantHoff_EOS!$Y$5:$Y$14,vantHoff_EOS!$Z$5:$Z$14,vantHoff_EOS!$AE$5:$AN$14,F100,$C$59,$O100:$X100),\"-\")","v":0.99992090244002729},{"$f":"IF(AE$60<=vantHoff_EOS!$N$19,Phi_i_NS_Tci_Pci_wi_kijm_TinC_PinPa_yi(AE$3,vantHoff_EOS!$N$19,vantHoff_EOS!$X$5:$X$14,vantHoff_EOS!$Y$5:$Y$14,vantHoff_EOS!$Z$5:$Z$14,vantHoff_EOS!$AE$5:$AN$14,G100,$C$59,$O100:$X100),\"-\")","v":"-"},{"$f":"IF(AF$60<=vantHoff_EOS!$N$19,Phi_i_NS_Tci_Pci_wi_kijm_TinC_PinPa_yi(AF$3,vantHoff_EOS!$N$19,vantHoff_EOS!$X$5:$X$14,vantHoff_EOS!$Y$5:$Y$14,vantHoff_EOS!$Z$5:$Z$14,vantHoff_EOS!$AE$5:$AN$14,H100,$C$59,$O100:$X100),\"-\")","v":"-"},{"$f":"IF(AG$60<=vantHoff_EOS!$N$19,Phi_i_NS_Tci_Pci_wi_kijm_TinC_PinPa_yi(AG$3,vantHoff_EOS!$N$19,vantHoff_EOS!$X$5:$X$14,vantHoff_EOS!$Y$5:$Y$14,vantHoff_EOS!$Z$5:$Z$14,vantHoff_EOS!$AE$5:$AN$14,I100,$C$59,$O100:$X100),\"-\")","v":"-"},{"$f":"IF(AH$60<=vantHoff_EOS!$N$19,Phi_i_NS_Tci_Pci_wi_kijm_TinC_PinPa_yi(AH$3,vantHoff_EOS!$N$19,vantHoff_EOS!$X$5:$X$14,vantHoff_EOS!$Y$5:$Y$14,vantHoff_EOS!$Z$5:$Z$14,vantHoff_EOS!$AE$5:$AN$14,J100,$C$59,$O100:$X100),\"-\")","v":"-"},{"$f":"IF(AI$60<=vantHoff_EOS!$N$19,Phi_i_NS_Tci_Pci_wi_kijm_TinC_PinPa_yi(AI$3,vantHoff_EOS!$N$19,vantHoff_EOS!$X$5:$X$14,vantHoff_EOS!$Y$5:$Y$14,vantHoff_EOS!$Z$5:$Z$14,vantHoff_EOS!$AE$5:$AN$14,K100,$C$59,$O100:$X100),\"-\")","v":"-"}]
[41,{"$f":"B100+vantHoff_EOS!$B$31","v":80},353.15,2.831657935721365E-3,{"$f":"lnKaT_Tref_lnKaTref_dHTref_da_db_dc_dd_de_TinC(vantHoff_EOS!$E$7,vantHoff_EOS!$B$9,vantHoff_EOS!$B$6,vantHoff_EOS!$O$27,vantHoff_EOS!$P$27,vantHoff_EOS!$Q$27,vantHoff_EOS!$R$27,vantHoff_EOS!$S$27,B101)","v":9.0066612148550718},8157.2404845848987,{"$f":"MolarExtentX_NS_vi_n0i_dHfi_dGfi_TrefinC_da_db_dc_dd_de_Tci_Pci_wi_kijm_TinC_PinPa(vantHoff_EOS!$N$19,vantHoff_EOS!$O$23:$X$23,vantHoff_EOS!$O$31:$X$31,vantHoff_EOS!$T$5:$T$14,vantHoff_EOS!$U$5:$U$14,vantHoff_EOS!$E$7,vantHoff_EOS!$O$27,vantHoff_EOS!$P$27,vantHoff_EOS!$Q$27,vantHoff_EOS!$R$27,vantHoff_EOS!$S$27,vantHoff_EOS!$X$5:$X$14,vantHoff_EOS!$Y$5:$Y$14,vantHoff_EOS!$Z$5:$Z$14,vantHoff_EOS!$AE$5:$AN$14,B101,$C$59)","v":0.9981979077166272},{"$f":"Ky_NS_n0i_vi_X(vantHoff_EOS!$N$19,vantHoff_EOS!$O$31:$X$31,vantHoff_EOS!$O$23:$X$23,G101)","v":11873888343.218567},{"$f":"Kp_NS_vi_PinPa(vantHoff_EOS!$N$19,vantHoff_EOS!$O$23:$X$23,$C$59)","v":6.9444444444444444E-5},{"$f":"Kphi_NS_n0i_vi_X_Tci_Pci_wi_kijm_TinC_PinPa(vantHoff_EOS!$N$19,vantHoff_EOS!$O$31:$X$31,vantHoff_EOS!$O$23:$X$23,G101,vantHoff_EOS!$X$5:$X$14,vantHoff_EOS!$Y$5:$Y$14,vantHoff_EOS!$Z$5:$Z$14,vantHoff_EOS!$AE$5:$AN$14,B101,$C$59)","v":9.8926534389428937E-3},23.197607569282479,-9.5749834855640916,-4.615962874191383,{"$f":"nT_NS_n0i_vi_X(vantHoff_EOS!$N$19,vantHoff_EOS!$O$31:$X$31,vantHoff_EOS!$O$23:$X$23,G101)","v":8.343604184566745},{"$f":"IF(O$60<=vantHoff_EOS!$N$19,y_iindex_NS_n0i_vi_X(O$3,vantHoff_EOS!$N$19,vantHoff_EOS!$O$31:$X$31,vantHoff_EOS!$O$23:$X$23,$G101),\"-\")","v":2.1598487218582973E-4},{"$f":"IF(P$60<=vantHoff_EOS!$N$19,y_iindex_NS_n0i_vi_X(P$3,vantHoff_EOS!$N$19,vantHoff_EOS!$O$31:$X$31,vantHoff_EOS!$O$23:$X$23,$G101),\"-\")","v":2.1598487218582973E-4},{"$f":"IF(Q$60<=vantHoff_EOS!$N$19,y_iindex_NS_n0i_vi_X(Q$3,vantHoff_EOS!$N$19,vantHoff_EOS!$O$31:$X$31,vantHoff_EOS!$O$23:$X$23,$G101),\"-\")","v":2.1598487218582973E-4},{"$f":"IF(R$60<=vantHoff_EOS!$N$19,y_iindex_NS_n0i_vi_X(R$3,vantHoff_EOS!$N$19,vantHoff_EOS!$O$31:$X$31,vantHoff_EOS!$O$23:$X$23,$G101),\"-\")","v":0.11963629693304539},{"$f":"IF(S$60<=vantHoff_EOS!$N$19,y_iindex_NS_n0i_vi_X(S$3,vantHoff_EOS!$N$19,vantHoff_EOS!$O$31:$X$31,vantHoff_EOS!$O$23:$X$23,$G101),\"-\")","v":0.87971574845039713},{"$f":"IF(T$60<=vantHoff_EOS!$N$19,y_iindex_NS_n0i_vi_X(T$3,vantHoff_EOS!$N$19,vantHoff_EOS!$O$31:$X$31,vantHoff_EOS!$O$23:$X$23,$G101),\"-\")","v":"-"},{"$f":"IF(U$60<=vantHoff_EOS!$N$19,y_iindex_NS_n0i_vi_X(U$3,vantHoff_EOS!$N$19,vantHoff_EOS!$O$31:$X$31,vantHoff_EOS!$O$23:$X$23,$G101),\"-\")","v":"-"},{"$f":"IF(V$60<=vantHoff_EOS!$N$19,y_iindex_NS_n0i_vi_X(V$3,vantHoff_EOS!$N$19,vantHoff_EOS!$O$31:$X$31,vantHoff_EOS!$O$23:$X$23,$G101),\"-\")","v":"-"},{"$f":"IF(W$60<=vantHoff_EOS!$N$19,y_iindex_NS_n0i_vi_X(W$3,vantHoff_EOS!$N$19,vantHoff_EOS!$O$31:$X$31,vantHoff_EOS!$O$23:$X$23,$G101),\"-\")","v":"-"},{"$f":"IF(X$60<=vantHoff_EOS!$N$19,y_iindex_NS_n0i_vi_X(X$3,vantHoff_EOS!$N$19,vantHoff_EOS!$O$31:$X$31,vantHoff_EOS!$O$23:$X$23,$G101),\"-\")","v":"-"},1,{"$f":"IF(Z$60<=vantHoff_EOS!$N$19,Phi_i_NS_Tci_Pci_wi_kijm_TinC_PinPa_yi(Z$3,vantHoff_EOS!$N$19,vantHoff_EOS!$X$5:$X$14,vantHoff_EOS!$Y$5:$Y$14,vantHoff_EOS!$Z$5:$Z$14,vantHoff_EOS!$AE$5:$AN$14,B101,$C$59,$O101:$X101),\"-\")","v":2.7142508312494211},{"$f":"IF(AA$60<=vantHoff_EOS!$N$19,Phi_i_NS_Tci_Pci_wi_kijm_TinC_PinPa_yi(AA$3,vantHoff_EOS!$N$19,vantHoff_EOS!$X$5:$X$14,vantHoff_EOS!$Y$5:$Y$14,vantHoff_EOS!$Z$5:$Z$14,vantHoff_EOS!$AE$5:$AN$14,C101,$C$59,$O101:$X101),\"-\")","v":1.0953369214071877},{"$f":"IF(AB$60<=vantHoff_EOS!$N$19,Phi_i_NS_Tci_Pci_wi_kijm_TinC_PinPa_yi(AB$3,vantHoff_EOS!$N$19,vantHoff_EOS!$X$5:$X$14,vantHoff_EOS!$Y$5:$Y$14,vantHoff_EOS!$Z$5:$Z$14,vantHoff_EOS!$AE$5:$AN$14,D101,$C$59,$O101:$X101),\"-\")","v":6.5027034765459679E-2},{"$f":"IF(AC$60<=vantHoff_EOS!$N$19,Phi_i_NS_Tci_Pci_wi_kijm_TinC_PinPa_yi(AC$3,vantHoff_EOS!$N$19,vantHoff_EOS!$X$5:$X$14,vantHoff_EOS!$Y$5:$Y$14,vantHoff_EOS!$Z$5:$Z$14,vantHoff_EOS!$AE$5:$AN$14,E101,$C$59,$O101:$X101),\"-\")","v":9.8719654295938912E-4},{"$f":"IF(AD$60<=vantHoff_EOS!$N$19,Phi_i_NS_Tci_Pci_wi_kijm_TinC_PinPa_yi(AD$3,vantHoff_EOS!$N$19,vantHoff_EOS!$X$5:$X$14,vantHoff_EOS!$Y$5:$Y$14,vantHoff_EOS!$Z$5:$Z$14,vantHoff_EOS!$AE$5:$AN$14,F101,$C$59,$O101:$X101),\"-\")","v":1.0006172741763251},{"$f":"IF(AE$60<=vantHoff_EOS!$N$19,Phi_i_NS_Tci_Pci_wi_kijm_TinC_PinPa_yi(AE$3,vantHoff_EOS!$N$19,vantHoff_EOS!$X$5:$X$14,vantHoff_EOS!$Y$5:$Y$14,vantHoff_EOS!$Z$5:$Z$14,vantHoff_EOS!$AE$5:$AN$14,G101,$C$59,$O101:$X101),\"-\")","v":"-"},{"$f":"IF(AF$60<=vantHoff_EOS!$N$19,Phi_i_NS_Tci_Pci_wi_kijm_TinC_PinPa_yi(AF$3,vantHoff_EOS!$N$19,vantHoff_EOS!$X$5:$X$14,vantHoff_EOS!$Y$5:$Y$14,vantHoff_EOS!$Z$5:$Z$14,vantHoff_EOS!$AE$5:$AN$14,H101,$C$59,$O101:$X101),\"-\")","v":"-"},{"$f":"IF(AG$60<=vantHoff_EOS!$N$19,Phi_i_NS_Tci_Pci_wi_kijm_TinC_PinPa_yi(AG$3,vantHoff_EOS!$N$19,vantHoff_EOS!$X$5:$X$14,vantHoff_EOS!$Y$5:$Y$14,vantHoff_EOS!$Z$5:$Z$14,vantHoff_EOS!$AE$5:$AN$14,I101,$C$59,$O101:$X101),\"-\")","v":"-"},{"$f":"IF(AH$60<=vantHoff_EOS!$N$19,Phi_i_NS_Tci_Pci_wi_kijm_TinC_PinPa_yi(AH$3,vantHoff_EOS!$N$19,vantHoff_EOS!$X$5:$X$14,vantHoff_EOS!$Y$5:$Y$14,vantHoff_EOS!$Z$5:$Z$14,vantHoff_EOS!$AE$5:$AN$14,J101,$C$59,$O101:$X101),\"-\")","v":"-"},{"$f":"IF(AI$60<=vantHoff_EOS!$N$19,Phi_i_NS_Tci_Pci_wi_kijm_TinC_PinPa_yi(AI$3,vantHoff_EOS!$N$19,vantHoff_EOS!$X$5:$X$14,vantHoff_EOS!$Y$5:$Y$14,vantHoff_EOS!$Z$5:$Z$14,vantHoff_EOS!$AE$5:$AN$14,K101,$C$59,$O101:$X101),\"-\")","v":"-"}]
[42,{"$f":"B101+vantHoff_EOS!$B$31","v":82},355.15,2.8157116711248768E-3,{"$f":"lnKaT_Tref_lnKaTref_dHTref_da_db_dc_dd_de_TinC(vantHoff_EOS!$E$7,vantHoff_EOS!$B$9,vantHoff_EOS!$B$6,vantHoff_EOS!$O$27,vantHoff_EOS!$P$27,vantHoff_EOS!$Q$27,vantHoff_EOS!$R$27,vantHoff_EOS!$S$27,B102)","v":8.7845791806665581},6532.7233060396156,{"$f":"MolarExtentX_NS_vi_n0i_dHfi_dGfi_TrefinC_da_db_dc_dd_de_Tci_Pci_wi_kijm_TinC_PinPa(vantHoff_EOS!$N$19,vantHoff_EOS!$O$23:$X$23,vantHoff_EOS!$O$31:$X$31,vantHoff_EOS!$T$5:$T$14,vantHoff_EOS!$U$5:$U$14,vantHoff_EOS!$E$7,vantHoff_EOS!$O$27,vantHoff_EOS!$P$27,vantHoff_EOS!$Q$27,vantHoff_EOS!$R$27,vantHoff_EOS!$S$27,vantHoff_EOS!$X$5:$X$14,vantHoff_EOS!$Y$5:$Y$14,vantHoff_EOS!$Z$5:$Z$14,vantHoff_EOS!$AE$5:$AN$14,B102,$C$59)","v":0.99796261268346809},{"$f":"Ky_NS_n0i_vi_X(vantHoff_EOS!$N$19,vantHoff_EOS!$O$31:$X$31,vantHoff_EOS!$O$23:$X$23,G102)","v":8215799865.1618004},{"$f":"Kp_NS_vi_PinPa(vantHoff_EOS!$N$19,vantHoff_EOS!$O$23:$X$23,$C$59)","v":6.9444444444444444E-5},{"$f":"Kphi_NS_n0i_vi_X_Tci_Pci_wi_kijm_TinC_PinPa(vantHoff_EOS!$N$19,vantHoff_EOS!$O$31:$X$31,vantHoff_EOS!$O$23:$X$23,G102,vantHoff_EOS!$X$5:$X$14,vantHoff_EOS!$Y$5:$Y$14,vantHoff_EOS!$Z$5:$Z$14,vantHoff_EOS!$AE$5:$AN$14,B102,$C$59)","v":1.1450037379375569E-2},22.829324950118458,-9.5749834855640916,-4.4697622844129317,{"$f":"nT_NS_n0i_vi_X(vantHoff_EOS!$N$19,vantHoff_EOS!$O$31:$X$31,vantHoff_EOS!$O$23:$X$23,G102)","v":8.3440747746330644},{"$f":"IF(O$60<=vantHoff_EOS!$N$19,y_iindex_NS_n0i_vi_X(O$3,vantHoff_EOS!$N$19,vantHoff_EOS!$O$31:$X$31,vantHoff_EOS!$O$23:$X$23,$G102),\"-\")","v":2.4417174720507088E-4},{"$f":"IF(P$60<=vantHoff_EOS!$N$19,y_iindex_NS_n0i_vi_X(P$3,vantHoff_EOS!$N$19,vantHoff_EOS!$O$31:$X$31,vantHoff_EOS!$O$23:$X$23,$G102),\"-\")","v":2.4417174720507088E-4},{"$f":"IF(Q$60<=vantHoff_EOS!$N$19,y_iindex_NS_n0i_vi_X(Q$3,vantHoff_EOS!$N$19,vantHoff_EOS!$O$31:$X$31,vantHoff_EOS!$O$23:$X$23,$G102),\"-\")","v":2.4417174720507088E-4},{"$f":"IF(R$60<=vantHoff_EOS!$N$19,y_iindex_NS_n0i_vi_X(R$3,vantHoff_EOS!$N$19,vantHoff_EOS!$O$31:$X$31,vantHoff_EOS!$O$23:$X$23,$G102),\"-\")","v":0.11960135061557547},{"$f":"IF(S$60<=vantHoff_EOS!$N$19,y_iindex_NS_n0i_vi_X(S$3,vantHoff_EOS!$N$19,vantHoff_EOS!$O$31:$X$31,vantHoff_EOS!$O$23:$X$23,$G102),\"-\")","v":0.87966613414280925},{"$f":"IF(T$60<=vantHoff_EOS!$N$19,y_iindex_NS_n0i_vi_X(T$3,vantHoff_EOS!$N$19,vantHoff_EOS!$O$31:$X$31,vantHoff_EOS!$O$23:$X$23,$G102),\"-\")","v":"-"},{"$f":"IF(U$60<=vantHoff_EOS!$N$19,y_iindex_NS_n0i_vi_X(U$3,vantHoff_EOS!$N$19,vantHoff_EOS!$O$31:$X$31,vantHoff_EOS!$O$23:$X$23,$G102),\"-\")","v":"-"},{"$f":"IF(V$60<=vantHoff_EOS!$N$19,y_iindex_NS_n0i_vi_X(V$3,vantHoff_EOS!$N$19,vantHoff_EOS!$O$31:$X$31,vantHoff_EOS!$O$23:$X$23,$G102),\"-\")","v":"-"},{"$f":"IF(W$60<=vantHoff_EOS!$N$19,y_iindex_NS_n0i_vi_X(W$3,vantHoff_EOS!$N$19,vantHoff_EOS!$O$31:$X$31,vantHoff_EOS!$O$23:$X$23,$G102),\"-\")","v":"-"},{"$f":"IF(X$60<=vantHoff_EOS!$N$19,y_iindex_NS_n0i_vi_X(X$3,vantHoff_EOS!$N$19,vantHoff_EOS!$O$31:$X$31,vantHoff_EOS!$O$23:$X$23,$G102),\"-\")","v":"-"},1,{"$f":"IF(Z$60<=vantHoff_EOS!$N$19,Phi_i_NS_Tci_Pci_wi_kijm_TinC_PinPa_yi(Z$3,vantHoff_EOS!$N$19,vantHoff_EOS!$X$5:$X$14,vantHoff_EOS!$Y$5:$Y$14,vantHoff_EOS!$Z$5:$Z$14,vantHoff_EOS!$AE$5:$AN$14,B102,$C$59,$O102:$X102),\"-\")","v":2.6205677014195485},{"$f":"IF(AA$60<=vantHoff_EOS!$N$19,Phi_i_NS_Tci_Pci_wi_kijm_TinC_PinPa_yi(AA$3,vantHoff_EOS!$N$19,vantHoff_EOS!$X$5:$X$14,vantHoff_EOS!$Y$5:$Y$14,vantHoff_EOS!$Z$5:$Z$14,vantHoff_EOS!$AE$5:$AN$14,C102,$C$59,$O102:$X102),\"-\")","v":1.0943447416106273},{"$f":"IF(AB$60<=vantHoff_EOS!$N$19,Phi_i_NS_Tci_Pci_wi_kijm_TinC_PinPa_yi(AB$3,vantHoff_EOS!$N$19,vantHoff_EOS!$X$5:$X$14,vantHoff_EOS!$Y$5:$Y$14,vantHoff_EOS!$Z$5:$Z$14,vantHoff_EOS!$AE$5:$AN$14,D102,$C$59,$O102:$X102),\"-\")","v":6.5024479815366451E-2},{"$f":"IF(AC$60<=vantHoff_EOS!$N$19,Phi_i_NS_Tci_Pci_wi_kijm_TinC_PinPa_yi(AC$3,vantHoff_EOS!$N$19,vantHoff_EOS!$X$5:$X$14,vantHoff_EOS!$Y$5:$Y$14,vantHoff_EOS!$Z$5:$Z$14,vantHoff_EOS!$AE$5:$AN$14,E102,$C$59,$O102:$X102),\"-\")","v":9.7528732902490869E-4},{"$f":"IF(AD$60<=vantHoff_EOS!$N$19,Phi_i_NS_Tci_Pci_wi_kijm_TinC_PinPa_yi(AD$3,vantHoff_EOS!$N$19,vantHoff_EOS!$X$5:$X$14,vantHoff_EOS!$Y$5:$Y$14,vantHoff_EOS!$Z$5:$Z$14,vantHoff_EOS!$AE$5:$AN$14,F102,$C$59,$O102:$X102),\"-\")","v":1.0016509911528195},{"$f":"IF(AE$60<=vantHoff_EOS!$N$19,Phi_i_NS_Tci_Pci_wi_kijm_TinC_PinPa_yi(AE$3,vantHoff_EOS!$N$19,vantHoff_EOS!$X$5:$X$14,vantHoff_EOS!$Y$5:$Y$14,vantHoff_EOS!$Z$5:$Z$14,vantHoff_EOS!$AE$5:$AN$14,G102,$C$59,$O102:$X102),\"-\")","v":"-"},{"$f":"IF(AF$60<=vantHoff_EOS!$N$19,Phi_i_NS_Tci_Pci_wi_kijm_TinC_PinPa_yi(AF$3,vantHoff_EOS!$N$19,vantHoff_EOS!$X$5:$X$14,vantHoff_EOS!$Y$5:$Y$14,vantHoff_EOS!$Z$5:$Z$14,vantHoff_EOS!$AE$5:$AN$14,H102,$C$59,$O102:$X102),\"-\")","v":"-"},{"$f":"IF(AG$60<=vantHoff_EOS!$N$19,Phi_i_NS_Tci_Pci_wi_kijm_TinC_PinPa_yi(AG$3,vantHoff_EOS!$N$19,vantHoff_EOS!$X$5:$X$14,vantHoff_EOS!$Y$5:$Y$14,vantHoff_EOS!$Z$5:$Z$14,vantHoff_EOS!$AE$5:$AN$14,I102,$C$59,$O102:$X102),\"-\")","v":"-"},{"$f":"IF(AH$60<=vantHoff_EOS!$N$19,Phi_i_NS_Tci_Pci_wi_kijm_TinC_PinPa_yi(AH$3,vantHoff_EOS!$N$19,vantHoff_EOS!$X$5:$X$14,vantHoff_EOS!$Y$5:$Y$14,vantHoff_EOS!$Z$5:$Z$14,vantHoff_EOS!$AE$5:$AN$14,J102,$C$59,$O102:$X102),\"-\")","v":"-"},{"$f":"IF(AI$60<=vantHoff_EOS!$N$19,Phi_i_NS_Tci_Pci_wi_kijm_TinC_PinPa_yi(AI$3,vantHoff_EOS!$N$19,vantHoff_EOS!$X$5:$X$14,vantHoff_EOS!$Y$5:$Y$14,vantHoff_EOS!$Z$5:$Z$14,vantHoff_EOS!$AE$5:$AN$14,K102,$C$59,$O102:$X102),\"-\")","v":"-"}]
[43,{"$f":"B102+vantHoff_EOS!$B$31","v":84},357.15,2.7999440011199778E-3,{"$f":"lnKaT_Tref_lnKaTref_dHTref_da_db_dc_dd_de_TinC(vantHoff_EOS!$E$7,vantHoff_EOS!$B$9,vantHoff_EOS!$B$6,vantHoff_EOS!$O$27,vantHoff_EOS!$P$27,vantHoff_EOS!$Q$27,vantHoff_EOS!$R$27,vantHoff_EOS!$S$27,B103)","v":8.5649324238092426},5244.4855063596015,{"$f":"MolarExtentX_NS_vi_n0i_dHfi_dGfi_TrefinC_da_db_dc_dd_de_Tci_Pci_wi_kijm_TinC_PinPa(vantHoff_EOS!$N$19,vantHoff_EOS!$O$23:$X$23,vantHoff_EOS!$O$31:$X$31,vantHoff_EOS!$T$5:$T$14,vantHoff_EOS!$U$5:$U$14,vantHoff_EOS!$E$7,vantHoff_EOS!$O$27,vantHoff_EOS!$P$27,vantHoff_EOS!$Q$27,vantHoff_EOS!$R$27,vantHoff_EOS!$S$27,vantHoff_EOS!$X$5:$X$14,vantHoff_EOS!$Y$5:$Y$14,vantHoff_EOS!$Z$5:$Z$14,vantHoff_EOS!$AE$5:$AN$14,B103,$C$59)","v":0.99769687397395312},{"$f":"Ky_NS_n0i_vi_X(vantHoff_EOS!$N$19,vantHoff_EOS!$O$31:$X$31,vantHoff_EOS!$O$23:$X$23,G103)","v":5686659178.5831594},{"$f":"Kp_NS_vi_PinPa(vantHoff_EOS!$N$19,vantHoff_EOS!$O$23:$X$23,$C$59)","v":6.9444444444444444E-5},{"$f":"Kphi_NS_n0i_vi_X_Tci_Pci_wi_kijm_TinC_PinPa(vantHoff_EOS!$N$19,vantHoff_EOS!$O$31:$X$31,vantHoff_EOS!$O$23:$X$23,G103,vantHoff_EOS!$X$5:$X$14,vantHoff_EOS!$Y$5:$Y$14,vantHoff_EOS!$Z$5:$Z$14,vantHoff_EOS!$AE$5:$AN$14,B103,$C$59)","v":1.3280309038976094E-2},22.461388773561922,-9.5749834855640916,-4.3214728641973794,{"$f":"nT_NS_n0i_vi_X(vantHoff_EOS!$N$19,vantHoff_EOS!$O$31:$X$31,vantHoff_EOS!$O$23:$X$23,G103)","v":8.3446062520520936},{"$f":"IF(O$60<=vantHoff_EOS!$N$19,y_iindex_NS_n0i_vi_X(O$3,vantHoff_EOS!$N$19,vantHoff_EOS!$O$31:$X$31,vantHoff_EOS!$O$23:$X$23,$G103),\"-\")","v":2.7600176167455405E-4},{"$f":"IF(P$60<=vantHoff_EOS!$N$19,y_iindex_NS_n0i_vi_X(P$3,vantHoff_EOS!$N$19,vantHoff_EOS!$O$31:$X$31,vantHoff_EOS!$O$23:$X$23,$G103),\"-\")","v":2.7600176167455405E-4},{"$f":"IF(Q$60<=vantHoff_EOS!$N$19,y_iindex_NS_n0i_vi_X(Q$3,vantHoff_EOS!$N$19,vantHoff_EOS!$O$31:$X$31,vantHoff_EOS!$O$23:$X$23,$G103),\"-\")","v":2.7600176167455405E-4},{"$f":"IF(R$60<=vantHoff_EOS!$N$19,y_iindex_NS_n0i_vi_X(R$3,vantHoff_EOS!$N$19,vantHoff_EOS!$O$31:$X$31,vantHoff_EOS!$O$23:$X$23,$G103),\"-\")","v":0.11956188750411093},{"$f":"IF(S$60<=vantHoff_EOS!$N$19,y_iindex_NS_n0i_vi_X(S$3,vantHoff_EOS!$N$19,vantHoff_EOS!$O$31:$X$31,vantHoff_EOS!$O$23:$X$23,$G103),\"-\")","v":0.87961010721086541},{"$f":"IF(T$60<=vantHoff_EOS!$N$19,y_iindex_NS_n0i_vi_X(T$3,vantHoff_EOS!$N$19,vantHoff_EOS!$O$31:$X$31,vantHoff_EOS!$O$23:$X$23,$G103),\"-\")","v":"-"},{"$f":"IF(U$60<=vantHoff_EOS!$N$19,y_iindex_NS_n0i_vi_X(U$3,vantHoff_EOS!$N$19,vantHoff_EOS!$O$31:$X$31,vantHoff_EOS!$O$23:$X$23,$G103),\"-\")","v":"-"},{"$f":"IF(V$60<=vantHoff_EOS!$N$19,y_iindex_NS_n0i_vi_X(V$3,vantHoff_EOS!$N$19,vantHoff_EOS!$O$31:$X$31,vantHoff_EOS!$O$23:$X$23,$G103),\"-\")","v":"-"},{"$f":"IF(W$60<=vantHoff_EOS!$N$19,y_iindex_NS_n0i_vi_X(W$3,vantHoff_EOS!$N$19,vantHoff_EOS!$O$31:$X$31,vantHoff_EOS!$O$23:$X$23,$G103),\"-\")","v":"-"},{"$f":"IF(X$60<=vantHoff_EOS!$N$19,y_iindex_NS_n0i_vi_X(X$3,vantHoff_EOS!$N$19,vantHoff_EOS!$O$31:$X$31,vantHoff_EOS!$O$23:$X$23,$G103),\"-\")","v":"-"},1,{"$f":"IF(Z$60<=vantHoff_EOS!$N$19,Phi_i_NS_Tci_Pci_wi_kijm_TinC_PinPa_yi(Z$3,vantHoff_EOS!$N$19,vantHoff_EOS!$X$5:$X$14,vantHoff_EOS!$Y$5:$Y$14,vantHoff_EOS!$Z$5:$Z$14,vantHoff_EOS!$AE$5:$AN$14,B103,$C$59,$O103:$X103),\"-\")","v":2.5282106631891281},{"$f":"IF(AA$60<=vantHoff_EOS!$N$19,Phi_i_NS_Tci_Pci_wi_kijm_TinC_PinPa_yi(AA$3,vantHoff_EOS!$N$19,vantHoff_EOS!$X$5:$X$14,vantHoff_EOS!$Y$5:$Y$14,vantHoff_EOS!$Z$5:$Z$14,vantHoff_EOS!$AE$5:$AN$14,C103,$C$59,$O103:$X103),\"-\")","v":1.0933665488093007},{"$f":"IF(AB$60<=vantHoff_EOS!$N$19,Phi_i_NS_Tci_Pci_wi_kijm_TinC_PinPa_yi(AB$3,vantHoff_EOS!$N$19,vantHoff_EOS!$X$5:$X$14,vantHoff_EOS!$Y$5:$Y$14,vantHoff_EOS!$Z$5:$Z$14,vantHoff_EOS!$AE$5:$AN$14,D103,$C$59,$O103:$X103),\"-\")","v":6.5021599773412722E-2},{"$f":"IF(AC$60<=vantHoff_EOS!$N$19,Phi_i_NS_Tci_Pci_wi_kijm_TinC_PinPa_yi(AC$3,vantHoff_EOS!$N$19,vantHoff_EOS!$X$5:$X$14,vantHoff_EOS!$Y$5:$Y$14,vantHoff_EOS!$Z$5:$Z$14,vantHoff_EOS!$AE$5:$AN$14,E103,$C$59,$O103:$X103),\"-\")","v":9.6364512026240253E-4},{"$f":"IF(AD$60<=vantHoff_EOS!$N$19,Phi_i_NS_Tci_Pci_wi_kijm_TinC_PinPa_yi(AD$3,vantHoff_EOS!$N$19,vantHoff_EOS!$X$5:$X$14,vantHoff_EOS!$Y$5:$Y$14,vantHoff_EOS!$Z$5:$Z$14,vantHoff_EOS!$AE$5:$AN$14,F103,$C$59,$O103:$X103),\"-\")","v":1.0031058414723975},{"$f":"IF(AE$60<=vantHoff_EOS!$N$19,Phi_i_NS_Tci_Pci_wi_kijm_TinC_PinPa_yi(AE$3,vantHoff_EOS!$N$19,vantHoff_EOS!$X$5:$X$14,vantHoff_EOS!$Y$5:$Y$14,vantHoff_EOS!$Z$5:$Z$14,vantHoff_EOS!$AE$5:$AN$14,G103,$C$59,$O103:$X103),\"-\")","v":"-"},{"$f":"IF(AF$60<=vantHoff_EOS!$N$19,Phi_i_NS_Tci_Pci_wi_kijm_TinC_PinPa_yi(AF$3,vantHoff_EOS!$N$19,vantHoff_EOS!$X$5:$X$14,vantHoff_EOS!$Y$5:$Y$14,vantHoff_EOS!$Z$5:$Z$14,vantHoff_EOS!$AE$5:$AN$14,H103,$C$59,$O103:$X103),\"-\")","v":"-"},{"$f":"IF(AG$60<=vantHoff_EOS!$N$19,Phi_i_NS_Tci_Pci_wi_kijm_TinC_PinPa_yi(AG$3,vantHoff_EOS!$N$19,vantHoff_EOS!$X$5:$X$14,vantHoff_EOS!$Y$5:$Y$14,vantHoff_EOS!$Z$5:$Z$14,vantHoff_EOS!$AE$5:$AN$14,I103,$C$59,$O103:$X103),\"-\")","v":"-"},{"$f":"IF(AH$60<=vantHoff_EOS!$N$19,Phi_i_NS_Tci_Pci_wi_kijm_TinC_PinPa_yi(AH$3,vantHoff_EOS!$N$19,vantHoff_EOS!$X$5:$X$14,vantHoff_EOS!$Y$5:$Y$14,vantHoff_EOS!$Z$5:$Z$14,vantHoff_EOS!$AE$5:$AN$14,J103,$C$59,$O103:$X103),\"-\")","v":"-"},{"$f":"IF(AI$60<=vantHoff_EOS!$N$19,Phi_i_NS_Tci_Pci_wi_kijm_TinC_PinPa_yi(AI$3,vantHoff_EOS!$N$19,vantHoff_EOS!$X$5:$X$14,vantHoff_EOS!$Y$5:$Y$14,vantHoff_EOS!$Z$5:$Z$14,vantHoff_EOS!$AE$5:$AN$14,K103,$C$59,$O103:$X103),\"-\")","v":"-"}]
[44,{"$f":"B103+vantHoff_EOS!$B$31","v":86},359.15,2.78435194208548E-3,{"$f":"lnKaT_Tref_lnKaTref_dHTref_da_db_dc_dd_de_TinC(vantHoff_EOS!$E$7,vantHoff_EOS!$B$9,vantHoff_EOS!$B$6,vantHoff_EOS!$O$27,vantHoff_EOS!$P$27,vantHoff_EOS!$Q$27,vantHoff_EOS!$R$27,vantHoff_EOS!$S$27,B104)","v":8.3476809359288495},4220.3820492458899,{"$f":"MolarExtentX_NS_vi_n0i_dHfi_dGfi_TrefinC_da_db_dc_dd_de_Tci_Pci_wi_kijm_TinC_PinPa(vantHoff_EOS!$N$19,vantHoff_EOS!$O$23:$X$23,vantHoff_EOS!$O$31:$X$31,vantHoff_EOS!$T$5:$T$14,vantHoff_EOS!$U$5:$U$14,vantHoff_EOS!$E$7,vantHoff_EOS!$O$27,vantHoff_EOS!$P$27,vantHoff_EOS!$Q$27,vantHoff_EOS!$R$27,vantHoff_EOS!$S$27,vantHoff_EOS!$X$5:$X$14,vantHoff_EOS!$Y$5:$Y$14,vantHoff_EOS!$Z$5:$Z$14,vantHoff_EOS!$AE$5:$AN$14,B104,$C$59)","v":0.99739738883425622},{"$f":"Ky_NS_n0i_vi_X(vantHoff_EOS!$N$19,vantHoff_EOS!$O$31:$X$31,vantHoff_EOS!$O$23:$X$23,G104)","v":3940164948.5363722},{"$f":"Kp_NS_vi_PinPa(vantHoff_EOS!$N$19,vantHoff_EOS!$O$23:$X$23,$C$59)","v":6.9444444444444444E-5},{"$f":"Kphi_NS_n0i_vi_X_Tci_Pci_wi_kijm_TinC_PinPa(vantHoff_EOS!$N$19,vantHoff_EOS!$O$31:$X$31,vantHoff_EOS!$O$23:$X$23,G104,vantHoff_EOS!$X$5:$X$14,vantHoff_EOS!$Y$5:$Y$14,vantHoff_EOS!$Z$5:$Z$14,vantHoff_EOS!$AE$5:$AN$14,B104,$C$59)","v":1.542410084423386E-2},22.094488424490688,-9.5749834855640916,-4.1718240029977522,{"$f":"nT_NS_n0i_vi_X(vantHoff_EOS!$N$19,vantHoff_EOS!$O$31:$X$31,vantHoff_EOS!$O$23:$X$23,G104)","v":8.3452052223314865},{"$f":"IF(O$60<=vantHoff_EOS!$N$19,y_iindex_NS_n0i_vi_X(O$3,vantHoff_EOS!$N$19,vantHoff_EOS!$O$31:$X$31,vantHoff_EOS!$O$23:$X$23,$G104),\"-\")","v":3.1186904293009897E-4},{"$f":"IF(P$60<=vantHoff_EOS!$N$19,y_iindex_NS_n0i_vi_X(P$3,vantHoff_EOS!$N$19,vantHoff_EOS!$O$31:$X$31,vantHoff_EOS!$O$23:$X$23,$G104),\"-\")","v":3.1186904293009897E-4},{"$f":"IF(Q$60<=vantHoff_EOS!$N$19,y_iindex_NS_n0i_vi_X(Q$3,vantHoff_EOS!$N$19,vantHoff_EOS!$O$31:$X$31,vantHoff_EOS!$O$23:$X$23,$G104),\"-\")","v":3.1186904293009897E-4},{"$f":"IF(R$60<=vantHoff_EOS!$N$19,y_iindex_NS_n0i_vi_X(R$3,vantHoff_EOS!$N$19,vantHoff_EOS!$O$31:$X$31,vantHoff_EOS!$O$23:$X$23,$G104),\"-\")","v":0.11951741895636725},{"$f":"IF(S$60<=vantHoff_EOS!$N$19,y_iindex_NS_n0i_vi_X(S$3,vantHoff_EOS!$N$19,vantHoff_EOS!$O$31:$X$31,vantHoff_EOS!$O$23:$X$23,$G104),\"-\")","v":0.8795469739148426},{"$f":"IF(T$60<=vantHoff_EOS!$N$19,y_iindex_NS_n0i_vi_X(T$3,vantHoff_EOS!$N$19,vantHoff_EOS!$O$31:$X$31,vantHoff_EOS!$O$23:$X$23,$G104),\"-\")","v":"-"},{"$f":"IF(U$60<=vantHoff_EOS!$N$19,y_iindex_NS_n0i_vi_X(U$3,vantHoff_EOS!$N$19,vantHoff_EOS!$O$31:$X$31,vantHoff_EOS!$O$23:$X$23,$G104),\"-\")","v":"-"},{"$f":"IF(V$60<=vantHoff_EOS!$N$19,y_iindex_NS_n0i_vi_X(V$3,vantHoff_EOS!$N$19,vantHoff_EOS!$O$31:$X$31,vantHoff_EOS!$O$23:$X$23,$G104),\"-\")","v":"-"},{"$f":"IF(W$60<=vantHoff_EOS!$N$19,y_iindex_NS_n0i_vi_X(W$3,vantHoff_EOS!$N$19,vantHoff_EOS!$O$31:$X$31,vantHoff_EOS!$O$23:$X$23,$G104),\"-\")","v":"-"},{"$f":"IF(X$60<=vantHoff_EOS!$N$19,y_iindex_NS_n0i_vi_X(X$3,vantHoff_EOS!$N$19,vantHoff_EOS!$O$31:$X$31,vantHoff_EOS!$O$23:$X$23,$G104),\"-\")","v":"-"},1.0000000000000002,{"$f":"IF(Z$60<=vantHoff_EOS!$N$19,Phi_i_NS_Tci_Pci_wi_kijm_TinC_PinPa_yi(Z$3,vantHoff_EOS!$N$19,vantHoff_EOS!$X$5:$X$14,vantHoff_EOS!$Y$5:$Y$14,vantHoff_EOS!$Z$5:$Z$14,vantHoff_EOS!$AE$5:$AN$14,B104,$C$59,$O104:$X104),\"-\")","v":2.4378355364652986},{"$f":"IF(AA$60<=vantHoff_EOS!$N$19,Phi_i_NS_Tci_Pci_wi_kijm_TinC_PinPa_yi(AA$3,vantHoff_EOS!$N$19,vantHoff_EOS!$X$5:$X$14,vantHoff_EOS!$Y$5:$Y$14,vantHoff_EOS!$Z$5:$Z$14,vantHoff_EOS!$AE$5:$AN$14,C104,$C$59,$O104:$X104),\"-\")","v":1.0924019021678837},{"$f":"IF(AB$60<=vantHoff_EOS!$N$19,Phi_i_NS_Tci_Pci_wi_kijm_TinC_PinPa_yi(AB$3,vantHoff_EOS!$N$19,vantHoff_EOS!$X$5:$X$14,vantHoff_EOS!$Y$5:$Y$14,vantHoff_EOS!$Z$5:$Z$14,vantHoff_EOS!$AE$5:$AN$14,D104,$C$59,$O104:$X104),\"-\")","v":6.5018359850629315E-2},{"$f":"IF(AC$60<=vantHoff_EOS!$N$19,Phi_i_NS_Tci_Pci_wi_kijm_TinC_PinPa_yi(AC$3,vantHoff_EOS!$N$19,vantHoff_EOS!$X$5:$X$14,vantHoff_EOS!$Y$5:$Y$14,vantHoff_EOS!$Z$5:$Z$14,vantHoff_EOS!$AE$5:$AN$14,E104,$C$59,$O104:$X104),\"-\")","v":9.5226336064147389E-4},{"$f":"IF(AD$60<=vantHoff_EOS!$N$19,Phi_i_NS_Tci_Pci_wi_kijm_TinC_PinPa_yi(AD$3,vantHoff_EOS!$N$19,vantHoff_EOS!$X$5:$X$14,vantHoff_EOS!$Y$5:$Y$14,vantHoff_EOS!$Z$5:$Z$14,vantHoff_EOS!$AE$5:$AN$14,F104,$C$59,$O104:$X104),\"-\")","v":1.0050618966993483},{"$f":"IF(AE$60<=vantHoff_EOS!$N$19,Phi_i_NS_Tci_Pci_wi_kijm_TinC_PinPa_yi(AE$3,vantHoff_EOS!$N$19,vantHoff_EOS!$X$5:$X$14,vantHoff_EOS!$Y$5:$Y$14,vantHoff_EOS!$Z$5:$Z$14,vantHoff_EOS!$AE$5:$AN$14,G104,$C$59,$O104:$X104),\"-\")","v":"-"},{"$f":"IF(AF$60<=vantHoff_EOS!$N$19,Phi_i_NS_Tci_Pci_wi_kijm_TinC_PinPa_yi(AF$3,vantHoff_EOS!$N$19,vantHoff_EOS!$X$5:$X$14,vantHoff_EOS!$Y$5:$Y$14,vantHoff_EOS!$Z$5:$Z$14,vantHoff_EOS!$AE$5:$AN$14,H104,$C$59,$O104:$X104),\"-\")","v":"-"},{"$f":"IF(AG$60<=vantHoff_EOS!$N$19,Phi_i_NS_Tci_Pci_wi_kijm_TinC_PinPa_yi(AG$3,vantHoff_EOS!$N$19,vantHoff_EOS!$X$5:$X$14,vantHoff_EOS!$Y$5:$Y$14,vantHoff_EOS!$Z$5:$Z$14,vantHoff_EOS!$AE$5:$AN$14,I104,$C$59,$O104:$X104),\"-\")","v":"-"},{"$f":"IF(AH$60<=vantHoff_EOS!$N$19,Phi_i_NS_Tci_Pci_wi_kijm_TinC_PinPa_yi(AH$3,vantHoff_EOS!$N$19,vantHoff_EOS!$X$5:$X$14,vantHoff_EOS!$Y$5:$Y$14,vantHoff_EOS!$Z$5:$Z$14,vantHoff_EOS!$AE$5:$AN$14,J104,$C$59,$O104:$X104),\"-\")","v":"-"},{"$f":"IF(AI$60<=vantHoff_EOS!$N$19,Phi_i_NS_Tci_Pci_wi_kijm_TinC_PinPa_yi(AI$3,vantHoff_EOS!$N$19,vantHoff_EOS!$X$5:$X$14,vantHoff_EOS!$Y$5:$Y$14,vantHoff_EOS!$Z$5:$Z$14,vantHoff_EOS!$AE$5:$AN$14,K104,$C$59,$O104:$X104),\"-\")","v":"-"}]
[45,{"$f":"B104+vantHoff_EOS!$B$31","v":88},361.15,2.7689325764917627E-3,{"$f":"lnKaT_Tref_lnKaTref_dHTref_da_db_dc_dd_de_TinC(vantHoff_EOS!$E$7,vantHoff_EOS!$B$9,vantHoff_EOS!$B$6,vantHoff_EOS!$O$27,vantHoff_EOS!$P$27,vantHoff_EOS!$Q$27,vantHoff_EOS!$R$27,vantHoff_EOS!$S$27,B105)","v":8.1327855886232996},3404.2692634069217,{"$f":"MolarExtentX_NS_vi_n0i_dHfi_dGfi_TrefinC_da_db_dc_dd_de_Tci_Pci_wi_kijm_TinC_PinPa(vantHoff_EOS!$N$19,vantHoff_EOS!$O$23:$X$23,vantHoff_EOS!$O$31:$X$31,vantHoff_EOS!$T$5:$T$14,vantHoff_EOS!$U$5:$U$14,vantHoff_EOS!$E$7,vantHoff_EOS!$O$27,vantHoff_EOS!$P$27,vantHoff_EOS!$Q$27,vantHoff_EOS!$R$27,vantHoff_EOS!$S$27,vantHoff_EOS!$X$5:$X$14,vantHoff_EOS!$Y$5:$Y$14,vantHoff_EOS!$Z$5:$Z$14,vantHoff_EOS!$AE$5:$AN$14,B105,$C$59)","v":0.99706088567260354},{"$f":"Ky_NS_n0i_vi_X(vantHoff_EOS!$N$19,vantHoff_EOS!$O$31:$X$31,vantHoff_EOS!$O$23:$X$23,G105)","v":2735371561.6809082},{"$f":"Kp_NS_vi_PinPa(vantHoff_EOS!$N$19,vantHoff_EOS!$O$23:$X$23,$C$59)","v":6.9444444444444444E-5},{"$f":"Kphi_NS_n0i_vi_X_Tci_Pci_wi_kijm_TinC_PinPa(vantHoff_EOS!$N$19,vantHoff_EOS!$O$31:$X$31,vantHoff_EOS!$O$23:$X$23,G105,vantHoff_EOS!$X$5:$X$14,vantHoff_EOS!$Y$5:$Y$14,vantHoff_EOS!$Z$5:$Z$14,vantHoff_EOS!$AE$5:$AN$14,B105,$C$59)","v":1.7921322949647617E-2},21.729533117955295,-9.5749834855640916,-4.0217640488451503,{"$f":"nT_NS_n0i_vi_X(vantHoff_EOS!$N$19,vantHoff_EOS!$O$31:$X$31,vantHoff_EOS!$O$23:$X$23,G105)","v":8.3458782286547937},{"$f":"IF(O$60<=vantHoff_EOS!$N$19,y_iindex_NS_n0i_vi_X(O$3,vantHoff_EOS!$N$19,vantHoff_EOS!$O$31:$X$31,vantHoff_EOS!$O$23:$X$23,$G105),\"-\")","v":3.5216357666294353E-4},{"$f":"IF(P$60<=vantHoff_EOS!$N$19,y_iindex_NS_n0i_vi_X(P$3,vantHoff_EOS!$N$19,vantHoff_EOS!$O$31:$X$31,vantHoff_EOS!$O$23:$X$23,$G105),\"-\")","v":3.5216357666294353E-4},{"$f":"IF(Q$60<=vantHoff_EOS!$N$19,y_iindex_NS_n0i_vi_X(Q$3,vantHoff_EOS!$N$19,vantHoff_EOS!$O$31:$X$31,vantHoff_EOS!$O$23:$X$23,$G105),\"-\")","v":3.5216357666294353E-4},{"$f":"IF(R$60<=vantHoff_EOS!$N$19,y_iindex_NS_n0i_vi_X(R$3,vantHoff_EOS!$N$19,vantHoff_EOS!$O$31:$X$31,vantHoff_EOS!$O$23:$X$23,$G105),\"-\")","v":0.11946746146490468},{"$f":"IF(S$60<=vantHoff_EOS!$N$19,y_iindex_NS_n0i_vi_X(S$3,vantHoff_EOS!$N$19,vantHoff_EOS!$O$31:$X$31,vantHoff_EOS!$O$23:$X$23,$G105),\"-\")","v":0.87947604780510635},{"$f":"IF(T$60<=vantHoff_EOS!$N$19,y_iindex_NS_n0i_vi_X(T$3,vantHoff_EOS!$N$19,vantHoff_EOS!$O$31:$X$31,vantHoff_EOS!$O$23:$X$23,$G105),\"-\")","v":"-"},{"$f":"IF(U$60<=vantHoff_EOS!$N$19,y_iindex_NS_n0i_vi_X(U$3,vantHoff_EOS!$N$19,vantHoff_EOS!$O$31:$X$31,vantHoff_EOS!$O$23:$X$23,$G105),\"-\")","v":"-"},{"$f":"IF(V$60<=vantHoff_EOS!$N$19,y_iindex_NS_n0i_vi_X(V$3,vantHoff_EOS!$N$19,vantHoff_EOS!$O$31:$X$31,vantHoff_EOS!$O$23:$X$23,$G105),\"-\")","v":"-"},{"$f":"IF(W$60<=vantHoff_EOS!$N$19,y_iindex_NS_n0i_vi_X(W$3,vantHoff_EOS!$N$19,vantHoff_EOS!$O$31:$X$31,vantHoff_EOS!$O$23:$X$23,$G105),\"-\")","v":"-"},{"$f":"IF(X$60<=vantHoff_EOS!$N$19,y_iindex_NS_n0i_vi_X(X$3,vantHoff_EOS!$N$19,vantHoff_EOS!$O$31:$X$31,vantHoff_EOS!$O$23:$X$23,$G105),\"-\")","v":"-"},0.99999999999999989,{"$f":"IF(Z$60<=vantHoff_EOS!$N$19,Phi_i_NS_Tci_Pci_wi_kijm_TinC_PinPa_yi(Z$3,vantHoff_EOS!$N$19,vantHoff_EOS!$X$5:$X$14,vantHoff_EOS!$Y$5:$Y$14,vantHoff_EOS!$Z$5:$Z$14,vantHoff_EOS!$AE$5:$AN$14,B105,$C$59,$O105:$X105),\"-\")","v":2.3501561818577472},{"$f":"IF(AA$60<=vantHoff_EOS!$N$19,Phi_i_NS_Tci_Pci_wi_kijm_TinC_PinPa_yi(AA$3,vantHoff_EOS!$N$19,vantHoff_EOS!$X$5:$X$14,vantHoff_EOS!$Y$5:$Y$14,vantHoff_EOS!$Z$5:$Z$14,vantHoff_EOS!$AE$5:$AN$14,C105,$C$59,$O105:$X105),\"-\")","v":1.0914503796181008},{"$f":"IF(AB$60<=vantHoff_EOS!$N$19,Phi_i_NS_Tci_Pci_wi_kijm_TinC_PinPa_yi(AB$3,vantHoff_EOS!$N$19,vantHoff_EOS!$X$5:$X$14,vantHoff_EOS!$Y$5:$Y$14,vantHoff_EOS!$Z$5:$Z$14,vantHoff_EOS!$AE$5:$AN$14,D105,$C$59,$O105:$X105),\"-\")","v":6.5014725783806224E-2},{"$f":"IF(AC$60<=vantHoff_EOS!$N$19,Phi_i_NS_Tci_Pci_wi_kijm_TinC_PinPa_yi(AC$3,vantHoff_EOS!$N$19,vantHoff_EOS!$X$5:$X$14,vantHoff_EOS!$Y$5:$Y$14,vantHoff_EOS!$Z$5:$Z$14,vantHoff_EOS!$AE$5:$AN$14,E105,$C$59,$O105:$X105),\"-\")","v":9.4113569311136524E-4},{"$f":"IF(AD$60<=vantHoff_EOS!$N$19,Phi_i_NS_Tci_Pci_wi_kijm_TinC_PinPa_yi(AD$3,vantHoff_EOS!$N$19,vantHoff_EOS!$X$5:$X$14,vantHoff_EOS!$Y$5:$Y$14,vantHoff_EOS!$Z$5:$Z$14,vantHoff_EOS!$AE$5:$AN$14,F105,$C$59,$O105:$X105),\"-\")","v":1.0075802795657793},{"$f":"IF(AE$60<=vantHoff_EOS!$N$19,Phi_i_NS_Tci_Pci_wi_kijm_TinC_PinPa_yi(AE$3,vantHoff_EOS!$N$19,vantHoff_EOS!$X$5:$X$14,vantHoff_EOS!$Y$5:$Y$14,vantHoff_EOS!$Z$5:$Z$14,vantHoff_EOS!$AE$5:$AN$14,G105,$C$59,$O105:$X105),\"-\")","v":"-"},{"$f":"IF(AF$60<=vantHoff_EOS!$N$19,Phi_i_NS_Tci_Pci_wi_kijm_TinC_PinPa_yi(AF$3,vantHoff_EOS!$N$19,vantHoff_EOS!$X$5:$X$14,vantHoff_EOS!$Y$5:$Y$14,vantHoff_EOS!$Z$5:$Z$14,vantHoff_EOS!$AE$5:$AN$14,H105,$C$59,$O105:$X105),\"-\")","v":"-"},{"$f":"IF(AG$60<=vantHoff_EOS!$N$19,Phi_i_NS_Tci_Pci_wi_kijm_TinC_PinPa_yi(AG$3,vantHoff_EOS!$N$19,vantHoff_EOS!$X$5:$X$14,vantHoff_EOS!$Y$5:$Y$14,vantHoff_EOS!$Z$5:$Z$14,vantHoff_EOS!$AE$5:$AN$14,I105,$C$59,$O105:$X105),\"-\")","v":"-"},{"$f":"IF(AH$60<=vantHoff_EOS!$N$19,Phi_i_NS_Tci_Pci_wi_kijm_TinC_PinPa_yi(AH$3,vantHoff_EOS!$N$19,vantHoff_EOS!$X$5:$X$14,vantHoff_EOS!$Y$5:$Y$14,vantHoff_EOS!$Z$5:$Z$14,vantHoff_EOS!$AE$5:$AN$14,J105,$C$59,$O105:$X105),\"-\")","v":"-"},{"$f":"IF(AI$60<=vantHoff_EOS!$N$19,Phi_i_NS_Tci_Pci_wi_kijm_TinC_PinPa_yi(AI$3,vantHoff_EOS!$N$19,vantHoff_EOS!$X$5:$X$14,vantHoff_EOS!$Y$5:$Y$14,vantHoff_EOS!$Z$5:$Z$14,vantHoff_EOS!$AE$5:$AN$14,K105,$C$59,$O105:$X105),\"-\")","v":"-"}]
[46,{"$f":"B105+vantHoff_EOS!$B$31","v":90},363.15,2.7536830510808208E-3,{"$f":"lnKaT_Tref_lnKaTref_dHTref_da_db_dc_dd_de_TinC(vantHoff_EOS!$E$7,vantHoff_EOS!$B$9,vantHoff_EOS!$B$6,vantHoff_EOS!$O$27,vantHoff_EOS!$P$27,vantHoff_EOS!$Q$27,vantHoff_EOS!$R$27,vantHoff_EOS!$S$27,B106)","v":7.9202081092989873},2752.343774466342,{"$f":"MolarExtentX_NS_vi_n0i_dHfi_dGfi_TrefinC_da_db_dc_dd_de_Tci_Pci_wi_kijm_TinC_PinPa(vantHoff_EOS!$N$19,vantHoff_EOS!$O$23:$X$23,vantHoff_EOS!$O$31:$X$31,vantHoff_EOS!$T$5:$T$14,vantHoff_EOS!$U$5:$U$14,vantHoff_EOS!$E$7,vantHoff_EOS!$O$27,vantHoff_EOS!$P$27,vantHoff_EOS!$Q$27,vantHoff_EOS!$R$27,vantHoff_EOS!$S$27,vantHoff_EOS!$X$5:$X$14,vantHoff_EOS!$Y$5:$Y$14,vantHoff_EOS!$Z$5:$Z$14,vantHoff_EOS!$AE$5:$AN$14,B106,$C$59)","v":0.99668426231814156},{"$f":"Ky_NS_n0i_vi_X(vantHoff_EOS!$N$19,vantHoff_EOS!$O$31:$X$31,vantHoff_EOS!$O$23:$X$23,G106)","v":1904757023.5082154},{"$f":"Kp_NS_vi_PinPa(vantHoff_EOS!$N$19,vantHoff_EOS!$O$23:$X$23,$C$59)","v":6.9444444444444444E-5},{"$f":"Kphi_NS_n0i_vi_X_Tci_Pci_wi_kijm_TinC_PinPa(vantHoff_EOS!$N$19,vantHoff_EOS!$O$31:$X$31,vantHoff_EOS!$O$23:$X$23,G106,vantHoff_EOS!$X$5:$X$14,vantHoff_EOS!$Y$5:$Y$14,vantHoff_EOS!$Z$5:$Z$14,vantHoff_EOS!$AE$5:$AN$14,B106,$C$59)","v":2.0807770847169671E-2},21.367620290675454,-9.5749834855640916,-3.8724287636237595,{"$f":"nT_NS_n0i_vi_X(vantHoff_EOS!$N$19,vantHoff_EOS!$O$31:$X$31,vantHoff_EOS!$O$23:$X$23,G106)","v":8.3466314753637167},{"$f":"IF(O$60<=vantHoff_EOS!$N$19,y_iindex_NS_n0i_vi_X(O$3,vantHoff_EOS!$N$19,vantHoff_EOS!$O$31:$X$31,vantHoff_EOS!$O$23:$X$23,$G106),\"-\")","v":3.9725459206451378E-4},{"$f":"IF(P$60<=vantHoff_EOS!$N$19,y_iindex_NS_n0i_vi_X(P$3,vantHoff_EOS!$N$19,vantHoff_EOS!$O$31:$X$31,vantHoff_EOS!$O$23:$X$23,$G106),\"-\")","v":3.9725459206451378E-4},{"$f":"IF(Q$60<=vantHoff_EOS!$N$19,y_iindex_NS_n0i_vi_X(Q$3,vantHoff_EOS!$N$19,vantHoff_EOS!$O$31:$X$31,vantHoff_EOS!$O$23:$X$23,$G106),\"-\")","v":3.9725459206451378E-4},{"$f":"IF(R$60<=vantHoff_EOS!$N$19,y_iindex_NS_n0i_vi_X(R$3,vantHoff_EOS!$N$19,vantHoff_EOS!$O$31:$X$31,vantHoff_EOS!$O$23:$X$23,$G106),\"-\")","v":0.11941155725636127},{"$f":"IF(S$60<=vantHoff_EOS!$N$19,y_iindex_NS_n0i_vi_X(S$3,vantHoff_EOS!$N$19,vantHoff_EOS!$O$31:$X$31,vantHoff_EOS!$O$23:$X$23,$G106),\"-\")","v":0.87939667896744522},{"$f":"IF(T$60<=vantHoff_EOS!$N$19,y_iindex_NS_n0i_vi_X(T$3,vantHoff_EOS!$N$19,vantHoff_EOS!$O$31:$X$31,vantHoff_EOS!$O$23:$X$23,$G106),\"-\")","v":"-"},{"$f":"IF(U$60<=vantHoff_EOS!$N$19,y_iindex_NS_n0i_vi_X(U$3,vantHoff_EOS!$N$19,vantHoff_EOS!$O$31:$X$31,vantHoff_EOS!$O$23:$X$23,$G106),\"-\")","v":"-"},{"$f":"IF(V$60<=vantHoff_EOS!$N$19,y_iindex_NS_n0i_vi_X(V$3,vantHoff_EOS!$N$19,vantHoff_EOS!$O$31:$X$31,vantHoff_EOS!$O$23:$X$23,$G106),\"-\")","v":"-"},{"$f":"IF(W$60<=vantHoff_EOS!$N$19,y_iindex_NS_n0i_vi_X(W$3,vantHoff_EOS!$N$19,vantHoff_EOS!$O$31:$X$31,vantHoff_EOS!$O$23:$X$23,$G106),\"-\")","v":"-"},{"$f":"IF(X$60<=vantHoff_EOS!$N$19,y_iindex_NS_n0i_vi_X(X$3,vantHoff_EOS!$N$19,vantHoff_EOS!$O$31:$X$31,vantHoff_EOS!$O$23:$X$23,$G106),\"-\")","v":"-"},1,{"$f":"IF(Z$60<=vantHoff_EOS!$N$19,Phi_i_NS_Tci_Pci_wi_kijm_TinC_PinPa_yi(Z$3,vantHoff_EOS!$N$19,vantHoff_EOS!$X$5:$X$14,vantHoff_EOS!$Y$5:$Y$14,vantHoff_EOS!$Z$5:$Z$14,vantHoff_EOS!$AE$5:$AN$14,B106,$C$59,$O106:$X106),\"-\")","v":2.2658988049644972},{"$f":"IF(AA$60<=vantHoff_EOS!$N$19,Phi_i_NS_Tci_Pci_wi_kijm_TinC_PinPa_yi(AA$3,vantHoff_EOS!$N$19,vantHoff_EOS!$X$5:$X$14,vantHoff_EOS!$Y$5:$Y$14,vantHoff_EOS!$Z$5:$Z$14,vantHoff_EOS!$AE$5:$AN$14,C106,$C$59,$O106:$X106),\"-\")","v":1.0905115845908084},{"$f":"IF(AB$60<=vantHoff_EOS!$N$19,Phi_i_NS_Tci_Pci_wi_kijm_TinC_PinPa_yi(AB$3,vantHoff_EOS!$N$19,vantHoff_EOS!$X$5:$X$14,vantHoff_EOS!$Y$5:$Y$14,vantHoff_EOS!$Z$5:$Z$14,vantHoff_EOS!$AE$5:$AN$14,D106,$C$59,$O106:$X106),\"-\")","v":6.5010665345880583E-2},{"$f":"IF(AC$60<=vantHoff_EOS!$N$19,Phi_i_NS_Tci_Pci_wi_kijm_TinC_PinPa_yi(AC$3,vantHoff_EOS!$N$19,vantHoff_EOS!$X$5:$X$14,vantHoff_EOS!$Y$5:$Y$14,vantHoff_EOS!$Z$5:$Z$14,vantHoff_EOS!$AE$5:$AN$14,E106,$C$59,$O106:$X106),\"-\")","v":9.3025590088190982E-4},{"$f":"IF(AD$60<=vantHoff_EOS!$N$19,Phi_i_NS_Tci_Pci_wi_kijm_TinC_PinPa_yi(AD$3,vantHoff_EOS!$N$19,vantHoff_EOS!$X$5:$X$14,vantHoff_EOS!$Y$5:$Y$14,vantHoff_EOS!$Z$5:$Z$14,vantHoff_EOS!$AE$5:$AN$14,F106,$C$59,$O106:$X106),\"-\")","v":1.0106807489692871},{"$f":"IF(AE$60<=vantHoff_EOS!$N$19,Phi_i_NS_Tci_Pci_wi_kijm_TinC_PinPa_yi(AE$3,vantHoff_EOS!$N$19,vantHoff_EOS!$X$5:$X$14,vantHoff_EOS!$Y$5:$Y$14,vantHoff_EOS!$Z$5:$Z$14,vantHoff_EOS!$AE$5:$AN$14,G106,$C$59,$O106:$X106),\"-\")","v":"-"},{"$f":"IF(AF$60<=vantHoff_EOS!$N$19,Phi_i_NS_Tci_Pci_wi_kijm_TinC_PinPa_yi(AF$3,vantHoff_EOS!$N$19,vantHoff_EOS!$X$5:$X$14,vantHoff_EOS!$Y$5:$Y$14,vantHoff_EOS!$Z$5:$Z$14,vantHoff_EOS!$AE$5:$AN$14,H106,$C$59,$O106:$X106),\"-\")","v":"-"},{"$f":"IF(AG$60<=vantHoff_EOS!$N$19,Phi_i_NS_Tci_Pci_wi_kijm_TinC_PinPa_yi(AG$3,vantHoff_EOS!$N$19,vantHoff_EOS!$X$5:$X$14,vantHoff_EOS!$Y$5:$Y$14,vantHoff_EOS!$Z$5:$Z$14,vantHoff_EOS!$AE$5:$AN$14,I106,$C$59,$O106:$X106),\"-\")","v":"-"},{"$f":"IF(AH$60<=vantHoff_EOS!$N$19,Phi_i_NS_Tci_Pci_wi_kijm_TinC_PinPa_yi(AH$3,vantHoff_EOS!$N$19,vantHoff_EOS!$X$5:$X$14,vantHoff_EOS!$Y$5:$Y$14,vantHoff_EOS!$Z$5:$Z$14,vantHoff_EOS!$AE$5:$AN$14,J106,$C$59,$O106:$X106),\"-\")","v":"-"},{"$f":"IF(AI$60<=vantHoff_EOS!$N$19,Phi_i_NS_Tci_Pci_wi_kijm_TinC_PinPa_yi(AI$3,vantHoff_EOS!$N$19,vantHoff_EOS!$X$5:$X$14,vantHoff_EOS!$Y$5:$Y$14,vantHoff_EOS!$Z$5:$Z$14,vantHoff_EOS!$AE$5:$AN$14,K106,$C$59,$O106:$X106),\"-\")","v":"-"}]
[47,{"$f":"B106+vantHoff_EOS!$B$31","v":92},365.15,2.738600575106121E-3,{"$f":"lnKaT_Tref_lnKaTref_dHTref_da_db_dc_dd_de_TinC(vantHoff_EOS!$E$7,vantHoff_EOS!$B$9,vantHoff_EOS!$B$6,vantHoff_EOS!$O$27,vantHoff_EOS!$P$27,vantHoff_EOS!$Q$27,vantHoff_EOS!$R$27,vantHoff_EOS!$S$27,B107)","v":7.7099110578186796},2230.3438777140182,{"$f":"MolarExtentX_NS_vi_n0i_dHfi_dGfi_TrefinC_da_db_dc_dd_de_Tci_Pci_wi_kijm_TinC_PinPa(vantHoff_EOS!$N$19,vantHoff_EOS!$O$23:$X$23,vantHoff_EOS!$O$31:$X$31,vantHoff_EOS!$T$5:$T$14,vantHoff_EOS!$U$5:$U$14,vantHoff_EOS!$E$7,vantHoff_EOS!$O$27,vantHoff_EOS!$P$27,vantHoff_EOS!$Q$27,vantHoff_EOS!$R$27,vantHoff_EOS!$S$27,vantHoff_EOS!$X$5:$X$14,vantHoff_EOS!$Y$5:$Y$14,vantHoff_EOS!$Z$5:$Z$14,vantHoff_EOS!$AE$5:$AN$14,B107,$C$59)","v":0.99626471083238888},{"$f":"Ky_NS_n0i_vi_X(vantHoff_EOS!$N$19,vantHoff_EOS!$O$31:$X$31,vantHoff_EOS!$O$23:$X$23,G107)","v":1332023405.6281619},{"$f":"Kp_NS_vi_PinPa(vantHoff_EOS!$N$19,vantHoff_EOS!$O$23:$X$23,$C$59)","v":6.9444444444444444E-5},{"$f":"Kphi_NS_n0i_vi_X_Tci_Pci_wi_kijm_TinC_PinPa(vantHoff_EOS!$N$19,vantHoff_EOS!$O$31:$X$31,vantHoff_EOS!$O$23:$X$23,G107,vantHoff_EOS!$X$5:$X$14,vantHoff_EOS!$Y$5:$Y$14,vantHoff_EOS!$Z$5:$Z$14,vantHoff_EOS!$AE$5:$AN$14,B107,$C$59)","v":2.4111402022923483E-2},21.009964980703142,-9.5749834855640916,-3.7250704373838115,{"$f":"nT_NS_n0i_vi_X(vantHoff_EOS!$N$19,vantHoff_EOS!$O$31:$X$31,vantHoff_EOS!$O$23:$X$23,G107)","v":8.3474705783352228},{"$f":"IF(O$60<=vantHoff_EOS!$N$19,y_iindex_NS_n0i_vi_X(O$3,vantHoff_EOS!$N$19,vantHoff_EOS!$O$31:$X$31,vantHoff_EOS!$O$23:$X$23,$G107),\"-\")","v":4.4747557149893777E-4},{"$f":"IF(P$60<=vantHoff_EOS!$N$19,y_iindex_NS_n0i_vi_X(P$3,vantHoff_EOS!$N$19,vantHoff_EOS!$O$31:$X$31,vantHoff_EOS!$O$23:$X$23,$G107),\"-\")","v":4.4747557149893777E-4},{"$f":"IF(Q$60<=vantHoff_EOS!$N$19,y_iindex_NS_n0i_vi_X(Q$3,vantHoff_EOS!$N$19,vantHoff_EOS!$O$31:$X$31,vantHoff_EOS!$O$23:$X$23,$G107),\"-\")","v":4.4747557149893777E-4},{"$f":"IF(R$60<=vantHoff_EOS!$N$19,y_iindex_NS_n0i_vi_X(R$3,vantHoff_EOS!$N$19,vantHoff_EOS!$O$31:$X$31,vantHoff_EOS!$O$23:$X$23,$G107),\"-\")","v":0.11934929287658284},{"$f":"IF(S$60<=vantHoff_EOS!$N$19,y_iindex_NS_n0i_vi_X(S$3,vantHoff_EOS!$N$19,vantHoff_EOS!$O$31:$X$31,vantHoff_EOS!$O$23:$X$23,$G107),\"-\")","v":0.87930828040892028},{"$f":"IF(T$60<=vantHoff_EOS!$N$19,y_iindex_NS_n0i_vi_X(T$3,vantHoff_EOS!$N$19,vantHoff_EOS!$O$31:$X$31,vantHoff_EOS!$O$23:$X$23,$G107),\"-\")","v":"-"},{"$f":"IF(U$60<=vantHoff_EOS!$N$19,y_iindex_NS_n0i_vi_X(U$3,vantHoff_EOS!$N$19,vantHoff_EOS!$O$31:$X$31,vantHoff_EOS!$O$23:$X$23,$G107),\"-\")","v":"-"},{"$f":"IF(V$60<=vantHoff_EOS!$N$19,y_iindex_NS_n0i_vi_X(V$3,vantHoff_EOS!$N$19,vantHoff_EOS!$O$31:$X$31,vantHoff_EOS!$O$23:$X$23,$G107),\"-\")","v":"-"},{"$f":"IF(W$60<=vantHoff_EOS!$N$19,y_iindex_NS_n0i_vi_X(W$3,vantHoff_EOS!$N$19,vantHoff_EOS!$O$31:$X$31,vantHoff_EOS!$O$23:$X$23,$G107),\"-\")","v":"-"},{"$f":"IF(X$60<=vantHoff_EOS!$N$19,y_iindex_NS_n0i_vi_X(X$3,vantHoff_EOS!$N$19,vantHoff_EOS!$O$31:$X$31,vantHoff_EOS!$O$23:$X$23,$G107),\"-\")","v":"-"},1,{"$f":"IF(Z$60<=vantHoff_EOS!$N$19,Phi_i_NS_Tci_Pci_wi_kijm_TinC_PinPa_yi(Z$3,vantHoff_EOS!$N$19,vantHoff_EOS!$X$5:$X$14,vantHoff_EOS!$Y$5:$Y$14,vantHoff_EOS!$Z$5:$Z$14,vantHoff_EOS!$AE$5:$AN$14,B107,$C$59,$O107:$X107),\"-\")","v":2.185741376488274},{"$f":"IF(AA$60<=vantHoff_EOS!$N$19,Phi_i_NS_Tci_Pci_wi_kijm_TinC_PinPa_yi(AA$3,vantHoff_EOS!$N$19,vantHoff_EOS!$X$5:$X$14,vantHoff_EOS!$Y$5:$Y$14,vantHoff_EOS!$Z$5:$Z$14,vantHoff_EOS!$AE$5:$AN$14,C107,$C$59,$O107:$X107),\"-\")","v":1.0895851514180641},{"$f":"IF(AB$60<=vantHoff_EOS!$N$19,Phi_i_NS_Tci_Pci_wi_kijm_TinC_PinPa_yi(AB$3,vantHoff_EOS!$N$19,vantHoff_EOS!$X$5:$X$14,vantHoff_EOS!$Y$5:$Y$14,vantHoff_EOS!$Z$5:$Z$14,vantHoff_EOS!$AE$5:$AN$14,D107,$C$59,$O107:$X107),\"-\")","v":6.5006149705524235E-2},{"$f":"IF(AC$60<=vantHoff_EOS!$N$19,Phi_i_NS_Tci_Pci_wi_kijm_TinC_PinPa_yi(AC$3,vantHoff_EOS!$N$19,vantHoff_EOS!$X$5:$X$14,vantHoff_EOS!$Y$5:$Y$14,vantHoff_EOS!$Z$5:$Z$14,vantHoff_EOS!$AE$5:$AN$14,E107,$C$59,$O107:$X107),\"-\")","v":9.1961785868262334E-4},{"$f":"IF(AD$60<=vantHoff_EOS!$N$19,Phi_i_NS_Tci_Pci_wi_kijm_TinC_PinPa_yi(AD$3,vantHoff_EOS!$N$19,vantHoff_EOS!$X$5:$X$14,vantHoff_EOS!$Y$5:$Y$14,vantHoff_EOS!$Z$5:$Z$14,vantHoff_EOS!$AE$5:$AN$14,F107,$C$59,$O107:$X107),\"-\")","v":1.0143117690815819},{"$f":"IF(AE$60<=vantHoff_EOS!$N$19,Phi_i_NS_Tci_Pci_wi_kijm_TinC_PinPa_yi(AE$3,vantHoff_EOS!$N$19,vantHoff_EOS!$X$5:$X$14,vantHoff_EOS!$Y$5:$Y$14,vantHoff_EOS!$Z$5:$Z$14,vantHoff_EOS!$AE$5:$AN$14,G107,$C$59,$O107:$X107),\"-\")","v":"-"},{"$f":"IF(AF$60<=vantHoff_EOS!$N$19,Phi_i_NS_Tci_Pci_wi_kijm_TinC_PinPa_yi(AF$3,vantHoff_EOS!$N$19,vantHoff_EOS!$X$5:$X$14,vantHoff_EOS!$Y$5:$Y$14,vantHoff_EOS!$Z$5:$Z$14,vantHoff_EOS!$AE$5:$AN$14,H107,$C$59,$O107:$X107),\"-\")","v":"-"},{"$f":"IF(AG$60<=vantHoff_EOS!$N$19,Phi_i_NS_Tci_Pci_wi_kijm_TinC_PinPa_yi(AG$3,vantHoff_EOS!$N$19,vantHoff_EOS!$X$5:$X$14,vantHoff_EOS!$Y$5:$Y$14,vantHoff_EOS!$Z$5:$Z$14,vantHoff_EOS!$AE$5:$AN$14,I107,$C$59,$O107:$X107),\"-\")","v":"-"},{"$f":"IF(AH$60<=vantHoff_EOS!$N$19,Phi_i_NS_Tci_Pci_wi_kijm_TinC_PinPa_yi(AH$3,vantHoff_EOS!$N$19,vantHoff_EOS!$X$5:$X$14,vantHoff_EOS!$Y$5:$Y$14,vantHoff_EOS!$Z$5:$Z$14,vantHoff_EOS!$AE$5:$AN$14,J107,$C$59,$O107:$X107),\"-\")","v":"-"},{"$f":"IF(AI$60<=vantHoff_EOS!$N$19,Phi_i_NS_Tci_Pci_wi_kijm_TinC_PinPa_yi(AI$3,vantHoff_EOS!$N$19,vantHoff_EOS!$X$5:$X$14,vantHoff_EOS!$Y$5:$Y$14,vantHoff_EOS!$Z$5:$Z$14,vantHoff_EOS!$AE$5:$AN$14,K107,$C$59,$O107:$X107),\"-\")","v":"-"}]
[48,{"$f":"B107+vantHoff_EOS!$B$31","v":94},367.15,2.7236824186299877E-3,{"$f":"lnKaT_Tref_lnKaTref_dHTref_da_db_dc_dd_de_TinC(vantHoff_EOS!$E$7,vantHoff_EOS!$B$9,vantHoff_EOS!$B$6,vantHoff_EOS!$O$27,vantHoff_EOS!$P$27,vantHoff_EOS!$Q$27,vantHoff_EOS!$R$27,vantHoff_EOS!$S$27,B108)","v":7.5018578039108235},1811.4045248284647,{"$f":"MolarExtentX_NS_vi_n0i_dHfi_dGfi_TrefinC_da_db_dc_dd_de_Tci_Pci_wi_kijm_TinC_PinPa(vantHoff_EOS!$N$19,vantHoff_EOS!$O$23:$X$23,vantHoff_EOS!$O$31:$X$31,vantHoff_EOS!$T$5:$T$14,vantHoff_EOS!$U$5:$U$14,vantHoff_EOS!$E$7,vantHoff_EOS!$O$27,vantHoff_EOS!$P$27,vantHoff_EOS!$Q$27,vantHoff_EOS!$R$27,vantHoff_EOS!$S$27,vantHoff_EOS!$X$5:$X$14,vantHoff_EOS!$Y$5:$Y$14,vantHoff_EOS!$Z$5:$Z$14,vantHoff_EOS!$AE$5:$AN$14,B108,$C$59)","v":0.9957997940335267},{"$f":"Ky_NS_n0i_vi_X(vantHoff_EOS!$N$19,vantHoff_EOS!$O$31:$X$31,vantHoff_EOS!$O$23:$X$23,G108)","v":936627298.17574048},{"$f":"Kp_NS_vi_PinPa(vantHoff_EOS!$N$19,vantHoff_EOS!$O$23:$X$23,$C$59)","v":6.9444444444444444E-5},{"$f":"Kphi_NS_n0i_vi_X_Tci_Pci_wi_kijm_TinC_PinPa(vantHoff_EOS!$N$19,vantHoff_EOS!$O$31:$X$31,vantHoff_EOS!$O$23:$X$23,G108,vantHoff_EOS!$X$5:$X$14,vantHoff_EOS!$Y$5:$Y$14,vantHoff_EOS!$Z$5:$Z$14,vantHoff_EOS!$AE$5:$AN$14,B108,$C$59)","v":2.7849097715858796E-2},20.657796000323295,-9.5749834855640916,-3.5809547111279687,{"$f":"nT_NS_n0i_vi_X(vantHoff_EOS!$N$19,vantHoff_EOS!$O$31:$X$31,vantHoff_EOS!$O$23:$X$23,G108)","v":8.3484004119329462},{"$f":"IF(O$60<=vantHoff_EOS!$N$19,y_iindex_NS_n0i_vi_X(O$3,vantHoff_EOS!$N$19,vantHoff_EOS!$O$31:$X$31,vantHoff_EOS!$O$23:$X$23,$G108),\"-\")","v":5.0311505908001946E-4},{"$f":"IF(P$60<=vantHoff_EOS!$N$19,y_iindex_NS_n0i_vi_X(P$3,vantHoff_EOS!$N$19,vantHoff_EOS!$O$31:$X$31,vantHoff_EOS!$O$23:$X$23,$G108),\"-\")","v":5.0311505908001946E-4},{"$f":"IF(Q$60<=vantHoff_EOS!$N$19,y_iindex_NS_n0i_vi_X(Q$3,vantHoff_EOS!$N$19,vantHoff_EOS!$O$31:$X$31,vantHoff_EOS!$O$23:$X$23,$G108),\"-\")","v":5.0311505908001946E-4},{"$f":"IF(R$60<=vantHoff_EOS!$N$19,y_iindex_NS_n0i_vi_X(R$3,vantHoff_EOS!$N$19,vantHoff_EOS!$O$31:$X$31,vantHoff_EOS!$O$23:$X$23,$G108),\"-\")","v":0.11928031058622454},{"$f":"IF(S$60<=vantHoff_EOS!$N$19,y_iindex_NS_n0i_vi_X(S$3,vantHoff_EOS!$N$19,vantHoff_EOS!$O$31:$X$31,vantHoff_EOS!$O$23:$X$23,$G108),\"-\")","v":0.87921034423653543},{"$f":"IF(T$60<=vantHoff_EOS!$N$19,y_iindex_NS_n0i_vi_X(T$3,vantHoff_EOS!$N$19,vantHoff_EOS!$O$31:$X$31,vantHoff_EOS!$O$23:$X$23,$G108),\"-\")","v":"-"},{"$f":"IF(U$60<=vantHoff_EOS!$N$19,y_iindex_NS_n0i_vi_X(U$3,vantHoff_EOS!$N$19,vantHoff_EOS!$O$31:$X$31,vantHoff_EOS!$O$23:$X$23,$G108),\"-\")","v":"-"},{"$f":"IF(V$60<=vantHoff_EOS!$N$19,y_iindex_NS_n0i_vi_X(V$3,vantHoff_EOS!$N$19,vantHoff_EOS!$O$31:$X$31,vantHoff_EOS!$O$23:$X$23,$G108),\"-\")","v":"-"},{"$f":"IF(W$60<=vantHoff_EOS!$N$19,y_iindex_NS_n0i_vi_X(W$3,vantHoff_EOS!$N$19,vantHoff_EOS!$O$31:$X$31,vantHoff_EOS!$O$23:$X$23,$G108),\"-\")","v":"-"},{"$f":"IF(X$60<=vantHoff_EOS!$N$19,y_iindex_NS_n0i_vi_X(X$3,vantHoff_EOS!$N$19,vantHoff_EOS!$O$31:$X$31,vantHoff_EOS!$O$23:$X$23,$G108),\"-\")","v":"-"},1,{"$f":"IF(Z$60<=vantHoff_EOS!$N$19,Phi_i_NS_Tci_Pci_wi_kijm_TinC_PinPa_yi(Z$3,vantHoff_EOS!$N$19,vantHoff_EOS!$X$5:$X$14,vantHoff_EOS!$Y$5:$Y$14,vantHoff_EOS!$Z$5:$Z$14,vantHoff_EOS!$AE$5:$AN$14,B108,$C$59,$O108:$X108),\"-\")","v":2.1102492305675895},{"$f":"IF(AA$60<=vantHoff_EOS!$N$19,Phi_i_NS_Tci_Pci_wi_kijm_TinC_PinPa_yi(AA$3,vantHoff_EOS!$N$19,vantHoff_EOS!$X$5:$X$14,vantHoff_EOS!$Y$5:$Y$14,vantHoff_EOS!$Z$5:$Z$14,vantHoff_EOS!$AE$5:$AN$14,C108,$C$59,$O108:$X108),\"-\")","v":1.0886707476765169},{"$f":"IF(AB$60<=vantHoff_EOS!$N$19,Phi_i_NS_Tci_Pci_wi_kijm_TinC_PinPa_yi(AB$3,vantHoff_EOS!$N$19,vantHoff_EOS!$X$5:$X$14,vantHoff_EOS!$Y$5:$Y$14,vantHoff_EOS!$Z$5:$Z$14,vantHoff_EOS!$AE$5:$AN$14,D108,$C$59,$O108:$X108),\"-\")","v":6.5001154261161279E-2},{"$f":"IF(AC$60<=vantHoff_EOS!$N$19,Phi_i_NS_Tci_Pci_wi_kijm_TinC_PinPa_yi(AC$3,vantHoff_EOS!$N$19,vantHoff_EOS!$X$5:$X$14,vantHoff_EOS!$Y$5:$Y$14,vantHoff_EOS!$Z$5:$Z$14,vantHoff_EOS!$AE$5:$AN$14,E108,$C$59,$O108:$X108),\"-\")","v":9.0921550595157307E-4},{"$f":"IF(AD$60<=vantHoff_EOS!$N$19,Phi_i_NS_Tci_Pci_wi_kijm_TinC_PinPa_yi(AD$3,vantHoff_EOS!$N$19,vantHoff_EOS!$X$5:$X$14,vantHoff_EOS!$Y$5:$Y$14,vantHoff_EOS!$Z$5:$Z$14,vantHoff_EOS!$AE$5:$AN$14,F108,$C$59,$O108:$X108),\"-\")","v":1.0182706803275989},{"$f":"IF(AE$60<=vantHoff_EOS!$N$19,Phi_i_NS_Tci_Pci_wi_kijm_TinC_PinPa_yi(AE$3,vantHoff_EOS!$N$19,vantHoff_EOS!$X$5:$X$14,vantHoff_EOS!$Y$5:$Y$14,vantHoff_EOS!$Z$5:$Z$14,vantHoff_EOS!$AE$5:$AN$14,G108,$C$59,$O108:$X108),\"-\")","v":"-"},{"$f":"IF(AF$60<=vantHoff_EOS!$N$19,Phi_i_NS_Tci_Pci_wi_kijm_TinC_PinPa_yi(AF$3,vantHoff_EOS!$N$19,vantHoff_EOS!$X$5:$X$14,vantHoff_EOS!$Y$5:$Y$14,vantHoff_EOS!$Z$5:$Z$14,vantHoff_EOS!$AE$5:$AN$14,H108,$C$59,$O108:$X108),\"-\")","v":"-"},{"$f":"IF(AG$60<=vantHoff_EOS!$N$19,Phi_i_NS_Tci_Pci_wi_kijm_TinC_PinPa_yi(AG$3,vantHoff_EOS!$N$19,vantHoff_EOS!$X$5:$X$14,vantHoff_EOS!$Y$5:$Y$14,vantHoff_EOS!$Z$5:$Z$14,vantHoff_EOS!$AE$5:$AN$14,I108,$C$59,$O108:$X108),\"-\")","v":"-"},{"$f":"IF(AH$60<=vantHoff_EOS!$N$19,Phi_i_NS_Tci_Pci_wi_kijm_TinC_PinPa_yi(AH$3,vantHoff_EOS!$N$19,vantHoff_EOS!$X$5:$X$14,vantHoff_EOS!$Y$5:$Y$14,vantHoff_EOS!$Z$5:$Z$14,vantHoff_EOS!$AE$5:$AN$14,J108,$C$59,$O108:$X108),\"-\")","v":"-"},{"$f":"IF(AI$60<=vantHoff_EOS!$N$19,Phi_i_NS_Tci_Pci_wi_kijm_TinC_PinPa_yi(AI$3,vantHoff_EOS!$N$19,vantHoff_EOS!$X$5:$X$14,vantHoff_EOS!$Y$5:$Y$14,vantHoff_EOS!$Z$5:$Z$14,vantHoff_EOS!$AE$5:$AN$14,K108,$C$59,$O108:$X108),\"-\")","v":"-"}]
[49,{"$f":"B108+vantHoff_EOS!$B$31","v":96},369.15,2.7089259108763375E-3,{"$f":"lnKaT_Tref_lnKaTref_dHTref_da_db_dc_dd_de_TinC(vantHoff_EOS!$E$7,vantHoff_EOS!$B$9,vantHoff_EOS!$B$6,vantHoff_EOS!$O$27,vantHoff_EOS!$P$27,vantHoff_EOS!$Q$27,vantHoff_EOS!$R$27,vantHoff_EOS!$S$27,B109)","v":7.2960125053115608},1474.4089923280706,{"$f":"MolarExtentX_NS_vi_n0i_dHfi_dGfi_TrefinC_da_db_dc_dd_de_Tci_Pci_wi_kijm_TinC_PinPa(vantHoff_EOS!$N$19,vantHoff_EOS!$O$23:$X$23,vantHoff_EOS!$O$31:$X$31,vantHoff_EOS!$T$5:$T$14,vantHoff_EOS!$U$5:$U$14,vantHoff_EOS!$E$7,vantHoff_EOS!$O$27,vantHoff_EOS!$P$27,vantHoff_EOS!$Q$27,vantHoff_EOS!$R$27,vantHoff_EOS!$S$27,vantHoff_EOS!$X$5:$X$14,vantHoff_EOS!$Y$5:$Y$14,vantHoff_EOS!$Z$5:$Z$14,vantHoff_EOS!$AE$5:$AN$14,B109,$C$59)","v":0.99528745254091722},{"$f":"Ky_NS_n0i_vi_X(vantHoff_EOS!$N$19,vantHoff_EOS!$O$31:$X$31,vantHoff_EOS!$O$23:$X$23,G109)","v":662970896.65991557},{"$f":"Kp_NS_vi_PinPa(vantHoff_EOS!$N$19,vantHoff_EOS!$O$23:$X$23,$C$59)","v":6.9444444444444444E-5},{"$f":"Kphi_NS_n0i_vi_X_Tci_Pci_wi_kijm_TinC_PinPa(vantHoff_EOS!$N$19,vantHoff_EOS!$O$31:$X$31,vantHoff_EOS!$O$23:$X$23,G109,vantHoff_EOS!$X$5:$X$14,vantHoff_EOS!$Y$5:$Y$14,vantHoff_EOS!$Z$5:$Z$14,vantHoff_EOS!$AE$5:$AN$14,B109,$C$59)","v":3.2024768476151398E-2},20.31224165074611,-9.5749834855640916,-3.4412456606977155,{"$f":"nT_NS_n0i_vi_X(vantHoff_EOS!$N$19,vantHoff_EOS!$O$31:$X$31,vantHoff_EOS!$O$23:$X$23,G109)","v":8.3494250949181659},{"$f":"IF(O$60<=vantHoff_EOS!$N$19,y_iindex_NS_n0i_vi_X(O$3,vantHoff_EOS!$N$19,vantHoff_EOS!$O$31:$X$31,vantHoff_EOS!$O$23:$X$23,$G109),\"-\")","v":5.6441580174796118E-4},{"$f":"IF(P$60<=vantHoff_EOS!$N$19,y_iindex_NS_n0i_vi_X(P$3,vantHoff_EOS!$N$19,vantHoff_EOS!$O$31:$X$31,vantHoff_EOS!$O$23:$X$23,$G109),\"-\")","v":5.6441580174796118E-4},{"$f":"IF(Q$60<=vantHoff_EOS!$N$19,y_iindex_NS_n0i_vi_X(Q$3,vantHoff_EOS!$N$19,vantHoff_EOS!$O$31:$X$31,vantHoff_EOS!$O$23:$X$23,$G109),\"-\")","v":5.6441580174796118E-4},{"$f":"IF(R$60<=vantHoff_EOS!$N$19,y_iindex_NS_n0i_vi_X(R$3,vantHoff_EOS!$N$19,vantHoff_EOS!$O$31:$X$31,vantHoff_EOS!$O$23:$X$23,$G109),\"-\")","v":0.11920430942565061},{"$f":"IF(S$60<=vantHoff_EOS!$N$19,y_iindex_NS_n0i_vi_X(S$3,vantHoff_EOS!$N$19,vantHoff_EOS!$O$31:$X$31,vantHoff_EOS!$O$23:$X$23,$G109),\"-\")","v":0.87910244316910546},{"$f":"IF(T$60<=vantHoff_EOS!$N$19,y_iindex_NS_n0i_vi_X(T$3,vantHoff_EOS!$N$19,vantHoff_EOS!$O$31:$X$31,vantHoff_EOS!$O$23:$X$23,$G109),\"-\")","v":"-"},{"$f":"IF(U$60<=vantHoff_EOS!$N$19,y_iindex_NS_n0i_vi_X(U$3,vantHoff_EOS!$N$19,vantHoff_EOS!$O$31:$X$31,vantHoff_EOS!$O$23:$X$23,$G109),\"-\")","v":"-"},{"$f":"IF(V$60<=vantHoff_EOS!$N$19,y_iindex_NS_n0i_vi_X(V$3,vantHoff_EOS!$N$19,vantHoff_EOS!$O$31:$X$31,vantHoff_EOS!$O$23:$X$23,$G109),\"-\")","v":"-"},{"$f":"IF(W$60<=vantHoff_EOS!$N$19,y_iindex_NS_n0i_vi_X(W$3,vantHoff_EOS!$N$19,vantHoff_EOS!$O$31:$X$31,vantHoff_EOS!$O$23:$X$23,$G109),\"-\")","v":"-"},{"$f":"IF(X$60<=vantHoff_EOS!$N$19,y_iindex_NS_n0i_vi_X(X$3,vantHoff_EOS!$N$19,vantHoff_EOS!$O$31:$X$31,vantHoff_EOS!$O$23:$X$23,$G109),\"-\")","v":"-"},1,{"$f":"IF(Z$60<=vantHoff_EOS!$N$19,Phi_i_NS_Tci_Pci_wi_kijm_TinC_PinPa_yi(Z$3,vantHoff_EOS!$N$19,vantHoff_EOS!$X$5:$X$14,vantHoff_EOS!$Y$5:$Y$14,vantHoff_EOS!$Z$5:$Z$14,vantHoff_EOS!$AE$5:$AN$14,B109,$C$59,$O109:$X109),\"-\")","v":2.0398221710329443},{"$f":"IF(AA$60<=vantHoff_EOS!$N$19,Phi_i_NS_Tci_Pci_wi_kijm_TinC_PinPa_yi(AA$3,vantHoff_EOS!$N$19,vantHoff_EOS!$X$5:$X$14,vantHoff_EOS!$Y$5:$Y$14,vantHoff_EOS!$Z$5:$Z$14,vantHoff_EOS!$AE$5:$AN$14,C109,$C$59,$O109:$X109),\"-\")","v":1.0877680726559771},{"$f":"IF(AB$60<=vantHoff_EOS!$N$19,Phi_i_NS_Tci_Pci_wi_kijm_TinC_PinPa_yi(AB$3,vantHoff_EOS!$N$19,vantHoff_EOS!$X$5:$X$14,vantHoff_EOS!$Y$5:$Y$14,vantHoff_EOS!$Z$5:$Z$14,vantHoff_EOS!$AE$5:$AN$14,D109,$C$59,$O109:$X109),\"-\")","v":6.4995658724059061E-2},{"$f":"IF(AC$60<=vantHoff_EOS!$N$19,Phi_i_NS_Tci_Pci_wi_kijm_TinC_PinPa_yi(AC$3,vantHoff_EOS!$N$19,vantHoff_EOS!$X$5:$X$14,vantHoff_EOS!$Y$5:$Y$14,vantHoff_EOS!$Z$5:$Z$14,vantHoff_EOS!$AE$5:$AN$14,E109,$C$59,$O109:$X109),\"-\")","v":8.9904284751824337E-4},{"$f":"IF(AD$60<=vantHoff_EOS!$N$19,Phi_i_NS_Tci_Pci_wi_kijm_TinC_PinPa_yi(AD$3,vantHoff_EOS!$N$19,vantHoff_EOS!$X$5:$X$14,vantHoff_EOS!$Y$5:$Y$14,vantHoff_EOS!$Z$5:$Z$14,vantHoff_EOS!$AE$5:$AN$14,F109,$C$59,$O109:$X109),\"-\")","v":1.0223881329722468},{"$f":"IF(AE$60<=vantHoff_EOS!$N$19,Phi_i_NS_Tci_Pci_wi_kijm_TinC_PinPa_yi(AE$3,vantHoff_EOS!$N$19,vantHoff_EOS!$X$5:$X$14,vantHoff_EOS!$Y$5:$Y$14,vantHoff_EOS!$Z$5:$Z$14,vantHoff_EOS!$AE$5:$AN$14,G109,$C$59,$O109:$X109),\"-\")","v":"-"},{"$f":"IF(AF$60<=vantHoff_EOS!$N$19,Phi_i_NS_Tci_Pci_wi_kijm_TinC_PinPa_yi(AF$3,vantHoff_EOS!$N$19,vantHoff_EOS!$X$5:$X$14,vantHoff_EOS!$Y$5:$Y$14,vantHoff_EOS!$Z$5:$Z$14,vantHoff_EOS!$AE$5:$AN$14,H109,$C$59,$O109:$X109),\"-\")","v":"-"},{"$f":"IF(AG$60<=vantHoff_EOS!$N$19,Phi_i_NS_Tci_Pci_wi_kijm_TinC_PinPa_yi(AG$3,vantHoff_EOS!$N$19,vantHoff_EOS!$X$5:$X$14,vantHoff_EOS!$Y$5:$Y$14,vantHoff_EOS!$Z$5:$Z$14,vantHoff_EOS!$AE$5:$AN$14,I109,$C$59,$O109:$X109),\"-\")","v":"-"},{"$f":"IF(AH$60<=vantHoff_EOS!$N$19,Phi_i_NS_Tci_Pci_wi_kijm_TinC_PinPa_yi(AH$3,vantHoff_EOS!$N$19,vantHoff_EOS!$X$5:$X$14,vantHoff_EOS!$Y$5:$Y$14,vantHoff_EOS!$Z$5:$Z$14,vantHoff_EOS!$AE$5:$AN$14,J109,$C$59,$O109:$X109),\"-\")","v":"-"},{"$f":"IF(AI$60<=vantHoff_EOS!$N$19,Phi_i_NS_Tci_Pci_wi_kijm_TinC_PinPa_yi(AI$3,vantHoff_EOS!$N$19,vantHoff_EOS!$X$5:$X$14,vantHoff_EOS!$Y$5:$Y$14,vantHoff_EOS!$Z$5:$Z$14,vantHoff_EOS!$AE$5:$AN$14,K109,$C$59,$O109:$X109),\"-\")","v":"-"}]
[50,{"$f":"B109+vantHoff_EOS!$B$31","v":98},371.15,2.6943284386366701E-3,{"$f":"lnKaT_Tref_lnKaTref_dHTref_da_db_dc_dd_de_TinC(vantHoff_EOS!$E$7,vantHoff_EOS!$B$9,vantHoff_EOS!$B$6,vantHoff_EOS!$O$27,vantHoff_EOS!$P$27,vantHoff_EOS!$Q$27,vantHoff_EOS!$R$27,vantHoff_EOS!$S$27,B110)","v":7.0923400866116655},1202.7189767052198,{"$f":"MolarExtentX_NS_vi_n0i_dHfi_dGfi_TrefinC_da_db_dc_dd_de_Tci_Pci_wi_kijm_TinC_PinPa(vantHoff_EOS!$N$19,vantHoff_EOS!$O$23:$X$23,vantHoff_EOS!$O$31:$X$31,vantHoff_EOS!$T$5:$T$14,vantHoff_EOS!$U$5:$U$14,vantHoff_EOS!$E$7,vantHoff_EOS!$O$27,vantHoff_EOS!$P$27,vantHoff_EOS!$Q$27,vantHoff_EOS!$R$27,vantHoff_EOS!$S$27,vantHoff_EOS!$X$5:$X$14,vantHoff_EOS!$Y$5:$Y$14,vantHoff_EOS!$Z$5:$Z$14,vantHoff_EOS!$AE$5:$AN$14,B110,$C$59)","v":0.99472593844796553},{"$f":"Ky_NS_n0i_vi_X(vantHoff_EOS!$N$19,vantHoff_EOS!$O$31:$X$31,vantHoff_EOS!$O$23:$X$23,G110)","v":472822164.74316472},{"$f":"Kp_NS_vi_PinPa(vantHoff_EOS!$N$19,vantHoff_EOS!$O$23:$X$23,$C$59)","v":6.9444444444444444E-5},{"$f":"Kphi_NS_n0i_vi_X_Tci_Pci_wi_kijm_TinC_PinPa(vantHoff_EOS!$N$19,vantHoff_EOS!$O$31:$X$31,vantHoff_EOS!$O$23:$X$23,G110,vantHoff_EOS!$X$5:$X$14,vantHoff_EOS!$Y$5:$Y$14,vantHoff_EOS!$Z$5:$Z$14,vantHoff_EOS!$AE$5:$AN$14,B110,$C$59)","v":3.6629317581186781E-2},19.974229902701769,-9.5749834855640916,-3.3069063324171863,{"$f":"nT_NS_n0i_vi_X(vantHoff_EOS!$N$19,vantHoff_EOS!$O$31:$X$31,vantHoff_EOS!$O$23:$X$23,G110)","v":8.350548123104069},{"$f":"IF(O$60<=vantHoff_EOS!$N$19,y_iindex_NS_n0i_vi_X(O$3,vantHoff_EOS!$N$19,vantHoff_EOS!$O$31:$X$31,vantHoff_EOS!$O$23:$X$23,$G110),\"-\")","v":6.3158267867977915E-4},{"$f":"IF(P$60<=vantHoff_EOS!$N$19,y_iindex_NS_n0i_vi_X(P$3,vantHoff_EOS!$N$19,vantHoff_EOS!$O$31:$X$31,vantHoff_EOS!$O$23:$X$23,$G110),\"-\")","v":6.3158267867977915E-4},{"$f":"IF(Q$60<=vantHoff_EOS!$N$19,y_iindex_NS_n0i_vi_X(Q$3,vantHoff_EOS!$N$19,vantHoff_EOS!$O$31:$X$31,vantHoff_EOS!$O$23:$X$23,$G110),\"-\")","v":6.3158267867977915E-4},{"$f":"IF(R$60<=vantHoff_EOS!$N$19,y_iindex_NS_n0i_vi_X(R$3,vantHoff_EOS!$N$19,vantHoff_EOS!$O$31:$X$31,vantHoff_EOS!$O$23:$X$23,$G110),\"-\")","v":0.11912103538398694},{"$f":"IF(S$60<=vantHoff_EOS!$N$19,y_iindex_NS_n0i_vi_X(S$3,vantHoff_EOS!$N$19,vantHoff_EOS!$O$31:$X$31,vantHoff_EOS!$O$23:$X$23,$G110),\"-\")","v":0.87898421657997372},{"$f":"IF(T$60<=vantHoff_EOS!$N$19,y_iindex_NS_n0i_vi_X(T$3,vantHoff_EOS!$N$19,vantHoff_EOS!$O$31:$X$31,vantHoff_EOS!$O$23:$X$23,$G110),\"-\")","v":"-"},{"$f":"IF(U$60<=vantHoff_EOS!$N$19,y_iindex_NS_n0i_vi_X(U$3,vantHoff_EOS!$N$19,vantHoff_EOS!$O$31:$X$31,vantHoff_EOS!$O$23:$X$23,$G110),\"-\")","v":"-"},{"$f":"IF(V$60<=vantHoff_EOS!$N$19,y_iindex_NS_n0i_vi_X(V$3,vantHoff_EOS!$N$19,vantHoff_EOS!$O$31:$X$31,vantHoff_EOS!$O$23:$X$23,$G110),\"-\")","v":"-"},{"$f":"IF(W$60<=vantHoff_EOS!$N$19,y_iindex_NS_n0i_vi_X(W$3,vantHoff_EOS!$N$19,vantHoff_EOS!$O$31:$X$31,vantHoff_EOS!$O$23:$X$23,$G110),\"-\")","v":"-"},{"$f":"IF(X$60<=vantHoff_EOS!$N$19,y_iindex_NS_n0i_vi_X(X$3,vantHoff_EOS!$N$19,vantHoff_EOS!$O$31:$X$31,vantHoff_EOS!$O$23:$X$23,$G110),\"-\")","v":"-"},1,{"$f":"IF(Z$60<=vantHoff_EOS!$N$19,Phi_i_NS_Tci_Pci_wi_kijm_TinC_PinPa_yi(Z$3,vantHoff_EOS!$N$19,vantHoff_EOS!$X$5:$X$14,vantHoff_EOS!$Y$5:$Y$14,vantHoff_EOS!$Z$5:$Z$14,vantHoff_EOS!$AE$5:$AN$14,B110,$C$59,$O110:$X110),\"-\")","v":1.9746663660649717},{"$f":"IF(AA$60<=vantHoff_EOS!$N$19,Phi_i_NS_Tci_Pci_wi_kijm_TinC_PinPa_yi(AA$3,vantHoff_EOS!$N$19,vantHoff_EOS!$X$5:$X$14,vantHoff_EOS!$Y$5:$Y$14,vantHoff_EOS!$Z$5:$Z$14,vantHoff_EOS!$AE$5:$AN$14,C110,$C$59,$O110:$X110),\"-\")","v":1.0868768521310188},{"$f":"IF(AB$60<=vantHoff_EOS!$N$19,Phi_i_NS_Tci_Pci_wi_kijm_TinC_PinPa_yi(AB$3,vantHoff_EOS!$N$19,vantHoff_EOS!$X$5:$X$14,vantHoff_EOS!$Y$5:$Y$14,vantHoff_EOS!$Z$5:$Z$14,vantHoff_EOS!$AE$5:$AN$14,D110,$C$59,$O110:$X110),\"-\")","v":6.4989646413515137E-2},{"$f":"IF(AC$60<=vantHoff_EOS!$N$19,Phi_i_NS_Tci_Pci_wi_kijm_TinC_PinPa_yi(AC$3,vantHoff_EOS!$N$19,vantHoff_EOS!$X$5:$X$14,vantHoff_EOS!$Y$5:$Y$14,vantHoff_EOS!$Z$5:$Z$14,vantHoff_EOS!$AE$5:$AN$14,E110,$C$59,$O110:$X110),\"-\")","v":8.8909398047072206E-4},{"$f":"IF(AD$60<=vantHoff_EOS!$N$19,Phi_i_NS_Tci_Pci_wi_kijm_TinC_PinPa_yi(AD$3,vantHoff_EOS!$N$19,vantHoff_EOS!$X$5:$X$14,vantHoff_EOS!$Y$5:$Y$14,vantHoff_EOS!$Z$5:$Z$14,vantHoff_EOS!$AE$5:$AN$14,F110,$C$59,$O110:$X110),\"-\")","v":1.026050004448396},{"$f":"IF(AE$60<=vantHoff_EOS!$N$19,Phi_i_NS_Tci_Pci_wi_kijm_TinC_PinPa_yi(AE$3,vantHoff_EOS!$N$19,vantHoff_EOS!$X$5:$X$14,vantHoff_EOS!$Y$5:$Y$14,vantHoff_EOS!$Z$5:$Z$14,vantHoff_EOS!$AE$5:$AN$14,G110,$C$59,$O110:$X110),\"-\")","v":"-"},{"$f":"IF(AF$60<=vantHoff_EOS!$N$19,Phi_i_NS_Tci_Pci_wi_kijm_TinC_PinPa_yi(AF$3,vantHoff_EOS!$N$19,vantHoff_EOS!$X$5:$X$14,vantHoff_EOS!$Y$5:$Y$14,vantHoff_EOS!$Z$5:$Z$14,vantHoff_EOS!$AE$5:$AN$14,H110,$C$59,$O110:$X110),\"-\")","v":"-"},{"$f":"IF(AG$60<=vantHoff_EOS!$N$19,Phi_i_NS_Tci_Pci_wi_kijm_TinC_PinPa_yi(AG$3,vantHoff_EOS!$N$19,vantHoff_EOS!$X$5:$X$14,vantHoff_EOS!$Y$5:$Y$14,vantHoff_EOS!$Z$5:$Z$14,vantHoff_EOS!$AE$5:$AN$14,I110,$C$59,$O110:$X110),\"-\")","v":"-"},{"$f":"IF(AH$60<=vantHoff_EOS!$N$19,Phi_i_NS_Tci_Pci_wi_kijm_TinC_PinPa_yi(AH$3,vantHoff_EOS!$N$19,vantHoff_EOS!$X$5:$X$14,vantHoff_EOS!$Y$5:$Y$14,vantHoff_EOS!$Z$5:$Z$14,vantHoff_EOS!$AE$5:$AN$14,J110,$C$59,$O110:$X110),\"-\")","v":"-"},{"$f":"IF(AI$60<=vantHoff_EOS!$N$19,Phi_i_NS_Tci_Pci_wi_kijm_TinC_PinPa_yi(AI$3,vantHoff_EOS!$N$19,vantHoff_EOS!$X$5:$X$14,vantHoff_EOS!$Y$5:$Y$14,vantHoff_EOS!$Z$5:$Z$14,vantHoff_EOS!$AE$5:$AN$14,K110,$C$59,$O110:$X110),\"-\")","v":"-"}]

{"sheet":"Isothermal Results","index":2,"n_rows":110,"n_cols":35,"rows_kept":110,"cut":false,"hidden":false,"merged":[]}
[null,null,null,null,null,null,null,null,null,null,null,null,null,null,null,null,null,null,"Mole fractions yi"]
[null,"T [C]",{"$f":"vantHoff_EOS!$E$24","v":47},{"$f":"TEXT(C2,\"?????.?\")&\" C\"","v":"   47.  C"},null,null,null,null,null,null,null,null,null,null,{"$f":"\"y\"&TEXT(O3,\"##\")","v":"y1"},{"$f":"\"y\"&TEXT(P3,\"##\")","v":"y2"},"y3","y4","y5","y6","y7","y8","y9","y10",null,null,null,null,"Fugacity coefficients"]
[null,"P [MPa]","T [K]","1/T [1/K]","ln Ka_T","Ka_T","X","Ky","Kp","Kphi","ln Ky","ln Kp","ln Kphi (T1)","nT [mol]",1,2,3,4,5,6,7,8,9,10,"Sum y",1,2,3,4,5,6,7,8,9,10]
[1,{"$f":"vantHoff_EOS!E25","v":8},{"$f":"$C$2+273.15","v":320.14999999999998},{"$f":"1/C4","v":3.1235358425737939E-3},{"$f":"lnKaT_Tref_lnKaTref_dHTref_da_db_dc_dd_de_TinC(vantHoff_EOS!$E$7,vantHoff_EOS!$B$9,vantHoff_EOS!$B$6,vantHoff_EOS!$O$27,vantHoff_EOS!$P$27,vantHoff_EOS!$Q$27,vantHoff_EOS!$R$27,vantHoff_EOS!$S$27,$C$2)","v":13.062534312676297},{"$f":"EXP(E4)","v":470962.76406017854},{"$f":"MolarExtentX_NS_vi_n0i_dHfi_dGfi_TrefinC_da_db_dc_dd_de_Tci_Pci_wi_kijm_TinC_PinPa(vantHoff_EOS!$N$19,vantHoff_EOS!$O$23:$X$23,vantHoff_EOS!$O$31:$X$31,vantHoff_EOS!$T$5:$T$14,vantHoff_EOS!$U$5:$U$14,vantHoff_EOS!$E$7,vantHoff_EOS!$O$27,vantHoff_EOS!$P$27,vantHoff_EOS!$Q$27,vantHoff_EOS!$R$27,vantHoff_EOS!$S$27,vantHoff_EOS!$X$5:$X$14,vantHoff_EOS!$Y$5:$Y$14,vantHoff_EOS!$Z$5:$Z$14,vantHoff_EOS!$AE$5:$AN$14,$C$2,B4*1000000)","v":0.99972071442020538},{"$f":"Ky_NS_n0i_vi_X(vantHoff_EOS!$N$19,vantHoff_EOS!$O$31:$X$31,vantHoff_EOS!$O$23:$X$23,G4)","v":3192445016671.5327},{"$f":"Kp_NS_vi_PinPa(vantHoff_EOS!$N$19,vantHoff_EOS!$O$23:$X$23,B4*1000000)","v":1.5625000000000003E-4},{"$f":"Kphi_NS_n0i_vi_X_Tci_Pci_wi_kijm_TinC_PinPa(vantHoff_EOS!$N$19,vantHoff_EOS!$O$31:$X$31,vantHoff_EOS!$O$23:$X$23,G4,vantHoff_EOS!$X$5:$X$14,vantHoff_EOS!$Y$5:$Y$14,vantHoff_EOS!$Z$5:$Z$14,vantHoff_EOS!$AE$5:$AN$14,$C$2,B4*1000000)","v":9.4415461323310546E-4},{"$f":"LN(H4)","v":28.791808202049047},{"$f":"LN(I4)","v":-8.7640532693477624},{"$f":"LN(J4)","v":-6.9652206200255451},{"$f":"nT_NS_n0i_vi_X(vantHoff_EOS!$N$19,vantHoff_EOS!$O$31:$X$31,vantHoff_EOS!$O$23:$X$23,G4)","v":8.3405585711595887},{"$f":"IF(O$3<=vantHoff_EOS!$N$19,y_iindex_NS_n0i_vi_X(O$3,vantHoff_EOS!$N$19,vantHoff_EOS!$O$31:$X$31,vantHoff_EOS!$O$23:$X$23,$G4),\"-\")","v":3.3485236919305045E-5},{"$f":"IF(P$3<=vantHoff_EOS!$N$19,y_iindex_NS_n0i_vi_X(P$3,vantHoff_EOS!$N$19,vantHoff_EOS!$O$31:$X$31,vantHoff_EOS!$O$23:$X$23,$G4),\"-\")","v":3.3485236919305045E-5},{"$f":"IF(Q$3<=vantHoff_EOS!$N$19,y_iindex_NS_n0i_vi_X(Q$3,vantHoff_EOS!$N$19,vantHoff_EOS!$O$31:$X$31,vantHoff_EOS!$O$23:$X$23,$G4),\"-\")","v":3.3485236919305045E-5},{"$f":"IF(R$3<=vantHoff_EOS!$N$19,y_iindex_NS_n0i_vi_X(R$3,vantHoff_EOS!$N$19,vantHoff_EOS!$O$31:$X$31,vantHoff_EOS!$O$23:$X$23,$G4),\"-\")","v":0.11986256146885545},{"$f":"IF(S$3<=vantHoff_EOS!$N$19,y_iindex_NS_n0i_vi_X(S$3,vantHoff_EOS!$N$19,vantHoff_EOS!$O$31:$X$31,vantHoff_EOS!$O$23:$X$23,$G4),\"-\")","v":0.88003698282038667},{"$f":"IF(T$3<=vantHoff_EOS!$N$19,y_iindex_NS_n0i_vi_X(T$3,vantHoff_EOS!$N$19,vantHoff_EOS!$O$31:$X$31,vantHoff_EOS!$O$23:$X$23,$G4),\"-\")","v":"-"},{"$f":"IF(U$3<=vantHoff_EOS!$N$19,y_iindex_NS_n0i_vi_X(U$3,vantHoff_EOS!$N$19,vantHoff_EOS!$O$31:$X$31,vantHoff_EOS!$O$23:$X$23,$G4),\"-\")","v":"-"},{"$f":"IF(V$3<=vantHoff_EOS!$N$19,y_iindex_NS_n0i_vi_X(V$3,vantHoff_EOS!$N$19,vantHoff_EOS!$O$31:$X$31,vantHoff_EOS!$O$23:$X$23,$G4),\"-\")","v":"-"},{"$f":"IF(W$3<=vantHoff_EOS!$N$19,y_iindex_NS_n0i_vi_X(W$3,vantHoff_EOS!$N$19,vantHoff_EOS!$O$31:$X$31,vantHoff_EOS!$O$23:$X$23,$G4),\"-\")","v":"-"},{"$f":"IF(X$3<=vantHoff_EOS!$N$19,y_iindex_NS_n0i_vi_X(X$3,vantHoff_EOS!$N$19,vantHoff_EOS!$O$31:$X$31,vantHoff_EOS!$O$23:$X$23,$G4),\"-\")","v":"-"},{"$f":"SUM(O4:X4)","v":1},{"$f":"IF(Z$3<=vantHoff_EOS!$N$19,Phi_i_NS_Tci_Pci_wi_kijm_TinC_PinPa_yi(Z$3,vantHoff_EOS!$N$19,vantHoff_EOS!$X$5:$X$14,vantHoff_EOS!$Y$5:$Y$14,vantHoff_EOS!$Z$5:$Z$14,vantHoff_EOS!$AE$5:$AN$14,$C$2,B4*1000000,$O4:$X4),\"-\")","v":5.0936978290222186},{"$f":"IF(AA$3<=vantHoff_EOS!$N$19,Phi_i_NS_Tci_Pci_wi_kijm_TinC_PinPa_yi(AA$3,vantHoff_EOS!$N$19,vantHoff_EOS!$X$5:$X$14,vantHoff_EOS!$Y$5:$Y$14,vantHoff_EOS!$Z$5:$Z$14,vantHoff_EOS!$AE$5:$AN$14,$C$2,B4*1000000,$O4:$X4),\"-\")","v":8.3069697787445911},{"$f":"IF(AB$3<=vantHoff_EOS!$N$19,Phi_i_NS_Tci_Pci_wi_kijm_TinC_PinPa_yi(AB$3,vantHoff_EOS!$N$19,vantHoff_EOS!$X$5:$X$14,vantHoff_EOS!$Y$5:$Y$14,vantHoff_EOS!$Z$5:$Z$14,vantHoff_EOS!$AE$5:$AN$14,$C$2,B4*1000000,$O4:$X4),\"-\")","v":0.23017514203283276},{"$f":"IF(AC$3<=vantHoff_EOS!$N$19,Phi_i_NS_Tci_Pci_wi_kijm_TinC_PinPa_yi(AC$3,vantHoff_EOS!$N$19,vantHoff_EOS!$X$5:$X$14,vantHoff_EOS!$Y$5:$Y$14,vantHoff_EOS!$Z$5:$Z$14,vantHoff_EOS!$AE$5:$AN$14,$C$2,B4*1000000,$O4:$X4),\"-\")","v":9.195542325684607E-3},{"$f":"IF(AD$3<=vantHoff_EOS!$N$19,Phi_i_NS_Tci_Pci_wi_kijm_TinC_PinPa_yi(AD$3,vantHoff_EOS!$N$19,vantHoff_EOS!$X$5:$X$14,vantHoff_EOS!$Y$5:$Y$14,vantHoff_EOS!$Z$5:$Z$14,vantHoff_EOS!$AE$5:$AN$14,$C$2,B4*1000000,$O4:$X4),\"-\")","v":0.75616720959036576},{"$f":"IF(AE$3<=vantHoff_EOS!$N$19,Phi_i_NS_Tci_Pci_wi_kijm_TinC_PinPa_yi(AE$3,vantHoff_EOS!$N$19,vantHoff_EOS!$X$5:$X$14,vantHoff_EOS!$Y$5:$Y$14,vantHoff_EOS!$Z$5:$Z$14,vantHoff_EOS!$AE$5:$AN$14,$C$2,B4*1000000,$O4:$X4),\"-\")","v":"-"},{"$f":"IF(AF$3<=vantHoff_EOS!$N$19,Phi_i_NS_Tci_Pci_wi_kijm_TinC_PinPa_yi(AF$3,vantHoff_EOS!$N$19,vantHoff_EOS!$X$5:$X$14,vantHoff_EOS!$Y$5:$Y$14,vantHoff_EOS!$Z$5:$Z$14,vantHoff_EOS!$AE$5:$AN$14,$C$2,B4*1000000,$O4:$X4),\"-\")","v":"-"},{"$f":"IF(AG$3<=vantHoff_EOS!$N$19,Phi_i_NS_Tci_Pci_wi_kijm_TinC_PinPa_yi(AG$3,vantHoff_EOS!$N$19,vantHoff_EOS!$X$5:$X$14,vantHoff_EOS!$Y$5:$Y$14,vantHoff_EOS!$Z$5:$Z$14,vantHoff_EOS!$AE$5:$AN$14,$C$2,B4*1000000,$O4:$X4),\"-\")","v":"-"},{"$f":"IF(AH$3<=vantHoff_EOS!$N$19,Phi_i_NS_Tci_Pci_wi_kijm_TinC_PinPa_yi(AH$3,vantHoff_EOS!$N$19,vantHoff_EOS!$X$5:$X$14,vantHoff_EOS!$Y$5:$Y$14,vantHoff_EOS!$Z$5:$Z$14,vantHoff_EOS!$AE$5:$AN$14,$C$2,B4*1000000,$O4:$X4),\"-\")","v":"-"},{"$f":"IF(AI$3<=vantHoff_EOS!$N$19,Phi_i_NS_Tci_Pci_wi_kijm_TinC_PinPa_yi(AI$3,vantHoff_EOS!$N$19,vantHoff_EOS!$X$5:$X$14,vantHoff_EOS!$Y$5:$Y$14,vantHoff_EOS!$Z$5:$Z$14,vantHoff_EOS!$AE$5:$AN$14,$C$2,B4*1000000,$O4:$X4),\"-\")","v":"-"}]
[2,{"$f":"B4+vantHoff_EOS!$E$26","v":8.1999999999999993},{"$f":"$C$2+273.15","v":320.14999999999998},{"$f":"1/C5","v":3.1235358425737939E-3},{"$f":"lnKaT_Tref_lnKaTref_dHTref_da_db_dc_dd_de_TinC(vantHoff_EOS!$E$7,vantHoff_EOS!$B$9,vantHoff_EOS!$B$6,vantHoff_EOS!$O$27,vantHoff_EOS!$P$27,vantHoff_EOS!$Q$27,vantHoff_EOS!$R$27,vantHoff_EOS!$S$27,$C$2)","v":13.062534312676297},{"$f":"EXP(E5)","v":470962.76406017854},{"$f":"MolarExtentX_NS_vi_n0i_dHfi_dGfi_TrefinC_da_db_dc_dd_de_Tci_Pci_wi_kijm_TinC_PinPa(vantHoff_EOS!$N$19,vantHoff_EOS!$O$23:$X$23,vantHoff_EOS!$O$31:$X$31,vantHoff_EOS!$T$5:$T$14,vantHoff_EOS!$U$5:$U$14,vantHoff_EOS!$E$7,vantHoff_EOS!$O$27,vantHoff_EOS!$P$27,vantHoff_EOS!$Q$27,vantHoff_EOS!$R$27,vantHoff_EOS!$S$27,vantHoff_EOS!$X$5:$X$14,vantHoff_EOS!$Y$5:$Y$14,vantHoff_EOS!$Z$5:$Z$14,vantHoff_EOS!$AE$5:$AN$14,$C$2,B5*1000000)","v":0.99972350936472154},{"$f":"Ky_NS_n0i_vi_X(vantHoff_EOS!$N$19,vantHoff_EOS!$O$31:$X$31,vantHoff_EOS!$O$23:$X$23,G5)","v":3290245598781.0137},{"$f":"Kp_NS_vi_PinPa(vantHoff_EOS!$N$19,vantHoff_EOS!$O$23:$X$23,B5*1000000)","v":1.4872099940511606E-4},{"$f":"Kphi_NS_n0i_vi_X_Tci_Pci_wi_kijm_TinC_PinPa(vantHoff_EOS!$N$19,vantHoff_EOS!$O$31:$X$31,vantHoff_EOS!$O$23:$X$23,G5,vantHoff_EOS!$X$5:$X$14,vantHoff_EOS!$Y$5:$Y$14,vantHoff_EOS!$Z$5:$Z$14,vantHoff_EOS!$AE$5:$AN$14,$C$2,B5*1000000)","v":9.6246724764704236E-4},{"$f":"LN(H5)","v":28.821983328005064},-8.8134384945285067,-6.9460105207999723,{"$f":"nT_NS_n0i_vi_X(vantHoff_EOS!$N$19,vantHoff_EOS!$O$31:$X$31,vantHoff_EOS!$O$23:$X$23,G5)","v":8.340552981270557},{"$f":"IF(O$3<=vantHoff_EOS!$N$19,y_iindex_NS_n0i_vi_X(O$3,vantHoff_EOS!$N$19,vantHoff_EOS!$O$31:$X$31,vantHoff_EOS!$O$23:$X$23,$G5),\"-\")","v":3.3150156338475761E-5},{"$f":"IF(P$3<=vantHoff_EOS!$N$19,y_iindex_NS_n0i_vi_X(P$3,vantHoff_EOS!$N$19,vantHoff_EOS!$O$31:$X$31,vantHoff_EOS!$O$23:$X$23,$G5),\"-\")","v":3.3150156338475761E-5},{"$f":"IF(Q$3<=vantHoff_EOS!$N$19,y_iindex_NS_n0i_vi_X(Q$3,vantHoff_EOS!$N$19,vantHoff_EOS!$O$31:$X$31,vantHoff_EOS!$O$23:$X$23,$G5),\"-\")","v":3.3150156338475761E-5},{"$f":"IF(R$3<=vantHoff_EOS!$N$19,y_iindex_NS_n0i_vi_X(R$3,vantHoff_EOS!$N$19,vantHoff_EOS!$O$31:$X$31,vantHoff_EOS!$O$23:$X$23,$G5),\"-\")","v":0.11986297690449163},{"$f":"IF(S$3<=vantHoff_EOS!$N$19,y_iindex_NS_n0i_vi_X(S$3,vantHoff_EOS!$N$19,vantHoff_EOS!$O$31:$X$31,vantHoff_EOS!$O$23:$X$23,$G5),\"-\")","v":0.88003757262649296},{"$f":"IF(T$3<=vantHoff_EOS!$N$19,y_iindex_NS_n0i_vi_X(T$3,vantHoff_EOS!$N$19,vantHoff_EOS!$O$31:$X$31,vantHoff_EOS!$O$23:$X$23,$G5),\"-\")","v":"-"},{"$f":"IF(U$3<=vantHoff_EOS!$N$19,y_iindex_NS_n0i_vi_X(U$3,vantHoff_EOS!$N$19,vantHoff_EOS!$O$31:$X$31,vantHoff_EOS!$O$23:$X$23,$G5),\"-\")","v":"-"},{"$f":"IF(V$3<=vantHoff_EOS!$N$19,y_iindex_NS_n0i_vi_X(V$3,vantHoff_EOS!$N$19,vantHoff_EOS!$O$31:$X$31,vantHoff_EOS!$O$23:$X$23,$G5),\"-\")","v":"-"},{"$f":"IF(W$3<=vantHoff_EOS!$N$19,y_iindex_NS_n0i_vi_X(W$3,vantHoff_EOS!$N$19,vantHoff_EOS!$O$31:$X$31,vantHoff_EOS!$O$23:$X$23,$G5),\"-\")","v":"-"},{"$f":"IF(X$3<=vantHoff_EOS!$N$19,y_iindex_NS_n0i_vi_X(X$3,vantHoff_EOS!$N$19,vantHoff_EOS!$O$31:$X$31,vantHoff_EOS!$O$23:$X$23,$G5),\"-\")","v":"-"},{"$f":"SUM(O5:X5)","v":1},{"$f":"IF(Z$3<=vantHoff_EOS!$N$19,Phi_i_NS_Tci_Pci_wi_kijm_TinC_PinPa_yi(Z$3,vantHoff_EOS!$N$19,vantHoff_EOS!$X$5:$X$14,vantHoff_EOS!$Y$5:$Y$14,vantHoff_EOS!$Z$5:$Z$14,vantHoff_EOS!$AE$5:$AN$14,$C$2,B5*1000000,$O5:$X5),\"-\")","v":5.0313530774807997},{"$f":"IF(AA$3<=vantHoff_EOS!$N$19,Phi_i_NS_Tci_Pci_wi_kijm_TinC_PinPa_yi(AA$3,vantHoff_EOS!$N$19,vantHoff_EOS!$X$5:$X$14,vantHoff_EOS!$Y$5:$Y$14,vantHoff_EOS!$Z$5:$Z$14,vantHoff_EOS!$AE$5:$AN$14,$C$2,B5*1000000,$O5:$X5),\"-\")","v":8.2065353282743683},{"$f":"IF(AB$3<=vantHoff_EOS!$N$19,Phi_i_NS_Tci_Pci_wi_kijm_TinC_PinPa_yi(AB$3,vantHoff_EOS!$N$19,vantHoff_EOS!$X$5:$X$14,vantHoff_EOS!$Y$5:$Y$14,vantHoff_EOS!$Z$5:$Z$14,vantHoff_EOS!$AE$5:$AN$14,$C$2,B5*1000000,$O5:$X5),\"-\")","v":0.22593006240552183},{"$f":"IF(AC$3<=vantHoff_EOS!$N$19,Phi_i_NS_Tci_Pci_wi_kijm_TinC_PinPa_yi(AC$3,vantHoff_EOS!$N$19,vantHoff_EOS!$X$5:$X$14,vantHoff_EOS!$Y$5:$Y$14,vantHoff_EOS!$Z$5:$Z$14,vantHoff_EOS!$AE$5:$AN$14,$C$2,B5*1000000,$O5:$X5),\"-\")","v":8.9785172317018384E-3},{"$f":"IF(AD$3<=vantHoff_EOS!$N$19,Phi_i_NS_Tci_Pci_wi_kijm_TinC_PinPa_yi(AD$3,vantHoff_EOS!$N$19,vantHoff_EOS!$X$5:$X$14,vantHoff_EOS!$Y$5:$Y$14,vantHoff_EOS!$Z$5:$Z$14,vantHoff_EOS!$AE$5:$AN$14,$C$2,B5*1000000,$O5:$X5),\"-\")","v":0.74179656687091244},{"$f":"IF(AE$3<=vantHoff_EOS!$N$19,Phi_i_NS_Tci_Pci_wi_kijm_TinC_PinPa_yi(AE$3,vantHoff_EOS!$N$19,vantHoff_EOS!$X$5:$X$14,vantHoff_EOS!$Y$5:$Y$14,vantHoff_EOS!$Z$5:$Z$14,vantHoff_EOS!$AE$5:$AN$14,$C$2,B5*1000000,$O5:$X5),\"-\")","v":"-"},{"$f":"IF(AF$3<=vantHoff_EOS!$N$19,Phi_i_NS_Tci_Pci_wi_kijm_TinC_PinPa_yi(AF$3,vantHoff_EOS!$N$19,vantHoff_EOS!$X$5:$X$14,vantHoff_EOS!$Y$5:$Y$14,vantHoff_EOS!$Z$5:$Z$14,vantHoff_EOS!$AE$5:$AN$14,$C$2,B5*1000000,$O5:$X5),\"-\")","v":"-"},{"$f":"IF(AG$3<=vantHoff_EOS!$N$19,Phi_i_NS_Tci_Pci_wi_kijm_TinC_PinPa_yi(AG$3,vantHoff_EOS!$N$19,vantHoff_EOS!$X$5:$X$14,vantHoff_EOS!$Y$5:$Y$14,vantHoff_EOS!$Z$5:$Z$14,vantHoff_EOS!$AE$5:$AN$14,$C$2,B5*1000000,$O5:$X5),\"-\")","v":"-"},{"$f":"IF(AH$3<=vantHoff_EOS!$N$19,Phi_i_NS_Tci_Pci_wi_kijm_TinC_PinPa_yi(AH$3,vantHoff_EOS!$N$19,vantHoff_EOS!$X$5:$X$14,vantHoff_EOS!$Y$5:$Y$14,vantHoff_EOS!$Z$5:$Z$14,vantHoff_EOS!$AE$5:$AN$14,$C$2,B5*1000000,$O5:$X5),\"-\")","v":"-"},{"$f":"IF(AI$3<=vantHoff_EOS!$N$19,Phi_i_NS_Tci_Pci_wi_kijm_TinC_PinPa_yi(AI$3,vantHoff_EOS!$N$19,vantHoff_EOS!$X$5:$X$14,vantHoff_EOS!$Y$5:$Y$14,vantHoff_EOS!$Z$5:$Z$14,vantHoff_EOS!$AE$5:$AN$14,$C$2,B5*1000000,$O5:$X5),\"-\")","v":"-"}]
[3,{"$f":"B5+vantHoff_EOS!$E$26","v":8.3999999999999986},320.14999999999998,3.1235358425737939E-3,{"$f":"lnKaT_Tref_lnKaTref_dHTref_da_db_dc_dd_de_TinC(vantHoff_EOS!$E$7,vantHoff_EOS!$B$9,vantHoff_EOS!$B$6,vantHoff_EOS!$O$27,vantHoff_EOS!$P$27,vantHoff_EOS!$Q$27,vantHoff_EOS!$R$27,vantHoff_EOS!$S$27,$C$2)","v":13.062534312676297},470962.76406017854,{"$f":"MolarExtentX_NS_vi_n0i_dHfi_dGfi_TrefinC_da_db_dc_dd_de_Tci_Pci_wi_kijm_TinC_PinPa(vantHoff_EOS!$N$19,vantHoff_EOS!$O$23:$X$23,vantHoff_EOS!$O$31:$X$31,vantHoff_EOS!$T$5:$T$14,vantHoff_EOS!$U$5:$U$14,vantHoff_EOS!$E$7,vantHoff_EOS!$O$27,vantHoff_EOS!$P$27,vantHoff_EOS!$Q$27,vantHoff_EOS!$R$27,vantHoff_EOS!$S$27,vantHoff_EOS!$X$5:$X$14,vantHoff_EOS!$Y$5:$Y$14,vantHoff_EOS!$Z$5:$Z$14,vantHoff_EOS!$AE$5:$AN$14,$C$2,B6*1000000)","v":0.99972619758627868},{"$f":"Ky_NS_n0i_vi_X(vantHoff_EOS!$N$19,vantHoff_EOS!$O$31:$X$31,vantHoff_EOS!$O$23:$X$23,G6)","v":3388116903080.7241},{"$f":"Kp_NS_vi_PinPa(vantHoff_EOS!$N$19,vantHoff_EOS!$O$23:$X$23,B6*1000000)","v":1.4172335600907035E-4},{"$f":"Kphi_NS_n0i_vi_X_Tci_Pci_wi_kijm_TinC_PinPa(vantHoff_EOS!$N$19,vantHoff_EOS!$O$31:$X$31,vantHoff_EOS!$O$23:$X$23,G6,vantHoff_EOS!$X$5:$X$14,vantHoff_EOS!$Y$5:$Y$14,vantHoff_EOS!$Z$5:$Z$14,vantHoff_EOS!$AE$5:$AN$14,$C$2,B6*1000000)","v":9.8081422756936439E-4},28.851295397164606,-8.8616335976866267,-6.9271274868013197,{"$f":"nT_NS_n0i_vi_X(vantHoff_EOS!$N$19,vantHoff_EOS!$O$31:$X$31,vantHoff_EOS!$O$23:$X$23,G6)","v":8.3405476048274423},{"$f":"IF(O$3<=vantHoff_EOS!$N$19,y_iindex_NS_n0i_vi_X(O$3,vantHoff_EOS!$N$19,vantHoff_EOS!$O$31:$X$31,vantHoff_EOS!$O$23:$X$23,$G6),\"-\")","v":3.2827870146421797E-5},{"$f":"IF(P$3<=vantHoff_EOS!$N$19,y_iindex_NS_n0i_vi_X(P$3,vantHoff_EOS!$N$19,vantHoff_EOS!$O$31:$X$31,vantHoff_EOS!$O$23:$X$23,$G6),\"-\")","v":3.2827870146421797E-5},{"$f":"IF(Q$3<=vantHoff_EOS!$N$19,y_iindex_NS_n0i_vi_X(Q$3,vantHoff_EOS!$N$19,vantHoff_EOS!$O$31:$X$31,vantHoff_EOS!$O$23:$X$23,$G6),\"-\")","v":3.2827870146421797E-5},{"$f":"IF(R$3<=vantHoff_EOS!$N$19,y_iindex_NS_n0i_vi_X(R$3,vantHoff_EOS!$N$19,vantHoff_EOS!$O$31:$X$31,vantHoff_EOS!$O$23:$X$23,$G6),\"-\")","v":0.11986337647754029},{"$f":"IF(S$3<=vantHoff_EOS!$N$19,y_iindex_NS_n0i_vi_X(S$3,vantHoff_EOS!$N$19,vantHoff_EOS!$O$31:$X$31,vantHoff_EOS!$O$23:$X$23,$G6),\"-\")","v":0.88003813991202051},{"$f":"IF(T$3<=vantHoff_EOS!$N$19,y_iindex_NS_n0i_vi_X(T$3,vantHoff_EOS!$N$19,vantHoff_EOS!$O$31:$X$31,vantHoff_EOS!$O$23:$X$23,$G6),\"-\")","v":"-"},{"$f":"IF(U$3<=vantHoff_EOS!$N$19,y_iindex_NS_n0i_vi_X(U$3,vantHoff_EOS!$N$19,vantHoff_EOS!$O$31:$X$31,vantHoff_EOS!$O$23:$X$23,$G6),\"-\")","v":"-"},{"$f":"IF(V$3<=vantHoff_EOS!$N$19,y_iindex_NS_n0i_vi_X(V$3,vantHoff_EOS!$N$19,vantHoff_EOS!$O$31:$X$31,vantHoff_EOS!$O$23:$X$23,$G6),\"-\")","v":"-"},{"$f":"IF(W$3<=vantHoff_EOS!$N$19,y_iindex_NS_n0i_vi_X(W$3,vantHoff_EOS!$N$19,vantHoff_EOS!$O$31:$X$31,vantHoff_EOS!$O$23:$X$23,$G6),\"-\")","v":"-"},{"$f":"IF(X$3<=vantHoff_EOS!$N$19,y_iindex_NS_n0i_vi_X(X$3,vantHoff_EOS!$N$19,vantHoff_EOS!$O$31:$X$31,vantHoff_EOS!$O$23:$X$23,$G6),\"-\")","v":"-"},1,{"$f":"IF(Z$3<=vantHoff_EOS!$N$19,Phi_i_NS_Tci_Pci_wi_kijm_TinC_PinPa_yi(Z$3,vantHoff_EOS!$N$19,vantHoff_EOS!$X$5:$X$14,vantHoff_EOS!$Y$5:$Y$14,vantHoff_EOS!$Z$5:$Z$14,vantHoff_EOS!$AE$5:$AN$14,$C$2,B6*1000000,$O6:$X6),\"-\")","v":4.9713393600226654},{"$f":"IF(AA$3<=vantHoff_EOS!$N$19,Phi_i_NS_Tci_Pci_wi_kijm_TinC_PinPa_yi(AA$3,vantHoff_EOS!$N$19,vantHoff_EOS!$X$5:$X$14,vantHoff_EOS!$Y$5:$Y$14,vantHoff_EOS!$Z$5:$Z$14,vantHoff_EOS!$AE$5:$AN$14,$C$2,B6*1000000,$O6:$X6),\"-\")","v":8.1096148434488047},{"$f":"IF(AB$3<=vantHoff_EOS!$N$19,Phi_i_NS_Tci_Pci_wi_kijm_TinC_PinPa_yi(AB$3,vantHoff_EOS!$N$19,vantHoff_EOS!$X$5:$X$14,vantHoff_EOS!$Y$5:$Y$14,vantHoff_EOS!$Z$5:$Z$14,vantHoff_EOS!$AE$5:$AN$14,$C$2,B6*1000000,$O6:$X6),\"-\")","v":0.22189526931903711},{"$f":"IF(AC$3<=vantHoff_EOS!$N$19,Phi_i_NS_Tci_Pci_wi_kijm_TinC_PinPa_yi(AC$3,vantHoff_EOS!$N$19,vantHoff_EOS!$X$5:$X$14,vantHoff_EOS!$Y$5:$Y$14,vantHoff_EOS!$Z$5:$Z$14,vantHoff_EOS!$AE$5:$AN$14,$C$2,B6*1000000,$O6:$X6),\"-\")","v":8.7742183820482562E-3},{"$f":"IF(AD$3<=vantHoff_EOS!$N$19,Phi_i_NS_Tci_Pci_wi_kijm_TinC_PinPa_yi(AD$3,vantHoff_EOS!$N$19,vantHoff_EOS!$X$5:$X$14,vantHoff_EOS!$Y$5:$Y$14,vantHoff_EOS!$Z$5:$Z$14,vantHoff_EOS!$AE$5:$AN$14,$C$2,B6*1000000,$O6:$X6),\"-\")","v":0.72808578162557791},{"$f":"IF(AE$3<=vantHoff_EOS!$N$19,Phi_i_NS_Tci_Pci_wi_kijm_TinC_PinPa_yi(AE$3,vantHoff_EOS!$N$19,vantHoff_EOS!$X$5:$X$14,vantHoff_EOS!$Y$5:$Y$14,vantHoff_EOS!$Z$5:$Z$14,vantHoff_EOS!$AE$5:$AN$14,$C$2,B6*1000000,$O6:$X6),\"-\")","v":"-"},{"$f":"IF(AF$3<=vantHoff_EOS!$N$19,Phi_i_NS_Tci_Pci_wi_kijm_TinC_PinPa_yi(AF$3,vantHoff_EOS!$N$19,vantHoff_EOS!$X$5:$X$14,vantHoff_EOS!$Y$5:$Y$14,vantHoff_EOS!$Z$5:$Z$14,vantHoff_EOS!$AE$5:$AN$14,$C$2,B6*1000000,$O6:$X6),\"-\")","v":"-"},{"$f":"IF(AG$3<=vantHoff_EOS!$N$19,Phi_i_NS_Tci_Pci_wi_kijm_TinC_PinPa_yi(AG$3,vantHoff_EOS!$N$19,vantHoff_EOS!$X$5:$X$14,vantHoff_EOS!$Y$5:$Y$14,vantHoff_EOS!$Z$5:$Z$14,vantHoff_EOS!$AE$5:$AN$14,$C$2,B6*1000000,$O6:$X6),\"-\")","v":"-"},{"$f":"IF(AH$3<=vantHoff_EOS!$N$19,Phi_i_NS_Tci_Pci_wi_kijm_TinC_PinPa_yi(AH$3,vantHoff_EOS!$N$19,vantHoff_EOS!$X$5:$X$14,vantHoff_EOS!$Y$5:$Y$14,vantHoff_EOS!$Z$5:$Z$14,vantHoff_EOS!$AE$5:$AN$14,$C$2,B6*1000000,$O6:$X6),\"-\")","v":"-"},{"$f":"IF(AI$3<=vantHoff_EOS!$N$19,Phi_i_NS_Tci_Pci_wi_kijm_TinC_PinPa_yi(AI$3,vantHoff_EOS!$N$19,vantHoff_EOS!$X$5:$X$14,vantHoff_EOS!$Y$5:$Y$14,vantHoff_EOS!$Z$5:$Z$14,vantHoff_EOS!$AE$5:$AN$14,$C$2,B6*1000000,$O6:$X6),\"-\")","v":"-"}]
[4,{"$f":"B6+vantHoff_EOS!$E$26","v":8.5999999999999979},320.14999999999998,3.1235358425737939E-3,{"$f":"lnKaT_Tref_lnKaTref_dHTref_da_db_dc_dd_de_TinC(vantHoff_EOS!$E$7,vantHoff_EOS!$B$9,vantHoff_EOS!$B$6,vantHoff_EOS!$O$27,vantHoff_EOS!$P$27,vantHoff_EOS!$Q$27,vantHoff_EOS!$R$27,vantHoff_EOS!$S$27,$C$2)","v":13.062534312676297},470962.76406017854,{"$f":"MolarExtentX_NS_vi_n0i_dHfi_dGfi_TrefinC_da_db_dc_dd_de_Tci_Pci_wi_kijm_TinC_PinPa(vantHoff_EOS!$N$19,vantHoff_EOS!$O$23:$X$23,vantHoff_EOS!$O$31:$X$31,vantHoff_EOS!$T$5:$T$14,vantHoff_EOS!$U$5:$U$14,vantHoff_EOS!$E$7,vantHoff_EOS!$O$27,vantHoff_EOS!$P$27,vantHoff_EOS!$Q$27,vantHoff_EOS!$R$27,vantHoff_EOS!$S$27,vantHoff_EOS!$X$5:$X$14,vantHoff_EOS!$Y$5:$Y$14,vantHoff_EOS!$Z$5:$Z$14,vantHoff_EOS!$AE$5:$AN$14,$C$2,B7*1000000)","v":0.99972878680215704},{"$f":"Ky_NS_n0i_vi_X(vantHoff_EOS!$N$19,vantHoff_EOS!$O$31:$X$31,vantHoff_EOS!$O$23:$X$23,G7)","v":3486087880319.3403},{"$f":"Kp_NS_vi_PinPa(vantHoff_EOS!$N$19,vantHoff_EOS!$O$23:$X$23,B7*1000000)","v":1.3520822065981615E-4},{"$f":"Kphi_NS_n0i_vi_X_Tci_Pci_wi_kijm_TinC_PinPa(vantHoff_EOS!$N$19,vantHoff_EOS!$O$31:$X$31,vantHoff_EOS!$O$23:$X$23,G7,vantHoff_EOS!$X$5:$X$14,vantHoff_EOS!$Y$5:$Y$14,vantHoff_EOS!$Z$5:$Z$14,vantHoff_EOS!$AE$5:$AN$14,$C$2,B7*1000000)","v":9.991832456811569E-4},28.879801272209296,-8.9086945925070147,-6.9085723670265153,{"$f":"nT_NS_n0i_vi_X(vantHoff_EOS!$N$19,vantHoff_EOS!$O$31:$X$31,vantHoff_EOS!$O$23:$X$23,G7)","v":8.340542426395686},{"$f":"IF(O$3<=vantHoff_EOS!$N$19,y_iindex_NS_n0i_vi_X(O$3,vantHoff_EOS!$N$19,vantHoff_EOS!$O$31:$X$31,vantHoff_EOS!$O$23:$X$23,$G7),\"-\")","v":3.2517453179620085E-5},{"$f":"IF(P$3<=vantHoff_EOS!$N$19,y_iindex_NS_n0i_vi_X(P$3,vantHoff_EOS!$N$19,vantHoff_EOS!$O$31:$X$31,vantHoff_EOS!$O$23:$X$23,$G7),\"-\")","v":3.2517453179620085E-5},{"$f":"IF(Q$3<=vantHoff_EOS!$N$19,y_iindex_NS_n0i_vi_X(Q$3,vantHoff_EOS!$N$19,vantHoff_EOS!$O$31:$X$31,vantHoff_EOS!$O$23:$X$23,$G7),\"-\")","v":3.2517453179620085E-5},{"$f":"IF(R$3<=vantHoff_EOS!$N$19,y_iindex_NS_n0i_vi_X(R$3,vantHoff_EOS!$N$19,vantHoff_EOS!$O$31:$X$31,vantHoff_EOS!$O$23:$X$23,$G7),\"-\")","v":0.1198637613350267},{"$f":"IF(S$3<=vantHoff_EOS!$N$19,y_iindex_NS_n0i_vi_X(S$3,vantHoff_EOS!$N$19,vantHoff_EOS!$O$31:$X$31,vantHoff_EOS!$O$23:$X$23,$G7),\"-\")","v":0.88003868630543436},{"$f":"IF(T$3<=vantHoff_EOS!$N$19,y_iindex_NS_n0i_vi_X(T$3,vantHoff_EOS!$N$19,vantHoff_EOS!$O$31:$X$31,vantHoff_EOS!$O$23:$X$23,$G7),\"-\")","v":"-"},{"$f":"IF(U$3<=vantHoff_EOS!$N$19,y_iindex_NS_n0i_vi_X(U$3,vantHoff_EOS!$N$19,vantHoff_EOS!$O$31:$X$31,vantHoff_EOS!$O$23:$X$23,$G7),\"-\")","v":"-"},{"$f":"IF(V$3<=vantHoff_EOS!$N$19,y_iindex_NS_n0i_vi_X(V$3,vantHoff_EOS!$N$19,vantHoff_EOS!$O$31:$X$31,vantHoff_EOS!$O$23:$X$23,$G7),\"-\")","v":"-"},{"$f":"IF(W$3<=vantHoff_EOS!$N$19,y_iindex_NS_n0i_vi_X(W$3,vantHoff_EOS!$N$19,vantHoff_EOS!$O$31:$X$31,vantHoff_EOS!$O$23:$X$23,$G7),\"-\")","v":"-"},{"$f":"IF(X$3<=vantHoff_EOS!$N$19,y_iindex_NS_n0i_vi_X(X$3,vantHoff_EOS!$N$19,vantHoff_EOS!$O$31:$X$31,vantHoff_EOS!$O$23:$X$23,$G7),\"-\")","v":"-"},0.99999999999999989,{"$f":"IF(Z$3<=vantHoff_EOS!$N$19,Phi_i_NS_Tci_Pci_wi_kijm_TinC_PinPa_yi(Z$3,vantHoff_EOS!$N$19,vantHoff_EOS!$X$5:$X$14,vantHoff_EOS!$Y$5:$Y$14,vantHoff_EOS!$Z$5:$Z$14,vantHoff_EOS!$AE$5:$AN$14,$C$2,B7*1000000,$O7:$X7),\"-\")","v":4.9135418775237474},{"$f":"IF(AA$3<=vantHoff_EOS!$N$19,Phi_i_NS_Tci_Pci_wi_kijm_TinC_PinPa_yi(AA$3,vantHoff_EOS!$N$19,vantHoff_EOS!$X$5:$X$14,vantHoff_EOS!$Y$5:$Y$14,vantHoff_EOS!$Z$5:$Z$14,vantHoff_EOS!$AE$5:$AN$14,$C$2,B7*1000000,$O7:$X7),\"-\")","v":8.0160499000683956},{"$f":"IF(AB$3<=vantHoff_EOS!$N$19,Phi_i_NS_Tci_Pci_wi_kijm_TinC_PinPa_yi(AB$3,vantHoff_EOS!$N$19,vantHoff_EOS!$X$5:$X$14,vantHoff_EOS!$Y$5:$Y$14,vantHoff_EOS!$Z$5:$Z$14,vantHoff_EOS!$AE$5:$AN$14,$C$2,B7*1000000,$O7:$X7),\"-\")","v":0.2180559127221082},{"$f":"IF(AC$3<=vantHoff_EOS!$N$19,Phi_i_NS_Tci_Pci_wi_kijm_TinC_PinPa_yi(AC$3,vantHoff_EOS!$N$19,vantHoff_EOS!$X$5:$X$14,vantHoff_EOS!$Y$5:$Y$14,vantHoff_EOS!$Z$5:$Z$14,vantHoff_EOS!$AE$5:$AN$14,$C$2,B7*1000000,$O7:$X7),\"-\")","v":8.5815963791668858E-3},{"$f":"IF(AD$3<=vantHoff_EOS!$N$19,Phi_i_NS_Tci_Pci_wi_kijm_TinC_PinPa_yi(AD$3,vantHoff_EOS!$N$19,vantHoff_EOS!$X$5:$X$14,vantHoff_EOS!$Y$5:$Y$14,vantHoff_EOS!$Z$5:$Z$14,vantHoff_EOS!$AE$5:$AN$14,$C$2,B7*1000000,$O7:$X7),\"-\")","v":0.7149908296981855},{"$f":"IF(AE$3<=vantHoff_EOS!$N$19,Phi_i_NS_Tci_Pci_wi_kijm_TinC_PinPa_yi(AE$3,vantHoff_EOS!$N$19,vantHoff_EOS!$X$5:$X$14,vantHoff_EOS!$Y$5:$Y$14,vantHoff_EOS!$Z$5:$Z$14,vantHoff_EOS!$AE$5:$AN$14,$C$2,B7*1000000,$O7:$X7),\"-\")","v":"-"},{"$f":"IF(AF$3<=vantHoff_EOS!$N$19,Phi_i_NS_Tci_Pci_wi_kijm_TinC_PinPa_yi(AF$3,vantHoff_EOS!$N$19,vantHoff_EOS!$X$5:$X$14,vantHoff_EOS!$Y$5:$Y$14,vantHoff_EOS!$Z$5:$Z$14,vantHoff_EOS!$AE$5:$AN$14,$C$2,B7*1000000,$O7:$X7),\"-\")","v":"-"},{"$f":"IF(AG$3<=vantHoff_EOS!$N$19,Phi_i_NS_Tci_Pci_wi_kijm_TinC_PinPa_yi(AG$3,vantHoff_EOS!$N$19,vantHoff_EOS!$X$5:$X$14,vantHoff_EOS!$Y$5:$Y$14,vantHoff_EOS!$Z$5:$Z$14,vantHoff_EOS!$AE$5:$AN$14,$C$2,B7*1000000,$O7:$X7),\"-\")","v":"-"},{"$f":"IF(AH$3<=vantHoff_EOS!$N$19,Phi_i_NS_Tci_Pci_wi_kijm_TinC_PinPa_yi(AH$3,vantHoff_EOS!$N$19,vantHoff_EOS!$X$5:$X$14,vantHoff_EOS!$Y$5:$Y$14,vantHoff_EOS!$Z$5:$Z$14,vantHoff_EOS!$AE$5:$AN$14,$C$2,B7*1000000,$O7:$X7),\"-\")","v":"-"},{"$f":"IF(AI$3<=vantHoff_EOS!$N$19,Phi_i_NS_Tci_Pci_wi_kijm_TinC_PinPa_yi(AI$3,vantHoff_EOS!$N$19,vantHoff_EOS!$X$5:$X$14,vantHoff_EOS!$Y$5:$Y$14,vantHoff_EOS!$Z$5:$Z$14,vantHoff_EOS!$AE$5:$AN$14,$C$2,B7*1000000,$O7:$X7),\"-\")","v":"-"}]
[5,{"$f":"B7+vantHoff_EOS!$E$26","v":8.7999999999999972},320.14999999999998,3.1235358425737939E-3,{"$f":"lnKaT_Tref_lnKaTref_dHTref_da_db_dc_dd_de_TinC(vantHoff_EOS!$E$7,vantHoff_EOS!$B$9,vantHoff_EOS!$B$6,vantHoff_EOS!$O$27,vantHoff_EOS!$P$27,vantHoff_EOS!$Q$27,vantHoff_EOS!$R$27,vantHoff_EOS!$S$27,$C$2)","v":13.062534312676297},470962.76406017854,{"$f":"MolarExtentX_NS_vi_n0i_dHfi_dGfi_TrefinC_da_db_dc_dd_de_Tci_Pci_wi_kijm_TinC_PinPa(vantHoff_EOS!$N$19,vantHoff_EOS!$O$23:$X$23,vantHoff_EOS!$O$31:$X$31,vantHoff_EOS!$T$5:$T$14,vantHoff_EOS!$U$5:$U$14,vantHoff_EOS!$E$7,vantHoff_EOS!$O$27,vantHoff_EOS!$P$27,vantHoff_EOS!$Q$27,vantHoff_EOS!$R$27,vantHoff_EOS!$S$27,vantHoff_EOS!$X$5:$X$14,vantHoff_EOS!$Y$5:$Y$14,vantHoff_EOS!$Z$5:$Z$14,vantHoff_EOS!$AE$5:$AN$14,$C$2,B8*1000000)","v":0.99973128391158816},{"$f":"Ky_NS_n0i_vi_X(vantHoff_EOS!$N$19,vantHoff_EOS!$O$31:$X$31,vantHoff_EOS!$O$23:$X$23,G8)","v":3584184413657.5513},{"$f":"Kp_NS_vi_PinPa(vantHoff_EOS!$N$19,vantHoff_EOS!$O$23:$X$23,B8*1000000)","v":1.2913223140495879E-4},{"$f":"Kphi_NS_n0i_vi_X_Tci_Pci_wi_kijm_TinC_PinPa(vantHoff_EOS!$N$19,vantHoff_EOS!$O$31:$X$31,vantHoff_EOS!$O$23:$X$23,G8,vantHoff_EOS!$X$5:$X$14,vantHoff_EOS!$Y$5:$Y$14,vantHoff_EOS!$Z$5:$Z$14,vantHoff_EOS!$AE$5:$AN$14,$C$2,B8*1000000)","v":1.0175636139106007E-3},28.907552064421044,-8.9546736289564119,-6.8903441227879476,{"$f":"nT_NS_n0i_vi_X(vantHoff_EOS!$N$19,vantHoff_EOS!$O$31:$X$31,vantHoff_EOS!$O$23:$X$23,G8)","v":8.3405374321768235},{"$f":"IF(O$3<=vantHoff_EOS!$N$19,y_iindex_NS_n0i_vi_X(O$3,vantHoff_EOS!$N$19,vantHoff_EOS!$O$31:$X$31,vantHoff_EOS!$O$23:$X$23,$G8),\"-\")","v":3.2218078342908714E-5},{"$f":"IF(P$3<=vantHoff_EOS!$N$19,y_iindex_NS_n0i_vi_X(P$3,vantHoff_EOS!$N$19,vantHoff_EOS!$O$31:$X$31,vantHoff_EOS!$O$23:$X$23,$G8),\"-\")","v":3.2218078342908714E-5},{"$f":"IF(Q$3<=vantHoff_EOS!$N$19,y_iindex_NS_n0i_vi_X(Q$3,vantHoff_EOS!$N$19,vantHoff_EOS!$O$31:$X$31,vantHoff_EOS!$O$23:$X$23,$G8),\"-\")","v":3.2218078342908714E-5},{"$f":"IF(R$3<=vantHoff_EOS!$N$19,y_iindex_NS_n0i_vi_X(R$3,vantHoff_EOS!$N$19,vantHoff_EOS!$O$31:$X$31,vantHoff_EOS!$O$23:$X$23,$G8),\"-\")","v":0.11986413250239021},{"$f":"IF(S$3<=vantHoff_EOS!$N$19,y_iindex_NS_n0i_vi_X(S$3,vantHoff_EOS!$N$19,vantHoff_EOS!$O$31:$X$31,vantHoff_EOS!$O$23:$X$23,$G8),\"-\")","v":0.88003921326258105},{"$f":"IF(T$3<=vantHoff_EOS!$N$19,y_iindex_NS_n0i_vi_X(T$3,vantHoff_EOS!$N$19,vantHoff_EOS!$O$31:$X$31,vantHoff_EOS!$O$23:$X$23,$G8),\"-\")","v":"-"},{"$f":"IF(U$3<=vantHoff_EOS!$N$19,y_iindex_NS_n0i_vi_X(U$3,vantHoff_EOS!$N$19,vantHoff_EOS!$O$31:$X$31,vantHoff_EOS!$O$23:$X$23,$G8),\"-\")","v":"-"},{"$f":"IF(V$3<=vantHoff_EOS!$N$19,y_iindex_NS_n0i_vi_X(V$3,vantHoff_EOS!$N$19,vantHoff_EOS!$O$31:$X$31,vantHoff_EOS!$O$23:$X$23,$G8),\"-\")","v":"-"},{"$f":"IF(W$3<=vantHoff_EOS!$N$19,y_iindex_NS_n0i_vi_X(W$3,vantHoff_EOS!$N$19,vantHoff_EOS!$O$31:$X$31,vantHoff_EOS!$O$23:$X$23,$G8),\"-\")","v":"-"},{"$f":"IF(X$3<=vantHoff_EOS!$N$19,y_iindex_NS_n0i_vi_X(X$3,vantHoff_EOS!$N$19,vantHoff_EOS!$O$31:$X$31,vantHoff_EOS!$O$23:$X$23,$G8),\"-\")","v":"-"},1,{"$f":"IF(Z$3<=vantHoff_EOS!$N$19,Phi_i_NS_Tci_Pci_wi_kijm_TinC_PinPa_yi(Z$3,vantHoff_EOS!$N$19,vantHoff_EOS!$X$5:$X$14,vantHoff_EOS!$Y$5:$Y$14,vantHoff_EOS!$Z$5:$Z$14,vantHoff_EOS!$AE$5:$AN$14,$C$2,B8*1000000,$O8:$X8),\"-\")","v":4.8578516221835333},{"$f":"IF(AA$3<=vantHoff_EOS!$N$19,Phi_i_NS_Tci_Pci_wi_kijm_TinC_PinPa_yi(AA$3,vantHoff_EOS!$N$19,vantHoff_EOS!$X$5:$X$14,vantHoff_EOS!$Y$5:$Y$14,vantHoff_EOS!$Z$5:$Z$14,vantHoff_EOS!$AE$5:$AN$14,$C$2,B8*1000000,$O8:$X8),\"-\")","v":7.9256880718593532},{"$f":"IF(AB$3<=vantHoff_EOS!$N$19,Phi_i_NS_Tci_Pci_wi_kijm_TinC_PinPa_yi(AB$3,vantHoff_EOS!$N$19,vantHoff_EOS!$X$5:$X$14,vantHoff_EOS!$Y$5:$Y$14,vantHoff_EOS!$Z$5:$Z$14,vantHoff_EOS!$AE$5:$AN$14,$C$2,B8*1000000,$O8:$X8),\"-\")","v":0.21439851945890048},{"$f":"IF(AC$3<=vantHoff_EOS!$N$19,Phi_i_NS_Tci_Pci_wi_kijm_TinC_PinPa_yi(AC$3,vantHoff_EOS!$N$19,vantHoff_EOS!$X$5:$X$14,vantHoff_EOS!$Y$5:$Y$14,vantHoff_EOS!$Z$5:$Z$14,vantHoff_EOS!$AE$5:$AN$14,$C$2,B8*1000000,$O8:$X8),\"-\")","v":8.3997154220457129E-3},{"$f":"IF(AD$3<=vantHoff_EOS!$N$19,Phi_i_NS_Tci_Pci_wi_kijm_TinC_PinPa_yi(AD$3,vantHoff_EOS!$N$19,vantHoff_EOS!$X$5:$X$14,vantHoff_EOS!$Y$5:$Y$14,vantHoff_EOS!$Z$5:$Z$14,vantHoff_EOS!$AE$5:$AN$14,$C$2,B8*1000000,$O8:$X8),\"-\")","v":0.70247149735471848},{"$f":"IF(AE$3<=vantHoff_EOS!$N$19,Phi_i_NS_Tci_Pci_wi_kijm_TinC_PinPa_yi(AE$3,vantHoff_EOS!$N$19,vantHoff_EOS!$X$5:$X$14,vantHoff_EOS!$Y$5:$Y$14,vantHoff_EOS!$Z$5:$Z$14,vantHoff_EOS!$AE$5:$AN$14,$C$2,B8*1000000,$O8:$X8),\"-\")","v":"-"},{"$f":"IF(AF$3<=vantHoff_EOS!$N$19,Phi_i_NS_Tci_Pci_wi_kijm_TinC_PinPa_yi(AF$3,vantHoff_EOS!$N$19,vantHoff_EOS!$X$5:$X$14,vantHoff_EOS!$Y$5:$Y$14,vantHoff_EOS!$Z$5:$Z$14,vantHoff_EOS!$AE$5:$AN$14,$C$2,B8*1000000,$O8:$X8),\"-\")","v":"-"},{"$f":"IF(AG$3<=vantHoff_EOS!$N$19,Phi_i_NS_Tci_Pci_wi_kijm_TinC_PinPa_yi(AG$3,vantHoff_EOS!$N$19,vantHoff_EOS!$X$5:$X$14,vantHoff_EOS!$Y$5:$Y$14,vantHoff_EOS!$Z$5:$Z$14,vantHoff_EOS!$AE$5:$AN$14,$C$2,B8*1000000,$O8:$X8),\"-\")","v":"-"},{"$f":"IF(AH$3<=vantHoff_EOS!$N$19,Phi_i_NS_Tci_Pci_wi_kijm_TinC_PinPa_yi(AH$3,vantHoff_EOS!$N$19,vantHoff_EOS!$X$5:$X$14,vantHoff_EOS!$Y$5:$Y$14,vantHoff_EOS!$Z$5:$Z$14,vantHoff_EOS!$AE$5:$AN$14,$C$2,B8*1000000,$O8:$X8),\"-\")","v":"-"},{"$f":"IF(AI$3<=vantHoff_EOS!$N$19,Phi_i_NS_Tci_Pci_wi_kijm_TinC_PinPa_yi(AI$3,vantHoff_EOS!$N$19,vantHoff_EOS!$X$5:$X$14,vantHoff_EOS!$Y$5:$Y$14,vantHoff_EOS!$Z$5:$Z$14,vantHoff_EOS!$AE$5:$AN$14,$C$2,B8*1000000,$O8:$X8),\"-\")","v":"-"}]
[6,{"$f":"B8+vantHoff_EOS!$E$26","v":8.9999999999999964},320.14999999999998,3.1235358425737939E-3,{"$f":"lnKaT_Tref_lnKaTref_dHTref_da_db_dc_dd_de_TinC(vantHoff_EOS!$E$7,vantHoff_EOS!$B$9,vantHoff_EOS!$B$6,vantHoff_EOS!$O$27,vantHoff_EOS!$P$27,vantHoff_EOS!$Q$27,vantHoff_EOS!$R$27,vantHoff_EOS!$S$27,$C$2)","v":13.062534312676297},470962.76406017854,{"$f":"MolarExtentX_NS_vi_n0i_dHfi_dGfi_TrefinC_da_db_dc_dd_de_Tci_Pci_wi_kijm_TinC_PinPa(vantHoff_EOS!$N$19,vantHoff_EOS!$O$23:$X$23,vantHoff_EOS!$O$31:$X$31,vantHoff_EOS!$T$5:$T$14,vantHoff_EOS!$U$5:$U$14,vantHoff_EOS!$E$7,vantHoff_EOS!$O$27,vantHoff_EOS!$P$27,vantHoff_EOS!$Q$27,vantHoff_EOS!$R$27,vantHoff_EOS!$S$27,vantHoff_EOS!$X$5:$X$14,vantHoff_EOS!$Y$5:$Y$14,vantHoff_EOS!$Z$5:$Z$14,vantHoff_EOS!$AE$5:$AN$14,$C$2,B9*1000000)","v":0.99973369510869203},{"$f":"Ky_NS_n0i_vi_X(vantHoff_EOS!$N$19,vantHoff_EOS!$O$31:$X$31,vantHoff_EOS!$O$23:$X$23,G9)","v":3682429739121.3682},{"$f":"Kp_NS_vi_PinPa(vantHoff_EOS!$N$19,vantHoff_EOS!$O$23:$X$23,B9*1000000)","v":1.2345679012345693E-4},{"$f":"Kphi_NS_n0i_vi_X_Tci_Pci_wi_kijm_TinC_PinPa(vantHoff_EOS!$N$19,vantHoff_EOS!$O$31:$X$31,vantHoff_EOS!$O$23:$X$23,G9,vantHoff_EOS!$X$5:$X$14,vantHoff_EOS!$Y$5:$Y$14,vantHoff_EOS!$Z$5:$Z$14,vantHoff_EOS!$AE$5:$AN$14,$C$2,B9*1000000)","v":1.035946008245541E-3},28.934593905432845,-8.9996193406605283,-6.8724402520960179,{"$f":"nT_NS_n0i_vi_X(vantHoff_EOS!$N$19,vantHoff_EOS!$O$31:$X$31,vantHoff_EOS!$O$23:$X$23,G9)","v":8.3405326097826151},{"$f":"IF(O$3<=vantHoff_EOS!$N$19,y_iindex_NS_n0i_vi_X(O$3,vantHoff_EOS!$N$19,vantHoff_EOS!$O$31:$X$31,vantHoff_EOS!$O$23:$X$23,$G9),\"-\")","v":3.1929003070573423E-5},{"$f":"IF(P$3<=vantHoff_EOS!$N$19,y_iindex_NS_n0i_vi_X(P$3,vantHoff_EOS!$N$19,vantHoff_EOS!$O$31:$X$31,vantHoff_EOS!$O$23:$X$23,$G9),\"-\")","v":3.1929003070573423E-5},{"$f":"IF(Q$3<=vantHoff_EOS!$N$19,y_iindex_NS_n0i_vi_X(Q$3,vantHoff_EOS!$N$19,vantHoff_EOS!$O$31:$X$31,vantHoff_EOS!$O$23:$X$23,$G9),\"-\")","v":3.1929003070573423E-5},{"$f":"IF(R$3<=vantHoff_EOS!$N$19,y_iindex_NS_n0i_vi_X(R$3,vantHoff_EOS!$N$19,vantHoff_EOS!$O$31:$X$31,vantHoff_EOS!$O$23:$X$23,$G9),\"-\")","v":0.11986449090026983},{"$f":"IF(S$3<=vantHoff_EOS!$N$19,y_iindex_NS_n0i_vi_X(S$3,vantHoff_EOS!$N$19,vantHoff_EOS!$O$31:$X$31,vantHoff_EOS!$O$23:$X$23,$G9),\"-\")","v":0.88003972209051851},{"$f":"IF(T$3<=vantHoff_EOS!$N$19,y_iindex_NS_n0i_vi_X(T$3,vantHoff_EOS!$N$19,vantHoff_EOS!$O$31:$X$31,vantHoff_EOS!$O$23:$X$23,$G9),\"-\")","v":"-"},{"$f":"IF(U$3<=vantHoff_EOS!$N$19,y_iindex_NS_n0i_vi_X(U$3,vantHoff_EOS!$N$19,vantHoff_EOS!$O$31:$X$31,vantHoff_EOS!$O$23:$X$23,$G9),\"-\")","v":"-"},{"$f":"IF(V$3<=vantHoff_EOS!$N$19,y_iindex_NS_n0i_vi_X(V$3,vantHoff_EOS!$N$19,vantHoff_EOS!$O$31:$X$31,vantHoff_EOS!$O$23:$X$23,$G9),\"-\")","v":"-"},{"$f":"IF(W$3<=vantHoff_EOS!$N$19,y_iindex_NS_n0i_vi_X(W$3,vantHoff_EOS!$N$19,vantHoff_EOS!$O$31:$X$31,vantHoff_EOS!$O$23:$X$23,$G9),\"-\")","v":"-"},{"$f":"IF(X$3<=vantHoff_EOS!$N$19,y_iindex_NS_n0i_vi_X(X$3,vantHoff_EOS!$N$19,vantHoff_EOS!$O$31:$X$31,vantHoff_EOS!$O$23:$X$23,$G9),\"-\")","v":"-"},1,{"$f":"IF(Z$3<=vantHoff_EOS!$N$19,Phi_i_NS_Tci_Pci_wi_kijm_TinC_PinPa_yi(Z$3,vantHoff_EOS!$N$19,vantHoff_EOS!$X$5:$X$14,vantHoff_EOS!$Y$5:$Y$14,vantHoff_EOS!$Z$5:$Z$14,vantHoff_EOS!$AE$5:$AN$14,$C$2,B9*1000000,$O9:$X9),\"-\")","v":4.8041653380673548},{"$f":"IF(AA$3<=vantHoff_EOS!$N$19,Phi_i_NS_Tci_Pci_wi_kijm_TinC_PinPa_yi(AA$3,vantHoff_EOS!$N$19,vantHoff_EOS!$X$5:$X$14,vantHoff_EOS!$Y$5:$Y$14,vantHoff_EOS!$Z$5:$Z$14,vantHoff_EOS!$AE$5:$AN$14,$C$2,B9*1000000,$O9:$X9),\"-\")","v":7.838383353558469},{"$f":"IF(AB$3<=vantHoff_EOS!$N$19,Phi_i_NS_Tci_Pci_wi_kijm_TinC_PinPa_yi(AB$3,vantHoff_EOS!$N$19,vantHoff_EOS!$X$5:$X$14,vantHoff_EOS!$Y$5:$Y$14,vantHoff_EOS!$Z$5:$Z$14,vantHoff_EOS!$AE$5:$AN$14,$C$2,B9*1000000,$O9:$X9),\"-\")","v":0.21091083625369075},{"$f":"IF(AC$3<=vantHoff_EOS!$N$19,Phi_i_NS_Tci_Pci_wi_kijm_TinC_PinPa_yi(AC$3,vantHoff_EOS!$N$19,vantHoff_EOS!$X$5:$X$14,vantHoff_EOS!$Y$5:$Y$14,vantHoff_EOS!$Z$5:$Z$14,vantHoff_EOS!$AE$5:$AN$14,$C$2,B9*1000000,$O9:$X9),\"-\")","v":8.2277381221762362E-3},{"$f":"IF(AD$3<=vantHoff_EOS!$N$19,Phi_i_NS_Tci_Pci_wi_kijm_TinC_PinPa_yi(AD$3,vantHoff_EOS!$N$19,vantHoff_EOS!$X$5:$X$14,vantHoff_EOS!$Y$5:$Y$14,vantHoff_EOS!$Z$5:$Z$14,vantHoff_EOS!$AE$5:$AN$14,$C$2,B9*1000000,$O9:$X9),\"-\")","v":0.69049098264716591},{"$f":"IF(AE$3<=vantHoff_EOS!$N$19,Phi_i_NS_Tci_Pci_wi_kijm_TinC_PinPa_yi(AE$3,vantHoff_EOS!$N$19,vantHoff_EOS!$X$5:$X$14,vantHoff_EOS!$Y$5:$Y$14,vantHoff_EOS!$Z$5:$Z$14,vantHoff_EOS!$AE$5:$AN$14,$C$2,B9*1000000,$O9:$X9),\"-\")","v":"-"},{"$f":"IF(AF$3<=vantHoff_EOS!$N$19,Phi_i_NS_Tci_Pci_wi_kijm_TinC_PinPa_yi(AF$3,vantHoff_EOS!$N$19,vantHoff_EOS!$X$5:$X$14,vantHoff_EOS!$Y$5:$Y$14,vantHoff_EOS!$Z$5:$Z$14,vantHoff_EOS!$AE$5:$AN$14,$C$2,B9*1000000,$O9:$X9),\"-\")","v":"-"},{"$f":"IF(AG$3<=vantHoff_EOS!$N$19,Phi_i_NS_Tci_Pci_wi_kijm_TinC_PinPa_yi(AG$3,vantHoff_EOS!$N$19,vantHoff_EOS!$X$5:$X$14,vantHoff_EOS!$Y$5:$Y$14,vantHoff_EOS!$Z$5:$Z$14,vantHoff_EOS!$AE$5:$AN$14,$C$2,B9*1000000,$O9:$X9),\"-\")","v":"-"},{"$f":"IF(AH$3<=vantHoff_EOS!$N$19,Phi_i_NS_Tci_Pci_wi_kijm_TinC_PinPa_yi(AH$3,vantHoff_EOS!$N$19,vantHoff_EOS!$X$5:$X$14,vantHoff_EOS!$Y$5:$Y$14,vantHoff_EOS!$Z$5:$Z$14,vantHoff_EOS!$AE$5:$AN$14,$C$2,B9*1000000,$O9:$X9),\"-\")","v":"-"},{"$f":"IF(AI$3<=vantHoff_EOS!$N$19,Phi_i_NS_Tci_Pci_wi_kijm_TinC_PinPa_yi(AI$3,vantHoff_EOS!$N$19,vantHoff_EOS!$X$5:$X$14,vantHoff_EOS!$Y$5:$Y$14,vantHoff_EOS!$Z$5:$Z$14,vantHoff_EOS!$AE$5:$AN$14,$C$2,B9*1000000,$O9:$X9),\"-\")","v":"-"}]
[7,{"$f":"B9+vantHoff_EOS!$E$26","v":9.1999999999999957},320.14999999999998,3.1235358425737939E-3,{"$f":"lnKaT_Tref_lnKaTref_dHTref_da_db_dc_dd_de_TinC(vantHoff_EOS!$E$7,vantHoff_EOS!$B$9,vantHoff_EOS!$B$6,vantHoff_EOS!$O$27,vantHoff_EOS!$P$27,vantHoff_EOS!$Q$27,vantHoff_EOS!$R$27,vantHoff_EOS!$S$27,$C$2)","v":13.062534312676297},470962.76406017854,{"$f":"MolarExtentX_NS_vi_n0i_dHfi_dGfi_TrefinC_da_db_dc_dd_de_Tci_Pci_wi_kijm_TinC_PinPa(vantHoff_EOS!$N$19,vantHoff_EOS!$O$23:$X$23,vantHoff_EOS!$O$31:$X$31,vantHoff_EOS!$T$5:$T$14,vantHoff_EOS!$U$5:$U$14,vantHoff_EOS!$E$7,vantHoff_EOS!$O$27,vantHoff_EOS!$P$27,vantHoff_EOS!$Q$27,vantHoff_EOS!$R$27,vantHoff_EOS!$S$27,vantHoff_EOS!$X$5:$X$14,vantHoff_EOS!$Y$5:$Y$14,vantHoff_EOS!$Z$5:$Z$14,vantHoff_EOS!$AE$5:$AN$14,$C$2,B10*1000000)","v":0.99973602597641531},{"$f":"Ky_NS_n0i_vi_X(vantHoff_EOS!$N$19,vantHoff_EOS!$O$31:$X$31,vantHoff_EOS!$O$23:$X$23,G10)","v":3780844796112.1899},{"$f":"Kp_NS_vi_PinPa(vantHoff_EOS!$N$19,vantHoff_EOS!$O$23:$X$23,B10*1000000)","v":1.1814744801512297E-4},{"$f":"Kphi_NS_n0i_vi_X_Tci_Pci_wi_kijm_TinC_PinPa(vantHoff_EOS!$N$19,vantHoff_EOS!$O$31:$X$31,vantHoff_EOS!$O$23:$X$23,G10,vantHoff_EOS!$X$5:$X$14,vantHoff_EOS!$Y$5:$Y$14,vantHoff_EOS!$Z$5:$Z$14,vantHoff_EOS!$AE$5:$AN$14,$C$2,B10*1000000)","v":1.054322261284544E-3},28.960968591624614,-9.0435771540980792,-6.8548571248508505,{"$f":"nT_NS_n0i_vi_X(vantHoff_EOS!$N$19,vantHoff_EOS!$O$31:$X$31,vantHoff_EOS!$O$23:$X$23,G10)","v":8.3405279480471695},{"$f":"IF(O$3<=vantHoff_EOS!$N$19,y_iindex_NS_n0i_vi_X(O$3,vantHoff_EOS!$N$19,vantHoff_EOS!$O$31:$X$31,vantHoff_EOS!$O$23:$X$23,$G10),\"-\")","v":3.1649558065025867E-5},{"$f":"IF(P$3<=vantHoff_EOS!$N$19,y_iindex_NS_n0i_vi_X(P$3,vantHoff_EOS!$N$19,vantHoff_EOS!$O$31:$X$31,vantHoff_EOS!$O$23:$X$23,$G10),\"-\")","v":3.1649558065025867E-5},{"$f":"IF(Q$3<=vantHoff_EOS!$N$19,y_iindex_NS_n0i_vi_X(Q$3,vantHoff_EOS!$N$19,vantHoff_EOS!$O$31:$X$31,vantHoff_EOS!$O$23:$X$23,$G10),\"-\")","v":3.1649558065025867E-5},{"$f":"IF(R$3<=vantHoff_EOS!$N$19,y_iindex_NS_n0i_vi_X(R$3,vantHoff_EOS!$N$19,vantHoff_EOS!$O$31:$X$31,vantHoff_EOS!$O$23:$X$23,$G10),\"-\")","v":0.11986483735846615},{"$f":"IF(S$3<=vantHoff_EOS!$N$19,y_iindex_NS_n0i_vi_X(S$3,vantHoff_EOS!$N$19,vantHoff_EOS!$O$31:$X$31,vantHoff_EOS!$O$23:$X$23,$G10),\"-\")","v":0.88004021396733878},{"$f":"IF(T$3<=vantHoff_EOS!$N$19,y_iindex_NS_n0i_vi_X(T$3,vantHoff_EOS!$N$19,vantHoff_EOS!$O$31:$X$31,vantHoff_EOS!$O$23:$X$23,$G10),\"-\")","v":"-"},{"$f":"IF(U$3<=vantHoff_EOS!$N$19,y_iindex_NS_n0i_vi_X(U$3,vantHoff_EOS!$N$19,vantHoff_EOS!$O$31:$X$31,vantHoff_EOS!$O$23:$X$23,$G10),\"-\")","v":"-"},{"$f":"IF(V$3<=vantHoff_EOS!$N$19,y_iindex_NS_n0i_vi_X(V$3,vantHoff_EOS!$N$19,vantHoff_EOS!$O$31:$X$31,vantHoff_EOS!$O$23:$X$23,$G10),\"-\")","v":"-"},{"$f":"IF(W$3<=vantHoff_EOS!$N$19,y_iindex_NS_n0i_vi_X(W$3,vantHoff_EOS!$N$19,vantHoff_EOS!$O$31:$X$31,vantHoff_EOS!$O$23:$X$23,$G10),\"-\")","v":"-"},{"$f":"IF(X$3<=vantHoff_EOS!$N$19,y_iindex_NS_n0i_vi_X(X$3,vantHoff_EOS!$N$19,vantHoff_EOS!$O$31:$X$31,vantHoff_EOS!$O$23:$X$23,$G10),\"-\")","v":"-"},1,{"$f":"IF(Z$3<=vantHoff_EOS!$N$19,Phi_i_NS_Tci_Pci_wi_kijm_TinC_PinPa_yi(Z$3,vantHoff_EOS!$N$19,vantHoff_EOS!$X$5:$X$14,vantHoff_EOS!$Y$5:$Y$14,vantHoff_EOS!$Z$5:$Z$14,vantHoff_EOS!$AE$5:$AN$14,$C$2,B10*1000000,$O10:$X10),\"-\")","v":4.7523853899248287},{"$f":"IF(AA$3<=vantHoff_EOS!$N$19,Phi_i_NS_Tci_Pci_wi_kijm_TinC_PinPa_yi(AA$3,vantHoff_EOS!$N$19,vantHoff_EOS!$X$5:$X$14,vantHoff_EOS!$Y$5:$Y$14,vantHoff_EOS!$Z$5:$Z$14,vantHoff_EOS!$AE$5:$AN$14,$C$2,B10*1000000,$O10:$X10),\"-\")","v":7.7539963543946193},{"$f":"IF(AB$3<=vantHoff_EOS!$N$19,Phi_i_NS_Tci_Pci_wi_kijm_TinC_PinPa_yi(AB$3,vantHoff_EOS!$N$19,vantHoff_EOS!$X$5:$X$14,vantHoff_EOS!$Y$5:$Y$14,vantHoff_EOS!$Z$5:$Z$14,vantHoff_EOS!$AE$5:$AN$14,$C$2,B10*1000000,$O10:$X10),\"-\")","v":0.20758169388355321},{"$f":"IF(AC$3<=vantHoff_EOS!$N$19,Phi_i_NS_Tci_Pci_wi_kijm_TinC_PinPa_yi(AC$3,vantHoff_EOS!$N$19,vantHoff_EOS!$X$5:$X$14,vantHoff_EOS!$Y$5:$Y$14,vantHoff_EOS!$Z$5:$Z$14,vantHoff_EOS!$AE$5:$AN$14,$C$2,B10*1000000,$O10:$X10),\"-\")","v":8.0649127344288047E-3},{"$f":"IF(AD$3<=vantHoff_EOS!$N$19,Phi_i_NS_Tci_Pci_wi_kijm_TinC_PinPa_yi(AD$3,vantHoff_EOS!$N$19,vantHoff_EOS!$X$5:$X$14,vantHoff_EOS!$Y$5:$Y$14,vantHoff_EOS!$Z$5:$Z$14,vantHoff_EOS!$AE$5:$AN$14,$C$2,B10*1000000,$O10:$X10),\"-\")","v":0.67901554482366111},{"$f":"IF(AE$3<=vantHoff_EOS!$N$19,Phi_i_NS_Tci_Pci_wi_kijm_TinC_PinPa_yi(AE$3,vantHoff_EOS!$N$19,vantHoff_EOS!$X$5:$X$14,vantHoff_EOS!$Y$5:$Y$14,vantHoff_EOS!$Z$5:$Z$14,vantHoff_EOS!$AE$5:$AN$14,$C$2,B10*1000000,$O10:$X10),\"-\")","v":"-"},{"$f":"IF(AF$3<=vantHoff_EOS!$N$19,Phi_i_NS_Tci_Pci_wi_kijm_TinC_PinPa_yi(AF$3,vantHoff_EOS!$N$19,vantHoff_EOS!$X$5:$X$14,vantHoff_EOS!$Y$5:$Y$14,vantHoff_EOS!$Z$5:$Z$14,vantHoff_EOS!$AE$5:$AN$14,$C$2,B10*1000000,$O10:$X10),\"-\")","v":"-"},{"$f":"IF(AG$3<=vantHoff_EOS!$N$19,Phi_i_NS_Tci_Pci_wi_kijm_TinC_PinPa_yi(AG$3,vantHoff_EOS!$N$19,vantHoff_EOS!$X$5:$X$14,vantHoff_EOS!$Y$5:$Y$14,vantHoff_EOS!$Z$5:$Z$14,vantHoff_EOS!$AE$5:$AN$14,$C$2,B10*1000000,$O10:$X10),\"-\")","v":"-"},{"$f":"IF(AH$3<=vantHoff_EOS!$N$19,Phi_i_NS_Tci_Pci_wi_kijm_TinC_PinPa_yi(AH$3,vantHoff_EOS!$N$19,vantHoff_EOS!$X$5:$X$14,vantHoff_EOS!$Y$5:$Y$14,vantHoff_EOS!$Z$5:$Z$14,vantHoff_EOS!$AE$5:$AN$14,$C$2,B10*1000000,$O10:$X10),\"-\")","v":"-"},{"$f":"IF(AI$3<=vantHoff_EOS!$N$19,Phi_i_NS_Tci_Pci_wi_kijm_TinC_PinPa_yi(AI$3,vantHoff_EOS!$N$19,vantHoff_EOS!$X$5:$X$14,vantHoff_EOS!$Y$5:$Y$14,vantHoff_EOS!$Z$5:$Z$14,vantHoff_EOS!$AE$5:$AN$14,$C$2,B10*1000000,$O10:$X10),\"-\")","v":"-"}]
[8,{"$f":"B10+vantHoff_EOS!$E$26","v":9.399999999999995},320.14999999999998,3.1235358425737939E-3,{"$f":"lnKaT_Tref_lnKaTref_dHTref_da_db_dc_dd_de_TinC(vantHoff_EOS!$E$7,vantHoff_EOS!$B$9,vantHoff_EOS!$B$6,vantHoff_EOS!$O$27,vantHoff_EOS!$P$27,vantHoff_EOS!$Q$27,vantHoff_EOS!$R$27,vantHoff_EOS!$S$27,$C$2)","v":13.062534312676297},470962.76406017854,{"$f":"MolarExtentX_NS_vi_n0i_dHfi_dGfi_TrefinC_da_db_dc_dd_de_Tci_Pci_wi_kijm_TinC_PinPa(vantHoff_EOS!$N$19,vantHoff_EOS!$O$23:$X$23,vantHoff_EOS!$O$31:$X$31,vantHoff_EOS!$T$5:$T$14,vantHoff_EOS!$U$5:$U$14,vantHoff_EOS!$E$7,vantHoff_EOS!$O$27,vantHoff_EOS!$P$27,vantHoff_EOS!$Q$27,vantHoff_EOS!$R$27,vantHoff_EOS!$S$27,vantHoff_EOS!$X$5:$X$14,vantHoff_EOS!$Y$5:$Y$14,vantHoff_EOS!$Z$5:$Z$14,vantHoff_EOS!$AE$5:$AN$14,$C$2,B11*1000000)","v":0.9997382815652025},{"$f":"Ky_NS_n0i_vi_X(vantHoff_EOS!$N$19,vantHoff_EOS!$O$31:$X$31,vantHoff_EOS!$O$23:$X$23,G11)","v":3879448521486.7856},{"$f":"Kp_NS_vi_PinPa(vantHoff_EOS!$N$19,vantHoff_EOS!$O$23:$X$23,B11*1000000)","v":1.1317338162064297E-4},{"$f":"Kphi_NS_n0i_vi_X_Tci_Pci_wi_kijm_TinC_PinPa(vantHoff_EOS!$N$19,vantHoff_EOS!$O$31:$X$31,vantHoff_EOS!$O$23:$X$23,G11,vantHoff_EOS!$X$5:$X$14,vantHoff_EOS!$Y$5:$Y$14,vantHoff_EOS!$Z$5:$Z$14,vantHoff_EOS!$AE$5:$AN$14,$C$2,B11*1000000)","v":1.0726851922859694E-3},28.98671412582436,-9.0865895645400059,-6.8375902486083371,{"$f":"nT_NS_n0i_vi_X(vantHoff_EOS!$N$19,vantHoff_EOS!$O$31:$X$31,vantHoff_EOS!$O$23:$X$23,G11)","v":8.3405234368695957},{"$f":"IF(O$3<=vantHoff_EOS!$N$19,y_iindex_NS_n0i_vi_X(O$3,vantHoff_EOS!$N$19,vantHoff_EOS!$O$31:$X$31,vantHoff_EOS!$O$23:$X$23,$G11),\"-\")","v":3.1379137865683773E-5},{"$f":"IF(P$3<=vantHoff_EOS!$N$19,y_iindex_NS_n0i_vi_X(P$3,vantHoff_EOS!$N$19,vantHoff_EOS!$O$31:$X$31,vantHoff_EOS!$O$23:$X$23,$G11),\"-\")","v":3.1379137865683773E-5},{"$f":"IF(Q$3<=vantHoff_EOS!$N$19,y_iindex_NS_n0i_vi_X(Q$3,vantHoff_EOS!$N$19,vantHoff_EOS!$O$31:$X$31,vantHoff_EOS!$O$23:$X$23,$G11),\"-\")","v":3.1379137865683773E-5},{"$f":"IF(R$3<=vantHoff_EOS!$N$19,y_iindex_NS_n0i_vi_X(R$3,vantHoff_EOS!$N$19,vantHoff_EOS!$O$31:$X$31,vantHoff_EOS!$O$23:$X$23,$G11),\"-\")","v":0.11986517262763415},{"$f":"IF(S$3<=vantHoff_EOS!$N$19,y_iindex_NS_n0i_vi_X(S$3,vantHoff_EOS!$N$19,vantHoff_EOS!$O$31:$X$31,vantHoff_EOS!$O$23:$X$23,$G11),\"-\")","v":0.88004068995876872},{"$f":"IF(T$3<=vantHoff_EOS!$N$19,y_iindex_NS_n0i_vi_X(T$3,vantHoff_EOS!$N$19,vantHoff_EOS!$O$31:$X$31,vantHoff_EOS!$O$23:$X$23,$G11),\"-\")","v":"-"},{"$f":"IF(U$3<=vantHoff_EOS!$N$19,y_iindex_NS_n0i_vi_X(U$3,vantHoff_EOS!$N$19,vantHoff_EOS!$O$31:$X$31,vantHoff_EOS!$O$23:$X$23,$G11),\"-\")","v":"-"},{"$f":"IF(V$3<=vantHoff_EOS!$N$19,y_iindex_NS_n0i_vi_X(V$3,vantHoff_EOS!$N$19,vantHoff_EOS!$O$31:$X$31,vantHoff_EOS!$O$23:$X$23,$G11),\"-\")","v":"-"},{"$f":"IF(W$3<=vantHoff_EOS!$N$19,y_iindex_NS_n0i_vi_X(W$3,vantHoff_EOS!$N$19,vantHoff_EOS!$O$31:$X$31,vantHoff_EOS!$O$23:$X$23,$G11),\"-\")","v":"-"},{"$f":"IF(X$3<=vantHoff_EOS!$N$19,y_iindex_NS_n0i_vi_X(X$3,vantHoff_EOS!$N$19,vantHoff_EOS!$O$31:$X$31,vantHoff_EOS!$O$23:$X$23,$G11),\"-\")","v":"-"},0.99999999999999989,{"$f":"IF(Z$3<=vantHoff_EOS!$N$19,Phi_i_NS_Tci_Pci_wi_kijm_TinC_PinPa_yi(Z$3,vantHoff_EOS!$N$19,vantHoff_EOS!$X$5:$X$14,vantHoff_EOS!$Y$5:$Y$14,vantHoff_EOS!$Z$5:$Z$14,vantHoff_EOS!$AE$5:$AN$14,$C$2,B11*1000000,$O11:$X11),\"-\")","v":4.7024195722323494},{"$f":"IF(AA$3<=vantHoff_EOS!$N$19,Phi_i_NS_Tci_Pci_wi_kijm_TinC_PinPa_yi(AA$3,vantHoff_EOS!$N$19,vantHoff_EOS!$X$5:$X$14,vantHoff_EOS!$Y$5:$Y$14,vantHoff_EOS!$Z$5:$Z$14,vantHoff_EOS!$AE$5:$AN$14,$C$2,B11*1000000,$O11:$X11),\"-\")","v":7.6723943290493271},{"$f":"IF(AB$3<=vantHoff_EOS!$N$19,Phi_i_NS_Tci_Pci_wi_kijm_TinC_PinPa_yi(AB$3,vantHoff_EOS!$N$19,vantHoff_EOS!$X$5:$X$14,vantHoff_EOS!$Y$5:$Y$14,vantHoff_EOS!$Z$5:$Z$14,vantHoff_EOS!$AE$5:$AN$14,$C$2,B11*1000000,$O11:$X11),\"-\")","v":0.2044008892411677},{"$f":"IF(AC$3<=vantHoff_EOS!$N$19,Phi_i_NS_Tci_Pci_wi_kijm_TinC_PinPa_yi(AC$3,vantHoff_EOS!$N$19,vantHoff_EOS!$X$5:$X$14,vantHoff_EOS!$Y$5:$Y$14,vantHoff_EOS!$Z$5:$Z$14,vantHoff_EOS!$AE$5:$AN$14,$C$2,B11*1000000,$O11:$X11),\"-\")","v":7.910562357780742E-3},{"$f":"IF(AD$3<=vantHoff_EOS!$N$19,Phi_i_NS_Tci_Pci_wi_kijm_TinC_PinPa_yi(AD$3,vantHoff_EOS!$N$19,vantHoff_EOS!$X$5:$X$14,vantHoff_EOS!$Y$5:$Y$14,vantHoff_EOS!$Z$5:$Z$14,vantHoff_EOS!$AE$5:$AN$14,$C$2,B11*1000000,$O11:$X11),\"-\")","v":0.66801419537245421},{"$f":"IF(AE$3<=vantHoff_EOS!$N$19,Phi_i_NS_Tci_Pci_wi_kijm_TinC_PinPa_yi(AE$3,vantHoff_EOS!$N$19,vantHoff_EOS!$X$5:$X$14,vantHoff_EOS!$Y$5:$Y$14,vantHoff_EOS!$Z$5:$Z$14,vantHoff_EOS!$AE$5:$AN$14,$C$2,B11*1000000,$O11:$X11),\"-\")","v":"-"},{"$f":"IF(AF$3<=vantHoff_EOS!$N$19,Phi_i_NS_Tci_Pci_wi_kijm_TinC_PinPa_yi(AF$3,vantHoff_EOS!$N$19,vantHoff_EOS!$X$5:$X$14,vantHoff_EOS!$Y$5:$Y$14,vantHoff_EOS!$Z$5:$Z$14,vantHoff_EOS!$AE$5:$AN$14,$C$2,B11*1000000,$O11:$X11),\"-\")","v":"-"},{"$f":"IF(AG$3<=vantHoff_EOS!$N$19,Phi_i_NS_Tci_Pci_wi_kijm_TinC_PinPa_yi(AG$3,vantHoff_EOS!$N$19,vantHoff_EOS!$X$5:$X$14,vantHoff_EOS!$Y$5:$Y$14,vantHoff_EOS!$Z$5:$Z$14,vantHoff_EOS!$AE$5:$AN$14,$C$2,B11*1000000,$O11:$X11),\"-\")","v":"-"},{"$f":"IF(AH$3<=vantHoff_EOS!$N$19,Phi_i_NS_Tci_Pci_wi_kijm_TinC_PinPa_yi(AH$3,vantHoff_EOS!$N$19,vantHoff_EOS!$X$5:$X$14,vantHoff_EOS!$Y$5:$Y$14,vantHoff_EOS!$Z$5:$Z$14,vantHoff_EOS!$AE$5:$AN$14,$C$2,B11*1000000,$O11:$X11),\"-\")","v":"-"},{"$f":"IF(AI$3<=vantHoff_EOS!$N$19,Phi_i_NS_Tci_Pci_wi_kijm_TinC_PinPa_yi(AI$3,vantHoff_EOS!$N$19,vantHoff_EOS!$X$5:$X$14,vantHoff_EOS!$Y$5:$Y$14,vantHoff_EOS!$Z$5:$Z$14,vantHoff_EOS!$AE$5:$AN$14,$C$2,B11*1000000,$O11:$X11),\"-\")","v":"-"}]
[9,{"$f":"B11+vantHoff_EOS!$E$26","v":9.5999999999999943},320.14999999999998,3.1235358425737939E-3,{"$f":"lnKaT_Tref_lnKaTref_dHTref_da_db_dc_dd_de_TinC(vantHoff_EOS!$E$7,vantHoff_EOS!$B$9,vantHoff_EOS!$B$6,vantHoff_EOS!$O$27,vantHoff_EOS!$P$27,vantHoff_EOS!$Q$27,vantHoff_EOS!$R$27,vantHoff_EOS!$S$27,$C$2)","v":13.062534312676297},470962.76406017854,{"$f":"MolarExtentX_NS_vi_n0i_dHfi_dGfi_TrefinC_da_db_dc_dd_de_Tci_Pci_wi_kijm_TinC_PinPa(vantHoff_EOS!$N$19,vantHoff_EOS!$O$23:$X$23,vantHoff_EOS!$O$31:$X$31,vantHoff_EOS!$T$5:$T$14,vantHoff_EOS!$U$5:$U$14,vantHoff_EOS!$E$7,vantHoff_EOS!$O$27,vantHoff_EOS!$P$27,vantHoff_EOS!$Q$27,vantHoff_EOS!$R$27,vantHoff_EOS!$S$27,vantHoff_EOS!$X$5:$X$14,vantHoff_EOS!$Y$5:$Y$14,vantHoff_EOS!$Z$5:$Z$14,vantHoff_EOS!$AE$5:$AN$14,$C$2,B12*1000000)","v":0.99974046645930315},{"$f":"Ky_NS_n0i_vi_X(vantHoff_EOS!$N$19,vantHoff_EOS!$O$31:$X$31,vantHoff_EOS!$O$23:$X$23,G12)","v":3978258097875.062},{"$f":"Kp_NS_vi_PinPa(vantHoff_EOS!$N$19,vantHoff_EOS!$O$23:$X$23,B12*1000000)","v":1.0850694444444457E-4},{"$f":"Kphi_NS_n0i_vi_X_Tci_Pci_wi_kijm_TinC_PinPa(vantHoff_EOS!$N$19,vantHoff_EOS!$O$31:$X$31,vantHoff_EOS!$O$23:$X$23,G12,vantHoff_EOS!$X$5:$X$14,vantHoff_EOS!$Y$5:$Y$14,vantHoff_EOS!$Z$5:$Z$14,vantHoff_EOS!$AE$5:$AN$14,$C$2,B12*1000000)","v":1.0910284669308258E-3},29.011865175571632,-9.1286963829356704,-6.8206344799593923,{"$f":"nT_NS_n0i_vi_X(vantHoff_EOS!$N$19,vantHoff_EOS!$O$31:$X$31,vantHoff_EOS!$O$23:$X$23,G12)","v":8.3405190670813933},{"$f":"IF(O$3<=vantHoff_EOS!$N$19,y_iindex_NS_n0i_vi_X(O$3,vantHoff_EOS!$N$19,vantHoff_EOS!$O$31:$X$31,vantHoff_EOS!$O$23:$X$23,$G12),\"-\")","v":3.1117192900042552E-5},{"$f":"IF(P$3<=vantHoff_EOS!$N$19,y_iindex_NS_n0i_vi_X(P$3,vantHoff_EOS!$N$19,vantHoff_EOS!$O$31:$X$31,vantHoff_EOS!$O$23:$X$23,$G12),\"-\")","v":3.1117192900042552E-5},{"$f":"IF(Q$3<=vantHoff_EOS!$N$19,y_iindex_NS_n0i_vi_X(Q$3,vantHoff_EOS!$N$19,vantHoff_EOS!$O$31:$X$31,vantHoff_EOS!$O$23:$X$23,$G12),\"-\")","v":3.1117192900042552E-5},{"$f":"IF(R$3<=vantHoff_EOS!$N$19,y_iindex_NS_n0i_vi_X(R$3,vantHoff_EOS!$N$19,vantHoff_EOS!$O$31:$X$31,vantHoff_EOS!$O$23:$X$23,$G12),\"-\")","v":0.11986549738913832},{"$f":"IF(S$3<=vantHoff_EOS!$N$19,y_iindex_NS_n0i_vi_X(S$3,vantHoff_EOS!$N$19,vantHoff_EOS!$O$31:$X$31,vantHoff_EOS!$O$23:$X$23,$G12),\"-\")","v":0.88004115103216163},{"$f":"IF(T$3<=vantHoff_EOS!$N$19,y_iindex_NS_n0i_vi_X(T$3,vantHoff_EOS!$N$19,vantHoff_EOS!$O$31:$X$31,vantHoff_EOS!$O$23:$X$23,$G12),\"-\")","v":"-"},{"$f":"IF(U$3<=vantHoff_EOS!$N$19,y_iindex_NS_n0i_vi_X(U$3,vantHoff_EOS!$N$19,vantHoff_EOS!$O$31:$X$31,vantHoff_EOS!$O$23:$X$23,$G12),\"-\")","v":"-"},{"$f":"IF(V$3<=vantHoff_EOS!$N$19,y_iindex_NS_n0i_vi_X(V$3,vantHoff_EOS!$N$19,vantHoff_EOS!$O$31:$X$31,vantHoff_EOS!$O$23:$X$23,$G12),\"-\")","v":"-"},{"$f":"IF(W$3<=vantHoff_EOS!$N$19,y_iindex_NS_n0i_vi_X(W$3,vantHoff_EOS!$N$19,vantHoff_EOS!$O$31:$X$31,vantHoff_EOS!$O$23:$X$23,$G12),\"-\")","v":"-"},{"$f":"IF(X$3<=vantHoff_EOS!$N$19,y_iindex_NS_n0i_vi_X(X$3,vantHoff_EOS!$N$19,vantHoff_EOS!$O$31:$X$31,vantHoff_EOS!$O$23:$X$23,$G12),\"-\")","v":"-"},1,{"$f":"IF(Z$3<=vantHoff_EOS!$N$19,Phi_i_NS_Tci_Pci_wi_kijm_TinC_PinPa_yi(Z$3,vantHoff_EOS!$N$19,vantHoff_EOS!$X$5:$X$14,vantHoff_EOS!$Y$5:$Y$14,vantHoff_EOS!$Z$5:$Z$14,vantHoff_EOS!$AE$5:$AN$14,$C$2,B12*1000000,$O12:$X12),\"-\")","v":4.6541808811444803},{"$f":"IF(AA$3<=vantHoff_EOS!$N$19,Phi_i_NS_Tci_Pci_wi_kijm_TinC_PinPa_yi(AA$3,vantHoff_EOS!$N$19,vantHoff_EOS!$X$5:$X$14,vantHoff_EOS!$Y$5:$Y$14,vantHoff_EOS!$Z$5:$Z$14,vantHoff_EOS!$AE$5:$AN$14,$C$2,B12*1000000,$O12:$X12),\"-\")","v":7.5934510949222132},{"$f":"IF(AB$3<=vantHoff_EOS!$N$19,Phi_i_NS_Tci_Pci_wi_kijm_TinC_PinPa_yi(AB$3,vantHoff_EOS!$N$19,vantHoff_EOS!$X$5:$X$14,vantHoff_EOS!$Y$5:$Y$14,vantHoff_EOS!$Z$5:$Z$14,vantHoff_EOS!$AE$5:$AN$14,$C$2,B12*1000000,$O12:$X12),\"-\")","v":0.20135908257155152},{"$f":"IF(AC$3<=vantHoff_EOS!$N$19,Phi_i_NS_Tci_Pci_wi_kijm_TinC_PinPa_yi(AC$3,vantHoff_EOS!$N$19,vantHoff_EOS!$X$5:$X$14,vantHoff_EOS!$Y$5:$Y$14,vantHoff_EOS!$Z$5:$Z$14,vantHoff_EOS!$AE$5:$AN$14,$C$2,B12*1000000,$O12:$X12),\"-\")","v":7.7640757539780385E-3},{"$f":"IF(AD$3<=vantHoff_EOS!$N$19,Phi_i_NS_Tci_Pci_wi_kijm_TinC_PinPa_yi(AD$3,vantHoff_EOS!$N$19,vantHoff_EOS!$X$5:$X$14,vantHoff_EOS!$Y$5:$Y$14,vantHoff_EOS!$Z$5:$Z$14,vantHoff_EOS!$AE$5:$AN$14,$C$2,B12*1000000,$O12:$X12),\"-\")","v":0.65745842519622133},{"$f":"IF(AE$3<=vantHoff_EOS!$N$19,Phi_i_NS_Tci_Pci_wi_kijm_TinC_PinPa_yi(AE$3,vantHoff_EOS!$N$19,vantHoff_EOS!$X$5:$X$14,vantHoff_EOS!$Y$5:$Y$14,vantHoff_EOS!$Z$5:$Z$14,vantHoff_EOS!$AE$5:$AN$14,$C$2,B12*1000000,$O12:$X12),\"-\")","v":"-"},{"$f":"IF(AF$3<=vantHoff_EOS!$N$19,Phi_i_NS_Tci_Pci_wi_kijm_TinC_PinPa_yi(AF$3,vantHoff_EOS!$N$19,vantHoff_EOS!$X$5:$X$14,vantHoff_EOS!$Y$5:$Y$14,vantHoff_EOS!$Z$5:$Z$14,vantHoff_EOS!$AE$5:$AN$14,$C$2,B12*1000000,$O12:$X12),\"-\")","v":"-"},{"$f":"IF(AG$3<=vantHoff_EOS!$N$19,Phi_i_NS_Tci_Pci_wi_kijm_TinC_PinPa_yi(AG$3,vantHoff_EOS!$N$19,vantHoff_EOS!$X$5:$X$14,vantHoff_EOS!$Y$5:$Y$14,vantHoff_EOS!$Z$5:$Z$14,vantHoff_EOS!$AE$5:$AN$14,$C$2,B12*1000000,$O12:$X12),\"-\")","v":"-"},{"$f":"IF(AH$3<=vantHoff_EOS!$N$19,Phi_i_NS_Tci_Pci_wi_kijm_TinC_PinPa_yi(AH$3,vantHoff_EOS!$N$19,vantHoff_EOS!$X$5:$X$14,vantHoff_EOS!$Y$5:$Y$14,vantHoff_EOS!$Z$5:$Z$14,vantHoff_EOS!$AE$5:$AN$14,$C$2,B12*1000000,$O12:$X12),\"-\")","v":"-"},{"$f":"IF(AI$3<=vantHoff_EOS!$N$19,Phi_i_NS_Tci_Pci_wi_kijm_TinC_PinPa_yi(AI$3,vantHoff_EOS!$N$19,vantHoff_EOS!$X$5:$X$14,vantHoff_EOS!$Y$5:$Y$14,vantHoff_EOS!$Z$5:$Z$14,vantHoff_EOS!$AE$5:$AN$14,$C$2,B12*1000000,$O12:$X12),\"-\")","v":"-"}]
[10,{"$f":"B12+vantHoff_EOS!$E$26","v":9.7999999999999936},320.14999999999998,3.1235358425737939E-3,{"$f":"lnKaT_Tref_lnKaTref_dHTref_da_db_dc_dd_de_TinC(vantHoff_EOS!$E$7,vantHoff_EOS!$B$9,vantHoff_EOS!$B$6,vantHoff_EOS!$O$27,vantHoff_EOS!$P$27,vantHoff_EOS!$Q$27,vantHoff_EOS!$R$27,vantHoff_EOS!$S$27,$C$2)","v":13.062534312676297},470962.76406017854,{"$f":"MolarExtentX_NS_vi_n0i_dHfi_dGfi_TrefinC_da_db_dc_dd_de_Tci_Pci_wi_kijm_TinC_PinPa(vantHoff_EOS!$N$19,vantHoff_EOS!$O$23:$X$23,vantHoff_EOS!$O$31:$X$31,vantHoff_EOS!$T$5:$T$14,vantHoff_EOS!$U$5:$U$14,vantHoff_EOS!$E$7,vantHoff_EOS!$O$27,vantHoff_EOS!$P$27,vantHoff_EOS!$Q$27,vantHoff_EOS!$R$27,vantHoff_EOS!$S$27,vantHoff_EOS!$X$5:$X$14,vantHoff_EOS!$Y$5:$Y$14,vantHoff_EOS!$Z$5:$Z$14,vantHoff_EOS!$AE$5:$AN$14,$C$2,B13*1000000)","v":0.99974258483298994},{"$f":"Ky_NS_n0i_vi_X(vantHoff_EOS!$N$19,vantHoff_EOS!$O$31:$X$31,vantHoff_EOS!$O$23:$X$23,G13)","v":4077289164583.1362},{"$f":"Kp_NS_vi_PinPa(vantHoff_EOS!$N$19,vantHoff_EOS!$O$23:$X$23,B13*1000000)","v":1.0412328196584769E-4},{"$f":"Kphi_NS_n0i_vi_X_Tci_Pci_wi_kijm_TinC_PinPa(vantHoff_EOS!$N$19,vantHoff_EOS!$O$31:$X$31,vantHoff_EOS!$O$23:$X$23,G13,vantHoff_EOS!$X$5:$X$14,vantHoff_EOS!$Y$5:$Y$14,vantHoff_EOS!$Z$5:$Z$14,vantHoff_EOS!$AE$5:$AN$14,$C$2,B13*1000000)","v":1.109346480824325E-3},29.036453463074224,-9.1699349573411428,-6.8039841930568956,{"$f":"nT_NS_n0i_vi_X(vantHoff_EOS!$N$19,vantHoff_EOS!$O$31:$X$31,vantHoff_EOS!$O$23:$X$23,G13)","v":8.3405148303340191},{"$f":"IF(O$3<=vantHoff_EOS!$N$19,y_iindex_NS_n0i_vi_X(O$3,vantHoff_EOS!$N$19,vantHoff_EOS!$O$31:$X$31,vantHoff_EOS!$O$23:$X$23,$G13),\"-\")","v":3.0863222744218367E-5},{"$f":"IF(P$3<=vantHoff_EOS!$N$19,y_iindex_NS_n0i_vi_X(P$3,vantHoff_EOS!$N$19,vantHoff_EOS!$O$31:$X$31,vantHoff_EOS!$O$23:$X$23,$G13),\"-\")","v":3.0863222744218367E-5},{"$f":"IF(Q$3<=vantHoff_EOS!$N$19,y_iindex_NS_n0i_vi_X(Q$3,vantHoff_EOS!$N$19,vantHoff_EOS!$O$31:$X$31,vantHoff_EOS!$O$23:$X$23,$G13),\"-\")","v":3.0863222744218367E-5},{"$f":"IF(R$3<=vantHoff_EOS!$N$19,y_iindex_NS_n0i_vi_X(R$3,vantHoff_EOS!$N$19,vantHoff_EOS!$O$31:$X$31,vantHoff_EOS!$O$23:$X$23,$G13),\"-\")","v":0.11986581226340826},{"$f":"IF(S$3<=vantHoff_EOS!$N$19,y_iindex_NS_n0i_vi_X(S$3,vantHoff_EOS!$N$19,vantHoff_EOS!$O$31:$X$31,vantHoff_EOS!$O$23:$X$23,$G13),\"-\")","v":0.88004159806835924},{"$f":"IF(T$3<=vantHoff_EOS!$N$19,y_iindex_NS_n0i_vi_X(T$3,vantHoff_EOS!$N$19,vantHoff_EOS!$O$31:$X$31,vantHoff_EOS!$O$23:$X$23,$G13),\"-\")","v":"-"},{"$f":"IF(U$3<=vantHoff_EOS!$N$19,y_iindex_NS_n0i_vi_X(U$3,vantHoff_EOS!$N$19,vantHoff_EOS!$O$31:$X$31,vantHoff_EOS!$O$23:$X$23,$G13),\"-\")","v":"-"},{"$f":"IF(V$3<=vantHoff_EOS!$N$19,y_iindex_NS_n0i_vi_X(V$3,vantHoff_EOS!$N$19,vantHoff_EOS!$O$31:$X$31,vantHoff_EOS!$O$23:$X$23,$G13),\"-\")","v":"-"},{"$f":"IF(W$3<=vantHoff_EOS!$N$19,y_iindex_NS_n0i_vi_X(W$3,vantHoff_EOS!$N$19,vantHoff_EOS!$O$31:$X$31,vantHoff_EOS!$O$23:$X$23,$G13),\"-\")","v":"-"},{"$f":"IF(X$3<=vantHoff_EOS!$N$19,y_iindex_NS_n0i_vi_X(X$3,vantHoff_EOS!$N$19,vantHoff_EOS!$O$31:$X$31,vantHoff_EOS!$O$23:$X$23,$G13),\"-\")","v":"-"},1.0000000000000002,{"$f":"IF(Z$3<=vantHoff_EOS!$N$19,Phi_i_NS_Tci_Pci_wi_kijm_TinC_PinPa_yi(Z$3,vantHoff_EOS!$N$19,vantHoff_EOS!$X$5:$X$14,vantHoff_EOS!$Y$5:$Y$14,vantHoff_EOS!$Z$5:$Z$14,vantHoff_EOS!$AE$5:$AN$14,$C$2,B13*1000000,$O13:$X13),\"-\")","v":4.6075872654239847},{"$f":"IF(AA$3<=vantHoff_EOS!$N$19,Phi_i_NS_Tci_Pci_wi_kijm_TinC_PinPa_yi(AA$3,vantHoff_EOS!$N$19,vantHoff_EOS!$X$5:$X$14,vantHoff_EOS!$Y$5:$Y$14,vantHoff_EOS!$Z$5:$Z$14,vantHoff_EOS!$AE$5:$AN$14,$C$2,B13*1000000,$O13:$X13),\"-\")","v":7.517046871322866},{"$f":"IF(AB$3<=vantHoff_EOS!$N$19,Phi_i_NS_Tci_Pci_wi_kijm_TinC_PinPa_yi(AB$3,vantHoff_EOS!$N$19,vantHoff_EOS!$X$5:$X$14,vantHoff_EOS!$Y$5:$Y$14,vantHoff_EOS!$Z$5:$Z$14,vantHoff_EOS!$AE$5:$AN$14,$C$2,B13*1000000,$O13:$X13),\"-\")","v":0.19844770763342351},{"$f":"IF(AC$3<=vantHoff_EOS!$N$19,Phi_i_NS_Tci_Pci_wi_kijm_TinC_PinPa_yi(AC$3,vantHoff_EOS!$N$19,vantHoff_EOS!$X$5:$X$14,vantHoff_EOS!$Y$5:$Y$14,vantHoff_EOS!$Z$5:$Z$14,vantHoff_EOS!$AE$5:$AN$14,$C$2,B13*1000000,$O13:$X13),\"-\")","v":7.6248995035801135E-3},{"$f":"IF(AD$3<=vantHoff_EOS!$N$19,Phi_i_NS_Tci_Pci_wi_kijm_TinC_PinPa_yi(AD$3,vantHoff_EOS!$N$19,vantHoff_EOS!$X$5:$X$14,vantHoff_EOS!$Y$5:$Y$14,vantHoff_EOS!$Z$5:$Z$14,vantHoff_EOS!$AE$5:$AN$14,$C$2,B13*1000000,$O13:$X13),\"-\")","v":0.64732196319358182},{"$f":"IF(AE$3<=vantHoff_EOS!$N$19,Phi_i_NS_Tci_Pci_wi_kijm_TinC_PinPa_yi(AE$3,vantHoff_EOS!$N$19,vantHoff_EOS!$X$5:$X$14,vantHoff_EOS!$Y$5:$Y$14,vantHoff_EOS!$Z$5:$Z$14,vantHoff_EOS!$AE$5:$AN$14,$C$2,B13*1000000,$O13:$X13),\"-\")","v":"-"},{"$f":"IF(AF$3<=vantHoff_EOS!$N$19,Phi_i_NS_Tci_Pci_wi_kijm_TinC_PinPa_yi(AF$3,vantHoff_EOS!$N$19,vantHoff_EOS!$X$5:$X$14,vantHoff_EOS!$Y$5:$Y$14,vantHoff_EOS!$Z$5:$Z$14,vantHoff_EOS!$AE$5:$AN$14,$C$2,B13*1000000,$O13:$X13),\"-\")","v":"-"},{"$f":"IF(AG$3<=vantHoff_EOS!$N$19,Phi_i_NS_Tci_Pci_wi_kijm_TinC_PinPa_yi(AG$3,vantHoff_EOS!$N$19,vantHoff_EOS!$X$5:$X$14,vantHoff_EOS!$Y$5:$Y$14,vantHoff_EOS!$Z$5:$Z$14,vantHoff_EOS!$AE$5:$AN$14,$C$2,B13*1000000,$O13:$X13),\"-\")","v":"-"},{"$f":"IF(AH$3<=vantHoff_EOS!$N$19,Phi_i_NS_Tci_Pci_wi_kijm_TinC_PinPa_yi(AH$3,vantHoff_EOS!$N$19,vantHoff_EOS!$X$5:$X$14,vantHoff_EOS!$Y$5:$Y$14,vantHoff_EOS!$Z$5:$Z$14,vantHoff_EOS!$AE$5:$AN$14,$C$2,B13*1000000,$O13:$X13),\"-\")","v":"-"},{"$f":"IF(AI$3<=vantHoff_EOS!$N$19,Phi_i_NS_Tci_Pci_wi_kijm_TinC_PinPa_yi(AI$3,vantHoff_EOS!$N$19,vantHoff_EOS!$X$5:$X$14,vantHoff_EOS!$Y$5:$Y$14,vantHoff_EOS!$Z$5:$Z$14,vantHoff_EOS!$AE$5:$AN$14,$C$2,B13*1000000,$O13:$X13),\"-\")","v":"-"}]
[11,{"$f":"B13+vantHoff_EOS!$E$26","v":9.9999999999999929},320.14999999999998,3.1235358425737939E-3,{"$f":"lnKaT_Tref_lnKaTref_dHTref_da_db_dc_dd_de_TinC(vantHoff_EOS!$E$7,vantHoff_EOS!$B$9,vantHoff_EOS!$B$6,vantHoff_EOS!$O$27,vantHoff_EOS!$P$27,vantHoff_EOS!$Q$27,vantHoff_EOS!$R$27,vantHoff_EOS!$S$27,$C$2)","v":13.062534312676297},470962.76406017854,{"$f":"MolarExtentX_NS_vi_n0i_dHfi_dGfi_TrefinC_da_db_dc_dd_de_Tci_Pci_wi_kijm_TinC_PinPa(vantHoff_EOS!$N$19,vantHoff_EOS!$O$23:$X$23,vantHoff_EOS!$O$31:$X$31,vantHoff_EOS!$T$5:$T$14,vantHoff_EOS!$U$5:$U$14,vantHoff_EOS!$E$7,vantHoff_EOS!$O$27,vantHoff_EOS!$P$27,vantHoff_EOS!$Q$27,vantHoff_EOS!$R$27,vantHoff_EOS!$S$27,vantHoff_EOS!$X$5:$X$14,vantHoff_EOS!$Y$5:$Y$14,vantHoff_EOS!$Z$5:$Z$14,vantHoff_EOS!$AE$5:$AN$14,$C$2,B14*1000000)","v":0.99974464049848644},{"$f":"Ky_NS_n0i_vi_X(vantHoff_EOS!$N$19,vantHoff_EOS!$O$31:$X$31,vantHoff_EOS!$O$23:$X$23,G14)","v":4176555997683.2153},{"$f":"Kp_NS_vi_PinPa(vantHoff_EOS!$N$19,vantHoff_EOS!$O$23:$X$23,B14*1000000)","v":1.0000000000000014E-4},{"$f":"Kphi_NS_n0i_vi_X_Tci_Pci_wi_kijm_TinC_PinPa(vantHoff_EOS!$N$19,vantHoff_EOS!$O$31:$X$31,vantHoff_EOS!$O$23:$X$23,G14,vantHoff_EOS!$X$5:$X$14,vantHoff_EOS!$Y$5:$Y$14,vantHoff_EOS!$Z$5:$Z$14,vantHoff_EOS!$AE$5:$AN$14,$C$2,B14*1000000)","v":1.1276342621078525E-3},29.060508098854047,-9.2103403719761818,-6.7876334142020252,{"$f":"nT_NS_n0i_vi_X(vantHoff_EOS!$N$19,vantHoff_EOS!$O$31:$X$31,vantHoff_EOS!$O$23:$X$23,G14)","v":8.3405107190030279},{"$f":"IF(O$3<=vantHoff_EOS!$N$19,y_iindex_NS_n0i_vi_X(O$3,vantHoff_EOS!$N$19,vantHoff_EOS!$O$31:$X$31,vantHoff_EOS!$O$23:$X$23,$G14),\"-\")","v":3.0616770377352567E-5},{"$f":"IF(P$3<=vantHoff_EOS!$N$19,y_iindex_NS_n0i_vi_X(P$3,vantHoff_EOS!$N$19,vantHoff_EOS!$O$31:$X$31,vantHoff_EOS!$O$23:$X$23,$G14),\"-\")","v":3.0616770377352567E-5},{"$f":"IF(Q$3<=vantHoff_EOS!$N$19,y_iindex_NS_n0i_vi_X(Q$3,vantHoff_EOS!$N$19,vantHoff_EOS!$O$31:$X$31,vantHoff_EOS!$O$23:$X$23,$G14),\"-\")","v":3.0616770377352567E-5},{"$f":"IF(R$3<=vantHoff_EOS!$N$19,y_iindex_NS_n0i_vi_X(R$3,vantHoff_EOS!$N$19,vantHoff_EOS!$O$31:$X$31,vantHoff_EOS!$O$23:$X$23,$G14),\"-\")","v":0.11986611781706212},{"$f":"IF(S$3<=vantHoff_EOS!$N$19,y_iindex_NS_n0i_vi_X(S$3,vantHoff_EOS!$N$19,vantHoff_EOS!$O$31:$X$31,vantHoff_EOS!$O$23:$X$23,$G14),\"-\")","v":0.88004203187180574},{"$f":"IF(T$3<=vantHoff_EOS!$N$19,y_iindex_NS_n0i_vi_X(T$3,vantHoff_EOS!$N$19,vantHoff_EOS!$O$31:$X$31,vantHoff_EOS!$O$23:$X$23,$G14),\"-\")","v":"-"},{"$f":"IF(U$3<=vantHoff_EOS!$N$19,y_iindex_NS_n0i_vi_X(U$3,vantHoff_EOS!$N$19,vantHoff_EOS!$O$31:$X$31,vantHoff_EOS!$O$23:$X$23,$G14),\"-\")","v":"-"},{"$f":"IF(V$3<=vantHoff_EOS!$N$19,y_iindex_NS_n0i_vi_X(V$3,vantHoff_EOS!$N$19,vantHoff_EOS!$O$31:$X$31,vantHoff_EOS!$O$23:$X$23,$G14),\"-\")","v":"-"},{"$f":"IF(W$3<=vantHoff_EOS!$N$19,y_iindex_NS_n0i_vi_X(W$3,vantHoff_EOS!$N$19,vantHoff_EOS!$O$31:$X$31,vantHoff_EOS!$O$23:$X$23,$G14),\"-\")","v":"-"},{"$f":"IF(X$3<=vantHoff_EOS!$N$19,y_iindex_NS_n0i_vi_X(X$3,vantHoff_EOS!$N$19,vantHoff_EOS!$O$31:$X$31,vantHoff_EOS!$O$23:$X$23,$G14),\"-\")","v":"-"},0.99999999999999989,{"$f":"IF(Z$3<=vantHoff_EOS!$N$19,Phi_i_NS_Tci_Pci_wi_kijm_TinC_PinPa_yi(Z$3,vantHoff_EOS!$N$19,vantHoff_EOS!$X$5:$X$14,vantHoff_EOS!$Y$5:$Y$14,vantHoff_EOS!$Z$5:$Z$14,vantHoff_EOS!$AE$5:$AN$14,$C$2,B14*1000000,$O14:$X14),\"-\")","v":4.5625613676735393},{"$f":"IF(AA$3<=vantHoff_EOS!$N$19,Phi_i_NS_Tci_Pci_wi_kijm_TinC_PinPa_yi(AA$3,vantHoff_EOS!$N$19,vantHoff_EOS!$X$5:$X$14,vantHoff_EOS!$Y$5:$Y$14,vantHoff_EOS!$Z$5:$Z$14,vantHoff_EOS!$AE$5:$AN$14,$C$2,B14*1000000,$O14:$X14),\"-\")","v":7.4430680666009721},{"$f":"IF(AB$3<=vantHoff_EOS!$N$19,Phi_i_NS_Tci_Pci_wi_kijm_TinC_PinPa_yi(AB$3,vantHoff_EOS!$N$19,vantHoff_EOS!$X$5:$X$14,vantHoff_EOS!$Y$5:$Y$14,vantHoff_EOS!$Z$5:$Z$14,vantHoff_EOS!$AE$5:$AN$14,$C$2,B14*1000000,$O14:$X14),\"-\")","v":0.19565889291309169},{"$f":"IF(AC$3<=vantHoff_EOS!$N$19,Phi_i_NS_Tci_Pci_wi_kijm_TinC_PinPa_yi(AC$3,vantHoff_EOS!$N$19,vantHoff_EOS!$X$5:$X$14,vantHoff_EOS!$Y$5:$Y$14,vantHoff_EOS!$Z$5:$Z$14,vantHoff_EOS!$AE$5:$AN$14,$C$2,B14*1000000,$O14:$X14),\"-\")","v":7.4925312740373121E-3},{"$f":"IF(AD$3<=vantHoff_EOS!$N$19,Phi_i_NS_Tci_Pci_wi_kijm_TinC_PinPa_yi(AD$3,vantHoff_EOS!$N$19,vantHoff_EOS!$X$5:$X$14,vantHoff_EOS!$Y$5:$Y$14,vantHoff_EOS!$Z$5:$Z$14,vantHoff_EOS!$AE$5:$AN$14,$C$2,B14*1000000,$O14:$X14),\"-\")","v":0.63758056219206372},{"$f":"IF(AE$3<=vantHoff_EOS!$N$19,Phi_i_NS_Tci_Pci_wi_kijm_TinC_PinPa_yi(AE$3,vantHoff_EOS!$N$19,vantHoff_EOS!$X$5:$X$14,vantHoff_EOS!$Y$5:$Y$14,vantHoff_EOS!$Z$5:$Z$14,vantHoff_EOS!$AE$5:$AN$14,$C$2,B14*1000000,$O14:$X14),\"-\")","v":"-"},{"$f":"IF(AF$3<=vantHoff_EOS!$N$19,Phi_i_NS_Tci_Pci_wi_kijm_TinC_PinPa_yi(AF$3,vantHoff_EOS!$N$19,vantHoff_EOS!$X$5:$X$14,vantHoff_EOS!$Y$5:$Y$14,vantHoff_EOS!$Z$5:$Z$14,vantHoff_EOS!$AE$5:$AN$14,$C$2,B14*1000000,$O14:$X14),\"-\")","v":"-"},{"$f":"IF(AG$3<=vantHoff_EOS!$N$19,Phi_i_NS_Tci_Pci_wi_kijm_TinC_PinPa_yi(AG$3,vantHoff_EOS!$N$19,vantHoff_EOS!$X$5:$X$14,vantHoff_EOS!$Y$5:$Y$14,vantHoff_EOS!$Z$5:$Z$14,vantHoff_EOS!$AE$5:$AN$14,$C$2,B14*1000000,$O14:$X14),\"-\")","v":"-"},{"$f":"IF(AH$3<=vantHoff_EOS!$N$19,Phi_i_NS_Tci_Pci_wi_kijm_TinC_PinPa_yi(AH$3,vantHoff_EOS!$N$19,vantHoff_EOS!$X$5:$X$14,vantHoff_EOS!$Y$5:$Y$14,vantHoff_EOS!$Z$5:$Z$14,vantHoff_EOS!$AE$5:$AN$14,$C$2,B14*1000000,$O14:$X14),\"-\")","v":"-"},{"$f":"IF(AI$3<=vantHoff_EOS!$N$19,Phi_i_NS_Tci_Pci_wi_kijm_TinC_PinPa_yi(AI$3,vantHoff_EOS!$N$19,vantHoff_EOS!$X$5:$X$14,vantHoff_EOS!$Y$5:$Y$14,vantHoff_EOS!$Z$5:$Z$14,vantHoff_EOS!$AE$5:$AN$14,$C$2,B14*1000000,$O14:$X14),\"-\")","v":"-"}]
[12,{"$f":"B14+vantHoff_EOS!$E$26","v":10.199999999999992},320.14999999999998,3.1235358425737939E-3,{"$f":"lnKaT_Tref_lnKaTref_dHTref_da_db_dc_dd_de_TinC(vantHoff_EOS!$E$7,vantHoff_EOS!$B$9,vantHoff_EOS!$B$6,vantHoff_EOS!$O$27,vantHoff_EOS!$P$27,vantHoff_EOS!$Q$27,vantHoff_EOS!$R$27,vantHoff_EOS!$S$27,$C$2)","v":13.062534312676297},470962.76406017854,{"$f":"MolarExtentX_NS_vi_n0i_dHfi_dGfi_TrefinC_da_db_dc_dd_de_Tci_Pci_wi_kijm_TinC_PinPa(vantHoff_EOS!$N$19,vantHoff_EOS!$O$23:$X$23,vantHoff_EOS!$O$31:$X$31,vantHoff_EOS!$T$5:$T$14,vantHoff_EOS!$U$5:$U$14,vantHoff_EOS!$E$7,vantHoff_EOS!$O$27,vantHoff_EOS!$P$27,vantHoff_EOS!$Q$27,vantHoff_EOS!$R$27,vantHoff_EOS!$S$27,vantHoff_EOS!$X$5:$X$14,vantHoff_EOS!$Y$5:$Y$14,vantHoff_EOS!$Z$5:$Z$14,vantHoff_EOS!$AE$5:$AN$14,$C$2,B15*1000000)","v":0.99974663694703736},{"$f":"Ky_NS_n0i_vi_X(vantHoff_EOS!$N$19,vantHoff_EOS!$O$31:$X$31,vantHoff_EOS!$O$23:$X$23,G15)","v":4276071664544.2388},{"$f":"Kp_NS_vi_PinPa(vantHoff_EOS!$N$19,vantHoff_EOS!$O$23:$X$23,B15*1000000)","v":9.6116878123798677E-5},{"$f":"Kphi_NS_n0i_vi_X_Tci_Pci_wi_kijm_TinC_PinPa(vantHoff_EOS!$N$19,vantHoff_EOS!$O$31:$X$31,vantHoff_EOS!$O$23:$X$23,G15,vantHoff_EOS!$X$5:$X$14,vantHoff_EOS!$Y$5:$Y$14,vantHoff_EOS!$Z$5:$Z$14,vantHoff_EOS!$AE$5:$AN$14,$C$2,B15*1000000)","v":1.1458873895657004E-3},29.084055868666582,-9.2499456265685414,-6.7715759294220783,{"$f":"nT_NS_n0i_vi_X(vantHoff_EOS!$N$19,vantHoff_EOS!$O$31:$X$31,vantHoff_EOS!$O$23:$X$23,G15)","v":8.3405067261059251},{"$f":"IF(O$3<=vantHoff_EOS!$N$19,y_iindex_NS_n0i_vi_X(O$3,vantHoff_EOS!$N$19,vantHoff_EOS!$O$31:$X$31,vantHoff_EOS!$O$23:$X$23,$G15),\"-\")","v":3.0377417258067803E-5},{"$f":"IF(P$3<=vantHoff_EOS!$N$19,y_iindex_NS_n0i_vi_X(P$3,vantHoff_EOS!$N$19,vantHoff_EOS!$O$31:$X$31,vantHoff_EOS!$O$23:$X$23,$G15),\"-\")","v":3.0377417258067803E-5},{"$f":"IF(Q$3<=vantHoff_EOS!$N$19,y_iindex_NS_n0i_vi_X(Q$3,vantHoff_EOS!$N$19,vantHoff_EOS!$O$31:$X$31,vantHoff_EOS!$O$23:$X$23,$G15),\"-\")","v":3.0377417258067803E-5},{"$f":"IF(R$3<=vantHoff_EOS!$N$19,y_iindex_NS_n0i_vi_X(R$3,vantHoff_EOS!$N$19,vantHoff_EOS!$O$31:$X$31,vantHoff_EOS!$O$23:$X$23,$G15),\"-\")","v":0.11986641456901098},{"$f":"IF(S$3<=vantHoff_EOS!$N$19,y_iindex_NS_n0i_vi_X(S$3,vantHoff_EOS!$N$19,vantHoff_EOS!$O$31:$X$31,vantHoff_EOS!$O$23:$X$23,$G15),\"-\")","v":0.88004245317921481},{"$f":"IF(T$3<=vantHoff_EOS!$N$19,y_iindex_NS_n0i_vi_X(T$3,vantHoff_EOS!$N$19,vantHoff_EOS!$O$31:$X$31,vantHoff_EOS!$O$23:$X$23,$G15),\"-\")","v":"-"},{"$f":"IF(U$3<=vantHoff_EOS!$N$19,y_iindex_NS_n0i_vi_X(U$3,vantHoff_EOS!$N$19,vantHoff_EOS!$O$31:$X$31,vantHoff_EOS!$O$23:$X$23,$G15),\"-\")","v":"-"},{"$f":"IF(V$3<=vantHoff_EOS!$N$19,y_iindex_NS_n0i_vi_X(V$3,vantHoff_EOS!$N$19,vantHoff_EOS!$O$31:$X$31,vantHoff_EOS!$O$23:$X$23,$G15),\"-\")","v":"-"},{"$f":"IF(W$3<=vantHoff_EOS!$N$19,y_iindex_NS_n0i_vi_X(W$3,vantHoff_EOS!$N$19,vantHoff_EOS!$O$31:$X$31,vantHoff_EOS!$O$23:$X$23,$G15),\"-\")","v":"-"},{"$f":"IF(X$3<=vantHoff_EOS!$N$19,y_iindex_NS_n0i_vi_X(X$3,vantHoff_EOS!$N$19,vantHoff_EOS!$O$31:$X$31,vantHoff_EOS!$O$23:$X$23,$G15),\"-\")","v":"-"},1,{"$f":"IF(Z$3<=vantHoff_EOS!$N$19,Phi_i_NS_Tci_Pci_wi_kijm_TinC_PinPa_yi(Z$3,vantHoff_EOS!$N$19,vantHoff_EOS!$X$5:$X$14,vantHoff_EOS!$Y$5:$Y$14,vantHoff_EOS!$Z$5:$Z$14,vantHoff_EOS!$AE$5:$AN$14,$C$2,B15*1000000,$O15:$X15),\"-\")","v":4.519030263774142},{"$f":"IF(AA$3<=vantHoff_EOS!$N$19,Phi_i_NS_Tci_Pci_wi_kijm_TinC_PinPa_yi(AA$3,vantHoff_EOS!$N$19,vantHoff_EOS!$X$5:$X$14,vantHoff_EOS!$Y$5:$Y$14,vantHoff_EOS!$Z$5:$Z$14,vantHoff_EOS!$AE$5:$AN$14,$C$2,B15*1000000,$O15:$X15),\"-\")","v":7.3714070321939866},{"$f":"IF(AB$3<=vantHoff_EOS!$N$19,Phi_i_NS_Tci_Pci_wi_kijm_TinC_PinPa_yi(AB$3,vantHoff_EOS!$N$19,vantHoff_EOS!$X$5:$X$14,vantHoff_EOS!$Y$5:$Y$14,vantHoff_EOS!$Z$5:$Z$14,vantHoff_EOS!$AE$5:$AN$14,$C$2,B15*1000000,$O15:$X15),\"-\")","v":0.19298539232534132},{"$f":"IF(AC$3<=vantHoff_EOS!$N$19,Phi_i_NS_Tci_Pci_wi_kijm_TinC_PinPa_yi(AC$3,vantHoff_EOS!$N$19,vantHoff_EOS!$X$5:$X$14,vantHoff_EOS!$Y$5:$Y$14,vantHoff_EOS!$Z$5:$Z$14,vantHoff_EOS!$AE$5:$AN$14,$C$2,B15*1000000,$O15:$X15),\"-\")","v":7.3665140175198374E-3},{"$f":"IF(AD$3<=vantHoff_EOS!$N$19,Phi_i_NS_Tci_Pci_wi_kijm_TinC_PinPa_yi(AD$3,vantHoff_EOS!$N$19,vantHoff_EOS!$X$5:$X$14,vantHoff_EOS!$Y$5:$Y$14,vantHoff_EOS!$Z$5:$Z$14,vantHoff_EOS!$AE$5:$AN$14,$C$2,B15*1000000,$O15:$X15),\"-\")","v":0.6282118087462597},{"$f":"IF(AE$3<=vantHoff_EOS!$N$19,Phi_i_NS_Tci_Pci_wi_kijm_TinC_PinPa_yi(AE$3,vantHoff_EOS!$N$19,vantHoff_EOS!$X$5:$X$14,vantHoff_EOS!$Y$5:$Y$14,vantHoff_EOS!$Z$5:$Z$14,vantHoff_EOS!$AE$5:$AN$14,$C$2,B15*1000000,$O15:$X15),\"-\")","v":"-"},{"$f":"IF(AF$3<=vantHoff_EOS!$N$19,Phi_i_NS_Tci_Pci_wi_kijm_TinC_PinPa_yi(AF$3,vantHoff_EOS!$N$19,vantHoff_EOS!$X$5:$X$14,vantHoff_EOS!$Y$5:$Y$14,vantHoff_EOS!$Z$5:$Z$14,vantHoff_EOS!$AE$5:$AN$14,$C$2,B15*1000000,$O15:$X15),\"-\")","v":"-"},{"$f":"IF(AG$3<=vantHoff_EOS!$N$19,Phi_i_NS_Tci_Pci_wi_kijm_TinC_PinPa_yi(AG$3,vantHoff_EOS!$N$19,vantHoff_EOS!$X$5:$X$14,vantHoff_EOS!$Y$5:$Y$14,vantHoff_EOS!$Z$5:$Z$14,vantHoff_EOS!$AE$5:$AN$14,$C$2,B15*1000000,$O15:$X15),\"-\")","v":"-"},{"$f":"IF(AH$3<=vantHoff_EOS!$N$19,Phi_i_NS_Tci_Pci_wi_kijm_TinC_PinPa_yi(AH$3,vantHoff_EOS!$N$19,vantHoff_EOS!$X$5:$X$14,vantHoff_EOS!$Y$5:$Y$14,vantHoff_EOS!$Z$5:$Z$14,vantHoff_EOS!$AE$5:$AN$14,$C$2,B15*1000000,$O15:$X15),\"-\")","v":"-"},{"$f":"IF(AI$3<=vantHoff_EOS!$N$19,Phi_i_NS_Tci_Pci_wi_kijm_TinC_PinPa_yi(AI$3,vantHoff_EOS!$N$19,vantHoff_EOS!$X$5:$X$14,vantHoff_EOS!$Y$5:$Y$14,vantHoff_EOS!$Z$5:$Z$14,vantHoff_EOS!$AE$5:$AN$14,$C$2,B15*1000000,$O15:$X15),\"-\")","v":"-"}]
[13,{"$f":"B15+vantHoff_EOS!$E$26","v":10.399999999999991},320.14999999999998,3.1235358425737939E-3,{"$f":"lnKaT_Tref_lnKaTref_dHTref_da_db_dc_dd_de_TinC(vantHoff_EOS!$E$7,vantHoff_EOS!$B$9,vantHoff_EOS!$B$6,vantHoff_EOS!$O$27,vantHoff_EOS!$P$27,vantHoff_EOS!$Q$27,vantHoff_EOS!$R$27,vantHoff_EOS!$S$27,$C$2)","v":13.062534312676297},470962.76406017854,{"$f":"MolarExtentX_NS_vi_n0i_dHfi_dGfi_TrefinC_da_db_dc_dd_de_Tci_Pci_wi_kijm_TinC_PinPa(vantHoff_EOS!$N$19,vantHoff_EOS!$O$23:$X$23,vantHoff_EOS!$O$31:$X$31,vantHoff_EOS!$T$5:$T$14,vantHoff_EOS!$U$5:$U$14,vantHoff_EOS!$E$7,vantHoff_EOS!$O$27,vantHoff_EOS!$P$27,vantHoff_EOS!$Q$27,vantHoff_EOS!$R$27,vantHoff_EOS!$S$27,vantHoff_EOS!$X$5:$X$14,vantHoff_EOS!$Y$5:$Y$14,vantHoff_EOS!$Z$5:$Z$14,vantHoff_EOS!$AE$5:$AN$14,$C$2,B16*1000000)","v":0.99974857738427358},{"$f":"Ky_NS_n0i_vi_X(vantHoff_EOS!$N$19,vantHoff_EOS!$O$31:$X$31,vantHoff_EOS!$O$23:$X$23,G16)","v":4375848157078.9814},{"$f":"Kp_NS_vi_PinPa(vantHoff_EOS!$N$19,vantHoff_EOS!$O$23:$X$23,B16*1000000)","v":9.2455621301775322E-5},{"$f":"Kphi_NS_n0i_vi_X_Tci_Pci_wi_kijm_TinC_PinPa(vantHoff_EOS!$N$19,vantHoff_EOS!$O$31:$X$31,vantHoff_EOS!$O$23:$X$23,G16,vantHoff_EOS!$X$5:$X$14,vantHoff_EOS!$Y$5:$Y$14,vantHoff_EOS!$Z$5:$Z$14,vantHoff_EOS!$AE$5:$AN$14,$C$2,B16*1000000)","v":1.1641019233796077E-3},29.107121481424034,-9.2887817982827432,-6.75580537046541,{"$f":"nT_NS_n0i_vi_X(vantHoff_EOS!$N$19,vantHoff_EOS!$O$31:$X$31,vantHoff_EOS!$O$23:$X$23,G16)","v":8.3405028452314518},{"$f":"IF(O$3<=vantHoff_EOS!$N$19,y_iindex_NS_n0i_vi_X(O$3,vantHoff_EOS!$N$19,vantHoff_EOS!$O$31:$X$31,vantHoff_EOS!$O$23:$X$23,$G16),\"-\")","v":3.0144779084892019E-5},{"$f":"IF(P$3<=vantHoff_EOS!$N$19,y_iindex_NS_n0i_vi_X(P$3,vantHoff_EOS!$N$19,vantHoff_EOS!$O$31:$X$31,vantHoff_EOS!$O$23:$X$23,$G16),\"-\")","v":3.0144779084892019E-5},{"$f":"IF(Q$3<=vantHoff_EOS!$N$19,y_iindex_NS_n0i_vi_X(Q$3,vantHoff_EOS!$N$19,vantHoff_EOS!$O$31:$X$31,vantHoff_EOS!$O$23:$X$23,$G16),\"-\")","v":3.0144779084892019E-5},{"$f":"IF(R$3<=vantHoff_EOS!$N$19,y_iindex_NS_n0i_vi_X(R$3,vantHoff_EOS!$N$19,vantHoff_EOS!$O$31:$X$31,vantHoff_EOS!$O$23:$X$23,$G16),\"-\")","v":0.1198667029957149},{"$f":"IF(S$3<=vantHoff_EOS!$N$19,y_iindex_NS_n0i_vi_X(S$3,vantHoff_EOS!$N$19,vantHoff_EOS!$O$31:$X$31,vantHoff_EOS!$O$23:$X$23,$G16),\"-\")","v":0.88004286266703047},{"$f":"IF(T$3<=vantHoff_EOS!$N$19,y_iindex_NS_n0i_vi_X(T$3,vantHoff_EOS!$N$19,vantHoff_EOS!$O$31:$X$31,vantHoff_EOS!$O$23:$X$23,$G16),\"-\")","v":"-"},{"$f":"IF(U$3<=vantHoff_EOS!$N$19,y_iindex_NS_n0i_vi_X(U$3,vantHoff_EOS!$N$19,vantHoff_EOS!$O$31:$X$31,vantHoff_EOS!$O$23:$X$23,$G16),\"-\")","v":"-"},{"$f":"IF(V$3<=vantHoff_EOS!$N$19,y_iindex_NS_n0i_vi_X(V$3,vantHoff_EOS!$N$19,vantHoff_EOS!$O$31:$X$31,vantHoff_EOS!$O$23:$X$23,$G16),\"-\")","v":"-"},{"$f":"IF(W$3<=vantHoff_EOS!$N$19,y_iindex_NS_n0i_vi_X(W$3,vantHoff_EOS!$N$19,vantHoff_EOS!$O$31:$X$31,vantHoff_EOS!$O$23:$X$23,$G16),\"-\")","v":"-"},{"$f":"IF(X$3<=vantHoff_EOS!$N$19,y_iindex_NS_n0i_vi_X(X$3,vantHoff_EOS!$N$19,vantHoff_EOS!$O$31:$X$31,vantHoff_EOS!$O$23:$X$23,$G16),\"-\")","v":"-"},1,{"$f":"IF(Z$3<=vantHoff_EOS!$N$19,Phi_i_NS_Tci_Pci_wi_kijm_TinC_PinPa_yi(Z$3,vantHoff_EOS!$N$19,vantHoff_EOS!$X$5:$X$14,vantHoff_EOS!$Y$5:$Y$14,vantHoff_EOS!$Z$5:$Z$14,vantHoff_EOS!$AE$5:$AN$14,$C$2,B16*1000000,$O16:$X16),\"-\")","v":4.4769252059691054},{"$f":"IF(AA$3<=vantHoff_EOS!$N$19,Phi_i_NS_Tci_Pci_wi_kijm_TinC_PinPa_yi(AA$3,vantHoff_EOS!$N$19,vantHoff_EOS!$X$5:$X$14,vantHoff_EOS!$Y$5:$Y$14,vantHoff_EOS!$Z$5:$Z$14,vantHoff_EOS!$AE$5:$AN$14,$C$2,B16*1000000,$O16:$X16),\"-\")","v":7.3019617974039601},{"$f":"IF(AB$3<=vantHoff_EOS!$N$19,Phi_i_NS_Tci_Pci_wi_kijm_TinC_PinPa_yi(AB$3,vantHoff_EOS!$N$19,vantHoff_EOS!$X$5:$X$14,vantHoff_EOS!$Y$5:$Y$14,vantHoff_EOS!$Z$5:$Z$14,vantHoff_EOS!$AE$5:$AN$14,$C$2,B16*1000000,$O16:$X16),\"-\")","v":0.19042052408636923},{"$f":"IF(AC$3<=vantHoff_EOS!$N$19,Phi_i_NS_Tci_Pci_wi_kijm_TinC_PinPa_yi(AC$3,vantHoff_EOS!$N$19,vantHoff_EOS!$X$5:$X$14,vantHoff_EOS!$Y$5:$Y$14,vantHoff_EOS!$Z$5:$Z$14,vantHoff_EOS!$AE$5:$AN$14,$C$2,B16*1000000,$O16:$X16),\"-\")","v":7.2464309500965725E-3},{"$f":"IF(AD$3<=vantHoff_EOS!$N$19,Phi_i_NS_Tci_Pci_wi_kijm_TinC_PinPa_yi(AD$3,vantHoff_EOS!$N$19,vantHoff_EOS!$X$5:$X$14,vantHoff_EOS!$Y$5:$Y$14,vantHoff_EOS!$Z$5:$Z$14,vantHoff_EOS!$AE$5:$AN$14,$C$2,B16*1000000,$O16:$X16),\"-\")","v":0.61919495380044554},{"$f":"IF(AE$3<=vantHoff_EOS!$N$19,Phi_i_NS_Tci_Pci_wi_kijm_TinC_PinPa_yi(AE$3,vantHoff_EOS!$N$19,vantHoff_EOS!$X$5:$X$14,vantHoff_EOS!$Y$5:$Y$14,vantHoff_EOS!$Z$5:$Z$14,vantHoff_EOS!$AE$5:$AN$14,$C$2,B16*1000000,$O16:$X16),\"-\")","v":"-"},{"$f":"IF(AF$3<=vantHoff_EOS!$N$19,Phi_i_NS_Tci_Pci_wi_kijm_TinC_PinPa_yi(AF$3,vantHoff_EOS!$N$19,vantHoff_EOS!$X$5:$X$14,vantHoff_EOS!$Y$5:$Y$14,vantHoff_EOS!$Z$5:$Z$14,vantHoff_EOS!$AE$5:$AN$14,$C$2,B16*1000000,$O16:$X16),\"-\")","v":"-"},{"$f":"IF(AG$3<=vantHoff_EOS!$N$19,Phi_i_NS_Tci_Pci_wi_kijm_TinC_PinPa_yi(AG$3,vantHoff_EOS!$N$19,vantHoff_EOS!$X$5:$X$14,vantHoff_EOS!$Y$5:$Y$14,vantHoff_EOS!$Z$5:$Z$14,vantHoff_EOS!$AE$5:$AN$14,$C$2,B16*1000000,$O16:$X16),\"-\")","v":"-"},{"$f":"IF(AH$3<=vantHoff_EOS!$N$19,Phi_i_NS_Tci_Pci_wi_kijm_TinC_PinPa_yi(AH$3,vantHoff_EOS!$N$19,vantHoff_EOS!$X$5:$X$14,vantHoff_EOS!$Y$5:$Y$14,vantHoff_EOS!$Z$5:$Z$14,vantHoff_EOS!$AE$5:$AN$14,$C$2,B16*1000000,$O16:$X16),\"-\")","v":"-"},{"$f":"IF(AI$3<=vantHoff_EOS!$N$19,Phi_i_NS_Tci_Pci_wi_kijm_TinC_PinPa_yi(AI$3,vantHoff_EOS!$N$19,vantHoff_EOS!$X$5:$X$14,vantHoff_EOS!$Y$5:$Y$14,vantHoff_EOS!$Z$5:$Z$14,vantHoff_EOS!$AE$5:$AN$14,$C$2,B16*1000000,$O16:$X16),\"-\")","v":"-"}]
[14,{"$f":"B16+vantHoff_EOS!$E$26","v":10.599999999999991},320.14999999999998,3.1235358425737939E-3,{"$f":"lnKaT_Tref_lnKaTref_dHTref_da_db_dc_dd_de_TinC(vantHoff_EOS!$E$7,vantHoff_EOS!$B$9,vantHoff_EOS!$B$6,vantHoff_EOS!$O$27,vantHoff_EOS!$P$27,vantHoff_EOS!$Q$27,vantHoff_EOS!$R$27,vantHoff_EOS!$S$27,$C$2)","v":13.062534312676297},470962.76406017854,{"$f":"MolarExtentX_NS_vi_n0i_dHfi_dGfi_TrefinC_da_db_dc_dd_de_Tci_Pci_wi_kijm_TinC_PinPa(vantHoff_EOS!$N$19,vantHoff_EOS!$O$23:$X$23,vantHoff_EOS!$O$31:$X$31,vantHoff_EOS!$T$5:$T$14,vantHoff_EOS!$U$5:$U$14,vantHoff_EOS!$E$7,vantHoff_EOS!$O$27,vantHoff_EOS!$P$27,vantHoff_EOS!$Q$27,vantHoff_EOS!$R$27,vantHoff_EOS!$S$27,vantHoff_EOS!$X$5:$X$14,vantHoff_EOS!$Y$5:$Y$14,vantHoff_EOS!$Z$5:$Z$14,vantHoff_EOS!$AE$5:$AN$14,$C$2,B17*1000000)","v":0.99975046476080254},{"$f":"Ky_NS_n0i_vi_X(vantHoff_EOS!$N$19,vantHoff_EOS!$O$31:$X$31,vantHoff_EOS!$O$23:$X$23,G17)","v":4475896507155.0791},{"$f":"Kp_NS_vi_PinPa(vantHoff_EOS!$N$19,vantHoff_EOS!$O$23:$X$23,B17*1000000)","v":8.8999644001424135E-5},{"$f":"Kphi_NS_n0i_vi_X_Tci_Pci_wi_kijm_TinC_PinPa(vantHoff_EOS!$N$19,vantHoff_EOS!$O$31:$X$31,vantHoff_EOS!$O$23:$X$23,G17,vantHoff_EOS!$X$5:$X$14,vantHoff_EOS!$Y$5:$Y$14,vantHoff_EOS!$Z$5:$Z$14,vantHoff_EOS!$AE$5:$AN$14,$C$2,B17*1000000)","v":1.1822743462722059E-3},29.129727784385061,-9.3268781882241321,-6.7403152834848852,{"$f":"nT_NS_n0i_vi_X(vantHoff_EOS!$N$19,vantHoff_EOS!$O$31:$X$31,vantHoff_EOS!$O$23:$X$23,G17)","v":8.3404990704783941},{"$f":"IF(O$3<=vantHoff_EOS!$N$19,y_iindex_NS_n0i_vi_X(O$3,vantHoff_EOS!$N$19,vantHoff_EOS!$O$31:$X$31,vantHoff_EOS!$O$23:$X$23,$G17),\"-\")","v":2.9918502129051819E-5},{"$f":"IF(P$3<=vantHoff_EOS!$N$19,y_iindex_NS_n0i_vi_X(P$3,vantHoff_EOS!$N$19,vantHoff_EOS!$O$31:$X$31,vantHoff_EOS!$O$23:$X$23,$G17),\"-\")","v":2.9918502129051819E-5},{"$f":"IF(Q$3<=vantHoff_EOS!$N$19,y_iindex_NS_n0i_vi_X(Q$3,vantHoff_EOS!$N$19,vantHoff_EOS!$O$31:$X$31,vantHoff_EOS!$O$23:$X$23,$G17),\"-\")","v":2.9918502129051819E-5},{"$f":"IF(R$3<=vantHoff_EOS!$N$19,y_iindex_NS_n0i_vi_X(R$3,vantHoff_EOS!$N$19,vantHoff_EOS!$O$31:$X$31,vantHoff_EOS!$O$23:$X$23,$G17),\"-\")","v":0.11986698353572971},{"$f":"IF(S$3<=vantHoff_EOS!$N$19,y_iindex_NS_n0i_vi_X(S$3,vantHoff_EOS!$N$19,vantHoff_EOS!$O$31:$X$31,vantHoff_EOS!$O$23:$X$23,$G17),\"-\")","v":0.88004326095788321},{"$f":"IF(T$3<=vantHoff_EOS!$N$19,y_iindex_NS_n0i_vi_X(T$3,vantHoff_EOS!$N$19,vantHoff_EOS!$O$31:$X$31,vantHoff_EOS!$O$23:$X$23,$G17),\"-\")","v":"-"},{"$f":"IF(U$3<=vantHoff_EOS!$N$19,y_iindex_NS_n0i_vi_X(U$3,vantHoff_EOS!$N$19,vantHoff_EOS!$O$31:$X$31,vantHoff_EOS!$O$23:$X$23,$G17),\"-\")","v":"-"},{"$f":"IF(V$3<=vantHoff_EOS!$N$19,y_iindex_NS_n0i_vi_X(V$3,vantHoff_EOS!$N$19,vantHoff_EOS!$O$31:$X$31,vantHoff_EOS!$O$23:$X$23,$G17),\"-\")","v":"-"},{"$f":"IF(W$3<=vantHoff_EOS!$N$19,y_iindex_NS_n0i_vi_X(W$3,vantHoff_EOS!$N$19,vantHoff_EOS!$O$31:$X$31,vantHoff_EOS!$O$23:$X$23,$G17),\"-\")","v":"-"},{"$f":"IF(X$3<=vantHoff_EOS!$N$19,y_iindex_NS_n0i_vi_X(X$3,vantHoff_EOS!$N$19,vantHoff_EOS!$O$31:$X$31,vantHoff_EOS!$O$23:$X$23,$G17),\"-\")","v":"-"},1,{"$f":"IF(Z$3<=vantHoff_EOS!$N$19,Phi_i_NS_Tci_Pci_wi_kijm_TinC_PinPa_yi(Z$3,vantHoff_EOS!$N$19,vantHoff_EOS!$X$5:$X$14,vantHoff_EOS!$Y$5:$Y$14,vantHoff_EOS!$Z$5:$Z$14,vantHoff_EOS!$AE$5:$AN$14,$C$2,B17*1000000,$O17:$X17),\"-\")","v":4.4361813732511202},{"$f":"IF(AA$3<=vantHoff_EOS!$N$19,Phi_i_NS_Tci_Pci_wi_kijm_TinC_PinPa_yi(AA$3,vantHoff_EOS!$N$19,vantHoff_EOS!$X$5:$X$14,vantHoff_EOS!$Y$5:$Y$14,vantHoff_EOS!$Z$5:$Z$14,vantHoff_EOS!$AE$5:$AN$14,$C$2,B17*1000000,$O17:$X17),\"-\")","v":7.2346357949030109},{"$f":"IF(AB$3<=vantHoff_EOS!$N$19,Phi_i_NS_Tci_Pci_wi_kijm_TinC_PinPa_yi(AB$3,vantHoff_EOS!$N$19,vantHoff_EOS!$X$5:$X$14,vantHoff_EOS!$Y$5:$Y$14,vantHoff_EOS!$Z$5:$Z$14,vantHoff_EOS!$AE$5:$AN$14,$C$2,B17*1000000,$O17:$X17),\"-\")","v":0.18795811664967021},{"$f":"IF(AC$3<=vantHoff_EOS!$N$19,Phi_i_NS_Tci_Pci_wi_kijm_TinC_PinPa_yi(AC$3,vantHoff_EOS!$N$19,vantHoff_EOS!$X$5:$X$14,vantHoff_EOS!$Y$5:$Y$14,vantHoff_EOS!$Z$5:$Z$14,vantHoff_EOS!$AE$5:$AN$14,$C$2,B17*1000000,$O17:$X17),\"-\")","v":7.1319011907079715E-3},{"$f":"IF(AD$3<=vantHoff_EOS!$N$19,Phi_i_NS_Tci_Pci_wi_kijm_TinC_PinPa_yi(AD$3,vantHoff_EOS!$N$19,vantHoff_EOS!$X$5:$X$14,vantHoff_EOS!$Y$5:$Y$14,vantHoff_EOS!$Z$5:$Z$14,vantHoff_EOS!$AE$5:$AN$14,$C$2,B17*1000000,$O17:$X17),\"-\")","v":0.61051076162882434},{"$f":"IF(AE$3<=vantHoff_EOS!$N$19,Phi_i_NS_Tci_Pci_wi_kijm_TinC_PinPa_yi(AE$3,vantHoff_EOS!$N$19,vantHoff_EOS!$X$5:$X$14,vantHoff_EOS!$Y$5:$Y$14,vantHoff_EOS!$Z$5:$Z$14,vantHoff_EOS!$AE$5:$AN$14,$C$2,B17*1000000,$O17:$X17),\"-\")","v":"-"},{"$f":"IF(AF$3<=vantHoff_EOS!$N$19,Phi_i_NS_Tci_Pci_wi_kijm_TinC_PinPa_yi(AF$3,vantHoff_EOS!$N$19,vantHoff_EOS!$X$5:$X$14,vantHoff_EOS!$Y$5:$Y$14,vantHoff_EOS!$Z$5:$Z$14,vantHoff_EOS!$AE$5:$AN$14,$C$2,B17*1000000,$O17:$X17),\"-\")","v":"-"},{"$f":"IF(AG$3<=vantHoff_EOS!$N$19,Phi_i_NS_Tci_Pci_wi_kijm_TinC_PinPa_yi(AG$3,vantHoff_EOS!$N$19,vantHoff_EOS!$X$5:$X$14,vantHoff_EOS!$Y$5:$Y$14,vantHoff_EOS!$Z$5:$Z$14,vantHoff_EOS!$AE$5:$AN$14,$C$2,B17*1000000,$O17:$X17),\"-\")","v":"-"},{"$f":"IF(AH$3<=vantHoff_EOS!$N$19,Phi_i_NS_Tci_Pci_wi_kijm_TinC_PinPa_yi(AH$3,vantHoff_EOS!$N$19,vantHoff_EOS!$X$5:$X$14,vantHoff_EOS!$Y$5:$Y$14,vantHoff_EOS!$Z$5:$Z$14,vantHoff_EOS!$AE$5:$AN$14,$C$2,B17*1000000,$O17:$X17),\"-\")","v":"-"},{"$f":"IF(AI$3<=vantHoff_EOS!$N$19,Phi_i_NS_Tci_Pci_wi_kijm_TinC_PinPa_yi(AI$3,vantHoff_EOS!$N$19,vantHoff_EOS!$X$5:$X$14,vantHoff_EOS!$Y$5:$Y$14,vantHoff_EOS!$Z$5:$Z$14,vantHoff_EOS!$AE$5:$AN$14,$C$2,B17*1000000,$O17:$X17),\"-\")","v":"-"}]
[15,{"$f":"B17+vantHoff_EOS!$E$26","v":10.79999999999999},320.14999999999998,3.1235358425737939E-3,{"$f":"lnKaT_Tref_lnKaTref_dHTref_da_db_dc_dd_de_TinC(vantHoff_EOS!$E$7,vantHoff_EOS!$B$9,vantHoff_EOS!$B$6,vantHoff_EOS!$O$27,vantHoff_EOS!$P$27,vantHoff_EOS!$Q$27,vantHoff_EOS!$R$27,vantHoff_EOS!$S$27,$C$2)","v":13.062534312676297},470962.76406017854,{"$f":"MolarExtentX_NS_vi_n0i_dHfi_dGfi_TrefinC_da_db_dc_dd_de_Tci_Pci_wi_kijm_TinC_PinPa(vantHoff_EOS!$N$19,vantHoff_EOS!$O$23:$X$23,vantHoff_EOS!$O$31:$X$31,vantHoff_EOS!$T$5:$T$14,vantHoff_EOS!$U$5:$U$14,vantHoff_EOS!$E$7,vantHoff_EOS!$O$27,vantHoff_EOS!$P$27,vantHoff_EOS!$Q$27,vantHoff_EOS!$R$27,vantHoff_EOS!$S$27,vantHoff_EOS!$X$5:$X$14,vantHoff_EOS!$Y$5:$Y$14,vantHoff_EOS!$Z$5:$Z$14,vantHoff_EOS!$AE$5:$AN$14,$C$2,B18*1000000)","v":0.99975230179878105},{"$f":"Ky_NS_n0i_vi_X(vantHoff_EOS!$N$19,vantHoff_EOS!$O$31:$X$31,vantHoff_EOS!$O$23:$X$23,G18)","v":4576226886944.5508},{"$f":"Kp_NS_vi_PinPa(vantHoff_EOS!$N$19,vantHoff_EOS!$O$23:$X$23,B18*1000000)","v":8.5733882030178483E-5},{"$f":"Kphi_NS_n0i_vi_X_Tci_Pci_wi_kijm_TinC_PinPa(vantHoff_EOS!$N$19,vantHoff_EOS!$O$31:$X$31,vantHoff_EOS!$O$23:$X$23,G18,vantHoff_EOS!$X$5:$X$14,vantHoff_EOS!$Y$5:$Y$14,vantHoff_EOS!$Z$5:$Z$14,vantHoff_EOS!$AE$5:$AN$14,$C$2,B18*1000000)","v":1.2004015132352369E-3},29.151895950714085,-9.3642624542484381,-6.7250991837896956,{"$f":"nT_NS_n0i_vi_X(vantHoff_EOS!$N$19,vantHoff_EOS!$O$31:$X$31,vantHoff_EOS!$O$23:$X$23,G18)","v":8.3404953964024386},{"$f":"IF(O$3<=vantHoff_EOS!$N$19,y_iindex_NS_n0i_vi_X(O$3,vantHoff_EOS!$N$19,vantHoff_EOS!$O$31:$X$31,vantHoff_EOS!$O$23:$X$23,$G18),\"-\")","v":2.9698260048892314E-5},{"$f":"IF(P$3<=vantHoff_EOS!$N$19,y_iindex_NS_n0i_vi_X(P$3,vantHoff_EOS!$N$19,vantHoff_EOS!$O$31:$X$31,vantHoff_EOS!$O$23:$X$23,$G18),\"-\")","v":2.9698260048892314E-5},{"$f":"IF(Q$3<=vantHoff_EOS!$N$19,y_iindex_NS_n0i_vi_X(Q$3,vantHoff_EOS!$N$19,vantHoff_EOS!$O$31:$X$31,vantHoff_EOS!$O$23:$X$23,$G18),\"-\")","v":2.9698260048892314E-5},{"$f":"IF(R$3<=vantHoff_EOS!$N$19,y_iindex_NS_n0i_vi_X(R$3,vantHoff_EOS!$N$19,vantHoff_EOS!$O$31:$X$31,vantHoff_EOS!$O$23:$X$23,$G18),\"-\")","v":0.11986725659365639},{"$f":"IF(S$3<=vantHoff_EOS!$N$19,y_iindex_NS_n0i_vi_X(S$3,vantHoff_EOS!$N$19,vantHoff_EOS!$O$31:$X$31,vantHoff_EOS!$O$23:$X$23,$G18),\"-\")","v":0.88004364862619677},{"$f":"IF(T$3<=vantHoff_EOS!$N$19,y_iindex_NS_n0i_vi_X(T$3,vantHoff_EOS!$N$19,vantHoff_EOS!$O$31:$X$31,vantHoff_EOS!$O$23:$X$23,$G18),\"-\")","v":"-"},{"$f":"IF(U$3<=vantHoff_EOS!$N$19,y_iindex_NS_n0i_vi_X(U$3,vantHoff_EOS!$N$19,vantHoff_EOS!$O$31:$X$31,vantHoff_EOS!$O$23:$X$23,$G18),\"-\")","v":"-"},{"$f":"IF(V$3<=vantHoff_EOS!$N$19,y_iindex_NS_n0i_vi_X(V$3,vantHoff_EOS!$N$19,vantHoff_EOS!$O$31:$X$31,vantHoff_EOS!$O$23:$X$23,$G18),\"-\")","v":"-"},{"$f":"IF(W$3<=vantHoff_EOS!$N$19,y_iindex_NS_n0i_vi_X(W$3,vantHoff_EOS!$N$19,vantHoff_EOS!$O$31:$X$31,vantHoff_EOS!$O$23:$X$23,$G18),\"-\")","v":"-"},{"$f":"IF(X$3<=vantHoff_EOS!$N$19,y_iindex_NS_n0i_vi_X(X$3,vantHoff_EOS!$N$19,vantHoff_EOS!$O$31:$X$31,vantHoff_EOS!$O$23:$X$23,$G18),\"-\")","v":"-"},0.99999999999999989,{"$f":"IF(Z$3<=vantHoff_EOS!$N$19,Phi_i_NS_Tci_Pci_wi_kijm_TinC_PinPa_yi(Z$3,vantHoff_EOS!$N$19,vantHoff_EOS!$X$5:$X$14,vantHoff_EOS!$Y$5:$Y$14,vantHoff_EOS!$Z$5:$Z$14,vantHoff_EOS!$AE$5:$AN$14,$C$2,B18*1000000,$O18:$X18),\"-\")","v":4.3967376314238305},{"$f":"IF(AA$3<=vantHoff_EOS!$N$19,Phi_i_NS_Tci_Pci_wi_kijm_TinC_PinPa_yi(AA$3,vantHoff_EOS!$N$19,vantHoff_EOS!$X$5:$X$14,vantHoff_EOS!$Y$5:$Y$14,vantHoff_EOS!$Z$5:$Z$14,vantHoff_EOS!$AE$5:$AN$14,$C$2,B18*1000000,$O18:$X18),\"-\")","v":7.1693375841464935},{"$f":"IF(AB$3<=vantHoff_EOS!$N$19,Phi_i_NS_Tci_Pci_wi_kijm_TinC_PinPa_yi(AB$3,vantHoff_EOS!$N$19,vantHoff_EOS!$X$5:$X$14,vantHoff_EOS!$Y$5:$Y$14,vantHoff_EOS!$Z$5:$Z$14,vantHoff_EOS!$AE$5:$AN$14,$C$2,B18*1000000,$O18:$X18),\"-\")","v":0.18559246076576055},{"$f":"IF(AC$3<=vantHoff_EOS!$N$19,Phi_i_NS_Tci_Pci_wi_kijm_TinC_PinPa_yi(AC$3,vantHoff_EOS!$N$19,vantHoff_EOS!$X$5:$X$14,vantHoff_EOS!$Y$5:$Y$14,vantHoff_EOS!$Z$5:$Z$14,vantHoff_EOS!$AE$5:$AN$14,$C$2,B18*1000000,$O18:$X18),\"-\")","v":7.0225759598064605E-3},{"$f":"IF(AD$3<=vantHoff_EOS!$N$19,Phi_i_NS_Tci_Pci_wi_kijm_TinC_PinPa_yi(AD$3,vantHoff_EOS!$N$19,vantHoff_EOS!$X$5:$X$14,vantHoff_EOS!$Y$5:$Y$14,vantHoff_EOS!$Z$5:$Z$14,vantHoff_EOS!$AE$5:$AN$14,$C$2,B18*1000000,$O18:$X18),\"-\")","v":0.60214137481952634},{"$f":"IF(AE$3<=vantHoff_EOS!$N$19,Phi_i_NS_Tci_Pci_wi_kijm_TinC_PinPa_yi(AE$3,vantHoff_EOS!$N$19,vantHoff_EOS!$X$5:$X$14,vantHoff_EOS!$Y$5:$Y$14,vantHoff_EOS!$Z$5:$Z$14,vantHoff_EOS!$AE$5:$AN$14,$C$2,B18*1000000,$O18:$X18),\"-\")","v":"-"},{"$f":"IF(AF$3<=vantHoff_EOS!$N$19,Phi_i_NS_Tci_Pci_wi_kijm_TinC_PinPa_yi(AF$3,vantHoff_EOS!$N$19,vantHoff_EOS!$X$5:$X$14,vantHoff_EOS!$Y$5:$Y$14,vantHoff_EOS!$Z$5:$Z$14,vantHoff_EOS!$AE$5:$AN$14,$C$2,B18*1000000,$O18:$X18),\"-\")","v":"-"},{"$f":"IF(AG$3<=vantHoff_EOS!$N$19,Phi_i_NS_Tci_Pci_wi_kijm_TinC_PinPa_yi(AG$3,vantHoff_EOS!$N$19,vantHoff_EOS!$X$5:$X$14,vantHoff_EOS!$Y$5:$Y$14,vantHoff_EOS!$Z$5:$Z$14,vantHoff_EOS!$AE$5:$AN$14,$C$2,B18*1000000,$O18:$X18),\"-\")","v":"-"},{"$f":"IF(AH$3<=vantHoff_EOS!$N$19,Phi_i_NS_Tci_Pci_wi_kijm_TinC_PinPa_yi(AH$3,vantHoff_EOS!$N$19,vantHoff_EOS!$X$5:$X$14,vantHoff_EOS!$Y$5:$Y$14,vantHoff_EOS!$Z$5:$Z$14,vantHoff_EOS!$AE$5:$AN$14,$C$2,B18*1000000,$O18:$X18),\"-\")","v":"-"},{"$f":"IF(AI$3<=vantHoff_EOS!$N$19,Phi_i_NS_Tci_Pci_wi_kijm_TinC_PinPa_yi(AI$3,vantHoff_EOS!$N$19,vantHoff_EOS!$X$5:$X$14,vantHoff_EOS!$Y$5:$Y$14,vantHoff_EOS!$Z$5:$Z$14,vantHoff_EOS!$AE$5:$AN$14,$C$2,B18*1000000,$O18:$X18),\"-\")","v":"-"}]
[16,{"$f":"B18+vantHoff_EOS!$E$26","v":10.999999999999989},320.14999999999998,3.1235358425737939E-3,{"$f":"lnKaT_Tref_lnKaTref_dHTref_da_db_dc_dd_de_TinC(vantHoff_EOS!$E$7,vantHoff_EOS!$B$9,vantHoff_EOS!$B$6,vantHoff_EOS!$O$27,vantHoff_EOS!$P$27,vantHoff_EOS!$Q$27,vantHoff_EOS!$R$27,vantHoff_EOS!$S$27,$C$2)","v":13.062534312676297},470962.76406017854,{"$f":"MolarExtentX_NS_vi_n0i_dHfi_dGfi_TrefinC_da_db_dc_dd_de_Tci_Pci_wi_kijm_TinC_PinPa(vantHoff_EOS!$N$19,vantHoff_EOS!$O$23:$X$23,vantHoff_EOS!$O$31:$X$31,vantHoff_EOS!$T$5:$T$14,vantHoff_EOS!$U$5:$U$14,vantHoff_EOS!$E$7,vantHoff_EOS!$O$27,vantHoff_EOS!$P$27,vantHoff_EOS!$Q$27,vantHoff_EOS!$R$27,vantHoff_EOS!$S$27,vantHoff_EOS!$X$5:$X$14,vantHoff_EOS!$Y$5:$Y$14,vantHoff_EOS!$Z$5:$Z$14,vantHoff_EOS!$AE$5:$AN$14,$C$2,B19*1000000)","v":0.99975409101509172},{"$f":"Ky_NS_n0i_vi_X(vantHoff_EOS!$N$19,vantHoff_EOS!$O$31:$X$31,vantHoff_EOS!$O$23:$X$23,G19)","v":4676848696551.1191},{"$f":"Kp_NS_vi_PinPa(vantHoff_EOS!$N$19,vantHoff_EOS!$O$23:$X$23,B19*1000000)","v":8.2644628099173736E-5},{"$f":"Kphi_NS_n0i_vi_X_Tci_Pci_wi_kijm_TinC_PinPa(vantHoff_EOS!$N$19,vantHoff_EOS!$O$31:$X$31,vantHoff_EOS!$O$23:$X$23,G19,vantHoff_EOS!$X$5:$X$14,vantHoff_EOS!$Y$5:$Y$14,vantHoff_EOS!$Z$5:$Z$14,vantHoff_EOS!$AE$5:$AN$14,$C$2,B19*1000000)","v":1.2184806083909391E-3},29.173645643614716,-9.4009607315848296,-6.7101505993539696,{"$f":"nT_NS_n0i_vi_X(vantHoff_EOS!$N$19,vantHoff_EOS!$O$31:$X$31,vantHoff_EOS!$O$23:$X$23,G19)","v":8.3404918179698164},{"$f":"IF(O$3<=vantHoff_EOS!$N$19,y_iindex_NS_n0i_vi_X(O$3,vantHoff_EOS!$N$19,vantHoff_EOS!$O$31:$X$31,vantHoff_EOS!$O$23:$X$23,$G19),\"-\")","v":2.948375111147107E-5},{"$f":"IF(P$3<=vantHoff_EOS!$N$19,y_iindex_NS_n0i_vi_X(P$3,vantHoff_EOS!$N$19,vantHoff_EOS!$O$31:$X$31,vantHoff_EOS!$O$23:$X$23,$G19),\"-\")","v":2.948375111147107E-5},{"$f":"IF(Q$3<=vantHoff_EOS!$N$19,y_iindex_NS_n0i_vi_X(Q$3,vantHoff_EOS!$N$19,vantHoff_EOS!$O$31:$X$31,vantHoff_EOS!$O$23:$X$23,$G19),\"-\")","v":2.948375111147107E-5},{"$f":"IF(R$3<=vantHoff_EOS!$N$19,y_iindex_NS_n0i_vi_X(R$3,vantHoff_EOS!$N$19,vantHoff_EOS!$O$31:$X$31,vantHoff_EOS!$O$23:$X$23,$G19),\"-\")","v":0.11986752254358601},{"$f":"IF(S$3<=vantHoff_EOS!$N$19,y_iindex_NS_n0i_vi_X(S$3,vantHoff_EOS!$N$19,vantHoff_EOS!$O$31:$X$31,vantHoff_EOS!$O$23:$X$23,$G19),\"-\")","v":0.88004402620307953},{"$f":"IF(T$3<=vantHoff_EOS!$N$19,y_iindex_NS_n0i_vi_X(T$3,vantHoff_EOS!$N$19,vantHoff_EOS!$O$31:$X$31,vantHoff_EOS!$O$23:$X$23,$G19),\"-\")","v":"-"},{"$f":"IF(U$3<=vantHoff_EOS!$N$19,y_iindex_NS_n0i_vi_X(U$3,vantHoff_EOS!$N$19,vantHoff_EOS!$O$31:$X$31,vantHoff_EOS!$O$23:$X$23,$G19),\"-\")","v":"-"},{"$f":"IF(V$3<=vantHoff_EOS!$N$19,y_iindex_NS_n0i_vi_X(V$3,vantHoff_EOS!$N$19,vantHoff_EOS!$O$31:$X$31,vantHoff_EOS!$O$23:$X$23,$G19),\"-\")","v":"-"},{"$f":"IF(W$3<=vantHoff_EOS!$N$19,y_iindex_NS_n0i_vi_X(W$3,vantHoff_EOS!$N$19,vantHoff_EOS!$O$31:$X$31,vantHoff_EOS!$O$23:$X$23,$G19),\"-\")","v":"-"},{"$f":"IF(X$3<=vantHoff_EOS!$N$19,y_iindex_NS_n0i_vi_X(X$3,vantHoff_EOS!$N$19,vantHoff_EOS!$O$31:$X$31,vantHoff_EOS!$O$23:$X$23,$G19),\"-\")","v":"-"},1,{"$f":"IF(Z$3<=vantHoff_EOS!$N$19,Phi_i_NS_Tci_Pci_wi_kijm_TinC_PinPa_yi(Z$3,vantHoff_EOS!$N$19,vantHoff_EOS!$X$5:$X$14,vantHoff_EOS!$Y$5:$Y$14,vantHoff_EOS!$Z$5:$Z$14,vantHoff_EOS!$AE$5:$AN$14,$C$2,B19*1000000,$O19:$X19),\"-\")","v":4.3585363042850265},{"$f":"IF(AA$3<=vantHoff_EOS!$N$19,Phi_i_NS_Tci_Pci_wi_kijm_TinC_PinPa_yi(AA$3,vantHoff_EOS!$N$19,vantHoff_EOS!$X$5:$X$14,vantHoff_EOS!$Y$5:$Y$14,vantHoff_EOS!$Z$5:$Z$14,vantHoff_EOS!$AE$5:$AN$14,$C$2,B19*1000000,$O19:$X19),\"-\")","v":7.1059805777860614},{"$f":"IF(AB$3<=vantHoff_EOS!$N$19,Phi_i_NS_Tci_Pci_wi_kijm_TinC_PinPa_yi(AB$3,vantHoff_EOS!$N$19,vantHoff_EOS!$X$5:$X$14,vantHoff_EOS!$Y$5:$Y$14,vantHoff_EOS!$Z$5:$Z$14,vantHoff_EOS!$AE$5:$AN$14,$C$2,B19*1000000,$O19:$X19),\"-\")","v":0.18331826686756855},{"$f":"IF(AC$3<=vantHoff_EOS!$N$19,Phi_i_NS_Tci_Pci_wi_kijm_TinC_PinPa_yi(AC$3,vantHoff_EOS!$N$19,vantHoff_EOS!$X$5:$X$14,vantHoff_EOS!$Y$5:$Y$14,vantHoff_EOS!$Z$5:$Z$14,vantHoff_EOS!$AE$5:$AN$14,$C$2,B19*1000000,$O19:$X19),\"-\")","v":6.9181352547472404E-3},{"$f":"IF(AD$3<=vantHoff_EOS!$N$19,Phi_i_NS_Tci_Pci_wi_kijm_TinC_PinPa_yi(AD$3,vantHoff_EOS!$N$19,vantHoff_EOS!$X$5:$X$14,vantHoff_EOS!$Y$5:$Y$14,vantHoff_EOS!$Z$5:$Z$14,vantHoff_EOS!$AE$5:$AN$14,$C$2,B19*1000000,$O19:$X19),\"-\")","v":0.59407019336980527},{"$f":"IF(AE$3<=vantHoff_EOS!$N$19,Phi_i_NS_Tci_Pci_wi_kijm_TinC_PinPa_yi(AE$3,vantHoff_EOS!$N$19,vantHoff_EOS!$X$5:$X$14,vantHoff_EOS!$Y$5:$Y$14,vantHoff_EOS!$Z$5:$Z$14,vantHoff_EOS!$AE$5:$AN$14,$C$2,B19*1000000,$O19:$X19),\"-\")","v":"-"},{"$f":"IF(AF$3<=vantHoff_EOS!$N$19,Phi_i_NS_Tci_Pci_wi_kijm_TinC_PinPa_yi(AF$3,vantHoff_EOS!$N$19,vantHoff_EOS!$X$5:$X$14,vantHoff_EOS!$Y$5:$Y$14,vantHoff_EOS!$Z$5:$Z$14,vantHoff_EOS!$AE$5:$AN$14,$C$2,B19*1000000,$O19:$X19),\"-\")","v":"-"},{"$f":"IF(AG$3<=vantHoff_EOS!$N$19,Phi_i_NS_Tci_Pci_wi_kijm_TinC_PinPa_yi(AG$3,vantHoff_EOS!$N$19,vantHoff_EOS!$X$5:$X$14,vantHoff_EOS!$Y$5:$Y$14,vantHoff_EOS!$Z$5:$Z$14,vantHoff_EOS!$AE$5:$AN$14,$C$2,B19*1000000,$O19:$X19),\"-\")","v":"-"},{"$f":"IF(AH$3<=vantHoff_EOS!$N$19,Phi_i_NS_Tci_Pci_wi_kijm_TinC_PinPa_yi(AH$3,vantHoff_EOS!$N$19,vantHoff_EOS!$X$5:$X$14,vantHoff_EOS!$Y$5:$Y$14,vantHoff_EOS!$Z$5:$Z$14,vantHoff_EOS!$AE$5:$AN$14,$C$2,B19*1000000,$O19:$X19),\"-\")","v":"-"},{"$f":"IF(AI$3<=vantHoff_EOS!$N$19,Phi_i_NS_Tci_Pci_wi_kijm_TinC_PinPa_yi(AI$3,vantHoff_EOS!$N$19,vantHoff_EOS!$X$5:$X$14,vantHoff_EOS!$Y$5:$Y$14,vantHoff_EOS!$Z$5:$Z$14,vantHoff_EOS!$AE$5:$AN$14,$C$2,B19*1000000,$O19:$X19),\"-\")","v":"-"}]
[17,{"$f":"B19+vantHoff_EOS!$E$26","v":11.199999999999989},320.14999999999998,3.1235358425737939E-3,{"$f":"lnKaT_Tref_lnKaTref_dHTref_da_db_dc_dd_de_TinC(vantHoff_EOS!$E$7,vantHoff_EOS!$B$9,vantHoff_EOS!$B$6,vantHoff_EOS!$O$27,vantHoff_EOS!$P$27,vantHoff_EOS!$Q$27,vantHoff_EOS!$R$27,vantHoff_EOS!$S$27,$C$2)","v":13.062534312676297},470962.76406017854,{"$f":"MolarExtentX_NS_vi_n0i_dHfi_dGfi_TrefinC_da_db_dc_dd_de_Tci_Pci_wi_kijm_TinC_PinPa(vantHoff_EOS!$N$19,vantHoff_EOS!$O$23:$X$23,vantHoff_EOS!$O$31:$X$31,vantHoff_EOS!$T$5:$T$14,vantHoff_EOS!$U$5:$U$14,vantHoff_EOS!$E$7,vantHoff_EOS!$O$27,vantHoff_EOS!$P$27,vantHoff_EOS!$Q$27,vantHoff_EOS!$R$27,vantHoff_EOS!$S$27,vantHoff_EOS!$X$5:$X$14,vantHoff_EOS!$Y$5:$Y$14,vantHoff_EOS!$Z$5:$Z$14,vantHoff_EOS!$AE$5:$AN$14,$C$2,B20*1000000)","v":0.9997558347416331},{"$f":"Ky_NS_n0i_vi_X(vantHoff_EOS!$N$19,vantHoff_EOS!$O$31:$X$31,vantHoff_EOS!$O$23:$X$23,G20)","v":4777770640787.7539},{"$f":"Kp_NS_vi_PinPa(vantHoff_EOS!$N$19,vantHoff_EOS!$O$23:$X$23,B20*1000000)","v":7.9719387755102238E-5},{"$f":"Kphi_NS_n0i_vi_X_Tci_Pci_wi_kijm_TinC_PinPa(vantHoff_EOS!$N$19,vantHoff_EOS!$O$31:$X$31,vantHoff_EOS!$O$23:$X$23,G20,vantHoff_EOS!$X$5:$X$14,vantHoff_EOS!$Y$5:$Y$14,vantHoff_EOS!$Z$5:$Z$14,vantHoff_EOS!$AE$5:$AN$14,$C$2,B20*1000000)","v":1.2365091078126223E-3},29.194995160496166,-9.4369977425901865,-6.6954631052291846,{"$f":"nT_NS_n0i_vi_X(vantHoff_EOS!$N$19,vantHoff_EOS!$O$31:$X$31,vantHoff_EOS!$O$23:$X$23,G20)","v":8.3404883305167345},{"$f":"IF(O$3<=vantHoff_EOS!$N$19,y_iindex_NS_n0i_vi_X(O$3,vantHoff_EOS!$N$19,vantHoff_EOS!$O$31:$X$31,vantHoff_EOS!$O$23:$X$23,$G20),\"-\")","v":2.9274695760143172E-5},{"$f":"IF(P$3<=vantHoff_EOS!$N$19,y_iindex_NS_n0i_vi_X(P$3,vantHoff_EOS!$N$19,vantHoff_EOS!$O$31:$X$31,vantHoff_EOS!$O$23:$X$23,$G20),\"-\")","v":2.9274695760143172E-5},{"$f":"IF(Q$3<=vantHoff_EOS!$N$19,y_iindex_NS_n0i_vi_X(Q$3,vantHoff_EOS!$N$19,vantHoff_EOS!$O$31:$X$31,vantHoff_EOS!$O$23:$X$23,$G20),\"-\")","v":2.9274695760143172E-5},{"$f":"IF(R$3<=vantHoff_EOS!$N$19,y_iindex_NS_n0i_vi_X(R$3,vantHoff_EOS!$N$19,vantHoff_EOS!$O$31:$X$31,vantHoff_EOS!$O$23:$X$23,$G20),\"-\")","v":0.11986778173211511},{"$f":"IF(S$3<=vantHoff_EOS!$N$19,y_iindex_NS_n0i_vi_X(S$3,vantHoff_EOS!$N$19,vantHoff_EOS!$O$31:$X$31,vantHoff_EOS!$O$23:$X$23,$G20),\"-\")","v":0.88004439418060432},{"$f":"IF(T$3<=vantHoff_EOS!$N$19,y_iindex_NS_n0i_vi_X(T$3,vantHoff_EOS!$N$19,vantHoff_EOS!$O$31:$X$31,vantHoff_EOS!$O$23:$X$23,$G20),\"-\")","v":"-"},{"$f":"IF(U$3<=vantHoff_EOS!$N$19,y_iindex_NS_n0i_vi_X(U$3,vantHoff_EOS!$N$19,vantHoff_EOS!$O$31:$X$31,vantHoff_EOS!$O$23:$X$23,$G20),\"-\")","v":"-"},{"$f":"IF(V$3<=vantHoff_EOS!$N$19,y_iindex_NS_n0i_vi_X(V$3,vantHoff_EOS!$N$19,vantHoff_EOS!$O$31:$X$31,vantHoff_EOS!$O$23:$X$23,$G20),\"-\")","v":"-"},{"$f":"IF(W$3<=vantHoff_EOS!$N$19,y_iindex_NS_n0i_vi_X(W$3,vantHoff_EOS!$N$19,vantHoff_EOS!$O$31:$X$31,vantHoff_EOS!$O$23:$X$23,$G20),\"-\")","v":"-"},{"$f":"IF(X$3<=vantHoff_EOS!$N$19,y_iindex_NS_n0i_vi_X(X$3,vantHoff_EOS!$N$19,vantHoff_EOS!$O$31:$X$31,vantHoff_EOS!$O$23:$X$23,$G20),\"-\")","v":"-"},0.99999999999999989,{"$f":"IF(Z$3<=vantHoff_EOS!$N$19,Phi_i_NS_Tci_Pci_wi_kijm_TinC_PinPa_yi(Z$3,vantHoff_EOS!$N$19,vantHoff_EOS!$X$5:$X$14,vantHoff_EOS!$Y$5:$Y$14,vantHoff_EOS!$Z$5:$Z$14,vantHoff_EOS!$AE$5:$AN$14,$C$2,B20*1000000,$O20:$X20),\"-\")","v":4.321522956714551},{"$f":"IF(AA$3<=vantHoff_EOS!$N$19,Phi_i_NS_Tci_Pci_wi_kijm_TinC_PinPa_yi(AA$3,vantHoff_EOS!$N$19,vantHoff_EOS!$X$5:$X$14,vantHoff_EOS!$Y$5:$Y$14,vantHoff_EOS!$Z$5:$Z$14,vantHoff_EOS!$AE$5:$AN$14,$C$2,B20*1000000,$O20:$X20),\"-\")","v":7.0444827746246315},{"$f":"IF(AB$3<=vantHoff_EOS!$N$19,Phi_i_NS_Tci_Pci_wi_kijm_TinC_PinPa_yi(AB$3,vantHoff_EOS!$N$19,vantHoff_EOS!$X$5:$X$14,vantHoff_EOS!$Y$5:$Y$14,vantHoff_EOS!$Z$5:$Z$14,vantHoff_EOS!$AE$5:$AN$14,$C$2,B20*1000000,$O20:$X20),\"-\")","v":0.18113062710074987},{"$f":"IF(AC$3<=vantHoff_EOS!$N$19,Phi_i_NS_Tci_Pci_wi_kijm_TinC_PinPa_yi(AC$3,vantHoff_EOS!$N$19,vantHoff_EOS!$X$5:$X$14,vantHoff_EOS!$Y$5:$Y$14,vantHoff_EOS!$Z$5:$Z$14,vantHoff_EOS!$AE$5:$AN$14,$C$2,B20*1000000,$O20:$X20),\"-\")","v":6.8182849329246255E-3},{"$f":"IF(AD$3<=vantHoff_EOS!$N$19,Phi_i_NS_Tci_Pci_wi_kijm_TinC_PinPa_yi(AD$3,vantHoff_EOS!$N$19,vantHoff_EOS!$X$5:$X$14,vantHoff_EOS!$Y$5:$Y$14,vantHoff_EOS!$Z$5:$Z$14,vantHoff_EOS!$AE$5:$AN$14,$C$2,B20*1000000,$O20:$X20),\"-\")","v":0.58628176621738226},{"$f":"IF(AE$3<=vantHoff_EOS!$N$19,Phi_i_NS_Tci_Pci_wi_kijm_TinC_PinPa_yi(AE$3,vantHoff_EOS!$N$19,vantHoff_EOS!$X$5:$X$14,vantHoff_EOS!$Y$5:$Y$14,vantHoff_EOS!$Z$5:$Z$14,vantHoff_EOS!$AE$5:$AN$14,$C$2,B20*1000000,$O20:$X20),\"-\")","v":"-"},{"$f":"IF(AF$3<=vantHoff_EOS!$N$19,Phi_i_NS_Tci_Pci_wi_kijm_TinC_PinPa_yi(AF$3,vantHoff_EOS!$N$19,vantHoff_EOS!$X$5:$X$14,vantHoff_EOS!$Y$5:$Y$14,vantHoff_EOS!$Z$5:$Z$14,vantHoff_EOS!$AE$5:$AN$14,$C$2,B20*1000000,$O20:$X20),\"-\")","v":"-"},{"$f":"IF(AG$3<=vantHoff_EOS!$N$19,Phi_i_NS_Tci_Pci_wi_kijm_TinC_PinPa_yi(AG$3,vantHoff_EOS!$N$19,vantHoff_EOS!$X$5:$X$14,vantHoff_EOS!$Y$5:$Y$14,vantHoff_EOS!$Z$5:$Z$14,vantHoff_EOS!$AE$5:$AN$14,$C$2,B20*1000000,$O20:$X20),\"-\")","v":"-"},{"$f":"IF(AH$3<=vantHoff_EOS!$N$19,Phi_i_NS_Tci_Pci_wi_kijm_TinC_PinPa_yi(AH$3,vantHoff_EOS!$N$19,vantHoff_EOS!$X$5:$X$14,vantHoff_EOS!$Y$5:$Y$14,vantHoff_EOS!$Z$5:$Z$14,vantHoff_EOS!$AE$5:$AN$14,$C$2,B20*1000000,$O20:$X20),\"-\")","v":"-"},{"$f":"IF(AI$3<=vantHoff_EOS!$N$19,Phi_i_NS_Tci_Pci_wi_kijm_TinC_PinPa_yi(AI$3,vantHoff_EOS!$N$19,vantHoff_EOS!$X$5:$X$14,vantHoff_EOS!$Y$5:$Y$14,vantHoff_EOS!$Z$5:$Z$14,vantHoff_EOS!$AE$5:$AN$14,$C$2,B20*1000000,$O20:$X20),\"-\")","v":"-"}]
[18,{"$f":"B20+vantHoff_EOS!$E$26","v":11.399999999999988},320.14999999999998,3.1235358425737939E-3,{"$f":"lnKaT_Tref_lnKaTref_dHTref_da_db_dc_dd_de_TinC(vantHoff_EOS!$E$7,vantHoff_EOS!$B$9,vantHoff_EOS!$B$6,vantHoff_EOS!$O$27,vantHoff_EOS!$P$27,vantHoff_EOS!$Q$27,vantHoff_EOS!$R$27,vantHoff_EOS!$S$27,$C$2)","v":13.062534312676297},470962.76406017854,{"$f":"MolarExtentX_NS_vi_n0i_dHfi_dGfi_TrefinC_da_db_dc_dd_de_Tci_Pci_wi_kijm_TinC_PinPa(vantHoff_EOS!$N$19,vantHoff_EOS!$O$23:$X$23,vantHoff_EOS!$O$31:$X$31,vantHoff_EOS!$T$5:$T$14,vantHoff_EOS!$U$5:$U$14,vantHoff_EOS!$E$7,vantHoff_EOS!$O$27,vantHoff_EOS!$P$27,vantHoff_EOS!$Q$27,vantHoff_EOS!$R$27,vantHoff_EOS!$S$27,vantHoff_EOS!$X$5:$X$14,vantHoff_EOS!$Y$5:$Y$14,vantHoff_EOS!$Z$5:$Z$14,vantHoff_EOS!$AE$5:$AN$14,$C$2,B21*1000000)","v":0.9997575351431468},{"$f":"Ky_NS_n0i_vi_X(vantHoff_EOS!$N$19,vantHoff_EOS!$O$31:$X$31,vantHoff_EOS!$O$23:$X$23,G21)","v":4879000796674.3955},{"$f":"Kp_NS_vi_PinPa(vantHoff_EOS!$N$19,vantHoff_EOS!$O$23:$X$23,B21*1000000)","v":7.6946752847030002E-5},{"$f":"Kphi_NS_n0i_vi_X_Tci_Pci_wi_kijm_TinC_PinPa(vantHoff_EOS!$N$19,vantHoff_EOS!$O$31:$X$31,vantHoff_EOS!$O$23:$X$23,G21,vantHoff_EOS!$X$5:$X$14,vantHoff_EOS!$Y$5:$Y$14,vantHoff_EOS!$Z$5:$Z$14,vantHoff_EOS!$AE$5:$AN$14,$C$2,B21*1000000)","v":1.2544847473481523E-3},29.215961560048644,-9.4723968967889896,-6.6810303505831232,{"$f":"nT_NS_n0i_vi_X(vantHoff_EOS!$N$19,vantHoff_EOS!$O$31:$X$31,vantHoff_EOS!$O$23:$X$23,G21)","v":8.3404849297137069},{"$f":"IF(O$3<=vantHoff_EOS!$N$19,y_iindex_NS_n0i_vi_X(O$3,vantHoff_EOS!$N$19,vantHoff_EOS!$O$31:$X$31,vantHoff_EOS!$O$23:$X$23,$G21),\"-\")","v":2.907083447742889E-5},{"$f":"IF(P$3<=vantHoff_EOS!$N$19,y_iindex_NS_n0i_vi_X(P$3,vantHoff_EOS!$N$19,vantHoff_EOS!$O$31:$X$31,vantHoff_EOS!$O$23:$X$23,$G21),\"-\")","v":2.907083447742889E-5},{"$f":"IF(Q$3<=vantHoff_EOS!$N$19,y_iindex_NS_n0i_vi_X(Q$3,vantHoff_EOS!$N$19,vantHoff_EOS!$O$31:$X$31,vantHoff_EOS!$O$23:$X$23,$G21),\"-\")","v":2.907083447742889E-5},{"$f":"IF(R$3<=vantHoff_EOS!$N$19,y_iindex_NS_n0i_vi_X(R$3,vantHoff_EOS!$N$19,vantHoff_EOS!$O$31:$X$31,vantHoff_EOS!$O$23:$X$23,$G21),\"-\")","v":0.1198680344809956},{"$f":"IF(S$3<=vantHoff_EOS!$N$19,y_iindex_NS_n0i_vi_X(S$3,vantHoff_EOS!$N$19,vantHoff_EOS!$O$31:$X$31,vantHoff_EOS!$O$23:$X$23,$G21),\"-\")","v":0.88004475301557206},{"$f":"IF(T$3<=vantHoff_EOS!$N$19,y_iindex_NS_n0i_vi_X(T$3,vantHoff_EOS!$N$19,vantHoff_EOS!$O$31:$X$31,vantHoff_EOS!$O$23:$X$23,$G21),\"-\")","v":"-"},{"$f":"IF(U$3<=vantHoff_EOS!$N$19,y_iindex_NS_n0i_vi_X(U$3,vantHoff_EOS!$N$19,vantHoff_EOS!$O$31:$X$31,vantHoff_EOS!$O$23:$X$23,$G21),\"-\")","v":"-"},{"$f":"IF(V$3<=vantHoff_EOS!$N$19,y_iindex_NS_n0i_vi_X(V$3,vantHoff_EOS!$N$19,vantHoff_EOS!$O$31:$X$31,vantHoff_EOS!$O$23:$X$23,$G21),\"-\")","v":"-"},{"$f":"IF(W$3<=vantHoff_EOS!$N$19,y_iindex_NS_n0i_vi_X(W$3,vantHoff_EOS!$N$19,vantHoff_EOS!$O$31:$X$31,vantHoff_EOS!$O$23:$X$23,$G21),\"-\")","v":"-"},{"$f":"IF(X$3<=vantHoff_EOS!$N$19,y_iindex_NS_n0i_vi_X(X$3,vantHoff_EOS!$N$19,vantHoff_EOS!$O$31:$X$31,vantHoff_EOS!$O$23:$X$23,$G21),\"-\")","v":"-"},1,{"$f":"IF(Z$3<=vantHoff_EOS!$N$19,Phi_i_NS_Tci_Pci_wi_kijm_TinC_PinPa_yi(Z$3,vantHoff_EOS!$N$19,vantHoff_EOS!$X$5:$X$14,vantHoff_EOS!$Y$5:$Y$14,vantHoff_EOS!$Z$5:$Z$14,vantHoff_EOS!$AE$5:$AN$14,$C$2,B21*1000000,$O21:$X21),\"-\")","v":4.2856461899805245},{"$f":"IF(AA$3<=vantHoff_EOS!$N$19,Phi_i_NS_Tci_Pci_wi_kijm_TinC_PinPa_yi(AA$3,vantHoff_EOS!$N$19,vantHoff_EOS!$X$5:$X$14,vantHoff_EOS!$Y$5:$Y$14,vantHoff_EOS!$Z$5:$Z$14,vantHoff_EOS!$AE$5:$AN$14,$C$2,B21*1000000,$O21:$X21),\"-\")","v":6.9847665015104523},{"$f":"IF(AB$3<=vantHoff_EOS!$N$19,Phi_i_NS_Tci_Pci_wi_kijm_TinC_PinPa_yi(AB$3,vantHoff_EOS!$N$19,vantHoff_EOS!$X$5:$X$14,vantHoff_EOS!$Y$5:$Y$14,vantHoff_EOS!$Z$5:$Z$14,vantHoff_EOS!$AE$5:$AN$14,$C$2,B21*1000000,$O21:$X21),\"-\")","v":0.17902498141636805},{"$f":"IF(AC$3<=vantHoff_EOS!$N$19,Phi_i_NS_Tci_Pci_wi_kijm_TinC_PinPa_yi(AC$3,vantHoff_EOS!$N$19,vantHoff_EOS!$X$5:$X$14,vantHoff_EOS!$Y$5:$Y$14,vantHoff_EOS!$Z$5:$Z$14,vantHoff_EOS!$AE$5:$AN$14,$C$2,B21*1000000,$O21:$X21),\"-\")","v":6.7227541449558451E-3},{"$f":"IF(AD$3<=vantHoff_EOS!$N$19,Phi_i_NS_Tci_Pci_wi_kijm_TinC_PinPa_yi(AD$3,vantHoff_EOS!$N$19,vantHoff_EOS!$X$5:$X$14,vantHoff_EOS!$Y$5:$Y$14,vantHoff_EOS!$Z$5:$Z$14,vantHoff_EOS!$AE$5:$AN$14,$C$2,B21*1000000,$O21:$X21),\"-\")","v":0.57876169375325259},{"$f":"IF(AE$3<=vantHoff_EOS!$N$19,Phi_i_NS_Tci_Pci_wi_kijm_TinC_PinPa_yi(AE$3,vantHoff_EOS!$N$19,vantHoff_EOS!$X$5:$X$14,vantHoff_EOS!$Y$5:$Y$14,vantHoff_EOS!$Z$5:$Z$14,vantHoff_EOS!$AE$5:$AN$14,$C$2,B21*1000000,$O21:$X21),\"-\")","v":"-"},{"$f":"IF(AF$3<=vantHoff_EOS!$N$19,Phi_i_NS_Tci_Pci_wi_kijm_TinC_PinPa_yi(AF$3,vantHoff_EOS!$N$19,vantHoff_EOS!$X$5:$X$14,vantHoff_EOS!$Y$5:$Y$14,vantHoff_EOS!$Z$5:$Z$14,vantHoff_EOS!$AE$5:$AN$14,$C$2,B21*1000000,$O21:$X21),\"-\")","v":"-"},{"$f":"IF(AG$3<=vantHoff_EOS!$N$19,Phi_i_NS_Tci_Pci_wi_kijm_TinC_PinPa_yi(AG$3,vantHoff_EOS!$N$19,vantHoff_EOS!$X$5:$X$14,vantHoff_EOS!$Y$5:$Y$14,vantHoff_EOS!$Z$5:$Z$14,vantHoff_EOS!$AE$5:$AN$14,$C$2,B21*1000000,$O21:$X21),\"-\")","v":"-"},{"$f":"IF(AH$3<=vantHoff_EOS!$N$19,Phi_i_NS_Tci_Pci_wi_kijm_TinC_PinPa_yi(AH$3,vantHoff_EOS!$N$19,vantHoff_EOS!$X$5:$X$14,vantHoff_EOS!$Y$5:$Y$14,vantHoff_EOS!$Z$5:$Z$14,vantHoff_EOS!$AE$5:$AN$14,$C$2,B21*1000000,$O21:$X21),\"-\")","v":"-"},{"$f":"IF(AI$3<=vantHoff_EOS!$N$19,Phi_i_NS_Tci_Pci_wi_kijm_TinC_PinPa_yi(AI$3,vantHoff_EOS!$N$19,vantHoff_EOS!$X$5:$X$14,vantHoff_EOS!$Y$5:$Y$14,vantHoff_EOS!$Z$5:$Z$14,vantHoff_EOS!$AE$5:$AN$14,$C$2,B21*1000000,$O21:$X21),\"-\")","v":"-"}]
[19,{"$f":"B21+vantHoff_EOS!$E$26","v":11.599999999999987},320.14999999999998,3.1235358425737939E-3,{"$f":"lnKaT_Tref_lnKaTref_dHTref_da_db_dc_dd_de_TinC(vantHoff_EOS!$E$7,vantHoff_EOS!$B$9,vantHoff_EOS!$B$6,vantHoff_EOS!$O$27,vantHoff_EOS!$P$27,vantHoff_EOS!$Q$27,vantHoff_EOS!$R$27,vantHoff_EOS!$S$27,$C$2)","v":13.062534312676297},470962.76406017854,{"$f":"MolarExtentX_NS_vi_n0i_dHfi_dGfi_TrefinC_da_db_dc_dd_de_Tci_Pci_wi_kijm_TinC_PinPa(vantHoff_EOS!$N$19,vantHoff_EOS!$O$23:$X$23,vantHoff_EOS!$O$31:$X$31,vantHoff_EOS!$T$5:$T$14,vantHoff_EOS!$U$5:$U$14,vantHoff_EOS!$E$7,vantHoff_EOS!$O$27,vantHoff_EOS!$P$27,vantHoff_EOS!$Q$27,vantHoff_EOS!$R$27,vantHoff_EOS!$S$27,vantHoff_EOS!$X$5:$X$14,vantHoff_EOS!$Y$5:$Y$14,vantHoff_EOS!$Z$5:$Z$14,vantHoff_EOS!$AE$5:$AN$14,$C$2,B22*1000000)","v":0.99975919423293458},{"$f":"Ky_NS_n0i_vi_X(vantHoff_EOS!$N$19,vantHoff_EOS!$O$31:$X$31,vantHoff_EOS!$O$23:$X$23,G22)","v":4980546673031.1475},{"$f":"Kp_NS_vi_PinPa(vantHoff_EOS!$N$19,vantHoff_EOS!$O$23:$X$23,B22*1000000)","v":7.4316290130796867E-5},{"$f":"Kphi_NS_n0i_vi_X_Tci_Pci_wi_kijm_TinC_PinPa(vantHoff_EOS!$N$19,vantHoff_EOS!$O$31:$X$31,vantHoff_EOS!$O$23:$X$23,G22,vantHoff_EOS!$X$5:$X$14,vantHoff_EOS!$Y$5:$Y$14,vantHoff_EOS!$Z$5:$Z$14,vantHoff_EOS!$AE$5:$AN$14,$C$2,B22*1000000)","v":1.2724054946639054E-3},29.23656077464145,-9.5071803822127272,-6.6668460797522515,{"$f":"nT_NS_n0i_vi_X(vantHoff_EOS!$N$19,vantHoff_EOS!$O$31:$X$31,vantHoff_EOS!$O$23:$X$23,G22)","v":8.3404816115341305},{"$f":"IF(O$3<=vantHoff_EOS!$N$19,y_iindex_NS_n0i_vi_X(O$3,vantHoff_EOS!$N$19,vantHoff_EOS!$O$31:$X$31,vantHoff_EOS!$O$23:$X$23,$G22),\"-\")","v":2.8871925900826785E-5},{"$f":"IF(P$3<=vantHoff_EOS!$N$19,y_iindex_NS_n0i_vi_X(P$3,vantHoff_EOS!$N$19,vantHoff_EOS!$O$31:$X$31,vantHoff_EOS!$O$23:$X$23,$G22),\"-\")","v":2.8871925900826785E-5},{"$f":"IF(Q$3<=vantHoff_EOS!$N$19,y_iindex_NS_n0i_vi_X(Q$3,vantHoff_EOS!$N$19,vantHoff_EOS!$O$31:$X$31,vantHoff_EOS!$O$23:$X$23,$G22),\"-\")","v":2.8871925900826785E-5},{"$f":"IF(R$3<=vantHoff_EOS!$N$19,y_iindex_NS_n0i_vi_X(R$3,vantHoff_EOS!$N$19,vantHoff_EOS!$O$31:$X$31,vantHoff_EOS!$O$23:$X$23,$G22),\"-\")","v":0.11986828108947069},{"$f":"IF(S$3<=vantHoff_EOS!$N$19,y_iindex_NS_n0i_vi_X(S$3,vantHoff_EOS!$N$19,vantHoff_EOS!$O$31:$X$31,vantHoff_EOS!$O$23:$X$23,$G22),\"-\")","v":0.88004510313282691},{"$f":"IF(T$3<=vantHoff_EOS!$N$19,y_iindex_NS_n0i_vi_X(T$3,vantHoff_EOS!$N$19,vantHoff_EOS!$O$31:$X$31,vantHoff_EOS!$O$23:$X$23,$G22),\"-\")","v":"-"},{"$f":"IF(U$3<=vantHoff_EOS!$N$19,y_iindex_NS_n0i_vi_X(U$3,vantHoff_EOS!$N$19,vantHoff_EOS!$O$31:$X$31,vantHoff_EOS!$O$23:$X$23,$G22),\"-\")","v":"-"},{"$f":"IF(V$3<=vantHoff_EOS!$N$19,y_iindex_NS_n0i_vi_X(V$3,vantHoff_EOS!$N$19,vantHoff_EOS!$O$31:$X$31,vantHoff_EOS!$O$23:$X$23,$G22),\"-\")","v":"-"},{"$f":"IF(W$3<=vantHoff_EOS!$N$19,y_iindex_NS_n0i_vi_X(W$3,vantHoff_EOS!$N$19,vantHoff_EOS!$O$31:$X$31,vantHoff_EOS!$O$23:$X$23,$G22),\"-\")","v":"-"},{"$f":"IF(X$3<=vantHoff_EOS!$N$19,y_iindex_NS_n0i_vi_X(X$3,vantHoff_EOS!$N$19,vantHoff_EOS!$O$31:$X$31,vantHoff_EOS!$O$23:$X$23,$G22),\"-\")","v":"-"},1,{"$f":"IF(Z$3<=vantHoff_EOS!$N$19,Phi_i_NS_Tci_Pci_wi_kijm_TinC_PinPa_yi(Z$3,vantHoff_EOS!$N$19,vantHoff_EOS!$X$5:$X$14,vantHoff_EOS!$Y$5:$Y$14,vantHoff_EOS!$Z$5:$Z$14,vantHoff_EOS!$AE$5:$AN$14,$C$2,B22*1000000,$O22:$X22),\"-\")","v":4.2508574492457782},{"$f":"IF(AA$3<=vantHoff_EOS!$N$19,Phi_i_NS_Tci_Pci_wi_kijm_TinC_PinPa_yi(AA$3,vantHoff_EOS!$N$19,vantHoff_EOS!$X$5:$X$14,vantHoff_EOS!$Y$5:$Y$14,vantHoff_EOS!$Z$5:$Z$14,vantHoff_EOS!$AE$5:$AN$14,$C$2,B22*1000000,$O22:$X22),\"-\")","v":6.9267581657177457},{"$f":"IF(AB$3<=vantHoff_EOS!$N$19,Phi_i_NS_Tci_Pci_wi_kijm_TinC_PinPa_yi(AB$3,vantHoff_EOS!$N$19,vantHoff_EOS!$X$5:$X$14,vantHoff_EOS!$Y$5:$Y$14,vantHoff_EOS!$Z$5:$Z$14,vantHoff_EOS!$AE$5:$AN$14,$C$2,B22*1000000,$O22:$X22),\"-\")","v":0.17699708722583909},{"$f":"IF(AC$3<=vantHoff_EOS!$N$19,Phi_i_NS_Tci_Pci_wi_kijm_TinC_PinPa_yi(AC$3,vantHoff_EOS!$N$19,vantHoff_EOS!$X$5:$X$14,vantHoff_EOS!$Y$5:$Y$14,vantHoff_EOS!$Z$5:$Z$14,vantHoff_EOS!$AE$5:$AN$14,$C$2,B22*1000000,$O22:$X22),\"-\")","v":6.6312930694545748E-3},{"$f":"IF(AD$3<=vantHoff_EOS!$N$19,Phi_i_NS_Tci_Pci_wi_kijm_TinC_PinPa_yi(AD$3,vantHoff_EOS!$N$19,vantHoff_EOS!$X$5:$X$14,vantHoff_EOS!$Y$5:$Y$14,vantHoff_EOS!$Z$5:$Z$14,vantHoff_EOS!$AE$5:$AN$14,$C$2,B22*1000000,$O22:$X22),\"-\")","v":0.57149654005026174},{"$f":"IF(AE$3<=vantHoff_EOS!$N$19,Phi_i_NS_Tci_Pci_wi_kijm_TinC_PinPa_yi(AE$3,vantHoff_EOS!$N$19,vantHoff_EOS!$X$5:$X$14,vantHoff_EOS!$Y$5:$Y$14,vantHoff_EOS!$Z$5:$Z$14,vantHoff_EOS!$AE$5:$AN$14,$C$2,B22*1000000,$O22:$X22),\"-\")","v":"-"},{"$f":"IF(AF$3<=vantHoff_EOS!$N$19,Phi_i_NS_Tci_Pci_wi_kijm_TinC_PinPa_yi(AF$3,vantHoff_EOS!$N$19,vantHoff_EOS!$X$5:$X$14,vantHoff_EOS!$Y$5:$Y$14,vantHoff_EOS!$Z$5:$Z$14,vantHoff_EOS!$AE$5:$AN$14,$C$2,B22*1000000,$O22:$X22),\"-\")","v":"-"},{"$f":"IF(AG$3<=vantHoff_EOS!$N$19,Phi_i_NS_Tci_Pci_wi_kijm_TinC_PinPa_yi(AG$3,vantHoff_EOS!$N$19,vantHoff_EOS!$X$5:$X$14,vantHoff_EOS!$Y$5:$Y$14,vantHoff_EOS!$Z$5:$Z$14,vantHoff_EOS!$AE$5:$AN$14,$C$2,B22*1000000,$O22:$X22),\"-\")","v":"-"},{"$f":"IF(AH$3<=vantHoff_EOS!$N$19,Phi_i_NS_Tci_Pci_wi_kijm_TinC_PinPa_yi(AH$3,vantHoff_EOS!$N$19,vantHoff_EOS!$X$5:$X$14,vantHoff_EOS!$Y$5:$Y$14,vantHoff_EOS!$Z$5:$Z$14,vantHoff_EOS!$AE$5:$AN$14,$C$2,B22*1000000,$O22:$X22),\"-\")","v":"-"},{"$f":"IF(AI$3<=vantHoff_EOS!$N$19,Phi_i_NS_Tci_Pci_wi_kijm_TinC_PinPa_yi(AI$3,vantHoff_EOS!$N$19,vantHoff_EOS!$X$5:$X$14,vantHoff_EOS!$Y$5:$Y$14,vantHoff_EOS!$Z$5:$Z$14,vantHoff_EOS!$AE$5:$AN$14,$C$2,B22*1000000,$O22:$X22),\"-\")","v":"-"}]
[20,{"$f":"B22+vantHoff_EOS!$E$26","v":11.799999999999986},320.14999999999998,3.1235358425737939E-3,{"$f":"lnKaT_Tref_lnKaTref_dHTref_da_db_dc_dd_de_TinC(vantHoff_EOS!$E$7,vantHoff_EOS!$B$9,vantHoff_EOS!$B$6,vantHoff_EOS!$O$27,vantHoff_EOS!$P$27,vantHoff_EOS!$Q$27,vantHoff_EOS!$R$27,vantHoff_EOS!$S$27,$C$2)","v":13.062534312676297},470962.76406017854,{"$f":"MolarExtentX_NS_vi_n0i_dHfi_dGfi_TrefinC_da_db_dc_dd_de_Tci_Pci_wi_kijm_TinC_PinPa(vantHoff_EOS!$N$19,vantHoff_EOS!$O$23:$X$23,vantHoff_EOS!$O$31:$X$31,vantHoff_EOS!$T$5:$T$14,vantHoff_EOS!$U$5:$U$14,vantHoff_EOS!$E$7,vantHoff_EOS!$O$27,vantHoff_EOS!$P$27,vantHoff_EOS!$Q$27,vantHoff_EOS!$R$27,vantHoff_EOS!$S$27,vantHoff_EOS!$X$5:$X$14,vantHoff_EOS!$Y$5:$Y$14,vantHoff_EOS!$Z$5:$Z$14,vantHoff_EOS!$AE$5:$AN$14,$C$2,B23*1000000)","v":0.99976081388675819},{"$f":"Ky_NS_n0i_vi_X(vantHoff_EOS!$N$19,vantHoff_EOS!$O$31:$X$31,vantHoff_EOS!$O$23:$X$23,G23)","v":5082415263165.6133},{"$f":"Kp_NS_vi_PinPa(vantHoff_EOS!$N$19,vantHoff_EOS!$O$23:$X$23,B23*1000000)","v":7.181844297615643E-5},{"$f":"Kphi_NS_n0i_vi_X_Tci_Pci_wi_kijm_TinC_PinPa(vantHoff_EOS!$N$19,vantHoff_EOS!$O$31:$X$31,vantHoff_EOS!$O$23:$X$23,G23,vantHoff_EOS!$X$5:$X$14,vantHoff_EOS!$Y$5:$Y$14,vantHoff_EOS!$Z$5:$Z$14,vantHoff_EOS!$AE$5:$AN$14,$C$2,B23*1000000)","v":1.2902695248650808E-3},29.256807710035577,-9.5413692489313267,-6.6529041484282869,{"$f":"nT_NS_n0i_vi_X(vantHoff_EOS!$N$19,vantHoff_EOS!$O$31:$X$31,vantHoff_EOS!$O$23:$X$23,G23)","v":8.3404783722264835},{"$f":"IF(O$3<=vantHoff_EOS!$N$19,y_iindex_NS_n0i_vi_X(O$3,vantHoff_EOS!$N$19,vantHoff_EOS!$O$31:$X$31,vantHoff_EOS!$O$23:$X$23,$G23),\"-\")","v":2.8677745156475555E-5},{"$f":"IF(P$3<=vantHoff_EOS!$N$19,y_iindex_NS_n0i_vi_X(P$3,vantHoff_EOS!$N$19,vantHoff_EOS!$O$31:$X$31,vantHoff_EOS!$O$23:$X$23,$G23),\"-\")","v":2.8677745156475555E-5},{"$f":"IF(Q$3<=vantHoff_EOS!$N$19,y_iindex_NS_n0i_vi_X(Q$3,vantHoff_EOS!$N$19,vantHoff_EOS!$O$31:$X$31,vantHoff_EOS!$O$23:$X$23,$G23),\"-\")","v":2.8677745156475555E-5},{"$f":"IF(R$3<=vantHoff_EOS!$N$19,y_iindex_NS_n0i_vi_X(R$3,vantHoff_EOS!$N$19,vantHoff_EOS!$O$31:$X$31,vantHoff_EOS!$O$23:$X$23,$G23),\"-\")","v":0.11986852183634078},{"$f":"IF(S$3<=vantHoff_EOS!$N$19,y_iindex_NS_n0i_vi_X(S$3,vantHoff_EOS!$N$19,vantHoff_EOS!$O$31:$X$31,vantHoff_EOS!$O$23:$X$23,$G23),\"-\")","v":0.88004544492818981},{"$f":"IF(T$3<=vantHoff_EOS!$N$19,y_iindex_NS_n0i_vi_X(T$3,vantHoff_EOS!$N$19,vantHoff_EOS!$O$31:$X$31,vantHoff_EOS!$O$23:$X$23,$G23),\"-\")","v":"-"},{"$f":"IF(U$3<=vantHoff_EOS!$N$19,y_iindex_NS_n0i_vi_X(U$3,vantHoff_EOS!$N$19,vantHoff_EOS!$O$31:$X$31,vantHoff_EOS!$O$23:$X$23,$G23),\"-\")","v":"-"},{"$f":"IF(V$3<=vantHoff_EOS!$N$19,y_iindex_NS_n0i_vi_X(V$3,vantHoff_EOS!$N$19,vantHoff_EOS!$O$31:$X$31,vantHoff_EOS!$O$23:$X$23,$G23),\"-\")","v":"-"},{"$f":"IF(W$3<=vantHoff_EOS!$N$19,y_iindex_NS_n0i_vi_X(W$3,vantHoff_EOS!$N$19,vantHoff_EOS!$O$31:$X$31,vantHoff_EOS!$O$23:$X$23,$G23),\"-\")","v":"-"},{"$f":"IF(X$3<=vantHoff_EOS!$N$19,y_iindex_NS_n0i_vi_X(X$3,vantHoff_EOS!$N$19,vantHoff_EOS!$O$31:$X$31,vantHoff_EOS!$O$23:$X$23,$G23),\"-\")","v":"-"},1,{"$f":"IF(Z$3<=vantHoff_EOS!$N$19,Phi_i_NS_Tci_Pci_wi_kijm_TinC_PinPa_yi(Z$3,vantHoff_EOS!$N$19,vantHoff_EOS!$X$5:$X$14,vantHoff_EOS!$Y$5:$Y$14,vantHoff_EOS!$Z$5:$Z$14,vantHoff_EOS!$AE$5:$AN$14,$C$2,B23*1000000,$O23:$X23),\"-\")","v":4.2171108430296496},{"$f":"IF(AA$3<=vantHoff_EOS!$N$19,Phi_i_NS_Tci_Pci_wi_kijm_TinC_PinPa_yi(AA$3,vantHoff_EOS!$N$19,vantHoff_EOS!$X$5:$X$14,vantHoff_EOS!$Y$5:$Y$14,vantHoff_EOS!$Z$5:$Z$14,vantHoff_EOS!$AE$5:$AN$14,$C$2,B23*1000000,$O23:$X23),\"-\")","v":6.8703880187386126},{"$f":"IF(AB$3<=vantHoff_EOS!$N$19,Phi_i_NS_Tci_Pci_wi_kijm_TinC_PinPa_yi(AB$3,vantHoff_EOS!$N$19,vantHoff_EOS!$X$5:$X$14,vantHoff_EOS!$Y$5:$Y$14,vantHoff_EOS!$Z$5:$Z$14,vantHoff_EOS!$AE$5:$AN$14,$C$2,B23*1000000,$O23:$X23),\"-\")","v":0.17504299218748018},{"$f":"IF(AC$3<=vantHoff_EOS!$N$19,Phi_i_NS_Tci_Pci_wi_kijm_TinC_PinPa_yi(AC$3,vantHoff_EOS!$N$19,vantHoff_EOS!$X$5:$X$14,vantHoff_EOS!$Y$5:$Y$14,vantHoff_EOS!$Z$5:$Z$14,vantHoff_EOS!$AE$5:$AN$14,$C$2,B23*1000000,$O23:$X23),\"-\")","v":6.5436709085281378E-3},{"$f":"IF(AD$3<=vantHoff_EOS!$N$19,Phi_i_NS_Tci_Pci_wi_kijm_TinC_PinPa_yi(AD$3,vantHoff_EOS!$N$19,vantHoff_EOS!$X$5:$X$14,vantHoff_EOS!$Y$5:$Y$14,vantHoff_EOS!$Z$5:$Z$14,vantHoff_EOS!$AE$5:$AN$14,$C$2,B23*1000000,$O23:$X23),\"-\")","v":0.56447375370390462},{"$f":"IF(AE$3<=vantHoff_EOS!$N$19,Phi_i_NS_Tci_Pci_wi_kijm_TinC_PinPa_yi(AE$3,vantHoff_EOS!$N$19,vantHoff_EOS!$X$5:$X$14,vantHoff_EOS!$Y$5:$Y$14,vantHoff_EOS!$Z$5:$Z$14,vantHoff_EOS!$AE$5:$AN$14,$C$2,B23*1000000,$O23:$X23),\"-\")","v":"-"},{"$f":"IF(AF$3<=vantHoff_EOS!$N$19,Phi_i_NS_Tci_Pci_wi_kijm_TinC_PinPa_yi(AF$3,vantHoff_EOS!$N$19,vantHoff_EOS!$X$5:$X$14,vantHoff_EOS!$Y$5:$Y$14,vantHoff_EOS!$Z$5:$Z$14,vantHoff_EOS!$AE$5:$AN$14,$C$2,B23*1000000,$O23:$X23),\"-\")","v":"-"},{"$f":"IF(AG$3<=vantHoff_EOS!$N$19,Phi_i_NS_Tci_Pci_wi_kijm_TinC_PinPa_yi(AG$3,vantHoff_EOS!$N$19,vantHoff_EOS!$X$5:$X$14,vantHoff_EOS!$Y$5:$Y$14,vantHoff_EOS!$Z$5:$Z$14,vantHoff_EOS!$AE$5:$AN$14,$C$2,B23*1000000,$O23:$X23),\"-\")","v":"-"},{"$f":"IF(AH$3<=vantHoff_EOS!$N$19,Phi_i_NS_Tci_Pci_wi_kijm_TinC_PinPa_yi(AH$3,vantHoff_EOS!$N$19,vantHoff_EOS!$X$5:$X$14,vantHoff_EOS!$Y$5:$Y$14,vantHoff_EOS!$Z$5:$Z$14,vantHoff_EOS!$AE$5:$AN$14,$C$2,B23*1000000,$O23:$X23),\"-\")","v":"-"},{"$f":"IF(AI$3<=vantHoff_EOS!$N$19,Phi_i_NS_Tci_Pci_wi_kijm_TinC_PinPa_yi(AI$3,vantHoff_EOS!$N$19,vantHoff_EOS!$X$5:$X$14,vantHoff_EOS!$Y$5:$Y$14,vantHoff_EOS!$Z$5:$Z$14,vantHoff_EOS!$AE$5:$AN$14,$C$2,B23*1000000,$O23:$X23),\"-\")","v":"-"}]
[21,{"$f":"B23+vantHoff_EOS!$E$26","v":11.999999999999986},320.14999999999998,3.1235358425737939E-3,{"$f":"lnKaT_Tref_lnKaTref_dHTref_da_db_dc_dd_de_TinC(vantHoff_EOS!$E$7,vantHoff_EOS!$B$9,vantHoff_EOS!$B$6,vantHoff_EOS!$O$27,vantHoff_EOS!$P$27,vantHoff_EOS!$Q$27,vantHoff_EOS!$R$27,vantHoff_EOS!$S$27,$C$2)","v":13.062534312676297},470962.76406017854,{"$f":"MolarExtentX_NS_vi_n0i_dHfi_dGfi_TrefinC_da_db_dc_dd_de_Tci_Pci_wi_kijm_TinC_PinPa(vantHoff_EOS!$N$19,vantHoff_EOS!$O$23:$X$23,vantHoff_EOS!$O$31:$X$31,vantHoff_EOS!$T$5:$T$14,vantHoff_EOS!$U$5:$U$14,vantHoff_EOS!$E$7,vantHoff_EOS!$O$27,vantHoff_EOS!$P$27,vantHoff_EOS!$Q$27,vantHoff_EOS!$R$27,vantHoff_EOS!$S$27,vantHoff_EOS!$X$5:$X$14,vantHoff_EOS!$Y$5:$Y$14,vantHoff_EOS!$Z$5:$Z$14,vantHoff_EOS!$AE$5:$AN$14,$C$2,B24*1000000)","v":0.99976239585517124},{"$f":"Ky_NS_n0i_vi_X(vantHoff_EOS!$N$19,vantHoff_EOS!$O$31:$X$31,vantHoff_EOS!$O$23:$X$23,G24)","v":5184613091678.8984},{"$f":"Kp_NS_vi_PinPa(vantHoff_EOS!$N$19,vantHoff_EOS!$O$23:$X$23,B24*1000000)","v":6.9444444444444634E-5},{"$f":"Kphi_NS_n0i_vi_X_Tci_Pci_wi_kijm_TinC_PinPa(vantHoff_EOS!$N$19,vantHoff_EOS!$O$31:$X$31,vantHoff_EOS!$O$23:$X$23,G24,vantHoff_EOS!$X$5:$X$14,vantHoff_EOS!$Y$5:$Y$14,vantHoff_EOS!$Z$5:$Z$14,vantHoff_EOS!$AE$5:$AN$14,$C$2,B24*1000000)","v":1.3080751991596787E-3},29.276716334127396,-9.5749834855640898,-6.6391985358874228,{"$f":"nT_NS_n0i_vi_X(vantHoff_EOS!$N$19,vantHoff_EOS!$O$31:$X$31,vantHoff_EOS!$O$23:$X$23,G24)","v":8.3404752082896572},{"$f":"IF(O$3<=vantHoff_EOS!$N$19,y_iindex_NS_n0i_vi_X(O$3,vantHoff_EOS!$N$19,vantHoff_EOS!$O$31:$X$31,vantHoff_EOS!$O$23:$X$23,$G24),\"-\")","v":2.8488082380798403E-5},{"$f":"IF(P$3<=vantHoff_EOS!$N$19,y_iindex_NS_n0i_vi_X(P$3,vantHoff_EOS!$N$19,vantHoff_EOS!$O$31:$X$31,vantHoff_EOS!$O$23:$X$23,$G24),\"-\")","v":2.8488082380798403E-5},{"$f":"IF(Q$3<=vantHoff_EOS!$N$19,y_iindex_NS_n0i_vi_X(Q$3,vantHoff_EOS!$N$19,vantHoff_EOS!$O$31:$X$31,vantHoff_EOS!$O$23:$X$23,$G24),\"-\")","v":2.8488082380798403E-5},{"$f":"IF(R$3<=vantHoff_EOS!$N$19,y_iindex_NS_n0i_vi_X(R$3,vantHoff_EOS!$N$19,vantHoff_EOS!$O$31:$X$31,vantHoff_EOS!$O$23:$X$23,$G24),\"-\")","v":0.11986875698179647},{"$f":"IF(S$3<=vantHoff_EOS!$N$19,y_iindex_NS_n0i_vi_X(S$3,vantHoff_EOS!$N$19,vantHoff_EOS!$O$31:$X$31,vantHoff_EOS!$O$23:$X$23,$G24),\"-\")","v":0.88004577877106116},{"$f":"IF(T$3<=vantHoff_EOS!$N$19,y_iindex_NS_n0i_vi_X(T$3,vantHoff_EOS!$N$19,vantHoff_EOS!$O$31:$X$31,vantHoff_EOS!$O$23:$X$23,$G24),\"-\")","v":"-"},{"$f":"IF(U$3<=vantHoff_EOS!$N$19,y_iindex_NS_n0i_vi_X(U$3,vantHoff_EOS!$N$19,vantHoff_EOS!$O$31:$X$31,vantHoff_EOS!$O$23:$X$23,$G24),\"-\")","v":"-"},{"$f":"IF(V$3<=vantHoff_EOS!$N$19,y_iindex_NS_n0i_vi_X(V$3,vantHoff_EOS!$N$19,vantHoff_EOS!$O$31:$X$31,vantHoff_EOS!$O$23:$X$23,$G24),\"-\")","v":"-"},{"$f":"IF(W$3<=vantHoff_EOS!$N$19,y_iindex_NS_n0i_vi_X(W$3,vantHoff_EOS!$N$19,vantHoff_EOS!$O$31:$X$31,vantHoff_EOS!$O$23:$X$23,$G24),\"-\")","v":"-"},{"$f":"IF(X$3<=vantHoff_EOS!$N$19,y_iindex_NS_n0i_vi_X(X$3,vantHoff_EOS!$N$19,vantHoff_EOS!$O$31:$X$31,vantHoff_EOS!$O$23:$X$23,$G24),\"-\")","v":"-"},1,{"$f":"IF(Z$3<=vantHoff_EOS!$N$19,Phi_i_NS_Tci_Pci_wi_kijm_TinC_PinPa_yi(Z$3,vantHoff_EOS!$N$19,vantHoff_EOS!$X$5:$X$14,vantHoff_EOS!$Y$5:$Y$14,vantHoff_EOS!$Z$5:$Z$14,vantHoff_EOS!$AE$5:$AN$14,$C$2,B24*1000000,$O24:$X24),\"-\")","v":4.1843629742268211},{"$f":"IF(AA$3<=vantHoff_EOS!$N$19,Phi_i_NS_Tci_Pci_wi_kijm_TinC_PinPa_yi(AA$3,vantHoff_EOS!$N$19,vantHoff_EOS!$X$5:$X$14,vantHoff_EOS!$Y$5:$Y$14,vantHoff_EOS!$Z$5:$Z$14,vantHoff_EOS!$AE$5:$AN$14,$C$2,B24*1000000,$O24:$X24),\"-\")","v":6.8155899319525615},{"$f":"IF(AB$3<=vantHoff_EOS!$N$19,Phi_i_NS_Tci_Pci_wi_kijm_TinC_PinPa_yi(AB$3,vantHoff_EOS!$N$19,vantHoff_EOS!$X$5:$X$14,vantHoff_EOS!$Y$5:$Y$14,vantHoff_EOS!$Z$5:$Z$14,vantHoff_EOS!$AE$5:$AN$14,$C$2,B24*1000000,$O24:$X24),\"-\")","v":0.17315900975276596},{"$f":"IF(AC$3<=vantHoff_EOS!$N$19,Phi_i_NS_Tci_Pci_wi_kijm_TinC_PinPa_yi(AC$3,vantHoff_EOS!$N$19,vantHoff_EOS!$X$5:$X$14,vantHoff_EOS!$Y$5:$Y$14,vantHoff_EOS!$Z$5:$Z$14,vantHoff_EOS!$AE$5:$AN$14,$C$2,B24*1000000,$O24:$X24),\"-\")","v":6.4596741093963213E-3},{"$f":"IF(AD$3<=vantHoff_EOS!$N$19,Phi_i_NS_Tci_Pci_wi_kijm_TinC_PinPa_yi(AD$3,vantHoff_EOS!$N$19,vantHoff_EOS!$X$5:$X$14,vantHoff_EOS!$Y$5:$Y$14,vantHoff_EOS!$Z$5:$Z$14,vantHoff_EOS!$AE$5:$AN$14,$C$2,B24*1000000,$O24:$X24),\"-\")","v":0.55768159632146885},{"$f":"IF(AE$3<=vantHoff_EOS!$N$19,Phi_i_NS_Tci_Pci_wi_kijm_TinC_PinPa_yi(AE$3,vantHoff_EOS!$N$19,vantHoff_EOS!$X$5:$X$14,vantHoff_EOS!$Y$5:$Y$14,vantHoff_EOS!$Z$5:$Z$14,vantHoff_EOS!$AE$5:$AN$14,$C$2,B24*1000000,$O24:$X24),\"-\")","v":"-"},{"$f":"IF(AF$3<=vantHoff_EOS!$N$19,Phi_i_NS_Tci_Pci_wi_kijm_TinC_PinPa_yi(AF$3,vantHoff_EOS!$N$19,vantHoff_EOS!$X$5:$X$14,vantHoff_EOS!$Y$5:$Y$14,vantHoff_EOS!$Z$5:$Z$14,vantHoff_EOS!$AE$5:$AN$14,$C$2,B24*1000000,$O24:$X24),\"-\")","v":"-"},{"$f":"IF(AG$3<=vantHoff_EOS!$N$19,Phi_i_NS_Tci_Pci_wi_kijm_TinC_PinPa_yi(AG$3,vantHoff_EOS!$N$19,vantHoff_EOS!$X$5:$X$14,vantHoff_EOS!$Y$5:$Y$14,vantHoff_EOS!$Z$5:$Z$14,vantHoff_EOS!$AE$5:$AN$14,$C$2,B24*1000000,$O24:$X24),\"-\")","v":"-"},{"$f":"IF(AH$3<=vantHoff_EOS!$N$19,Phi_i_NS_Tci_Pci_wi_kijm_TinC_PinPa_yi(AH$3,vantHoff_EOS!$N$19,vantHoff_EOS!$X$5:$X$14,vantHoff_EOS!$Y$5:$Y$14,vantHoff_EOS!$Z$5:$Z$14,vantHoff_EOS!$AE$5:$AN$14,$C$2,B24*1000000,$O24:$X24),\"-\")","v":"-"},{"$f":"IF(AI$3<=vantHoff_EOS!$N$19,Phi_i_NS_Tci_Pci_wi_kijm_TinC_PinPa_yi(AI$3,vantHoff_EOS!$N$19,vantHoff_EOS!$X$5:$X$14,vantHoff_EOS!$Y$5:$Y$14,vantHoff_EOS!$Z$5:$Z$14,vantHoff_EOS!$AE$5:$AN$14,$C$2,B24*1000000,$O24:$X24),\"-\")","v":"-"}]
[22,{"$f":"B24+vantHoff_EOS!$E$26","v":12.199999999999985},320.14999999999998,3.1235358425737939E-3,{"$f":"lnKaT_Tref_lnKaTref_dHTref_da_db_dc_dd_de_TinC(vantHoff_EOS!$E$7,vantHoff_EOS!$B$9,vantHoff_EOS!$B$6,vantHoff_EOS!$O$27,vantHoff_EOS!$P$27,vantHoff_EOS!$Q$27,vantHoff_EOS!$R$27,vantHoff_EOS!$S$27,$C$2)","v":13.062534312676297},470962.76406017854,{"$f":"MolarExtentX_NS_vi_n0i_dHfi_dGfi_TrefinC_da_db_dc_dd_de_Tci_Pci_wi_kijm_TinC_PinPa(vantHoff_EOS!$N$19,vantHoff_EOS!$O$23:$X$23,vantHoff_EOS!$O$31:$X$31,vantHoff_EOS!$T$5:$T$14,vantHoff_EOS!$U$5:$U$14,vantHoff_EOS!$E$7,vantHoff_EOS!$O$27,vantHoff_EOS!$P$27,vantHoff_EOS!$Q$27,vantHoff_EOS!$R$27,vantHoff_EOS!$S$27,vantHoff_EOS!$X$5:$X$14,vantHoff_EOS!$Y$5:$Y$14,vantHoff_EOS!$Z$5:$Z$14,vantHoff_EOS!$AE$5:$AN$14,$C$2,B25*1000000)","v":0.99976394177449046},{"$f":"Ky_NS_n0i_vi_X(vantHoff_EOS!$N$19,vantHoff_EOS!$O$31:$X$31,vantHoff_EOS!$O$23:$X$23,G25)","v":5287146256099.2559},{"$f":"Kp_NS_vi_PinPa(vantHoff_EOS!$N$19,vantHoff_EOS!$O$23:$X$23,B25*1000000)","v":6.7186240257995306E-5},{"$f":"Kphi_NS_n0i_vi_X_Tci_Pci_wi_kijm_TinC_PinPa(vantHoff_EOS!$N$19,vantHoff_EOS!$O$31:$X$31,vantHoff_EOS!$O$23:$X$23,G25,vantHoff_EOS!$X$5:$X$14,vantHoff_EOS!$Y$5:$Y$14,vantHoff_EOS!$Z$5:$Z$14,vantHoff_EOS!$AE$5:$AN$14,$C$2,B25*1000000)","v":1.3258210461234638E-3},29.296299756143149,-9.6080420894665117,-6.6257233540006855,{"$f":"nT_NS_n0i_vi_X(vantHoff_EOS!$N$19,vantHoff_EOS!$O$31:$X$31,vantHoff_EOS!$O$23:$X$23,G25)","v":8.3404721164510196},{"$f":"IF(O$3<=vantHoff_EOS!$N$19,y_iindex_NS_n0i_vi_X(O$3,vantHoff_EOS!$N$19,vantHoff_EOS!$O$31:$X$31,vantHoff_EOS!$O$23:$X$23,$G25),\"-\")","v":2.8302741405241312E-5},{"$f":"IF(P$3<=vantHoff_EOS!$N$19,y_iindex_NS_n0i_vi_X(P$3,vantHoff_EOS!$N$19,vantHoff_EOS!$O$31:$X$31,vantHoff_EOS!$O$23:$X$23,$G25),\"-\")","v":2.8302741405241312E-5},{"$f":"IF(Q$3<=vantHoff_EOS!$N$19,y_iindex_NS_n0i_vi_X(Q$3,vantHoff_EOS!$N$19,vantHoff_EOS!$O$31:$X$31,vantHoff_EOS!$O$23:$X$23,$G25),\"-\")","v":2.8302741405241312E-5},{"$f":"IF(R$3<=vantHoff_EOS!$N$19,y_iindex_NS_n0i_vi_X(R$3,vantHoff_EOS!$N$19,vantHoff_EOS!$O$31:$X$31,vantHoff_EOS!$O$23:$X$23,$G25),\"-\")","v":0.11986898676904913},{"$f":"IF(S$3<=vantHoff_EOS!$N$19,y_iindex_NS_n0i_vi_X(S$3,vantHoff_EOS!$N$19,vantHoff_EOS!$O$31:$X$31,vantHoff_EOS!$O$23:$X$23,$G25),\"-\")","v":0.88004610500673508},{"$f":"IF(T$3<=vantHoff_EOS!$N$19,y_iindex_NS_n0i_vi_X(T$3,vantHoff_EOS!$N$19,vantHoff_EOS!$O$31:$X$31,vantHoff_EOS!$O$23:$X$23,$G25),\"-\")","v":"-"},{"$f":"IF(U$3<=vantHoff_EOS!$N$19,y_iindex_NS_n0i_vi_X(U$3,vantHoff_EOS!$N$19,vantHoff_EOS!$O$31:$X$31,vantHoff_EOS!$O$23:$X$23,$G25),\"-\")","v":"-"},{"$f":"IF(V$3<=vantHoff_EOS!$N$19,y_iindex_NS_n0i_vi_X(V$3,vantHoff_EOS!$N$19,vantHoff_EOS!$O$31:$X$31,vantHoff_EOS!$O$23:$X$23,$G25),\"-\")","v":"-"},{"$f":"IF(W$3<=vantHoff_EOS!$N$19,y_iindex_NS_n0i_vi_X(W$3,vantHoff_EOS!$N$19,vantHoff_EOS!$O$31:$X$31,vantHoff_EOS!$O$23:$X$23,$G25),\"-\")","v":"-"},{"$f":"IF(X$3<=vantHoff_EOS!$N$19,y_iindex_NS_n0i_vi_X(X$3,vantHoff_EOS!$N$19,vantHoff_EOS!$O$31:$X$31,vantHoff_EOS!$O$23:$X$23,$G25),\"-\")","v":"-"},0.99999999999999989,{"$f":"IF(Z$3<=vantHoff_EOS!$N$19,Phi_i_NS_Tci_Pci_wi_kijm_TinC_PinPa_yi(Z$3,vantHoff_EOS!$N$19,vantHoff_EOS!$X$5:$X$14,vantHoff_EOS!$Y$5:$Y$14,vantHoff_EOS!$Z$5:$Z$14,vantHoff_EOS!$AE$5:$AN$14,$C$2,B25*1000000,$O25:$X25),\"-\")","v":4.1525727821873},{"$f":"IF(AA$3<=vantHoff_EOS!$N$19,Phi_i_NS_Tci_Pci_wi_kijm_TinC_PinPa_yi(AA$3,vantHoff_EOS!$N$19,vantHoff_EOS!$X$5:$X$14,vantHoff_EOS!$Y$5:$Y$14,vantHoff_EOS!$Z$5:$Z$14,vantHoff_EOS!$AE$5:$AN$14,$C$2,B25*1000000,$O25:$X25),\"-\")","v":6.7623011843086376},{"$f":"IF(AB$3<=vantHoff_EOS!$N$19,Phi_i_NS_Tci_Pci_wi_kijm_TinC_PinPa_yi(AB$3,vantHoff_EOS!$N$19,vantHoff_EOS!$X$5:$X$14,vantHoff_EOS!$Y$5:$Y$14,vantHoff_EOS!$Z$5:$Z$14,vantHoff_EOS!$AE$5:$AN$14,$C$2,B25*1000000,$O25:$X25),\"-\")","v":0.17134169715021277},{"$f":"IF(AC$3<=vantHoff_EOS!$N$19,Phi_i_NS_Tci_Pci_wi_kijm_TinC_PinPa_yi(AC$3,vantHoff_EOS!$N$19,vantHoff_EOS!$X$5:$X$14,vantHoff_EOS!$Y$5:$Y$14,vantHoff_EOS!$Z$5:$Z$14,vantHoff_EOS!$AE$5:$AN$14,$C$2,B25*1000000,$O25:$X25),\"-\")","v":6.3791047827249231E-3},{"$f":"IF(AD$3<=vantHoff_EOS!$N$19,Phi_i_NS_Tci_Pci_wi_kijm_TinC_PinPa_yi(AD$3,vantHoff_EOS!$N$19,vantHoff_EOS!$X$5:$X$14,vantHoff_EOS!$Y$5:$Y$14,vantHoff_EOS!$Z$5:$Z$14,vantHoff_EOS!$AE$5:$AN$14,$C$2,B25*1000000,$O25:$X25),\"-\")","v":0.55110907781583973},{"$f":"IF(AE$3<=vantHoff_EOS!$N$19,Phi_i_NS_Tci_Pci_wi_kijm_TinC_PinPa_yi(AE$3,vantHoff_EOS!$N$19,vantHoff_EOS!$X$5:$X$14,vantHoff_EOS!$Y$5:$Y$14,vantHoff_EOS!$Z$5:$Z$14,vantHoff_EOS!$AE$5:$AN$14,$C$2,B25*1000000,$O25:$X25),\"-\")","v":"-"},{"$f":"IF(AF$3<=vantHoff_EOS!$N$19,Phi_i_NS_Tci_Pci_wi_kijm_TinC_PinPa_yi(AF$3,vantHoff_EOS!$N$19,vantHoff_EOS!$X$5:$X$14,vantHoff_EOS!$Y$5:$Y$14,vantHoff_EOS!$Z$5:$Z$14,vantHoff_EOS!$AE$5:$AN$14,$C$2,B25*1000000,$O25:$X25),\"-\")","v":"-"},{"$f":"IF(AG$3<=vantHoff_EOS!$N$19,Phi_i_NS_Tci_Pci_wi_kijm_TinC_PinPa_yi(AG$3,vantHoff_EOS!$N$19,vantHoff_EOS!$X$5:$X$14,vantHoff_EOS!$Y$5:$Y$14,vantHoff_EOS!$Z$5:$Z$14,vantHoff_EOS!$AE$5:$AN$14,$C$2,B25*1000000,$O25:$X25),\"-\")","v":"-"},{"$f":"IF(AH$3<=vantHoff_EOS!$N$19,Phi_i_NS_Tci_Pci_wi_kijm_TinC_PinPa_yi(AH$3,vantHoff_EOS!$N$19,vantHoff_EOS!$X$5:$X$14,vantHoff_EOS!$Y$5:$Y$14,vantHoff_EOS!$Z$5:$Z$14,vantHoff_EOS!$AE$5:$AN$14,$C$2,B25*1000000,$O25:$X25),\"-\")","v":"-"},{"$f":"IF(AI$3<=vantHoff_EOS!$N$19,Phi_i_NS_Tci_Pci_wi_kijm_TinC_PinPa_yi(AI$3,vantHoff_EOS!$N$19,vantHoff_EOS!$X$5:$X$14,vantHoff_EOS!$Y$5:$Y$14,vantHoff_EOS!$Z$5:$Z$14,vantHoff_EOS!$AE$5:$AN$14,$C$2,B25*1000000,$O25:$X25),\"-\")","v":"-"}]
[23,{"$f":"B25+vantHoff_EOS!$E$26","v":12.399999999999984},320.14999999999998,3.1235358425737939E-3,{"$f":"lnKaT_Tref_lnKaTref_dHTref_da_db_dc_dd_de_TinC(vantHoff_EOS!$E$7,vantHoff_EOS!$B$9,vantHoff_EOS!$B$6,vantHoff_EOS!$O$27,vantHoff_EOS!$P$27,vantHoff_EOS!$Q$27,vantHoff_EOS!$R$27,vantHoff_EOS!$S$27,$C$2)","v":13.062534312676297},470962.76406017854,{"$f":"MolarExtentX_NS_vi_n0i_dHfi_dGfi_TrefinC_da_db_dc_dd_de_Tci_Pci_wi_kijm_TinC_PinPa(vantHoff_EOS!$N$19,vantHoff_EOS!$O$23:$X$23,vantHoff_EOS!$O$31:$X$31,vantHoff_EOS!$T$5:$T$14,vantHoff_EOS!$U$5:$U$14,vantHoff_EOS!$E$7,vantHoff_EOS!$O$27,vantHoff_EOS!$P$27,vantHoff_EOS!$Q$27,vantHoff_EOS!$R$27,vantHoff_EOS!$S$27,vantHoff_EOS!$X$5:$X$14,vantHoff_EOS!$Y$5:$Y$14,vantHoff_EOS!$Z$5:$Z$14,vantHoff_EOS!$AE$5:$AN$14,$C$2,B26*1000000)","v":0.9997654531765845},{"$f":"Ky_NS_n0i_vi_X(vantHoff_EOS!$N$19,vantHoff_EOS!$O$31:$X$31,vantHoff_EOS!$O$23:$X$23,G26)","v":5390020464062.3262},{"$f":"Kp_NS_vi_PinPa(vantHoff_EOS!$N$19,vantHoff_EOS!$O$23:$X$23,B26*1000000)","v":6.5036420395421564E-5},{"$f":"Kphi_NS_n0i_vi_X_Tci_Pci_wi_kijm_TinC_PinPa(vantHoff_EOS!$N$19,vantHoff_EOS!$O$31:$X$31,vantHoff_EOS!$O$23:$X$23,G26,vantHoff_EOS!$X$5:$X$14,vantHoff_EOS!$Y$5:$Y$14,vantHoff_EOS!$Z$5:$Z$14,vantHoff_EOS!$AE$5:$AN$14,$C$2,B26*1000000)","v":1.3435057451960783E-3},29.315570297514292,-9.6405631312100724,-6.6124728536275263,{"$f":"nT_NS_n0i_vi_X(vantHoff_EOS!$N$19,vantHoff_EOS!$O$31:$X$31,vantHoff_EOS!$O$23:$X$23,G26)","v":8.3404690936468313},{"$f":"IF(O$3<=vantHoff_EOS!$N$19,y_iindex_NS_n0i_vi_X(O$3,vantHoff_EOS!$N$19,vantHoff_EOS!$O$31:$X$31,vantHoff_EOS!$O$23:$X$23,$G26),\"-\")","v":2.8121538582783729E-5},{"$f":"IF(P$3<=vantHoff_EOS!$N$19,y_iindex_NS_n0i_vi_X(P$3,vantHoff_EOS!$N$19,vantHoff_EOS!$O$31:$X$31,vantHoff_EOS!$O$23:$X$23,$G26),\"-\")","v":2.8121538582783729E-5},{"$f":"IF(Q$3<=vantHoff_EOS!$N$19,y_iindex_NS_n0i_vi_X(Q$3,vantHoff_EOS!$N$19,vantHoff_EOS!$O$31:$X$31,vantHoff_EOS!$O$23:$X$23,$G26),\"-\")","v":2.8121538582783729E-5},{"$f":"IF(R$3<=vantHoff_EOS!$N$19,y_iindex_NS_n0i_vi_X(R$3,vantHoff_EOS!$N$19,vantHoff_EOS!$O$31:$X$31,vantHoff_EOS!$O$23:$X$23,$G26),\"-\")","v":0.11986921142578585},{"$f":"IF(S$3<=vantHoff_EOS!$N$19,y_iindex_NS_n0i_vi_X(S$3,vantHoff_EOS!$N$19,vantHoff_EOS!$O$31:$X$31,vantHoff_EOS!$O$23:$X$23,$G26),\"-\")","v":0.88004642395846577},{"$f":"IF(T$3<=vantHoff_EOS!$N$19,y_iindex_NS_n0i_vi_X(T$3,vantHoff_EOS!$N$19,vantHoff_EOS!$O$31:$X$31,vantHoff_EOS!$O$23:$X$23,$G26),\"-\")","v":"-"},{"$f":"IF(U$3<=vantHoff_EOS!$N$19,y_iindex_NS_n0i_vi_X(U$3,vantHoff_EOS!$N$19,vantHoff_EOS!$O$31:$X$31,vantHoff_EOS!$O$23:$X$23,$G26),\"-\")","v":"-"},{"$f":"IF(V$3<=vantHoff_EOS!$N$19,y_iindex_NS_n0i_vi_X(V$3,vantHoff_EOS!$N$19,vantHoff_EOS!$O$31:$X$31,vantHoff_EOS!$O$23:$X$23,$G26),\"-\")","v":"-"},{"$f":"IF(W$3<=vantHoff_EOS!$N$19,y_iindex_NS_n0i_vi_X(W$3,vantHoff_EOS!$N$19,vantHoff_EOS!$O$31:$X$31,vantHoff_EOS!$O$23:$X$23,$G26),\"-\")","v":"-"},{"$f":"IF(X$3<=vantHoff_EOS!$N$19,y_iindex_NS_n0i_vi_X(X$3,vantHoff_EOS!$N$19,vantHoff_EOS!$O$31:$X$31,vantHoff_EOS!$O$23:$X$23,$G26),\"-\")","v":"-"},1,{"$f":"IF(Z$3<=vantHoff_EOS!$N$19,Phi_i_NS_Tci_Pci_wi_kijm_TinC_PinPa_yi(Z$3,vantHoff_EOS!$N$19,vantHoff_EOS!$X$5:$X$14,vantHoff_EOS!$Y$5:$Y$14,vantHoff_EOS!$Z$5:$Z$14,vantHoff_EOS!$AE$5:$AN$14,$C$2,B26*1000000,$O26:$X26),\"-\")","v":4.1217013953033073},{"$f":"IF(AA$3<=vantHoff_EOS!$N$19,Phi_i_NS_Tci_Pci_wi_kijm_TinC_PinPa_yi(AA$3,vantHoff_EOS!$N$19,vantHoff_EOS!$X$5:$X$14,vantHoff_EOS!$Y$5:$Y$14,vantHoff_EOS!$Z$5:$Z$14,vantHoff_EOS!$AE$5:$AN$14,$C$2,B26*1000000,$O26:$X26),\"-\")","v":6.7104622619176064},{"$f":"IF(AB$3<=vantHoff_EOS!$N$19,Phi_i_NS_Tci_Pci_wi_kijm_TinC_PinPa_yi(AB$3,vantHoff_EOS!$N$19,vantHoff_EOS!$X$5:$X$14,vantHoff_EOS!$Y$5:$Y$14,vantHoff_EOS!$Z$5:$Z$14,vantHoff_EOS!$AE$5:$AN$14,$C$2,B26*1000000,$O26:$X26),\"-\")","v":0.16958783552721904},{"$f":"IF(AC$3<=vantHoff_EOS!$N$19,Phi_i_NS_Tci_Pci_wi_kijm_TinC_PinPa_yi(AC$3,vantHoff_EOS!$N$19,vantHoff_EOS!$X$5:$X$14,vantHoff_EOS!$Y$5:$Y$14,vantHoff_EOS!$Z$5:$Z$14,vantHoff_EOS!$AE$5:$AN$14,$C$2,B26*1000000,$O26:$X26),\"-\")","v":6.3017792925912771E-3},{"$f":"IF(AD$3<=vantHoff_EOS!$N$19,Phi_i_NS_Tci_Pci_wi_kijm_TinC_PinPa_yi(AD$3,vantHoff_EOS!$N$19,vantHoff_EOS!$X$5:$X$14,vantHoff_EOS!$Y$5:$Y$14,vantHoff_EOS!$Z$5:$Z$14,vantHoff_EOS!$AE$5:$AN$14,$C$2,B26*1000000,$O26:$X26),\"-\")","v":0.5447458977642049},{"$f":"IF(AE$3<=vantHoff_EOS!$N$19,Phi_i_NS_Tci_Pci_wi_kijm_TinC_PinPa_yi(AE$3,vantHoff_EOS!$N$19,vantHoff_EOS!$X$5:$X$14,vantHoff_EOS!$Y$5:$Y$14,vantHoff_EOS!$Z$5:$Z$14,vantHoff_EOS!$AE$5:$AN$14,$C$2,B26*1000000,$O26:$X26),\"-\")","v":"-"},{"$f":"IF(AF$3<=vantHoff_EOS!$N$19,Phi_i_NS_Tci_Pci_wi_kijm_TinC_PinPa_yi(AF$3,vantHoff_EOS!$N$19,vantHoff_EOS!$X$5:$X$14,vantHoff_EOS!$Y$5:$Y$14,vantHoff_EOS!$Z$5:$Z$14,vantHoff_EOS!$AE$5:$AN$14,$C$2,B26*1000000,$O26:$X26),\"-\")","v":"-"},{"$f":"IF(AG$3<=vantHoff_EOS!$N$19,Phi_i_NS_Tci_Pci_wi_kijm_TinC_PinPa_yi(AG$3,vantHoff_EOS!$N$19,vantHoff_EOS!$X$5:$X$14,vantHoff_EOS!$Y$5:$Y$14,vantHoff_EOS!$Z$5:$Z$14,vantHoff_EOS!$AE$5:$AN$14,$C$2,B26*1000000,$O26:$X26),\"-\")","v":"-"},{"$f":"IF(AH$3<=vantHoff_EOS!$N$19,Phi_i_NS_Tci_Pci_wi_kijm_TinC_PinPa_yi(AH$3,vantHoff_EOS!$N$19,vantHoff_EOS!$X$5:$X$14,vantHoff_EOS!$Y$5:$Y$14,vantHoff_EOS!$Z$5:$Z$14,vantHoff_EOS!$AE$5:$AN$14,$C$2,B26*1000000,$O26:$X26),\"-\")","v":"-"},{"$f":"IF(AI$3<=vantHoff_EOS!$N$19,Phi_i_NS_Tci_Pci_wi_kijm_TinC_PinPa_yi(AI$3,vantHoff_EOS!$N$19,vantHoff_EOS!$X$5:$X$14,vantHoff_EOS!$Y$5:$Y$14,vantHoff_EOS!$Z$5:$Z$14,vantHoff_EOS!$AE$5:$AN$14,$C$2,B26*1000000,$O26:$X26),\"-\")","v":"-"}]
[24,{"$f":"B26+vantHoff_EOS!$E$26","v":12.599999999999984},320.14999999999998,3.1235358425737939E-3,{"$f":"lnKaT_Tref_lnKaTref_dHTref_da_db_dc_dd_de_TinC(vantHoff_EOS!$E$7,vantHoff_EOS!$B$9,vantHoff_EOS!$B$6,vantHoff_EOS!$O$27,vantHoff_EOS!$P$27,vantHoff_EOS!$Q$27,vantHoff_EOS!$R$27,vantHoff_EOS!$S$27,$C$2)","v":13.062534312676297},470962.76406017854,{"$f":"MolarExtentX_NS_vi_n0i_dHfi_dGfi_TrefinC_da_db_dc_dd_de_Tci_Pci_wi_kijm_TinC_PinPa(vantHoff_EOS!$N$19,vantHoff_EOS!$O$23:$X$23,vantHoff_EOS!$O$31:$X$31,vantHoff_EOS!$T$5:$T$14,vantHoff_EOS!$U$5:$U$14,vantHoff_EOS!$E$7,vantHoff_EOS!$O$27,vantHoff_EOS!$P$27,vantHoff_EOS!$Q$27,vantHoff_EOS!$R$27,vantHoff_EOS!$S$27,vantHoff_EOS!$X$5:$X$14,vantHoff_EOS!$Y$5:$Y$14,vantHoff_EOS!$Z$5:$Z$14,vantHoff_EOS!$AE$5:$AN$14,$C$2,B27*1000000)","v":0.99976693149762974},{"$f":"Ky_NS_n0i_vi_X(vantHoff_EOS!$N$19,vantHoff_EOS!$O$31:$X$31,vantHoff_EOS!$O$23:$X$23,G27)","v":5493241066551.7744},{"$f":"Kp_NS_vi_PinPa(vantHoff_EOS!$N$19,vantHoff_EOS!$O$23:$X$23,B27*1000000)","v":6.298815822625362E-5},{"$f":"Kphi_NS_n0i_vi_X_Tci_Pci_wi_kijm_TinC_PinPa(vantHoff_EOS!$N$19,vantHoff_EOS!$O$31:$X$31,vantHoff_EOS!$O$23:$X$23,G27,vantHoff_EOS!$X$5:$X$14,vantHoff_EOS!$Y$5:$Y$14,vantHoff_EOS!$Z$5:$Z$14,vantHoff_EOS!$AE$5:$AN$14,$C$2,B27*1000000)","v":1.3611281120985822E-3},29.334539555463287,-9.6725638139029542,-6.5994414288842194,{"$f":"nT_NS_n0i_vi_X(vantHoff_EOS!$N$19,vantHoff_EOS!$O$31:$X$31,vantHoff_EOS!$O$23:$X$23,G27)","v":8.340466137004741},{"$f":"IF(O$3<=vantHoff_EOS!$N$19,y_iindex_NS_n0i_vi_X(O$3,vantHoff_EOS!$N$19,vantHoff_EOS!$O$31:$X$31,vantHoff_EOS!$O$23:$X$23,$G27),\"-\")","v":2.7944301738267099E-5},{"$f":"IF(P$3<=vantHoff_EOS!$N$19,y_iindex_NS_n0i_vi_X(P$3,vantHoff_EOS!$N$19,vantHoff_EOS!$O$31:$X$31,vantHoff_EOS!$O$23:$X$23,$G27),\"-\")","v":2.7944301738267099E-5},{"$f":"IF(Q$3<=vantHoff_EOS!$N$19,y_iindex_NS_n0i_vi_X(Q$3,vantHoff_EOS!$N$19,vantHoff_EOS!$O$31:$X$31,vantHoff_EOS!$O$23:$X$23,$G27),\"-\")","v":2.7944301738267099E-5},{"$f":"IF(R$3<=vantHoff_EOS!$N$19,y_iindex_NS_n0i_vi_X(R$3,vantHoff_EOS!$N$19,vantHoff_EOS!$O$31:$X$31,vantHoff_EOS!$O$23:$X$23,$G27),\"-\")","v":0.11986943116547077},{"$f":"IF(S$3<=vantHoff_EOS!$N$19,y_iindex_NS_n0i_vi_X(S$3,vantHoff_EOS!$N$19,vantHoff_EOS!$O$31:$X$31,vantHoff_EOS!$O$23:$X$23,$G27),\"-\")","v":0.88004673592931437},{"$f":"IF(T$3<=vantHoff_EOS!$N$19,y_iindex_NS_n0i_vi_X(T$3,vantHoff_EOS!$N$19,vantHoff_EOS!$O$31:$X$31,vantHoff_EOS!$O$23:$X$23,$G27),\"-\")","v":"-"},{"$f":"IF(U$3<=vantHoff_EOS!$N$19,y_iindex_NS_n0i_vi_X(U$3,vantHoff_EOS!$N$19,vantHoff_EOS!$O$31:$X$31,vantHoff_EOS!$O$23:$X$23,$G27),\"-\")","v":"-"},{"$f":"IF(V$3<=vantHoff_EOS!$N$19,y_iindex_NS_n0i_vi_X(V$3,vantHoff_EOS!$N$19,vantHoff_EOS!$O$31:$X$31,vantHoff_EOS!$O$23:$X$23,$G27),\"-\")","v":"-"},{"$f":"IF(W$3<=vantHoff_EOS!$N$19,y_iindex_NS_n0i_vi_X(W$3,vantHoff_EOS!$N$19,vantHoff_EOS!$O$31:$X$31,vantHoff_EOS!$O$23:$X$23,$G27),\"-\")","v":"-"},{"$f":"IF(X$3<=vantHoff_EOS!$N$19,y_iindex_NS_n0i_vi_X(X$3,vantHoff_EOS!$N$19,vantHoff_EOS!$O$31:$X$31,vantHoff_EOS!$O$23:$X$23,$G27),\"-\")","v":"-"},1,{"$f":"IF(Z$3<=vantHoff_EOS!$N$19,Phi_i_NS_Tci_Pci_wi_kijm_TinC_PinPa_yi(Z$3,vantHoff_EOS!$N$19,vantHoff_EOS!$X$5:$X$14,vantHoff_EOS!$Y$5:$Y$14,vantHoff_EOS!$Z$5:$Z$14,vantHoff_EOS!$AE$5:$AN$14,$C$2,B27*1000000,$O27:$X27),\"-\")","v":4.0917119935190129},{"$f":"IF(AA$3<=vantHoff_EOS!$N$19,Phi_i_NS_Tci_Pci_wi_kijm_TinC_PinPa_yi(AA$3,vantHoff_EOS!$N$19,vantHoff_EOS!$X$5:$X$14,vantHoff_EOS!$Y$5:$Y$14,vantHoff_EOS!$Z$5:$Z$14,vantHoff_EOS!$AE$5:$AN$14,$C$2,B27*1000000,$O27:$X27),\"-\")","v":6.660016669283876},{"$f":"IF(AB$3<=vantHoff_EOS!$N$19,Phi_i_NS_Tci_Pci_wi_kijm_TinC_PinPa_yi(AB$3,vantHoff_EOS!$N$19,vantHoff_EOS!$X$5:$X$14,vantHoff_EOS!$Y$5:$Y$14,vantHoff_EOS!$Z$5:$Z$14,vantHoff_EOS!$AE$5:$AN$14,$C$2,B27*1000000,$O27:$X27),\"-\")","v":0.1678944120063986},{"$f":"IF(AC$3<=vantHoff_EOS!$N$19,Phi_i_NS_Tci_Pci_wi_kijm_TinC_PinPa_yi(AC$3,vantHoff_EOS!$N$19,vantHoff_EOS!$X$5:$X$14,vantHoff_EOS!$Y$5:$Y$14,vantHoff_EOS!$Z$5:$Z$14,vantHoff_EOS!$AE$5:$AN$14,$C$2,B27*1000000,$O27:$X27),\"-\")","v":6.2275269966171314E-3},{"$f":"IF(AD$3<=vantHoff_EOS!$N$19,Phi_i_NS_Tci_Pci_wi_kijm_TinC_PinPa_yi(AD$3,vantHoff_EOS!$N$19,vantHoff_EOS!$X$5:$X$14,vantHoff_EOS!$Y$5:$Y$14,vantHoff_EOS!$Z$5:$Z$14,vantHoff_EOS!$AE$5:$AN$14,$C$2,B27*1000000,$O27:$X27),\"-\")","v":0.53858239218172088},{"$f":"IF(AE$3<=vantHoff_EOS!$N$19,Phi_i_NS_Tci_Pci_wi_kijm_TinC_PinPa_yi(AE$3,vantHoff_EOS!$N$19,vantHoff_EOS!$X$5:$X$14,vantHoff_EOS!$Y$5:$Y$14,vantHoff_EOS!$Z$5:$Z$14,vantHoff_EOS!$AE$5:$AN$14,$C$2,B27*1000000,$O27:$X27),\"-\")","v":"-"},{"$f":"IF(AF$3<=vantHoff_EOS!$N$19,Phi_i_NS_Tci_Pci_wi_kijm_TinC_PinPa_yi(AF$3,vantHoff_EOS!$N$19,vantHoff_EOS!$X$5:$X$14,vantHoff_EOS!$Y$5:$Y$14,vantHoff_EOS!$Z$5:$Z$14,vantHoff_EOS!$AE$5:$AN$14,$C$2,B27*1000000,$O27:$X27),\"-\")","v":"-"},{"$f":"IF(AG$3<=vantHoff_EOS!$N$19,Phi_i_NS_Tci_Pci_wi_kijm_TinC_PinPa_yi(AG$3,vantHoff_EOS!$N$19,vantHoff_EOS!$X$5:$X$14,vantHoff_EOS!$Y$5:$Y$14,vantHoff_EOS!$Z$5:$Z$14,vantHoff_EOS!$AE$5:$AN$14,$C$2,B27*1000000,$O27:$X27),\"-\")","v":"-"},{"$f":"IF(AH$3<=vantHoff_EOS!$N$19,Phi_i_NS_Tci_Pci_wi_kijm_TinC_PinPa_yi(AH$3,vantHoff_EOS!$N$19,vantHoff_EOS!$X$5:$X$14,vantHoff_EOS!$Y$5:$Y$14,vantHoff_EOS!$Z$5:$Z$14,vantHoff_EOS!$AE$5:$AN$14,$C$2,B27*1000000,$O27:$X27),\"-\")","v":"-"},{"$f":"IF(AI$3<=vantHoff_EOS!$N$19,Phi_i_NS_Tci_Pci_wi_kijm_TinC_PinPa_yi(AI$3,vantHoff_EOS!$N$19,vantHoff_EOS!$X$5:$X$14,vantHoff_EOS!$Y$5:$Y$14,vantHoff_EOS!$Z$5:$Z$14,vantHoff_EOS!$AE$5:$AN$14,$C$2,B27*1000000,$O27:$X27),\"-\")","v":"-"}]
[25,{"$f":"B27+vantHoff_EOS!$E$26","v":12.799999999999983},320.14999999999998,3.1235358425737939E-3,{"$f":"lnKaT_Tref_lnKaTref_dHTref_da_db_dc_dd_de_TinC(vantHoff_EOS!$E$7,vantHoff_EOS!$B$9,vantHoff_EOS!$B$6,vantHoff_EOS!$O$27,vantHoff_EOS!$P$27,vantHoff_EOS!$Q$27,vantHoff_EOS!$R$27,vantHoff_EOS!$S$27,$C$2)","v":13.062534312676297},470962.76406017854,{"$f":"MolarExtentX_NS_vi_n0i_dHfi_dGfi_TrefinC_da_db_dc_dd_de_Tci_Pci_wi_kijm_TinC_PinPa(vantHoff_EOS!$N$19,vantHoff_EOS!$O$23:$X$23,vantHoff_EOS!$O$31:$X$31,vantHoff_EOS!$T$5:$T$14,vantHoff_EOS!$U$5:$U$14,vantHoff_EOS!$E$7,vantHoff_EOS!$O$27,vantHoff_EOS!$P$27,vantHoff_EOS!$Q$27,vantHoff_EOS!$R$27,vantHoff_EOS!$S$27,vantHoff_EOS!$X$5:$X$14,vantHoff_EOS!$Y$5:$Y$14,vantHoff_EOS!$Z$5:$Z$14,vantHoff_EOS!$AE$5:$AN$14,$C$2,B28*1000000)","v":0.99976837808596319},{"$f":"Ky_NS_n0i_vi_X(vantHoff_EOS!$N$19,vantHoff_EOS!$O$31:$X$31,vantHoff_EOS!$O$23:$X$23,G28)","v":5596813087765.667},{"$f":"Kp_NS_vi_PinPa(vantHoff_EOS!$N$19,vantHoff_EOS!$O$23:$X$23,B28*1000000)","v":6.1035156250000163E-5},{"$f":"Kphi_NS_n0i_vi_X_Tci_Pci_wi_kijm_TinC_PinPa(vantHoff_EOS!$N$19,vantHoff_EOS!$O$31:$X$31,vantHoff_EOS!$O$23:$X$23,G28,vantHoff_EOS!$X$5:$X$14,vantHoff_EOS!$Y$5:$Y$14,vantHoff_EOS!$Z$5:$Z$14,vantHoff_EOS!$AE$5:$AN$14,$C$2,B28*1000000)","v":1.3786870859111794E-3},29.353218460205223,-9.704060527839232,-6.5866236196897905,{"$f":"nT_NS_n0i_vi_X(vantHoff_EOS!$N$19,vantHoff_EOS!$O$31:$X$31,vantHoff_EOS!$O$23:$X$23,G28)","v":8.3404632438280739},{"$f":"IF(O$3<=vantHoff_EOS!$N$19,y_iindex_NS_n0i_vi_X(O$3,vantHoff_EOS!$N$19,vantHoff_EOS!$O$31:$X$31,vantHoff_EOS!$O$23:$X$23,$G28),\"-\")","v":2.777086922698276E-5},{"$f":"IF(P$3<=vantHoff_EOS!$N$19,y_iindex_NS_n0i_vi_X(P$3,vantHoff_EOS!$N$19,vantHoff_EOS!$O$31:$X$31,vantHoff_EOS!$O$23:$X$23,$G28),\"-\")","v":2.777086922698276E-5},{"$f":"IF(Q$3<=vantHoff_EOS!$N$19,y_iindex_NS_n0i_vi_X(Q$3,vantHoff_EOS!$N$19,vantHoff_EOS!$O$31:$X$31,vantHoff_EOS!$O$23:$X$23,$G28),\"-\")","v":2.777086922698276E-5},{"$f":"IF(R$3<=vantHoff_EOS!$N$19,y_iindex_NS_n0i_vi_X(R$3,vantHoff_EOS!$N$19,vantHoff_EOS!$O$31:$X$31,vantHoff_EOS!$O$23:$X$23,$G28),\"-\")","v":0.11986964618851234},{"$f":"IF(S$3<=vantHoff_EOS!$N$19,y_iindex_NS_n0i_vi_X(S$3,vantHoff_EOS!$N$19,vantHoff_EOS!$O$31:$X$31,vantHoff_EOS!$O$23:$X$23,$G28),\"-\")","v":0.88004704120380661},{"$f":"IF(T$3<=vantHoff_EOS!$N$19,y_iindex_NS_n0i_vi_X(T$3,vantHoff_EOS!$N$19,vantHoff_EOS!$O$31:$X$31,vantHoff_EOS!$O$23:$X$23,$G28),\"-\")","v":"-"},{"$f":"IF(U$3<=vantHoff_EOS!$N$19,y_iindex_NS_n0i_vi_X(U$3,vantHoff_EOS!$N$19,vantHoff_EOS!$O$31:$X$31,vantHoff_EOS!$O$23:$X$23,$G28),\"-\")","v":"-"},{"$f":"IF(V$3<=vantHoff_EOS!$N$19,y_iindex_NS_n0i_vi_X(V$3,vantHoff_EOS!$N$19,vantHoff_EOS!$O$31:$X$31,vantHoff_EOS!$O$23:$X$23,$G28),\"-\")","v":"-"},{"$f":"IF(W$3<=vantHoff_EOS!$N$19,y_iindex_NS_n0i_vi_X(W$3,vantHoff_EOS!$N$19,vantHoff_EOS!$O$31:$X$31,vantHoff_EOS!$O$23:$X$23,$G28),\"-\")","v":"-"},{"$f":"IF(X$3<=vantHoff_EOS!$N$19,y_iindex_NS_n0i_vi_X(X$3,vantHoff_EOS!$N$19,vantHoff_EOS!$O$31:$X$31,vantHoff_EOS!$O$23:$X$23,$G28),\"-\")","v":"-"},0.99999999999999989,{"$f":"IF(Z$3<=vantHoff_EOS!$N$19,Phi_i_NS_Tci_Pci_wi_kijm_TinC_PinPa_yi(Z$3,vantHoff_EOS!$N$19,vantHoff_EOS!$X$5:$X$14,vantHoff_EOS!$Y$5:$Y$14,vantHoff_EOS!$Z$5:$Z$14,vantHoff_EOS!$AE$5:$AN$14,$C$2,B28*1000000,$O28:$X28),\"-\")","v":4.0625696801700073},{"$f":"IF(AA$3<=vantHoff_EOS!$N$19,Phi_i_NS_Tci_Pci_wi_kijm_TinC_PinPa_yi(AA$3,vantHoff_EOS!$N$19,vantHoff_EOS!$X$5:$X$14,vantHoff_EOS!$Y$5:$Y$14,vantHoff_EOS!$Z$5:$Z$14,vantHoff_EOS!$AE$5:$AN$14,$C$2,B28*1000000,$O28:$X28),\"-\")","v":6.6109107517927459},{"$f":"IF(AB$3<=vantHoff_EOS!$N$19,Phi_i_NS_Tci_Pci_wi_kijm_TinC_PinPa_yi(AB$3,vantHoff_EOS!$N$19,vantHoff_EOS!$X$5:$X$14,vantHoff_EOS!$Y$5:$Y$14,vantHoff_EOS!$Z$5:$Z$14,vantHoff_EOS!$AE$5:$AN$14,$C$2,B28*1000000,$O28:$X28),\"-\")","v":0.16625860344393212},{"$f":"IF(AC$3<=vantHoff_EOS!$N$19,Phi_i_NS_Tci_Pci_wi_kijm_TinC_PinPa_yi(AC$3,vantHoff_EOS!$N$19,vantHoff_EOS!$X$5:$X$14,vantHoff_EOS!$Y$5:$Y$14,vantHoff_EOS!$Z$5:$Z$14,vantHoff_EOS!$AE$5:$AN$14,$C$2,B28*1000000,$O28:$X28),\"-\")","v":6.1561891178377867E-3},{"$f":"IF(AD$3<=vantHoff_EOS!$N$19,Phi_i_NS_Tci_Pci_wi_kijm_TinC_PinPa_yi(AD$3,vantHoff_EOS!$N$19,vantHoff_EOS!$X$5:$X$14,vantHoff_EOS!$Y$5:$Y$14,vantHoff_EOS!$Z$5:$Z$14,vantHoff_EOS!$AE$5:$AN$14,$C$2,B28*1000000,$O28:$X28),\"-\")","v":0.53260948513808637},{"$f":"IF(AE$3<=vantHoff_EOS!$N$19,Phi_i_NS_Tci_Pci_wi_kijm_TinC_PinPa_yi(AE$3,vantHoff_EOS!$N$19,vantHoff_EOS!$X$5:$X$14,vantHoff_EOS!$Y$5:$Y$14,vantHoff_EOS!$Z$5:$Z$14,vantHoff_EOS!$AE$5:$AN$14,$C$2,B28*1000000,$O28:$X28),\"-\")","v":"-"},{"$f":"IF(AF$3<=vantHoff_EOS!$N$19,Phi_i_NS_Tci_Pci_wi_kijm_TinC_PinPa_yi(AF$3,vantHoff_EOS!$N$19,vantHoff_EOS!$X$5:$X$14,vantHoff_EOS!$Y$5:$Y$14,vantHoff_EOS!$Z$5:$Z$14,vantHoff_EOS!$AE$5:$AN$14,$C$2,B28*1000000,$O28:$X28),\"-\")","v":"-"},{"$f":"IF(AG$3<=vantHoff_EOS!$N$19,Phi_i_NS_Tci_Pci_wi_kijm_TinC_PinPa_yi(AG$3,vantHoff_EOS!$N$19,vantHoff_EOS!$X$5:$X$14,vantHoff_EOS!$Y$5:$Y$14,vantHoff_EOS!$Z$5:$Z$14,vantHoff_EOS!$AE$5:$AN$14,$C$2,B28*1000000,$O28:$X28),\"-\")","v":"-"},{"$f":"IF(AH$3<=vantHoff_EOS!$N$19,Phi_i_NS_Tci_Pci_wi_kijm_TinC_PinPa_yi(AH$3,vantHoff_EOS!$N$19,vantHoff_EOS!$X$5:$X$14,vantHoff_EOS!$Y$5:$Y$14,vantHoff_EOS!$Z$5:$Z$14,vantHoff_EOS!$AE$5:$AN$14,$C$2,B28*1000000,$O28:$X28),\"-\")","v":"-"},{"$f":"IF(AI$3<=vantHoff_EOS!$N$19,Phi_i_NS_Tci_Pci_wi_kijm_TinC_PinPa_yi(AI$3,vantHoff_EOS!$N$19,vantHoff_EOS!$X$5:$X$14,vantHoff_EOS!$Y$5:$Y$14,vantHoff_EOS!$Z$5:$Z$14,vantHoff_EOS!$AE$5:$AN$14,$C$2,B28*1000000,$O28:$X28),\"-\")","v":"-"}]
[26,{"$f":"B28+vantHoff_EOS!$E$26","v":12.999999999999982},320.14999999999998,3.1235358425737939E-3,{"$f":"lnKaT_Tref_lnKaTref_dHTref_da_db_dc_dd_de_TinC(vantHoff_EOS!$E$7,vantHoff_EOS!$B$9,vantHoff_EOS!$B$6,vantHoff_EOS!$O$27,vantHoff_EOS!$P$27,vantHoff_EOS!$Q$27,vantHoff_EOS!$R$27,vantHoff_EOS!$S$27,$C$2)","v":13.062534312676297},470962.76406017854,{"$f":"MolarExtentX_NS_vi_n0i_dHfi_dGfi_TrefinC_da_db_dc_dd_de_Tci_Pci_wi_kijm_TinC_PinPa(vantHoff_EOS!$N$19,vantHoff_EOS!$O$23:$X$23,vantHoff_EOS!$O$31:$X$31,vantHoff_EOS!$T$5:$T$14,vantHoff_EOS!$U$5:$U$14,vantHoff_EOS!$E$7,vantHoff_EOS!$O$27,vantHoff_EOS!$P$27,vantHoff_EOS!$Q$27,vantHoff_EOS!$R$27,vantHoff_EOS!$S$27,vantHoff_EOS!$X$5:$X$14,vantHoff_EOS!$Y$5:$Y$14,vantHoff_EOS!$Z$5:$Z$14,vantHoff_EOS!$AE$5:$AN$14,$C$2,B29*1000000)","v":0.99976979420914058},{"$f":"Ky_NS_n0i_vi_X(vantHoff_EOS!$N$19,vantHoff_EOS!$O$31:$X$31,vantHoff_EOS!$O$23:$X$23,G29)","v":5700741251895.8975},{"$f":"Kp_NS_vi_PinPa(vantHoff_EOS!$N$19,vantHoff_EOS!$O$23:$X$23,B29*1000000)","v":5.9171597633136277E-5},{"$f":"Kphi_NS_n0i_vi_X_Tci_Pci_wi_kijm_TinC_PinPa(vantHoff_EOS!$N$19,vantHoff_EOS!$O$31:$X$31,vantHoff_EOS!$O$23:$X$23,G29,vantHoff_EOS!$X$5:$X$14,vantHoff_EOS!$Y$5:$Y$14,vantHoff_EOS!$Z$5:$Z$14,vantHoff_EOS!$AE$5:$AN$14,$C$2,B29*1000000)","v":1.3961817175905187E-3},29.371617326506303,-9.7350689009111626,-6.5740141129195795,{"$f":"nT_NS_n0i_vi_X(vantHoff_EOS!$N$19,vantHoff_EOS!$O$31:$X$31,vantHoff_EOS!$O$23:$X$23,G29)","v":8.3404604115817182},{"$f":"IF(O$3<=vantHoff_EOS!$N$19,y_iindex_NS_n0i_vi_X(O$3,vantHoff_EOS!$N$19,vantHoff_EOS!$O$31:$X$31,vantHoff_EOS!$O$23:$X$23,$G29),\"-\")","v":2.760108908852907E-5},{"$f":"IF(P$3<=vantHoff_EOS!$N$19,y_iindex_NS_n0i_vi_X(P$3,vantHoff_EOS!$N$19,vantHoff_EOS!$O$31:$X$31,vantHoff_EOS!$O$23:$X$23,$G29),\"-\")","v":2.760108908852907E-5},{"$f":"IF(Q$3<=vantHoff_EOS!$N$19,y_iindex_NS_n0i_vi_X(Q$3,vantHoff_EOS!$N$19,vantHoff_EOS!$O$31:$X$31,vantHoff_EOS!$O$23:$X$23,$G29),\"-\")","v":2.760108908852907E-5},{"$f":"IF(R$3<=vantHoff_EOS!$N$19,y_iindex_NS_n0i_vi_X(R$3,vantHoff_EOS!$N$19,vantHoff_EOS!$O$31:$X$31,vantHoff_EOS!$O$23:$X$23,$G29),\"-\")","v":0.11986985668331231},{"$f":"IF(S$3<=vantHoff_EOS!$N$19,y_iindex_NS_n0i_vi_X(S$3,vantHoff_EOS!$N$19,vantHoff_EOS!$O$31:$X$31,vantHoff_EOS!$O$23:$X$23,$G29),\"-\")","v":0.8800473400494222},{"$f":"IF(T$3<=vantHoff_EOS!$N$19,y_iindex_NS_n0i_vi_X(T$3,vantHoff_EOS!$N$19,vantHoff_EOS!$O$31:$X$31,vantHoff_EOS!$O$23:$X$23,$G29),\"-\")","v":"-"},{"$f":"IF(U$3<=vantHoff_EOS!$N$19,y_iindex_NS_n0i_vi_X(U$3,vantHoff_EOS!$N$19,vantHoff_EOS!$O$31:$X$31,vantHoff_EOS!$O$23:$X$23,$G29),\"-\")","v":"-"},{"$f":"IF(V$3<=vantHoff_EOS!$N$19,y_iindex_NS_n0i_vi_X(V$3,vantHoff_EOS!$N$19,vantHoff_EOS!$O$31:$X$31,vantHoff_EOS!$O$23:$X$23,$G29),\"-\")","v":"-"},{"$f":"IF(W$3<=vantHoff_EOS!$N$19,y_iindex_NS_n0i_vi_X(W$3,vantHoff_EOS!$N$19,vantHoff_EOS!$O$31:$X$31,vantHoff_EOS!$O$23:$X$23,$G29),\"-\")","v":"-"},{"$f":"IF(X$3<=vantHoff_EOS!$N$19,y_iindex_NS_n0i_vi_X(X$3,vantHoff_EOS!$N$19,vantHoff_EOS!$O$31:$X$31,vantHoff_EOS!$O$23:$X$23,$G29),\"-\")","v":"-"},1,{"$f":"IF(Z$3<=vantHoff_EOS!$N$19,Phi_i_NS_Tci_Pci_wi_kijm_TinC_PinPa_yi(Z$3,vantHoff_EOS!$N$19,vantHoff_EOS!$X$5:$X$14,vantHoff_EOS!$Y$5:$Y$14,vantHoff_EOS!$Z$5:$Z$14,vantHoff_EOS!$AE$5:$AN$14,$C$2,B29*1000000,$O29:$X29),\"-\")","v":4.0342413625644369},{"$f":"IF(AA$3<=vantHoff_EOS!$N$19,Phi_i_NS_Tci_Pci_wi_kijm_TinC_PinPa_yi(AA$3,vantHoff_EOS!$N$19,vantHoff_EOS!$X$5:$X$14,vantHoff_EOS!$Y$5:$Y$14,vantHoff_EOS!$Z$5:$Z$14,vantHoff_EOS!$AE$5:$AN$14,$C$2,B29*1000000,$O29:$X29),\"-\")","v":6.5630935289933259},{"$f":"IF(AB$3<=vantHoff_EOS!$N$19,Phi_i_NS_Tci_Pci_wi_kijm_TinC_PinPa_yi(AB$3,vantHoff_EOS!$N$19,vantHoff_EOS!$X$5:$X$14,vantHoff_EOS!$Y$5:$Y$14,vantHoff_EOS!$Z$5:$Z$14,vantHoff_EOS!$AE$5:$AN$14,$C$2,B29*1000000,$O29:$X29),\"-\")","v":0.16467776170407322},{"$f":"IF(AC$3<=vantHoff_EOS!$N$19,Phi_i_NS_Tci_Pci_wi_kijm_TinC_PinPa_yi(AC$3,vantHoff_EOS!$N$19,vantHoff_EOS!$X$5:$X$14,vantHoff_EOS!$Y$5:$Y$14,vantHoff_EOS!$Z$5:$Z$14,vantHoff_EOS!$AE$5:$AN$14,$C$2,B29*1000000,$O29:$X29),\"-\")","v":6.087617732434953E-3},{"$f":"IF(AD$3<=vantHoff_EOS!$N$19,Phi_i_NS_Tci_Pci_wi_kijm_TinC_PinPa_yi(AD$3,vantHoff_EOS!$N$19,vantHoff_EOS!$X$5:$X$14,vantHoff_EOS!$Y$5:$Y$14,vantHoff_EOS!$Z$5:$Z$14,vantHoff_EOS!$AE$5:$AN$14,$C$2,B29*1000000,$O29:$X29),\"-\")","v":0.52681864471261519},{"$f":"IF(AE$3<=vantHoff_EOS!$N$19,Phi_i_NS_Tci_Pci_wi_kijm_TinC_PinPa_yi(AE$3,vantHoff_EOS!$N$19,vantHoff_EOS!$X$5:$X$14,vantHoff_EOS!$Y$5:$Y$14,vantHoff_EOS!$Z$5:$Z$14,vantHoff_EOS!$AE$5:$AN$14,$C$2,B29*1000000,$O29:$X29),\"-\")","v":"-"},{"$f":"IF(AF$3<=vantHoff_EOS!$N$19,Phi_i_NS_Tci_Pci_wi_kijm_TinC_PinPa_yi(AF$3,vantHoff_EOS!$N$19,vantHoff_EOS!$X$5:$X$14,vantHoff_EOS!$Y$5:$Y$14,vantHoff_EOS!$Z$5:$Z$14,vantHoff_EOS!$AE$5:$AN$14,$C$2,B29*1000000,$O29:$X29),\"-\")","v":"-"},{"$f":"IF(AG$3<=vantHoff_EOS!$N$19,Phi_i_NS_Tci_Pci_wi_kijm_TinC_PinPa_yi(AG$3,vantHoff_EOS!$N$19,vantHoff_EOS!$X$5:$X$14,vantHoff_EOS!$Y$5:$Y$14,vantHoff_EOS!$Z$5:$Z$14,vantHoff_EOS!$AE$5:$AN$14,$C$2,B29*1000000,$O29:$X29),\"-\")","v":"-"},{"$f":"IF(AH$3<=vantHoff_EOS!$N$19,Phi_i_NS_Tci_Pci_wi_kijm_TinC_PinPa_yi(AH$3,vantHoff_EOS!$N$19,vantHoff_EOS!$X$5:$X$14,vantHoff_EOS!$Y$5:$Y$14,vantHoff_EOS!$Z$5:$Z$14,vantHoff_EOS!$AE$5:$AN$14,$C$2,B29*1000000,$O29:$X29),\"-\")","v":"-"},{"$f":"IF(AI$3<=vantHoff_EOS!$N$19,Phi_i_NS_Tci_Pci_wi_kijm_TinC_PinPa_yi(AI$3,vantHoff_EOS!$N$19,vantHoff_EOS!$X$5:$X$14,vantHoff_EOS!$Y$5:$Y$14,vantHoff_EOS!$Z$5:$Z$14,vantHoff_EOS!$AE$5:$AN$14,$C$2,B29*1000000,$O29:$X29),\"-\")","v":"-"}]
[27,{"$f":"B29+vantHoff_EOS!$E$26","v":13.199999999999982},320.14999999999998,3.1235358425737939E-3,{"$f":"lnKaT_Tref_lnKaTref_dHTref_da_db_dc_dd_de_TinC(vantHoff_EOS!$E$7,vantHoff_EOS!$B$9,vantHoff_EOS!$B$6,vantHoff_EOS!$O$27,vantHoff_EOS!$P$27,vantHoff_EOS!$Q$27,vantHoff_EOS!$R$27,vantHoff_EOS!$S$27,$C$2)","v":13.062534312676297},470962.76406017854,{"$f":"MolarExtentX_NS_vi_n0i_dHfi_dGfi_TrefinC_da_db_dc_dd_de_Tci_Pci_wi_kijm_TinC_PinPa(vantHoff_EOS!$N$19,vantHoff_EOS!$O$23:$X$23,vantHoff_EOS!$O$31:$X$31,vantHoff_EOS!$T$5:$T$14,vantHoff_EOS!$U$5:$U$14,vantHoff_EOS!$E$7,vantHoff_EOS!$O$27,vantHoff_EOS!$P$27,vantHoff_EOS!$Q$27,vantHoff_EOS!$R$27,vantHoff_EOS!$S$27,vantHoff_EOS!$X$5:$X$14,vantHoff_EOS!$Y$5:$Y$14,vantHoff_EOS!$Z$5:$Z$14,vantHoff_EOS!$AE$5:$AN$14,$C$2,B30*1000000)","v":0.99977118106029672},{"$f":"Ky_NS_n0i_vi_X(vantHoff_EOS!$N$19,vantHoff_EOS!$O$31:$X$31,vantHoff_EOS!$O$23:$X$23,G30)","v":5805030007327.3291},{"$f":"Kp_NS_vi_PinPa(vantHoff_EOS!$N$19,vantHoff_EOS!$O$23:$X$23,B30*1000000)","v":5.7392102846648477E-5},{"$f":"Kphi_NS_n0i_vi_X_Tci_Pci_wi_kijm_TinC_PinPa(vantHoff_EOS!$N$19,vantHoff_EOS!$O$31:$X$31,vantHoff_EOS!$O$23:$X$23,G30,vantHoff_EOS!$X$5:$X$14,vantHoff_EOS!$Y$5:$Y$14,vantHoff_EOS!$Z$5:$Z$14,vantHoff_EOS!$AE$5:$AN$14,$C$2,B30*1000000)","v":1.4136111597393549E-3},29.389745900285945,-9.7656038451727394,-6.5616077424374915,{"$f":"nT_NS_n0i_vi_X(vantHoff_EOS!$N$19,vantHoff_EOS!$O$31:$X$31,vantHoff_EOS!$O$23:$X$23,G30)","v":8.3404576378794069},{"$f":"IF(O$3<=vantHoff_EOS!$N$19,y_iindex_NS_n0i_vi_X(O$3,vantHoff_EOS!$N$19,vantHoff_EOS!$O$31:$X$31,vantHoff_EOS!$O$23:$X$23,$G30),\"-\")","v":2.7434818284318656E-5},{"$f":"IF(P$3<=vantHoff_EOS!$N$19,y_iindex_NS_n0i_vi_X(P$3,vantHoff_EOS!$N$19,vantHoff_EOS!$O$31:$X$31,vantHoff_EOS!$O$23:$X$23,$G30),\"-\")","v":2.7434818284318656E-5},{"$f":"IF(Q$3<=vantHoff_EOS!$N$19,y_iindex_NS_n0i_vi_X(Q$3,vantHoff_EOS!$N$19,vantHoff_EOS!$O$31:$X$31,vantHoff_EOS!$O$23:$X$23,$G30),\"-\")","v":2.7434818284318656E-5},{"$f":"IF(R$3<=vantHoff_EOS!$N$19,y_iindex_NS_n0i_vi_X(R$3,vantHoff_EOS!$N$19,vantHoff_EOS!$O$31:$X$31,vantHoff_EOS!$O$23:$X$23,$G30),\"-\")","v":0.11987006282721105},{"$f":"IF(S$3<=vantHoff_EOS!$N$19,y_iindex_NS_n0i_vi_X(S$3,vantHoff_EOS!$N$19,vantHoff_EOS!$O$31:$X$31,vantHoff_EOS!$O$23:$X$23,$G30),\"-\")","v":0.88004763271793596},{"$f":"IF(T$3<=vantHoff_EOS!$N$19,y_iindex_NS_n0i_vi_X(T$3,vantHoff_EOS!$N$19,vantHoff_EOS!$O$31:$X$31,vantHoff_EOS!$O$23:$X$23,$G30),\"-\")","v":"-"},{"$f":"IF(U$3<=vantHoff_EOS!$N$19,y_iindex_NS_n0i_vi_X(U$3,vantHoff_EOS!$N$19,vantHoff_EOS!$O$31:$X$31,vantHoff_EOS!$O$23:$X$23,$G30),\"-\")","v":"-"},{"$f":"IF(V$3<=vantHoff_EOS!$N$19,y_iindex_NS_n0i_vi_X(V$3,vantHoff_EOS!$N$19,vantHoff_EOS!$O$31:$X$31,vantHoff_EOS!$O$23:$X$23,$G30),\"-\")","v":"-"},{"$f":"IF(W$3<=vantHoff_EOS!$N$19,y_iindex_NS_n0i_vi_X(W$3,vantHoff_EOS!$N$19,vantHoff_EOS!$O$31:$X$31,vantHoff_EOS!$O$23:$X$23,$G30),\"-\")","v":"-"},{"$f":"IF(X$3<=vantHoff_EOS!$N$19,y_iindex_NS_n0i_vi_X(X$3,vantHoff_EOS!$N$19,vantHoff_EOS!$O$31:$X$31,vantHoff_EOS!$O$23:$X$23,$G30),\"-\")","v":"-"},1,{"$f":"IF(Z$3<=vantHoff_EOS!$N$19,Phi_i_NS_Tci_Pci_wi_kijm_TinC_PinPa_yi(Z$3,vantHoff_EOS!$N$19,vantHoff_EOS!$X$5:$X$14,vantHoff_EOS!$Y$5:$Y$14,vantHoff_EOS!$Z$5:$Z$14,vantHoff_EOS!$AE$5:$AN$14,$C$2,B30*1000000,$O30:$X30),\"-\")","v":4.0066956407325911},{"$f":"IF(AA$3<=vantHoff_EOS!$N$19,Phi_i_NS_Tci_Pci_wi_kijm_TinC_PinPa_yi(AA$3,vantHoff_EOS!$N$19,vantHoff_EOS!$X$5:$X$14,vantHoff_EOS!$Y$5:$Y$14,vantHoff_EOS!$Z$5:$Z$14,vantHoff_EOS!$AE$5:$AN$14,$C$2,B30*1000000,$O30:$X30),\"-\")","v":6.5165165381715386},{"$f":"IF(AB$3<=vantHoff_EOS!$N$19,Phi_i_NS_Tci_Pci_wi_kijm_TinC_PinPa_yi(AB$3,vantHoff_EOS!$N$19,vantHoff_EOS!$X$5:$X$14,vantHoff_EOS!$Y$5:$Y$14,vantHoff_EOS!$Z$5:$Z$14,vantHoff_EOS!$AE$5:$AN$14,$C$2,B30*1000000,$O30:$X30),\"-\")","v":0.16314940028684025},{"$f":"IF(AC$3<=vantHoff_EOS!$N$19,Phi_i_NS_Tci_Pci_wi_kijm_TinC_PinPa_yi(AC$3,vantHoff_EOS!$N$19,vantHoff_EOS!$X$5:$X$14,vantHoff_EOS!$Y$5:$Y$14,vantHoff_EOS!$Z$5:$Z$14,vantHoff_EOS!$AE$5:$AN$14,$C$2,B30*1000000,$O30:$X30),\"-\")","v":6.0216748596220145E-3},{"$f":"IF(AD$3<=vantHoff_EOS!$N$19,Phi_i_NS_Tci_Pci_wi_kijm_TinC_PinPa_yi(AD$3,vantHoff_EOS!$N$19,vantHoff_EOS!$X$5:$X$14,vantHoff_EOS!$Y$5:$Y$14,vantHoff_EOS!$Z$5:$Z$14,vantHoff_EOS!$AE$5:$AN$14,$C$2,B30*1000000,$O30:$X30),\"-\")","v":0.52120184284218918},{"$f":"IF(AE$3<=vantHoff_EOS!$N$19,Phi_i_NS_Tci_Pci_wi_kijm_TinC_PinPa_yi(AE$3,vantHoff_EOS!$N$19,vantHoff_EOS!$X$5:$X$14,vantHoff_EOS!$Y$5:$Y$14,vantHoff_EOS!$Z$5:$Z$14,vantHoff_EOS!$AE$5:$AN$14,$C$2,B30*1000000,$O30:$X30),\"-\")","v":"-"},{"$f":"IF(AF$3<=vantHoff_EOS!$N$19,Phi_i_NS_Tci_Pci_wi_kijm_TinC_PinPa_yi(AF$3,vantHoff_EOS!$N$19,vantHoff_EOS!$X$5:$X$14,vantHoff_EOS!$Y$5:$Y$14,vantHoff_EOS!$Z$5:$Z$14,vantHoff_EOS!$AE$5:$AN$14,$C$2,B30*1000000,$O30:$X30),\"-\")","v":"-"},{"$f":"IF(AG$3<=vantHoff_EOS!$N$19,Phi_i_NS_Tci_Pci_wi_kijm_TinC_PinPa_yi(AG$3,vantHoff_EOS!$N$19,vantHoff_EOS!$X$5:$X$14,vantHoff_EOS!$Y$5:$Y$14,vantHoff_EOS!$Z$5:$Z$14,vantHoff_EOS!$AE$5:$AN$14,$C$2,B30*1000000,$O30:$X30),\"-\")","v":"-"},{"$f":"IF(AH$3<=vantHoff_EOS!$N$19,Phi_i_NS_Tci_Pci_wi_kijm_TinC_PinPa_yi(AH$3,vantHoff_EOS!$N$19,vantHoff_EOS!$X$5:$X$14,vantHoff_EOS!$Y$5:$Y$14,vantHoff_EOS!$Z$5:$Z$14,vantHoff_EOS!$AE$5:$AN$14,$C$2,B30*1000000,$O30:$X30),\"-\")","v":"-"},{"$f":"IF(AI$3<=vantHoff_EOS!$N$19,Phi_i_NS_Tci_Pci_wi_kijm_TinC_PinPa_yi(AI$3,vantHoff_EOS!$N$19,vantHoff_EOS!$X$5:$X$14,vantHoff_EOS!$Y$5:$Y$14,vantHoff_EOS!$Z$5:$Z$14,vantHoff_EOS!$AE$5:$AN$14,$C$2,B30*1000000,$O30:$X30),\"-\")","v":"-"}]
[28,{"$f":"B30+vantHoff_EOS!$E$26","v":13.399999999999981},320.14999999999998,3.1235358425737939E-3,{"$f":"lnKaT_Tref_lnKaTref_dHTref_da_db_dc_dd_de_TinC(vantHoff_EOS!$E$7,vantHoff_EOS!$B$9,vantHoff_EOS!$B$6,vantHoff_EOS!$O$27,vantHoff_EOS!$P$27,vantHoff_EOS!$Q$27,vantHoff_EOS!$R$27,vantHoff_EOS!$S$27,$C$2)","v":13.062534312676297},470962.76406017854,{"$f":"MolarExtentX_NS_vi_n0i_dHfi_dGfi_TrefinC_da_db_dc_dd_de_Tci_Pci_wi_kijm_TinC_PinPa(vantHoff_EOS!$N$19,vantHoff_EOS!$O$23:$X$23,vantHoff_EOS!$O$31:$X$31,vantHoff_EOS!$T$5:$T$14,vantHoff_EOS!$U$5:$U$14,vantHoff_EOS!$E$7,vantHoff_EOS!$O$27,vantHoff_EOS!$P$27,vantHoff_EOS!$Q$27,vantHoff_EOS!$R$27,vantHoff_EOS!$S$27,vantHoff_EOS!$X$5:$X$14,vantHoff_EOS!$Y$5:$Y$14,vantHoff_EOS!$Z$5:$Z$14,vantHoff_EOS!$AE$5:$AN$14,$C$2,B31*1000000)","v":0.99977253976388791},{"$f":"Ky_NS_n0i_vi_X(vantHoff_EOS!$N$19,vantHoff_EOS!$O$31:$X$31,vantHoff_EOS!$O$23:$X$23,G31)","v":5909683548426.0869},{"$f":"Kp_NS_vi_PinPa(vantHoff_EOS!$N$19,vantHoff_EOS!$O$23:$X$23,B31*1000000)","v":5.5691690799732845E-5},{"$f":"Kphi_NS_n0i_vi_X_Tci_Pci_wi_kijm_TinC_PinPa(vantHoff_EOS!$N$19,vantHoff_EOS!$O$31:$X$31,vantHoff_EOS!$O$23:$X$23,G31,vantHoff_EOS!$X$5:$X$14,vantHoff_EOS!$Y$5:$Y$14,vantHoff_EOS!$Z$5:$Z$14,vantHoff_EOS!$AE$5:$AN$14,$C$2,B31*1000000)","v":1.4309746574688615E-3},29.407613400807396,-9.7956795999018205,-6.5493994882300068,{"$f":"nT_NS_n0i_vi_X(vantHoff_EOS!$N$19,vantHoff_EOS!$O$31:$X$31,vantHoff_EOS!$O$23:$X$23,G31)","v":8.340454920472224},{"$f":"IF(O$3<=vantHoff_EOS!$N$19,y_iindex_NS_n0i_vi_X(O$3,vantHoff_EOS!$N$19,vantHoff_EOS!$O$31:$X$31,vantHoff_EOS!$O$23:$X$23,$G31),\"-\")","v":2.7271922009166441E-5},{"$f":"IF(P$3<=vantHoff_EOS!$N$19,y_iindex_NS_n0i_vi_X(P$3,vantHoff_EOS!$N$19,vantHoff_EOS!$O$31:$X$31,vantHoff_EOS!$O$23:$X$23,$G31),\"-\")","v":2.7271922009166441E-5},{"$f":"IF(Q$3<=vantHoff_EOS!$N$19,y_iindex_NS_n0i_vi_X(Q$3,vantHoff_EOS!$N$19,vantHoff_EOS!$O$31:$X$31,vantHoff_EOS!$O$23:$X$23,$G31),\"-\")","v":2.7271922009166441E-5},{"$f":"IF(R$3<=vantHoff_EOS!$N$19,y_iindex_NS_n0i_vi_X(R$3,vantHoff_EOS!$N$19,vantHoff_EOS!$O$31:$X$31,vantHoff_EOS!$O$23:$X$23,$G31),\"-\")","v":0.11987026478734115},{"$f":"IF(S$3<=vantHoff_EOS!$N$19,y_iindex_NS_n0i_vi_X(S$3,vantHoff_EOS!$N$19,vantHoff_EOS!$O$31:$X$31,vantHoff_EOS!$O$23:$X$23,$G31),\"-\")","v":0.8800479194466313},{"$f":"IF(T$3<=vantHoff_EOS!$N$19,y_iindex_NS_n0i_vi_X(T$3,vantHoff_EOS!$N$19,vantHoff_EOS!$O$31:$X$31,vantHoff_EOS!$O$23:$X$23,$G31),\"-\")","v":"-"},{"$f":"IF(U$3<=vantHoff_EOS!$N$19,y_iindex_NS_n0i_vi_X(U$3,vantHoff_EOS!$N$19,vantHoff_EOS!$O$31:$X$31,vantHoff_EOS!$O$23:$X$23,$G31),\"-\")","v":"-"},{"$f":"IF(V$3<=vantHoff_EOS!$N$19,y_iindex_NS_n0i_vi_X(V$3,vantHoff_EOS!$N$19,vantHoff_EOS!$O$31:$X$31,vantHoff_EOS!$O$23:$X$23,$G31),\"-\")","v":"-"},{"$f":"IF(W$3<=vantHoff_EOS!$N$19,y_iindex_NS_n0i_vi_X(W$3,vantHoff_EOS!$N$19,vantHoff_EOS!$O$31:$X$31,vantHoff_EOS!$O$23:$X$23,$G31),\"-\")","v":"-"},{"$f":"IF(X$3<=vantHoff_EOS!$N$19,y_iindex_NS_n0i_vi_X(X$3,vantHoff_EOS!$N$19,vantHoff_EOS!$O$31:$X$31,vantHoff_EOS!$O$23:$X$23,$G31),\"-\")","v":"-"},1,{"$f":"IF(Z$3<=vantHoff_EOS!$N$19,Phi_i_NS_Tci_Pci_wi_kijm_TinC_PinPa_yi(Z$3,vantHoff_EOS!$N$19,vantHoff_EOS!$X$5:$X$14,vantHoff_EOS!$Y$5:$Y$14,vantHoff_EOS!$Z$5:$Z$14,vantHoff_EOS!$AE$5:$AN$14,$C$2,B31*1000000,$O31:$X31),\"-\")","v":3.9799027037936003},{"$f":"IF(AA$3<=vantHoff_EOS!$N$19,Phi_i_NS_Tci_Pci_wi_kijm_TinC_PinPa_yi(AA$3,vantHoff_EOS!$N$19,vantHoff_EOS!$X$5:$X$14,vantHoff_EOS!$Y$5:$Y$14,vantHoff_EOS!$Z$5:$Z$14,vantHoff_EOS!$AE$5:$AN$14,$C$2,B31*1000000,$O31:$X31),\"-\")","v":6.4711336876838503},{"$f":"IF(AB$3<=vantHoff_EOS!$N$19,Phi_i_NS_Tci_Pci_wi_kijm_TinC_PinPa_yi(AB$3,vantHoff_EOS!$N$19,vantHoff_EOS!$X$5:$X$14,vantHoff_EOS!$Y$5:$Y$14,vantHoff_EOS!$Z$5:$Z$14,vantHoff_EOS!$AE$5:$AN$14,$C$2,B31*1000000,$O31:$X31),\"-\")","v":0.16167118216570761},{"$f":"IF(AC$3<=vantHoff_EOS!$N$19,Phi_i_NS_Tci_Pci_wi_kijm_TinC_PinPa_yi(AC$3,vantHoff_EOS!$N$19,vantHoff_EOS!$X$5:$X$14,vantHoff_EOS!$Y$5:$Y$14,vantHoff_EOS!$Z$5:$Z$14,vantHoff_EOS!$AE$5:$AN$14,$C$2,B31*1000000,$O31:$X31),\"-\")","v":5.9582316418047253E-3},{"$f":"IF(AD$3<=vantHoff_EOS!$N$19,Phi_i_NS_Tci_Pci_wi_kijm_TinC_PinPa_yi(AD$3,vantHoff_EOS!$N$19,vantHoff_EOS!$X$5:$X$14,vantHoff_EOS!$Y$5:$Y$14,vantHoff_EOS!$Z$5:$Z$14,vantHoff_EOS!$AE$5:$AN$14,$C$2,B31*1000000,$O31:$X31),\"-\")","v":0.51575151866783042},{"$f":"IF(AE$3<=vantHoff_EOS!$N$19,Phi_i_NS_Tci_Pci_wi_kijm_TinC_PinPa_yi(AE$3,vantHoff_EOS!$N$19,vantHoff_EOS!$X$5:$X$14,vantHoff_EOS!$Y$5:$Y$14,vantHoff_EOS!$Z$5:$Z$14,vantHoff_EOS!$AE$5:$AN$14,$C$2,B31*1000000,$O31:$X31),\"-\")","v":"-"},{"$f":"IF(AF$3<=vantHoff_EOS!$N$19,Phi_i_NS_Tci_Pci_wi_kijm_TinC_PinPa_yi(AF$3,vantHoff_EOS!$N$19,vantHoff_EOS!$X$5:$X$14,vantHoff_EOS!$Y$5:$Y$14,vantHoff_EOS!$Z$5:$Z$14,vantHoff_EOS!$AE$5:$AN$14,$C$2,B31*1000000,$O31:$X31),\"-\")","v":"-"},{"$f":"IF(AG$3<=vantHoff_EOS!$N$19,Phi_i_NS_Tci_Pci_wi_kijm_TinC_PinPa_yi(AG$3,vantHoff_EOS!$N$19,vantHoff_EOS!$X$5:$X$14,vantHoff_EOS!$Y$5:$Y$14,vantHoff_EOS!$Z$5:$Z$14,vantHoff_EOS!$AE$5:$AN$14,$C$2,B31*1000000,$O31:$X31),\"-\")","v":"-"},{"$f":"IF(AH$3<=vantHoff_EOS!$N$19,Phi_i_NS_Tci_Pci_wi_kijm_TinC_PinPa_yi(AH$3,vantHoff_EOS!$N$19,vantHoff_EOS!$X$5:$X$14,vantHoff_EOS!$Y$5:$Y$14,vantHoff_EOS!$Z$5:$Z$14,vantHoff_EOS!$AE$5:$AN$14,$C$2,B31*1000000,$O31:$X31),\"-\")","v":"-"},{"$f":"IF(AI$3<=vantHoff_EOS!$N$19,Phi_i_NS_Tci_Pci_wi_kijm_TinC_PinPa_yi(AI$3,vantHoff_EOS!$N$19,vantHoff_EOS!$X$5:$X$14,vantHoff_EOS!$Y$5:$Y$14,vantHoff_EOS!$Z$5:$Z$14,vantHoff_EOS!$AE$5:$AN$14,$C$2,B31*1000000,$O31:$X31),\"-\")","v":"-"}]
[29,{"$f":"B31+vantHoff_EOS!$E$26","v":13.59999999999998},320.14999999999998,3.1235358425737939E-3,{"$f":"lnKaT_Tref_lnKaTref_dHTref_da_db_dc_dd_de_TinC(vantHoff_EOS!$E$7,vantHoff_EOS!$B$9,vantHoff_EOS!$B$6,vantHoff_EOS!$O$27,vantHoff_EOS!$P$27,vantHoff_EOS!$Q$27,vantHoff_EOS!$R$27,vantHoff_EOS!$S$27,$C$2)","v":13.062534312676297},470962.76406017854,{"$f":"MolarExtentX_NS_vi_n0i_dHfi_dGfi_TrefinC_da_db_dc_dd_de_Tci_Pci_wi_kijm_TinC_PinPa(vantHoff_EOS!$N$19,vantHoff_EOS!$O$23:$X$23,vantHoff_EOS!$O$31:$X$31,vantHoff_EOS!$T$5:$T$14,vantHoff_EOS!$U$5:$U$14,vantHoff_EOS!$E$7,vantHoff_EOS!$O$27,vantHoff_EOS!$P$27,vantHoff_EOS!$Q$27,vantHoff_EOS!$R$27,vantHoff_EOS!$S$27,vantHoff_EOS!$X$5:$X$14,vantHoff_EOS!$Y$5:$Y$14,vantHoff_EOS!$Z$5:$Z$14,vantHoff_EOS!$AE$5:$AN$14,$C$2,B32*1000000)","v":0.99977387138088891},{"$f":"Ky_NS_n0i_vi_X(vantHoff_EOS!$N$19,vantHoff_EOS!$O$31:$X$31,vantHoff_EOS!$O$23:$X$23,G32)","v":6014705835309.416},{"$f":"Kp_NS_vi_PinPa(vantHoff_EOS!$N$19,vantHoff_EOS!$O$23:$X$23,B32*1000000)","v":5.4065743944636842E-5},{"$f":"Kphi_NS_n0i_vi_X_Tci_Pci_wi_kijm_TinC_PinPa(vantHoff_EOS!$N$19,vantHoff_EOS!$O$31:$X$31,vantHoff_EOS!$O$23:$X$23,G32,vantHoff_EOS!$X$5:$X$14,vantHoff_EOS!$Y$5:$Y$14,vantHoff_EOS!$Z$5:$Z$14,vantHoff_EOS!$AE$5:$AN$14,$C$2,B32*1000000)","v":1.448271540217482E-3},29.425228558973824,-9.8253097714721012,-6.5373844748252434,{"$f":"nT_NS_n0i_vi_X(vantHoff_EOS!$N$19,vantHoff_EOS!$O$31:$X$31,vantHoff_EOS!$O$23:$X$23,G32)","v":8.3404522572382227},{"$f":"IF(O$3<=vantHoff_EOS!$N$19,y_iindex_NS_n0i_vi_X(O$3,vantHoff_EOS!$N$19,vantHoff_EOS!$O$31:$X$31,vantHoff_EOS!$O$23:$X$23,$G32),\"-\")","v":2.711227306826715E-5},{"$f":"IF(P$3<=vantHoff_EOS!$N$19,y_iindex_NS_n0i_vi_X(P$3,vantHoff_EOS!$N$19,vantHoff_EOS!$O$31:$X$31,vantHoff_EOS!$O$23:$X$23,$G32),\"-\")","v":2.711227306826715E-5},{"$f":"IF(Q$3<=vantHoff_EOS!$N$19,y_iindex_NS_n0i_vi_X(Q$3,vantHoff_EOS!$N$19,vantHoff_EOS!$O$31:$X$31,vantHoff_EOS!$O$23:$X$23,$G32),\"-\")","v":2.711227306826715E-5},{"$f":"IF(R$3<=vantHoff_EOS!$N$19,y_iindex_NS_n0i_vi_X(R$3,vantHoff_EOS!$N$19,vantHoff_EOS!$O$31:$X$31,vantHoff_EOS!$O$23:$X$23,$G32),\"-\")","v":0.11987046272139977},{"$f":"IF(S$3<=vantHoff_EOS!$N$19,y_iindex_NS_n0i_vi_X(S$3,vantHoff_EOS!$N$19,vantHoff_EOS!$O$31:$X$31,vantHoff_EOS!$O$23:$X$23,$G32),\"-\")","v":0.88004820045939536},{"$f":"IF(T$3<=vantHoff_EOS!$N$19,y_iindex_NS_n0i_vi_X(T$3,vantHoff_EOS!$N$19,vantHoff_EOS!$O$31:$X$31,vantHoff_EOS!$O$23:$X$23,$G32),\"-\")","v":"-"},{"$f":"IF(U$3<=vantHoff_EOS!$N$19,y_iindex_NS_n0i_vi_X(U$3,vantHoff_EOS!$N$19,vantHoff_EOS!$O$31:$X$31,vantHoff_EOS!$O$23:$X$23,$G32),\"-\")","v":"-"},{"$f":"IF(V$3<=vantHoff_EOS!$N$19,y_iindex_NS_n0i_vi_X(V$3,vantHoff_EOS!$N$19,vantHoff_EOS!$O$31:$X$31,vantHoff_EOS!$O$23:$X$23,$G32),\"-\")","v":"-"},{"$f":"IF(W$3<=vantHoff_EOS!$N$19,y_iindex_NS_n0i_vi_X(W$3,vantHoff_EOS!$N$19,vantHoff_EOS!$O$31:$X$31,vantHoff_EOS!$O$23:$X$23,$G32),\"-\")","v":"-"},{"$f":"IF(X$3<=vantHoff_EOS!$N$19,y_iindex_NS_n0i_vi_X(X$3,vantHoff_EOS!$N$19,vantHoff_EOS!$O$31:$X$31,vantHoff_EOS!$O$23:$X$23,$G32),\"-\")","v":"-"},0.99999999999999989,{"$f":"IF(Z$3<=vantHoff_EOS!$N$19,Phi_i_NS_Tci_Pci_wi_kijm_TinC_PinPa_yi(Z$3,vantHoff_EOS!$N$19,vantHoff_EOS!$X$5:$X$14,vantHoff_EOS!$Y$5:$Y$14,vantHoff_EOS!$Z$5:$Z$14,vantHoff_EOS!$AE$5:$AN$14,$C$2,B32*1000000,$O32:$X32),\"-\")","v":3.9538342334131289},{"$f":"IF(AA$3<=vantHoff_EOS!$N$19,Phi_i_NS_Tci_Pci_wi_kijm_TinC_PinPa_yi(AA$3,vantHoff_EOS!$N$19,vantHoff_EOS!$X$5:$X$14,vantHoff_EOS!$Y$5:$Y$14,vantHoff_EOS!$Z$5:$Z$14,vantHoff_EOS!$AE$5:$AN$14,$C$2,B32*1000000,$O32:$X32),\"-\")","v":6.4269011195131904},{"$f":"IF(AB$3<=vantHoff_EOS!$N$19,Phi_i_NS_Tci_Pci_wi_kijm_TinC_PinPa_yi(AB$3,vantHoff_EOS!$N$19,vantHoff_EOS!$X$5:$X$14,vantHoff_EOS!$Y$5:$Y$14,vantHoff_EOS!$Z$5:$Z$14,vantHoff_EOS!$AE$5:$AN$14,$C$2,B32*1000000,$O32:$X32),\"-\")","v":0.16024090870919611},{"$f":"IF(AC$3<=vantHoff_EOS!$N$19,Phi_i_NS_Tci_Pci_wi_kijm_TinC_PinPa_yi(AC$3,vantHoff_EOS!$N$19,vantHoff_EOS!$X$5:$X$14,vantHoff_EOS!$Y$5:$Y$14,vantHoff_EOS!$Z$5:$Z$14,vantHoff_EOS!$AE$5:$AN$14,$C$2,B32*1000000,$O32:$X32),\"-\")","v":5.8971676047008892E-3},{"$f":"IF(AD$3<=vantHoff_EOS!$N$19,Phi_i_NS_Tci_Pci_wi_kijm_TinC_PinPa_yi(AD$3,vantHoff_EOS!$N$19,vantHoff_EOS!$X$5:$X$14,vantHoff_EOS!$Y$5:$Y$14,vantHoff_EOS!$Z$5:$Z$14,vantHoff_EOS!$AE$5:$AN$14,$C$2,B32*1000000,$O32:$X32),\"-\")","v":0.51046054503033855},{"$f":"IF(AE$3<=vantHoff_EOS!$N$19,Phi_i_NS_Tci_Pci_wi_kijm_TinC_PinPa_yi(AE$3,vantHoff_EOS!$N$19,vantHoff_EOS!$X$5:$X$14,vantHoff_EOS!$Y$5:$Y$14,vantHoff_EOS!$Z$5:$Z$14,vantHoff_EOS!$AE$5:$AN$14,$C$2,B32*1000000,$O32:$X32),\"-\")","v":"-"},{"$f":"IF(AF$3<=vantHoff_EOS!$N$19,Phi_i_NS_Tci_Pci_wi_kijm_TinC_PinPa_yi(AF$3,vantHoff_EOS!$N$19,vantHoff_EOS!$X$5:$X$14,vantHoff_EOS!$Y$5:$Y$14,vantHoff_EOS!$Z$5:$Z$14,vantHoff_EOS!$AE$5:$AN$14,$C$2,B32*1000000,$O32:$X32),\"-\")","v":"-"},{"$f":"IF(AG$3<=vantHoff_EOS!$N$19,Phi_i_NS_Tci_Pci_wi_kijm_TinC_PinPa_yi(AG$3,vantHoff_EOS!$N$19,vantHoff_EOS!$X$5:$X$14,vantHoff_EOS!$Y$5:$Y$14,vantHoff_EOS!$Z$5:$Z$14,vantHoff_EOS!$AE$5:$AN$14,$C$2,B32*1000000,$O32:$X32),\"-\")","v":"-"},{"$f":"IF(AH$3<=vantHoff_EOS!$N$19,Phi_i_NS_Tci_Pci_wi_kijm_TinC_PinPa_yi(AH$3,vantHoff_EOS!$N$19,vantHoff_EOS!$X$5:$X$14,vantHoff_EOS!$Y$5:$Y$14,vantHoff_EOS!$Z$5:$Z$14,vantHoff_EOS!$AE$5:$AN$14,$C$2,B32*1000000,$O32:$X32),\"-\")","v":"-"},{"$f":"IF(AI$3<=vantHoff_EOS!$N$19,Phi_i_NS_Tci_Pci_wi_kijm_TinC_PinPa_yi(AI$3,vantHoff_EOS!$N$19,vantHoff_EOS!$X$5:$X$14,vantHoff_EOS!$Y$5:$Y$14,vantHoff_EOS!$Z$5:$Z$14,vantHoff_EOS!$AE$5:$AN$14,$C$2,B32*1000000,$O32:$X32),\"-\")","v":"-"}]
[30,{"$f":"B32+vantHoff_EOS!$E$26","v":13.799999999999979},320.14999999999998,3.1235358425737939E-3,{"$f":"lnKaT_Tref_lnKaTref_dHTref_da_db_dc_dd_de_TinC(vantHoff_EOS!$E$7,vantHoff_EOS!$B$9,vantHoff_EOS!$B$6,vantHoff_EOS!$O$27,vantHoff_EOS!$P$27,vantHoff_EOS!$Q$27,vantHoff_EOS!$R$27,vantHoff_EOS!$S$27,$C$2)","v":13.062534312676297},470962.76406017854,{"$f":"MolarExtentX_NS_vi_n0i_dHfi_dGfi_TrefinC_da_db_dc_dd_de_Tci_Pci_wi_kijm_TinC_PinPa(vantHoff_EOS!$N$19,vantHoff_EOS!$O$23:$X$23,vantHoff_EOS!$O$31:$X$31,vantHoff_EOS!$T$5:$T$14,vantHoff_EOS!$U$5:$U$14,vantHoff_EOS!$E$7,vantHoff_EOS!$O$27,vantHoff_EOS!$P$27,vantHoff_EOS!$Q$27,vantHoff_EOS!$R$27,vantHoff_EOS!$S$27,vantHoff_EOS!$X$5:$X$14,vantHoff_EOS!$Y$5:$Y$14,vantHoff_EOS!$Z$5:$Z$14,vantHoff_EOS!$AE$5:$AN$14,$C$2,B33*1000000)","v":0.99977517691350426},{"$f":"Ky_NS_n0i_vi_X(vantHoff_EOS!$N$19,vantHoff_EOS!$O$31:$X$31,vantHoff_EOS!$O$23:$X$23,G33)","v":6120100611707.8164},{"$f":"Kp_NS_vi_PinPa(vantHoff_EOS!$N$19,vantHoff_EOS!$O$23:$X$23,B33*1000000)","v":5.2509976895610325E-5},{"$f":"Kphi_NS_n0i_vi_X_Tci_Pci_wi_kijm_TinC_PinPa(vantHoff_EOS!$N$19,vantHoff_EOS!$O$31:$X$31,vantHoff_EOS!$O$23:$X$23,G33,vantHoff_EOS!$X$5:$X$14,vantHoff_EOS!$Y$5:$Y$14,vantHoff_EOS!$Z$5:$Z$14,vantHoff_EOS!$AE$5:$AN$14,$C$2,B33*1000000)","v":1.4655012144091555E-3},29.44259965213919,-9.8545073703144066,-6.5255579691482621,{"$f":"nT_NS_n0i_vi_X(vantHoff_EOS!$N$19,vantHoff_EOS!$O$31:$X$31,vantHoff_EOS!$O$23:$X$23,G33)","v":8.340449646172992},{"$f":"IF(O$3<=vantHoff_EOS!$N$19,y_iindex_NS_n0i_vi_X(O$3,vantHoff_EOS!$N$19,vantHoff_EOS!$O$31:$X$31,vantHoff_EOS!$O$23:$X$23,$G33),\"-\")","v":2.6955751312388776E-5},{"$f":"IF(P$3<=vantHoff_EOS!$N$19,y_iindex_NS_n0i_vi_X(P$3,vantHoff_EOS!$N$19,vantHoff_EOS!$O$31:$X$31,vantHoff_EOS!$O$23:$X$23,$G33),\"-\")","v":2.6955751312388776E-5},{"$f":"IF(Q$3<=vantHoff_EOS!$N$19,y_iindex_NS_n0i_vi_X(Q$3,vantHoff_EOS!$N$19,vantHoff_EOS!$O$31:$X$31,vantHoff_EOS!$O$23:$X$23,$G33),\"-\")","v":2.6955751312388776E-5},{"$f":"IF(R$3<=vantHoff_EOS!$N$19,y_iindex_NS_n0i_vi_X(R$3,vantHoff_EOS!$N$19,vantHoff_EOS!$O$31:$X$31,vantHoff_EOS!$O$23:$X$23,$G33),\"-\")","v":0.11987065677834891},{"$f":"IF(S$3<=vantHoff_EOS!$N$19,y_iindex_NS_n0i_vi_X(S$3,vantHoff_EOS!$N$19,vantHoff_EOS!$O$31:$X$31,vantHoff_EOS!$O$23:$X$23,$G33),\"-\")","v":0.88004847596771385},{"$f":"IF(T$3<=vantHoff_EOS!$N$19,y_iindex_NS_n0i_vi_X(T$3,vantHoff_EOS!$N$19,vantHoff_EOS!$O$31:$X$31,vantHoff_EOS!$O$23:$X$23,$G33),\"-\")","v":"-"},{"$f":"IF(U$3<=vantHoff_EOS!$N$19,y_iindex_NS_n0i_vi_X(U$3,vantHoff_EOS!$N$19,vantHoff_EOS!$O$31:$X$31,vantHoff_EOS!$O$23:$X$23,$G33),\"-\")","v":"-"},{"$f":"IF(V$3<=vantHoff_EOS!$N$19,y_iindex_NS_n0i_vi_X(V$3,vantHoff_EOS!$N$19,vantHoff_EOS!$O$31:$X$31,vantHoff_EOS!$O$23:$X$23,$G33),\"-\")","v":"-"},{"$f":"IF(W$3<=vantHoff_EOS!$N$19,y_iindex_NS_n0i_vi_X(W$3,vantHoff_EOS!$N$19,vantHoff_EOS!$O$31:$X$31,vantHoff_EOS!$O$23:$X$23,$G33),\"-\")","v":"-"},{"$f":"IF(X$3<=vantHoff_EOS!$N$19,y_iindex_NS_n0i_vi_X(X$3,vantHoff_EOS!$N$19,vantHoff_EOS!$O$31:$X$31,vantHoff_EOS!$O$23:$X$23,$G33),\"-\")","v":"-"},0.99999999999999989,{"$f":"IF(Z$3<=vantHoff_EOS!$N$19,Phi_i_NS_Tci_Pci_wi_kijm_TinC_PinPa_yi(Z$3,vantHoff_EOS!$N$19,vantHoff_EOS!$X$5:$X$14,vantHoff_EOS!$Y$5:$Y$14,vantHoff_EOS!$Z$5:$Z$14,vantHoff_EOS!$AE$5:$AN$14,$C$2,B33*1000000,$O33:$X33),\"-\")","v":3.9284633138546119},{"$f":"IF(AA$3<=vantHoff_EOS!$N$19,Phi_i_NS_Tci_Pci_wi_kijm_TinC_PinPa_yi(AA$3,vantHoff_EOS!$N$19,vantHoff_EOS!$X$5:$X$14,vantHoff_EOS!$Y$5:$Y$14,vantHoff_EOS!$Z$5:$Z$14,vantHoff_EOS!$AE$5:$AN$14,$C$2,B33*1000000,$O33:$X33),\"-\")","v":6.3837770805126333},{"$f":"IF(AB$3<=vantHoff_EOS!$N$19,Phi_i_NS_Tci_Pci_wi_kijm_TinC_PinPa_yi(AB$3,vantHoff_EOS!$N$19,vantHoff_EOS!$X$5:$X$14,vantHoff_EOS!$Y$5:$Y$14,vantHoff_EOS!$Z$5:$Z$14,vantHoff_EOS!$AE$5:$AN$14,$C$2,B33*1000000,$O33:$X33),\"-\")","v":0.15885650957510303},{"$f":"IF(AC$3<=vantHoff_EOS!$N$19,Phi_i_NS_Tci_Pci_wi_kijm_TinC_PinPa_yi(AC$3,vantHoff_EOS!$N$19,vantHoff_EOS!$X$5:$X$14,vantHoff_EOS!$Y$5:$Y$14,vantHoff_EOS!$Z$5:$Z$14,vantHoff_EOS!$AE$5:$AN$14,$C$2,B33*1000000,$O33:$X33),\"-\")","v":5.8383699884350685E-3},{"$f":"IF(AD$3<=vantHoff_EOS!$N$19,Phi_i_NS_Tci_Pci_wi_kijm_TinC_PinPa_yi(AD$3,vantHoff_EOS!$N$19,vantHoff_EOS!$X$5:$X$14,vantHoff_EOS!$Y$5:$Y$14,vantHoff_EOS!$Z$5:$Z$14,vantHoff_EOS!$AE$5:$AN$14,$C$2,B33*1000000,$O33:$X33),\"-\")","v":0.50532219780467458},{"$f":"IF(AE$3<=vantHoff_EOS!$N$19,Phi_i_NS_Tci_Pci_wi_kijm_TinC_PinPa_yi(AE$3,vantHoff_EOS!$N$19,vantHoff_EOS!$X$5:$X$14,vantHoff_EOS!$Y$5:$Y$14,vantHoff_EOS!$Z$5:$Z$14,vantHoff_EOS!$AE$5:$AN$14,$C$2,B33*1000000,$O33:$X33),\"-\")","v":"-"},{"$f":"IF(AF$3<=vantHoff_EOS!$N$19,Phi_i_NS_Tci_Pci_wi_kijm_TinC_PinPa_yi(AF$3,vantHoff_EOS!$N$19,vantHoff_EOS!$X$5:$X$14,vantHoff_EOS!$Y$5:$Y$14,vantHoff_EOS!$Z$5:$Z$14,vantHoff_EOS!$AE$5:$AN$14,$C$2,B33*1000000,$O33:$X33),\"-\")","v":"-"},{"$f":"IF(AG$3<=vantHoff_EOS!$N$19,Phi_i_NS_Tci_Pci_wi_kijm_TinC_PinPa_yi(AG$3,vantHoff_EOS!$N$19,vantHoff_EOS!$X$5:$X$14,vantHoff_EOS!$Y$5:$Y$14,vantHoff_EOS!$Z$5:$Z$14,vantHoff_EOS!$AE$5:$AN$14,$C$2,B33*1000000,$O33:$X33),\"-\")","v":"-"},{"$f":"IF(AH$3<=vantHoff_EOS!$N$19,Phi_i_NS_Tci_Pci_wi_kijm_TinC_PinPa_yi(AH$3,vantHoff_EOS!$N$19,vantHoff_EOS!$X$5:$X$14,vantHoff_EOS!$Y$5:$Y$14,vantHoff_EOS!$Z$5:$Z$14,vantHoff_EOS!$AE$5:$AN$14,$C$2,B33*1000000,$O33:$X33),\"-\")","v":"-"},{"$f":"IF(AI$3<=vantHoff_EOS!$N$19,Phi_i_NS_Tci_Pci_wi_kijm_TinC_PinPa_yi(AI$3,vantHoff_EOS!$N$19,vantHoff_EOS!$X$5:$X$14,vantHoff_EOS!$Y$5:$Y$14,vantHoff_EOS!$Z$5:$Z$14,vantHoff_EOS!$AE$5:$AN$14,$C$2,B33*1000000,$O33:$X33),\"-\")","v":"-"}]
[31,{"$f":"B33+vantHoff_EOS!$E$26","v":13.999999999999979},320.14999999999998,3.1235358425737939E-3,{"$f":"lnKaT_Tref_lnKaTref_dHTref_da_db_dc_dd_de_TinC(vantHoff_EOS!$E$7,vantHoff_EOS!$B$9,vantHoff_EOS!$B$6,vantHoff_EOS!$O$27,vantHoff_EOS!$P$27,vantHoff_EOS!$Q$27,vantHoff_EOS!$R$27,vantHoff_EOS!$S$27,$C$2)","v":13.062534312676297},470962.76406017854,{"$f":"MolarExtentX_NS_vi_n0i_dHfi_dGfi_TrefinC_da_db_dc_dd_de_Tci_Pci_wi_kijm_TinC_PinPa(vantHoff_EOS!$N$19,vantHoff_EOS!$O$23:$X$23,vantHoff_EOS!$O$31:$X$31,vantHoff_EOS!$T$5:$T$14,vantHoff_EOS!$U$5:$U$14,vantHoff_EOS!$E$7,vantHoff_EOS!$O$27,vantHoff_EOS!$P$27,vantHoff_EOS!$Q$27,vantHoff_EOS!$R$27,vantHoff_EOS!$S$27,vantHoff_EOS!$X$5:$X$14,vantHoff_EOS!$Y$5:$Y$14,vantHoff_EOS!$Z$5:$Z$14,vantHoff_EOS!$AE$5:$AN$14,$C$2,B34*1000000)","v":0.9997764573094492},{"$f":"Ky_NS_n0i_vi_X(vantHoff_EOS!$N$19,vantHoff_EOS!$O$31:$X$31,vantHoff_EOS!$O$23:$X$23,G34)","v":6225871421251.0996},{"$f":"Kp_NS_vi_PinPa(vantHoff_EOS!$N$19,vantHoff_EOS!$O$23:$X$23,B34*1000000)","v":5.102040816326545E-5},{"$f":"Kphi_NS_n0i_vi_X_Tci_Pci_wi_kijm_TinC_PinPa(vantHoff_EOS!$N$19,vantHoff_EOS!$O$31:$X$31,vantHoff_EOS!$O$23:$X$23,G34,vantHoff_EOS!$X$5:$X$14,vantHoff_EOS!$Y$5:$Y$14,vantHoff_EOS!$Z$5:$Z$14,vantHoff_EOS!$AE$5:$AN$14,$C$2,B34*1000000)","v":1.4826631568504627E-3},29.459734535831579,-9.883284845218606,-6.513915377936919,{"$f":"nT_NS_n0i_vi_X(vantHoff_EOS!$N$19,vantHoff_EOS!$O$31:$X$31,vantHoff_EOS!$O$23:$X$23,G34)","v":8.3404470853811006},{"$f":"IF(O$3<=vantHoff_EOS!$N$19,y_iindex_NS_n0i_vi_X(O$3,vantHoff_EOS!$N$19,vantHoff_EOS!$O$31:$X$31,vantHoff_EOS!$O$23:$X$23,$G34),\"-\")","v":2.6802243124666963E-5},{"$f":"IF(P$3<=vantHoff_EOS!$N$19,y_iindex_NS_n0i_vi_X(P$3,vantHoff_EOS!$N$19,vantHoff_EOS!$O$31:$X$31,vantHoff_EOS!$O$23:$X$23,$G34),\"-\")","v":2.6802243124666963E-5},{"$f":"IF(Q$3<=vantHoff_EOS!$N$19,y_iindex_NS_n0i_vi_X(Q$3,vantHoff_EOS!$N$19,vantHoff_EOS!$O$31:$X$31,vantHoff_EOS!$O$23:$X$23,$G34),\"-\")","v":2.6802243124666963E-5},{"$f":"IF(R$3<=vantHoff_EOS!$N$19,y_iindex_NS_n0i_vi_X(R$3,vantHoff_EOS!$N$19,vantHoff_EOS!$O$31:$X$31,vantHoff_EOS!$O$23:$X$23,$G34),\"-\")","v":0.11987084709905169},{"$f":"IF(S$3<=vantHoff_EOS!$N$19,y_iindex_NS_n0i_vi_X(S$3,vantHoff_EOS!$N$19,vantHoff_EOS!$O$31:$X$31,vantHoff_EOS!$O$23:$X$23,$G34),\"-\")","v":0.88004874617157447},{"$f":"IF(T$3<=vantHoff_EOS!$N$19,y_iindex_NS_n0i_vi_X(T$3,vantHoff_EOS!$N$19,vantHoff_EOS!$O$31:$X$31,vantHoff_EOS!$O$23:$X$23,$G34),\"-\")","v":"-"},{"$f":"IF(U$3<=vantHoff_EOS!$N$19,y_iindex_NS_n0i_vi_X(U$3,vantHoff_EOS!$N$19,vantHoff_EOS!$O$31:$X$31,vantHoff_EOS!$O$23:$X$23,$G34),\"-\")","v":"-"},{"$f":"IF(V$3<=vantHoff_EOS!$N$19,y_iindex_NS_n0i_vi_X(V$3,vantHoff_EOS!$N$19,vantHoff_EOS!$O$31:$X$31,vantHoff_EOS!$O$23:$X$23,$G34),\"-\")","v":"-"},{"$f":"IF(W$3<=vantHoff_EOS!$N$19,y_iindex_NS_n0i_vi_X(W$3,vantHoff_EOS!$N$19,vantHoff_EOS!$O$31:$X$31,vantHoff_EOS!$O$23:$X$23,$G34),\"-\")","v":"-"},{"$f":"IF(X$3<=vantHoff_EOS!$N$19,y_iindex_NS_n0i_vi_X(X$3,vantHoff_EOS!$N$19,vantHoff_EOS!$O$31:$X$31,vantHoff_EOS!$O$23:$X$23,$G34),\"-\")","v":"-"},1.0000000000000002,{"$f":"IF(Z$3<=vantHoff_EOS!$N$19,Phi_i_NS_Tci_Pci_wi_kijm_TinC_PinPa_yi(Z$3,vantHoff_EOS!$N$19,vantHoff_EOS!$X$5:$X$14,vantHoff_EOS!$Y$5:$Y$14,vantHoff_EOS!$Z$5:$Z$14,vantHoff_EOS!$AE$5:$AN$14,$C$2,B34*1000000,$O34:$X34),\"-\")","v":3.9037643481552871},{"$f":"IF(AA$3<=vantHoff_EOS!$N$19,Phi_i_NS_Tci_Pci_wi_kijm_TinC_PinPa_yi(AA$3,vantHoff_EOS!$N$19,vantHoff_EOS!$X$5:$X$14,vantHoff_EOS!$Y$5:$Y$14,vantHoff_EOS!$Z$5:$Z$14,vantHoff_EOS!$AE$5:$AN$14,$C$2,B34*1000000,$O34:$X34),\"-\")","v":6.3417218018127048},{"$f":"IF(AB$3<=vantHoff_EOS!$N$19,Phi_i_NS_Tci_Pci_wi_kijm_TinC_PinPa_yi(AB$3,vantHoff_EOS!$N$19,vantHoff_EOS!$X$5:$X$14,vantHoff_EOS!$Y$5:$Y$14,vantHoff_EOS!$Z$5:$Z$14,vantHoff_EOS!$AE$5:$AN$14,$C$2,B34*1000000,$O34:$X34),\"-\")","v":0.15751603347900001},{"$f":"IF(AC$3<=vantHoff_EOS!$N$19,Phi_i_NS_Tci_Pci_wi_kijm_TinC_PinPa_yi(AC$3,vantHoff_EOS!$N$19,vantHoff_EOS!$X$5:$X$14,vantHoff_EOS!$Y$5:$Y$14,vantHoff_EOS!$Z$5:$Z$14,vantHoff_EOS!$AE$5:$AN$14,$C$2,B34*1000000,$O34:$X34),\"-\")","v":5.7817331417649963E-3},{"$f":"IF(AD$3<=vantHoff_EOS!$N$19,Phi_i_NS_Tci_Pci_wi_kijm_TinC_PinPa_yi(AD$3,vantHoff_EOS!$N$19,vantHoff_EOS!$X$5:$X$14,vantHoff_EOS!$Y$5:$Y$14,vantHoff_EOS!$Z$5:$Z$14,vantHoff_EOS!$AE$5:$AN$14,$C$2,B34*1000000,$O34:$X34),\"-\")","v":0.50033012779706765},{"$f":"IF(AE$3<=vantHoff_EOS!$N$19,Phi_i_NS_Tci_Pci_wi_kijm_TinC_PinPa_yi(AE$3,vantHoff_EOS!$N$19,vantHoff_EOS!$X$5:$X$14,vantHoff_EOS!$Y$5:$Y$14,vantHoff_EOS!$Z$5:$Z$14,vantHoff_EOS!$AE$5:$AN$14,$C$2,B34*1000000,$O34:$X34),\"-\")","v":"-"},{"$f":"IF(AF$3<=vantHoff_EOS!$N$19,Phi_i_NS_Tci_Pci_wi_kijm_TinC_PinPa_yi(AF$3,vantHoff_EOS!$N$19,vantHoff_EOS!$X$5:$X$14,vantHoff_EOS!$Y$5:$Y$14,vantHoff_EOS!$Z$5:$Z$14,vantHoff_EOS!$AE$5:$AN$14,$C$2,B34*1000000,$O34:$X34),\"-\")","v":"-"},{"$f":"IF(AG$3<=vantHoff_EOS!$N$19,Phi_i_NS_Tci_Pci_wi_kijm_TinC_PinPa_yi(AG$3,vantHoff_EOS!$N$19,vantHoff_EOS!$X$5:$X$14,vantHoff_EOS!$Y$5:$Y$14,vantHoff_EOS!$Z$5:$Z$14,vantHoff_EOS!$AE$5:$AN$14,$C$2,B34*1000000,$O34:$X34),\"-\")","v":"-"},{"$f":"IF(AH$3<=vantHoff_EOS!$N$19,Phi_i_NS_Tci_Pci_wi_kijm_TinC_PinPa_yi(AH$3,vantHoff_EOS!$N$19,vantHoff_EOS!$X$5:$X$14,vantHoff_EOS!$Y$5:$Y$14,vantHoff_EOS!$Z$5:$Z$14,vantHoff_EOS!$AE$5:$AN$14,$C$2,B34*1000000,$O34:$X34),\"-\")","v":"-"},{"$f":"IF(AI$3<=vantHoff_EOS!$N$19,Phi_i_NS_Tci_Pci_wi_kijm_TinC_PinPa_yi(AI$3,vantHoff_EOS!$N$19,vantHoff_EOS!$X$5:$X$14,vantHoff_EOS!$Y$5:$Y$14,vantHoff_EOS!$Z$5:$Z$14,vantHoff_EOS!$AE$5:$AN$14,$C$2,B34*1000000,$O34:$X34),\"-\")","v":"-"}]
[32,{"$f":"B34+vantHoff_EOS!$E$26","v":14.199999999999978},320.14999999999998,3.1235358425737939E-3,{"$f":"lnKaT_Tref_lnKaTref_dHTref_da_db_dc_dd_de_TinC(vantHoff_EOS!$E$7,vantHoff_EOS!$B$9,vantHoff_EOS!$B$6,vantHoff_EOS!$O$27,vantHoff_EOS!$P$27,vantHoff_EOS!$Q$27,vantHoff_EOS!$R$27,vantHoff_EOS!$S$27,$C$2)","v":13.062534312676297},470962.76406017854,{"$f":"MolarExtentX_NS_vi_n0i_dHfi_dGfi_TrefinC_da_db_dc_dd_de_Tci_Pci_wi_kijm_TinC_PinPa(vantHoff_EOS!$N$19,vantHoff_EOS!$O$23:$X$23,vantHoff_EOS!$O$31:$X$31,vantHoff_EOS!$T$5:$T$14,vantHoff_EOS!$U$5:$U$14,vantHoff_EOS!$E$7,vantHoff_EOS!$O$27,vantHoff_EOS!$P$27,vantHoff_EOS!$Q$27,vantHoff_EOS!$R$27,vantHoff_EOS!$S$27,vantHoff_EOS!$X$5:$X$14,vantHoff_EOS!$Y$5:$Y$14,vantHoff_EOS!$Z$5:$Z$14,vantHoff_EOS!$AE$5:$AN$14,$C$2,B35*1000000)","v":0.99977771346584543},{"$f":"Ky_NS_n0i_vi_X(vantHoff_EOS!$N$19,vantHoff_EOS!$O$31:$X$31,vantHoff_EOS!$O$23:$X$23,G35)","v":6332021622244.9268},{"$f":"Kp_NS_vi_PinPa(vantHoff_EOS!$N$19,vantHoff_EOS!$O$23:$X$23,B35*1000000)","v":4.9593334655822427E-5},{"$f":"Kphi_NS_n0i_vi_X_Tci_Pci_wi_kijm_TinC_PinPa(vantHoff_EOS!$N$19,vantHoff_EOS!$O$31:$X$31,vantHoff_EOS!$O$23:$X$23,G35,vantHoff_EOS!$X$5:$X$14,vantHoff_EOS!$Y$5:$Y$14,vantHoff_EOS!$Z$5:$Z$14,vantHoff_EOS!$AE$5:$AN$14,$C$2,B35*1000000)","v":1.4997569087797115E-3},29.476640672699052,-9.9116541152025182,-6.5024522448207707,{"$f":"nT_NS_n0i_vi_X(vantHoff_EOS!$N$19,vantHoff_EOS!$O$31:$X$31,vantHoff_EOS!$O$23:$X$23,G35)","v":8.340444573068309},{"$f":"IF(O$3<=vantHoff_EOS!$N$19,y_iindex_NS_n0i_vi_X(O$3,vantHoff_EOS!$N$19,vantHoff_EOS!$O$31:$X$31,vantHoff_EOS!$O$23:$X$23,$G35),\"-\")","v":2.6651640953570227E-5},{"$f":"IF(P$3<=vantHoff_EOS!$N$19,y_iindex_NS_n0i_vi_X(P$3,vantHoff_EOS!$N$19,vantHoff_EOS!$O$31:$X$31,vantHoff_EOS!$O$23:$X$23,$G35),\"-\")","v":2.6651640953570227E-5},{"$f":"IF(Q$3<=vantHoff_EOS!$N$19,y_iindex_NS_n0i_vi_X(Q$3,vantHoff_EOS!$N$19,vantHoff_EOS!$O$31:$X$31,vantHoff_EOS!$O$23:$X$23,$G35),\"-\")","v":2.6651640953570227E-5},{"$f":"IF(R$3<=vantHoff_EOS!$N$19,y_iindex_NS_n0i_vi_X(R$3,vantHoff_EOS!$N$19,vantHoff_EOS!$O$31:$X$31,vantHoff_EOS!$O$23:$X$23,$G35),\"-\")","v":0.11987103381685132},{"$f":"IF(S$3<=vantHoff_EOS!$N$19,y_iindex_NS_n0i_vi_X(S$3,vantHoff_EOS!$N$19,vantHoff_EOS!$O$31:$X$31,vantHoff_EOS!$O$23:$X$23,$G35),\"-\")","v":0.88004901126028801},{"$f":"IF(T$3<=vantHoff_EOS!$N$19,y_iindex_NS_n0i_vi_X(T$3,vantHoff_EOS!$N$19,vantHoff_EOS!$O$31:$X$31,vantHoff_EOS!$O$23:$X$23,$G35),\"-\")","v":"-"},{"$f":"IF(U$3<=vantHoff_EOS!$N$19,y_iindex_NS_n0i_vi_X(U$3,vantHoff_EOS!$N$19,vantHoff_EOS!$O$31:$X$31,vantHoff_EOS!$O$23:$X$23,$G35),\"-\")","v":"-"},{"$f":"IF(V$3<=vantHoff_EOS!$N$19,y_iindex_NS_n0i_vi_X(V$3,vantHoff_EOS!$N$19,vantHoff_EOS!$O$31:$X$31,vantHoff_EOS!$O$23:$X$23,$G35),\"-\")","v":"-"},{"$f":"IF(W$3<=vantHoff_EOS!$N$19,y_iindex_NS_n0i_vi_X(W$3,vantHoff_EOS!$N$19,vantHoff_EOS!$O$31:$X$31,vantHoff_EOS!$O$23:$X$23,$G35),\"-\")","v":"-"},{"$f":"IF(X$3<=vantHoff_EOS!$N$19,y_iindex_NS_n0i_vi_X(X$3,vantHoff_EOS!$N$19,vantHoff_EOS!$O$31:$X$31,vantHoff_EOS!$O$23:$X$23,$G35),\"-\")","v":"-"},1,{"$f":"IF(Z$3<=vantHoff_EOS!$N$19,Phi_i_NS_Tci_Pci_wi_kijm_TinC_PinPa_yi(Z$3,vantHoff_EOS!$N$19,vantHoff_EOS!$X$5:$X$14,vantHoff_EOS!$Y$5:$Y$14,vantHoff_EOS!$Z$5:$Z$14,vantHoff_EOS!$AE$5:$AN$14,$C$2,B35*1000000,$O35:$X35),\"-\")","v":3.8797129799880485},{"$f":"IF(AA$3<=vantHoff_EOS!$N$19,Phi_i_NS_Tci_Pci_wi_kijm_TinC_PinPa_yi(AA$3,vantHoff_EOS!$N$19,vantHoff_EOS!$X$5:$X$14,vantHoff_EOS!$Y$5:$Y$14,vantHoff_EOS!$Z$5:$Z$14,vantHoff_EOS!$AE$5:$AN$14,$C$2,B35*1000000,$O35:$X35),\"-\")","v":6.300697385885532},{"$f":"IF(AB$3<=vantHoff_EOS!$N$19,Phi_i_NS_Tci_Pci_wi_kijm_TinC_PinPa_yi(AB$3,vantHoff_EOS!$N$19,vantHoff_EOS!$X$5:$X$14,vantHoff_EOS!$Y$5:$Y$14,vantHoff_EOS!$Z$5:$Z$14,vantHoff_EOS!$AE$5:$AN$14,$C$2,B35*1000000,$O35:$X35),\"-\")","v":0.15621763974986638},{"$f":"IF(AC$3<=vantHoff_EOS!$N$19,Phi_i_NS_Tci_Pci_wi_kijm_TinC_PinPa_yi(AC$3,vantHoff_EOS!$N$19,vantHoff_EOS!$X$5:$X$14,vantHoff_EOS!$Y$5:$Y$14,vantHoff_EOS!$Z$5:$Z$14,vantHoff_EOS!$AE$5:$AN$14,$C$2,B35*1000000,$O35:$X35),\"-\")","v":5.7271579725758455E-3},{"$f":"IF(AD$3<=vantHoff_EOS!$N$19,Phi_i_NS_Tci_Pci_wi_kijm_TinC_PinPa_yi(AD$3,vantHoff_EOS!$N$19,vantHoff_EOS!$X$5:$X$14,vantHoff_EOS!$Y$5:$Y$14,vantHoff_EOS!$Z$5:$Z$14,vantHoff_EOS!$AE$5:$AN$14,$C$2,B35*1000000,$O35:$X35),\"-\")","v":0.49547833495898347},{"$f":"IF(AE$3<=vantHoff_EOS!$N$19,Phi_i_NS_Tci_Pci_wi_kijm_TinC_PinPa_yi(AE$3,vantHoff_EOS!$N$19,vantHoff_EOS!$X$5:$X$14,vantHoff_EOS!$Y$5:$Y$14,vantHoff_EOS!$Z$5:$Z$14,vantHoff_EOS!$AE$5:$AN$14,$C$2,B35*1000000,$O35:$X35),\"-\")","v":"-"},{"$f":"IF(AF$3<=vantHoff_EOS!$N$19,Phi_i_NS_Tci_Pci_wi_kijm_TinC_PinPa_yi(AF$3,vantHoff_EOS!$N$19,vantHoff_EOS!$X$5:$X$14,vantHoff_EOS!$Y$5:$Y$14,vantHoff_EOS!$Z$5:$Z$14,vantHoff_EOS!$AE$5:$AN$14,$C$2,B35*1000000,$O35:$X35),\"-\")","v":"-"},{"$f":"IF(AG$3<=vantHoff_EOS!$N$19,Phi_i_NS_Tci_Pci_wi_kijm_TinC_PinPa_yi(AG$3,vantHoff_EOS!$N$19,vantHoff_EOS!$X$5:$X$14,vantHoff_EOS!$Y$5:$Y$14,vantHoff_EOS!$Z$5:$Z$14,vantHoff_EOS!$AE$5:$AN$14,$C$2,B35*1000000,$O35:$X35),\"-\")","v":"-"},{"$f":"IF(AH$3<=vantHoff_EOS!$N$19,Phi_i_NS_Tci_Pci_wi_kijm_TinC_PinPa_yi(AH$3,vantHoff_EOS!$N$19,vantHoff_EOS!$X$5:$X$14,vantHoff_EOS!$Y$5:$Y$14,vantHoff_EOS!$Z$5:$Z$14,vantHoff_EOS!$AE$5:$AN$14,$C$2,B35*1000000,$O35:$X35),\"-\")","v":"-"},{"$f":"IF(AI$3<=vantHoff_EOS!$N$19,Phi_i_NS_Tci_Pci_wi_kijm_TinC_PinPa_yi(AI$3,vantHoff_EOS!$N$19,vantHoff_EOS!$X$5:$X$14,vantHoff_EOS!$Y$5:$Y$14,vantHoff_EOS!$Z$5:$Z$14,vantHoff_EOS!$AE$5:$AN$14,$C$2,B35*1000000,$O35:$X35),\"-\")","v":"-"}]
[33,{"$f":"B35+vantHoff_EOS!$E$26","v":14.399999999999977},320.14999999999998,3.1235358425737939E-3,{"$f":"lnKaT_Tref_lnKaTref_dHTref_da_db_dc_dd_de_TinC(vantHoff_EOS!$E$7,vantHoff_EOS!$B$9,vantHoff_EOS!$B$6,vantHoff_EOS!$O$27,vantHoff_EOS!$P$27,vantHoff_EOS!$Q$27,vantHoff_EOS!$R$27,vantHoff_EOS!$S$27,$C$2)","v":13.062534312676297},470962.76406017854,{"$f":"MolarExtentX_NS_vi_n0i_dHfi_dGfi_TrefinC_da_db_dc_dd_de_Tci_Pci_wi_kijm_TinC_PinPa(vantHoff_EOS!$N$19,vantHoff_EOS!$O$23:$X$23,vantHoff_EOS!$O$31:$X$31,vantHoff_EOS!$T$5:$T$14,vantHoff_EOS!$U$5:$U$14,vantHoff_EOS!$E$7,vantHoff_EOS!$O$27,vantHoff_EOS!$P$27,vantHoff_EOS!$Q$27,vantHoff_EOS!$R$27,vantHoff_EOS!$S$27,vantHoff_EOS!$X$5:$X$14,vantHoff_EOS!$Y$5:$Y$14,vantHoff_EOS!$Z$5:$Z$14,vantHoff_EOS!$AE$5:$AN$14,$C$2,B36*1000000)","v":0.99977894623277341},{"$f":"Ky_NS_n0i_vi_X(vantHoff_EOS!$N$19,vantHoff_EOS!$O$31:$X$31,vantHoff_EOS!$O$23:$X$23,G36)","v":6438554401149.9102},{"$f":"Kp_NS_vi_PinPa(vantHoff_EOS!$N$19,vantHoff_EOS!$O$23:$X$23,B36*1000000)","v":4.8225308641975455E-5},{"$f":"Kphi_NS_n0i_vi_X_Tci_Pci_wi_kijm_TinC_PinPa(vantHoff_EOS!$N$19,vantHoff_EOS!$O$31:$X$31,vantHoff_EOS!$O$23:$X$23,G36,vantHoff_EOS!$X$5:$X$14,vantHoff_EOS!$Y$5:$Y$14,vantHoff_EOS!$Z$5:$Z$14,vantHoff_EOS!$AE$5:$AN$14,$C$2,B36*1000000)","v":1.5167820704928689E-3},29.493325158976099,-9.9396265991519979,-6.4911642471472595,{"$f":"nT_NS_n0i_vi_X(vantHoff_EOS!$N$19,vantHoff_EOS!$O$31:$X$31,vantHoff_EOS!$O$23:$X$23,G36)","v":8.3404421075344537},{"$f":"IF(O$3<=vantHoff_EOS!$N$19,y_iindex_NS_n0i_vi_X(O$3,vantHoff_EOS!$N$19,vantHoff_EOS!$O$31:$X$31,vantHoff_EOS!$O$23:$X$23,$G36),\"-\")","v":2.6503842887044883E-5},{"$f":"IF(P$3<=vantHoff_EOS!$N$19,y_iindex_NS_n0i_vi_X(P$3,vantHoff_EOS!$N$19,vantHoff_EOS!$O$31:$X$31,vantHoff_EOS!$O$23:$X$23,$G36),\"-\")","v":2.6503842887044883E-5},{"$f":"IF(Q$3<=vantHoff_EOS!$N$19,y_iindex_NS_n0i_vi_X(Q$3,vantHoff_EOS!$N$19,vantHoff_EOS!$O$31:$X$31,vantHoff_EOS!$O$23:$X$23,$G36),\"-\")","v":2.6503842887044883E-5},{"$f":"IF(R$3<=vantHoff_EOS!$N$19,y_iindex_NS_n0i_vi_X(R$3,vantHoff_EOS!$N$19,vantHoff_EOS!$O$31:$X$31,vantHoff_EOS!$O$23:$X$23,$G36),\"-\")","v":0.11987121705809926},{"$f":"IF(S$3<=vantHoff_EOS!$N$19,y_iindex_NS_n0i_vi_X(S$3,vantHoff_EOS!$N$19,vantHoff_EOS!$O$31:$X$31,vantHoff_EOS!$O$23:$X$23,$G36),\"-\")","v":0.88004927141323952},{"$f":"IF(T$3<=vantHoff_EOS!$N$19,y_iindex_NS_n0i_vi_X(T$3,vantHoff_EOS!$N$19,vantHoff_EOS!$O$31:$X$31,vantHoff_EOS!$O$23:$X$23,$G36),\"-\")","v":"-"},{"$f":"IF(U$3<=vantHoff_EOS!$N$19,y_iindex_NS_n0i_vi_X(U$3,vantHoff_EOS!$N$19,vantHoff_EOS!$O$31:$X$31,vantHoff_EOS!$O$23:$X$23,$G36),\"-\")","v":"-"},{"$f":"IF(V$3<=vantHoff_EOS!$N$19,y_iindex_NS_n0i_vi_X(V$3,vantHoff_EOS!$N$19,vantHoff_EOS!$O$31:$X$31,vantHoff_EOS!$O$23:$X$23,$G36),\"-\")","v":"-"},{"$f":"IF(W$3<=vantHoff_EOS!$N$19,y_iindex_NS_n0i_vi_X(W$3,vantHoff_EOS!$N$19,vantHoff_EOS!$O$31:$X$31,vantHoff_EOS!$O$23:$X$23,$G36),\"-\")","v":"-"},{"$f":"IF(X$3<=vantHoff_EOS!$N$19,y_iindex_NS_n0i_vi_X(X$3,vantHoff_EOS!$N$19,vantHoff_EOS!$O$31:$X$31,vantHoff_EOS!$O$23:$X$23,$G36),\"-\")","v":"-"},0.99999999999999989,{"$f":"IF(Z$3<=vantHoff_EOS!$N$19,Phi_i_NS_Tci_Pci_wi_kijm_TinC_PinPa_yi(Z$3,vantHoff_EOS!$N$19,vantHoff_EOS!$X$5:$X$14,vantHoff_EOS!$Y$5:$Y$14,vantHoff_EOS!$Z$5:$Z$14,vantHoff_EOS!$AE$5:$AN$14,$C$2,B36*1000000,$O36:$X36),\"-\")","v":3.8562860207989611},{"$f":"IF(AA$3<=vantHoff_EOS!$N$19,Phi_i_NS_Tci_Pci_wi_kijm_TinC_PinPa_yi(AA$3,vantHoff_EOS!$N$19,vantHoff_EOS!$X$5:$X$14,vantHoff_EOS!$Y$5:$Y$14,vantHoff_EOS!$Z$5:$Z$14,vantHoff_EOS!$AE$5:$AN$14,$C$2,B36*1000000,$O36:$X36),\"-\")","v":6.2606677007794733},{"$f":"IF(AB$3<=vantHoff_EOS!$N$19,Phi_i_NS_Tci_Pci_wi_kijm_TinC_PinPa_yi(AB$3,vantHoff_EOS!$N$19,vantHoff_EOS!$X$5:$X$14,vantHoff_EOS!$Y$5:$Y$14,vantHoff_EOS!$Z$5:$Z$14,vantHoff_EOS!$AE$5:$AN$14,$C$2,B36*1000000,$O36:$X36),\"-\")","v":0.15495959059551181},{"$f":"IF(AC$3<=vantHoff_EOS!$N$19,Phi_i_NS_Tci_Pci_wi_kijm_TinC_PinPa_yi(AC$3,vantHoff_EOS!$N$19,vantHoff_EOS!$X$5:$X$14,vantHoff_EOS!$Y$5:$Y$14,vantHoff_EOS!$Z$5:$Z$14,vantHoff_EOS!$AE$5:$AN$14,$C$2,B36*1000000,$O36:$X36),\"-\")","v":5.6745514486216233E-3},{"$f":"IF(AD$3<=vantHoff_EOS!$N$19,Phi_i_NS_Tci_Pci_wi_kijm_TinC_PinPa_yi(AD$3,vantHoff_EOS!$N$19,vantHoff_EOS!$X$5:$X$14,vantHoff_EOS!$Y$5:$Y$14,vantHoff_EOS!$Z$5:$Z$14,vantHoff_EOS!$AE$5:$AN$14,$C$2,B36*1000000,$O36:$X36),\"-\")","v":0.49076114469858961},{"$f":"IF(AE$3<=vantHoff_EOS!$N$19,Phi_i_NS_Tci_Pci_wi_kijm_TinC_PinPa_yi(AE$3,vantHoff_EOS!$N$19,vantHoff_EOS!$X$5:$X$14,vantHoff_EOS!$Y$5:$Y$14,vantHoff_EOS!$Z$5:$Z$14,vantHoff_EOS!$AE$5:$AN$14,$C$2,B36*1000000,$O36:$X36),\"-\")","v":"-"},{"$f":"IF(AF$3<=vantHoff_EOS!$N$19,Phi_i_NS_Tci_Pci_wi_kijm_TinC_PinPa_yi(AF$3,vantHoff_EOS!$N$19,vantHoff_EOS!$X$5:$X$14,vantHoff_EOS!$Y$5:$Y$14,vantHoff_EOS!$Z$5:$Z$14,vantHoff_EOS!$AE$5:$AN$14,$C$2,B36*1000000,$O36:$X36),\"-\")","v":"-"},{"$f":"IF(AG$3<=vantHoff_EOS!$N$19,Phi_i_NS_Tci_Pci_wi_kijm_TinC_PinPa_yi(AG$3,vantHoff_EOS!$N$19,vantHoff_EOS!$X$5:$X$14,vantHoff_EOS!$Y$5:$Y$14,vantHoff_EOS!$Z$5:$Z$14,vantHoff_EOS!$AE$5:$AN$14,$C$2,B36*1000000,$O36:$X36),\"-\")","v":"-"},{"$f":"IF(AH$3<=vantHoff_EOS!$N$19,Phi_i_NS_Tci_Pci_wi_kijm_TinC_PinPa_yi(AH$3,vantHoff_EOS!$N$19,vantHoff_EOS!$X$5:$X$14,vantHoff_EOS!$Y$5:$Y$14,vantHoff_EOS!$Z$5:$Z$14,vantHoff_EOS!$AE$5:$AN$14,$C$2,B36*1000000,$O36:$X36),\"-\")","v":"-"},{"$f":"IF(AI$3<=vantHoff_EOS!$N$19,Phi_i_NS_Tci_Pci_wi_kijm_TinC_PinPa_yi(AI$3,vantHoff_EOS!$N$19,vantHoff_EOS!$X$5:$X$14,vantHoff_EOS!$Y$5:$Y$14,vantHoff_EOS!$Z$5:$Z$14,vantHoff_EOS!$AE$5:$AN$14,$C$2,B36*1000000,$O36:$X36),\"-\")","v":"-"}]
[34,{"$f":"B36+vantHoff_EOS!$E$26","v":14.599999999999977},320.14999999999998,3.1235358425737939E-3,{"$f":"lnKaT_Tref_lnKaTref_dHTref_da_db_dc_dd_de_TinC(vantHoff_EOS!$E$7,vantHoff_EOS!$B$9,vantHoff_EOS!$B$6,vantHoff_EOS!$O$27,vantHoff_EOS!$P$27,vantHoff_EOS!$Q$27,vantHoff_EOS!$R$27,vantHoff_EOS!$S$27,$C$2)","v":13.062534312676297},470962.76406017854,{"$f":"MolarExtentX_NS_vi_n0i_dHfi_dGfi_TrefinC_da_db_dc_dd_de_Tci_Pci_wi_kijm_TinC_PinPa(vantHoff_EOS!$N$19,vantHoff_EOS!$O$23:$X$23,vantHoff_EOS!$O$31:$X$31,vantHoff_EOS!$T$5:$T$14,vantHoff_EOS!$U$5:$U$14,vantHoff_EOS!$E$7,vantHoff_EOS!$O$27,vantHoff_EOS!$P$27,vantHoff_EOS!$Q$27,vantHoff_EOS!$R$27,vantHoff_EOS!$S$27,vantHoff_EOS!$X$5:$X$14,vantHoff_EOS!$Y$5:$Y$14,vantHoff_EOS!$Z$5:$Z$14,vantHoff_EOS!$AE$5:$AN$14,$C$2,B37*1000000)","v":0.99978015641651652},{"$f":"Ky_NS_n0i_vi_X(vantHoff_EOS!$N$19,vantHoff_EOS!$O$31:$X$31,vantHoff_EOS!$O$23:$X$23,G37)","v":6545472784858.8887},{"$f":"Kp_NS_vi_PinPa(vantHoff_EOS!$N$19,vantHoff_EOS!$O$23:$X$23,B37*1000000)","v":4.6913116907487491E-5},{"$f":"Kphi_NS_n0i_vi_X_Tci_Pci_wi_kijm_TinC_PinPa(vantHoff_EOS!$N$19,vantHoff_EOS!$O$31:$X$31,vantHoff_EOS!$O$23:$X$23,G37,vantHoff_EOS!$X$5:$X$14,vantHoff_EOS!$Y$5:$Y$14,vantHoff_EOS!$Z$5:$Z$14,vantHoff_EOS!$AE$5:$AN$14,$C$2,B37*1000000)","v":1.5337382964811274E-3},29.509794748718015,-9.9672132434166691,-6.4800471926244185,{"$f":"nT_NS_n0i_vi_X(vantHoff_EOS!$N$19,vantHoff_EOS!$O$31:$X$31,vantHoff_EOS!$O$23:$X$23,G37)","v":8.3404396871669668},{"$f":"IF(O$3<=vantHoff_EOS!$N$19,y_iindex_NS_n0i_vi_X(O$3,vantHoff_EOS!$N$19,vantHoff_EOS!$O$31:$X$31,vantHoff_EOS!$O$23:$X$23,$G37),\"-\")","v":2.6358752263593951E-5},{"$f":"IF(P$3<=vantHoff_EOS!$N$19,y_iindex_NS_n0i_vi_X(P$3,vantHoff_EOS!$N$19,vantHoff_EOS!$O$31:$X$31,vantHoff_EOS!$O$23:$X$23,$G37),\"-\")","v":2.6358752263593951E-5},{"$f":"IF(Q$3<=vantHoff_EOS!$N$19,y_iindex_NS_n0i_vi_X(Q$3,vantHoff_EOS!$N$19,vantHoff_EOS!$O$31:$X$31,vantHoff_EOS!$O$23:$X$23,$G37),\"-\")","v":2.6358752263593951E-5},{"$f":"IF(R$3<=vantHoff_EOS!$N$19,y_iindex_NS_n0i_vi_X(R$3,vantHoff_EOS!$N$19,vantHoff_EOS!$O$31:$X$31,vantHoff_EOS!$O$23:$X$23,$G37),\"-\")","v":0.11987139694263722},{"$f":"IF(S$3<=vantHoff_EOS!$N$19,y_iindex_NS_n0i_vi_X(S$3,vantHoff_EOS!$N$19,vantHoff_EOS!$O$31:$X$31,vantHoff_EOS!$O$23:$X$23,$G37),\"-\")","v":0.88004952680057202},{"$f":"IF(T$3<=vantHoff_EOS!$N$19,y_iindex_NS_n0i_vi_X(T$3,vantHoff_EOS!$N$19,vantHoff_EOS!$O$31:$X$31,vantHoff_EOS!$O$23:$X$23,$G37),\"-\")","v":"-"},{"$f":"IF(U$3<=vantHoff_EOS!$N$19,y_iindex_NS_n0i_vi_X(U$3,vantHoff_EOS!$N$19,vantHoff_EOS!$O$31:$X$31,vantHoff_EOS!$O$23:$X$23,$G37),\"-\")","v":"-"},{"$f":"IF(V$3<=vantHoff_EOS!$N$19,y_iindex_NS_n0i_vi_X(V$3,vantHoff_EOS!$N$19,vantHoff_EOS!$O$31:$X$31,vantHoff_EOS!$O$23:$X$23,$G37),\"-\")","v":"-"},{"$f":"IF(W$3<=vantHoff_EOS!$N$19,y_iindex_NS_n0i_vi_X(W$3,vantHoff_EOS!$N$19,vantHoff_EOS!$O$31:$X$31,vantHoff_EOS!$O$23:$X$23,$G37),\"-\")","v":"-"},{"$f":"IF(X$3<=vantHoff_EOS!$N$19,y_iindex_NS_n0i_vi_X(X$3,vantHoff_EOS!$N$19,vantHoff_EOS!$O$31:$X$31,vantHoff_EOS!$O$23:$X$23,$G37),\"-\")","v":"-"},1,{"$f":"IF(Z$3<=vantHoff_EOS!$N$19,Phi_i_NS_Tci_Pci_wi_kijm_TinC_PinPa_yi(Z$3,vantHoff_EOS!$N$19,vantHoff_EOS!$X$5:$X$14,vantHoff_EOS!$Y$5:$Y$14,vantHoff_EOS!$Z$5:$Z$14,vantHoff_EOS!$AE$5:$AN$14,$C$2,B37*1000000,$O37:$X37),\"-\")","v":3.8334613818383239},{"$f":"IF(AA$3<=vantHoff_EOS!$N$19,Phi_i_NS_Tci_Pci_wi_kijm_TinC_PinPa_yi(AA$3,vantHoff_EOS!$N$19,vantHoff_EOS!$X$5:$X$14,vantHoff_EOS!$Y$5:$Y$14,vantHoff_EOS!$Z$5:$Z$14,vantHoff_EOS!$AE$5:$AN$14,$C$2,B37*1000000,$O37:$X37),\"-\")","v":6.2215982810605501},{"$f":"IF(AB$3<=vantHoff_EOS!$N$19,Phi_i_NS_Tci_Pci_wi_kijm_TinC_PinPa_yi(AB$3,vantHoff_EOS!$N$19,vantHoff_EOS!$X$5:$X$14,vantHoff_EOS!$Y$5:$Y$14,vantHoff_EOS!$Z$5:$Z$14,vantHoff_EOS!$AE$5:$AN$14,$C$2,B37*1000000,$O37:$X37),\"-\")","v":0.15374024400904734},{"$f":"IF(AC$3<=vantHoff_EOS!$N$19,Phi_i_NS_Tci_Pci_wi_kijm_TinC_PinPa_yi(AC$3,vantHoff_EOS!$N$19,vantHoff_EOS!$X$5:$X$14,vantHoff_EOS!$Y$5:$Y$14,vantHoff_EOS!$Z$5:$Z$14,vantHoff_EOS!$AE$5:$AN$14,$C$2,B37*1000000,$O37:$X37),\"-\")","v":5.6238261432213993E-3},{"$f":"IF(AD$3<=vantHoff_EOS!$N$19,Phi_i_NS_Tci_Pci_wi_kijm_TinC_PinPa_yi(AD$3,vantHoff_EOS!$N$19,vantHoff_EOS!$X$5:$X$14,vantHoff_EOS!$Y$5:$Y$14,vantHoff_EOS!$Z$5:$Z$14,vantHoff_EOS!$AE$5:$AN$14,$C$2,B37*1000000,$O37:$X37),\"-\")","v":0.48617318609369126},{"$f":"IF(AE$3<=vantHoff_EOS!$N$19,Phi_i_NS_Tci_Pci_wi_kijm_TinC_PinPa_yi(AE$3,vantHoff_EOS!$N$19,vantHoff_EOS!$X$5:$X$14,vantHoff_EOS!$Y$5:$Y$14,vantHoff_EOS!$Z$5:$Z$14,vantHoff_EOS!$AE$5:$AN$14,$C$2,B37*1000000,$O37:$X37),\"-\")","v":"-"},{"$f":"IF(AF$3<=vantHoff_EOS!$N$19,Phi_i_NS_Tci_Pci_wi_kijm_TinC_PinPa_yi(AF$3,vantHoff_EOS!$N$19,vantHoff_EOS!$X$5:$X$14,vantHoff_EOS!$Y$5:$Y$14,vantHoff_EOS!$Z$5:$Z$14,vantHoff_EOS!$AE$5:$AN$14,$C$2,B37*1000000,$O37:$X37),\"-\")","v":"-"},{"$f":"IF(AG$3<=vantHoff_EOS!$N$19,Phi_i_NS_Tci_Pci_wi_kijm_TinC_PinPa_yi(AG$3,vantHoff_EOS!$N$19,vantHoff_EOS!$X$5:$X$14,vantHoff_EOS!$Y$5:$Y$14,vantHoff_EOS!$Z$5:$Z$14,vantHoff_EOS!$AE$5:$AN$14,$C$2,B37*1000000,$O37:$X37),\"-\")","v":"-"},{"$f":"IF(AH$3<=vantHoff_EOS!$N$19,Phi_i_NS_Tci_Pci_wi_kijm_TinC_PinPa_yi(AH$3,vantHoff_EOS!$N$19,vantHoff_EOS!$X$5:$X$14,vantHoff_EOS!$Y$5:$Y$14,vantHoff_EOS!$Z$5:$Z$14,vantHoff_EOS!$AE$5:$AN$14,$C$2,B37*1000000,$O37:$X37),\"-\")","v":"-"},{"$f":"IF(AI$3<=vantHoff_EOS!$N$19,Phi_i_NS_Tci_Pci_wi_kijm_TinC_PinPa_yi(AI$3,vantHoff_EOS!$N$19,vantHoff_EOS!$X$5:$X$14,vantHoff_EOS!$Y$5:$Y$14,vantHoff_EOS!$Z$5:$Z$14,vantHoff_EOS!$AE$5:$AN$14,$C$2,B37*1000000,$O37:$X37),\"-\")","v":"-"}]
[35,{"$f":"B37+vantHoff_EOS!$E$26","v":14.799999999999976},320.14999999999998,3.1235358425737939E-3,{"$f":"lnKaT_Tref_lnKaTref_dHTref_da_db_dc_dd_de_TinC(vantHoff_EOS!$E$7,vantHoff_EOS!$B$9,vantHoff_EOS!$B$6,vantHoff_EOS!$O$27,vantHoff_EOS!$P$27,vantHoff_EOS!$Q$27,vantHoff_EOS!$R$27,vantHoff_EOS!$S$27,$C$2)","v":13.062534312676297},470962.76406017854,{"$f":"MolarExtentX_NS_vi_n0i_dHfi_dGfi_TrefinC_da_db_dc_dd_de_Tci_Pci_wi_kijm_TinC_PinPa(vantHoff_EOS!$N$19,vantHoff_EOS!$O$23:$X$23,vantHoff_EOS!$O$31:$X$31,vantHoff_EOS!$T$5:$T$14,vantHoff_EOS!$U$5:$U$14,vantHoff_EOS!$E$7,vantHoff_EOS!$O$27,vantHoff_EOS!$P$27,vantHoff_EOS!$Q$27,vantHoff_EOS!$R$27,vantHoff_EOS!$S$27,vantHoff_EOS!$X$5:$X$14,vantHoff_EOS!$Y$5:$Y$14,vantHoff_EOS!$Z$5:$Z$14,vantHoff_EOS!$AE$5:$AN$14,$C$2,B38*1000000)","v":0.99978134478252978},{"$f":"Ky_NS_n0i_vi_X(vantHoff_EOS!$N$19,vantHoff_EOS!$O$31:$X$31,vantHoff_EOS!$O$23:$X$23,G38)","v":6652779651984.9033},{"$f":"Kp_NS_vi_PinPa(vantHoff_EOS!$N$19,vantHoff_EOS!$O$23:$X$23,B38*1000000)","v":4.5653761869978236E-5},{"$f":"Kphi_NS_n0i_vi_X_Tci_Pci_wi_kijm_TinC_PinPa(vantHoff_EOS!$N$19,vantHoff_EOS!$O$31:$X$31,vantHoff_EOS!$O$23:$X$23,G38,vantHoff_EOS!$X$5:$X$14,vantHoff_EOS!$Y$5:$Y$14,vantHoff_EOS!$Z$5:$Z$14,vantHoff_EOS!$AE$5:$AN$14,$C$2,B38*1000000)","v":1.5506252910231081E-3},29.526055876041351,-9.9944245475282276,-6.4690970158370602,{"$f":"nT_NS_n0i_vi_X(vantHoff_EOS!$N$19,vantHoff_EOS!$O$31:$X$31,vantHoff_EOS!$O$23:$X$23,G38)","v":8.3404373104349396},{"$f":"IF(O$3<=vantHoff_EOS!$N$19,y_iindex_NS_n0i_vi_X(O$3,vantHoff_EOS!$N$19,vantHoff_EOS!$O$31:$X$31,vantHoff_EOS!$O$23:$X$23,$G38),\"-\")","v":2.6216277316377077E-5},{"$f":"IF(P$3<=vantHoff_EOS!$N$19,y_iindex_NS_n0i_vi_X(P$3,vantHoff_EOS!$N$19,vantHoff_EOS!$O$31:$X$31,vantHoff_EOS!$O$23:$X$23,$G38),\"-\")","v":2.6216277316377077E-5},{"$f":"IF(Q$3<=vantHoff_EOS!$N$19,y_iindex_NS_n0i_vi_X(Q$3,vantHoff_EOS!$N$19,vantHoff_EOS!$O$31:$X$31,vantHoff_EOS!$O$23:$X$23,$G38),\"-\")","v":2.6216277316377077E-5},{"$f":"IF(R$3<=vantHoff_EOS!$N$19,y_iindex_NS_n0i_vi_X(R$3,vantHoff_EOS!$N$19,vantHoff_EOS!$O$31:$X$31,vantHoff_EOS!$O$23:$X$23,$G38),\"-\")","v":0.11987157358423846},{"$f":"IF(S$3<=vantHoff_EOS!$N$19,y_iindex_NS_n0i_vi_X(S$3,vantHoff_EOS!$N$19,vantHoff_EOS!$O$31:$X$31,vantHoff_EOS!$O$23:$X$23,$G38),\"-\")","v":0.88004977758381253},{"$f":"IF(T$3<=vantHoff_EOS!$N$19,y_iindex_NS_n0i_vi_X(T$3,vantHoff_EOS!$N$19,vantHoff_EOS!$O$31:$X$31,vantHoff_EOS!$O$23:$X$23,$G38),\"-\")","v":"-"},{"$f":"IF(U$3<=vantHoff_EOS!$N$19,y_iindex_NS_n0i_vi_X(U$3,vantHoff_EOS!$N$19,vantHoff_EOS!$O$31:$X$31,vantHoff_EOS!$O$23:$X$23,$G38),\"-\")","v":"-"},{"$f":"IF(V$3<=vantHoff_EOS!$N$19,y_iindex_NS_n0i_vi_X(V$3,vantHoff_EOS!$N$19,vantHoff_EOS!$O$31:$X$31,vantHoff_EOS!$O$23:$X$23,$G38),\"-\")","v":"-"},{"$f":"IF(W$3<=vantHoff_EOS!$N$19,y_iindex_NS_n0i_vi_X(W$3,vantHoff_EOS!$N$19,vantHoff_EOS!$O$31:$X$31,vantHoff_EOS!$O$23:$X$23,$G38),\"-\")","v":"-"},{"$f":"IF(X$3<=vantHoff_EOS!$N$19,y_iindex_NS_n0i_vi_X(X$3,vantHoff_EOS!$N$19,vantHoff_EOS!$O$31:$X$31,vantHoff_EOS!$O$23:$X$23,$G38),\"-\")","v":"-"},1.0000000000000002,{"$f":"IF(Z$3<=vantHoff_EOS!$N$19,Phi_i_NS_Tci_Pci_wi_kijm_TinC_PinPa_yi(Z$3,vantHoff_EOS!$N$19,vantHoff_EOS!$X$5:$X$14,vantHoff_EOS!$Y$5:$Y$14,vantHoff_EOS!$Z$5:$Z$14,vantHoff_EOS!$AE$5:$AN$14,$C$2,B38*1000000,$O38:$X38),\"-\")","v":3.8112180107303},{"$f":"IF(AA$3<=vantHoff_EOS!$N$19,Phi_i_NS_Tci_Pci_wi_kijm_TinC_PinPa_yi(AA$3,vantHoff_EOS!$N$19,vantHoff_EOS!$X$5:$X$14,vantHoff_EOS!$Y$5:$Y$14,vantHoff_EOS!$Z$5:$Z$14,vantHoff_EOS!$AE$5:$AN$14,$C$2,B38*1000000,$O38:$X38),\"-\")","v":6.1834562350214943},{"$f":"IF(AB$3<=vantHoff_EOS!$N$19,Phi_i_NS_Tci_Pci_wi_kijm_TinC_PinPa_yi(AB$3,vantHoff_EOS!$N$19,vantHoff_EOS!$X$5:$X$14,vantHoff_EOS!$Y$5:$Y$14,vantHoff_EOS!$Z$5:$Z$14,vantHoff_EOS!$AE$5:$AN$14,$C$2,B38*1000000,$O38:$X38),\"-\")","v":0.15255804725516453},{"$f":"IF(AC$3<=vantHoff_EOS!$N$19,Phi_i_NS_Tci_Pci_wi_kijm_TinC_PinPa_yi(AC$3,vantHoff_EOS!$N$19,vantHoff_EOS!$X$5:$X$14,vantHoff_EOS!$Y$5:$Y$14,vantHoff_EOS!$Z$5:$Z$14,vantHoff_EOS!$AE$5:$AN$14,$C$2,B38*1000000,$O38:$X38),\"-\")","v":5.5748998212470004E-3},{"$f":"IF(AD$3<=vantHoff_EOS!$N$19,Phi_i_NS_Tci_Pci_wi_kijm_TinC_PinPa_yi(AD$3,vantHoff_EOS!$N$19,vantHoff_EOS!$X$5:$X$14,vantHoff_EOS!$Y$5:$Y$14,vantHoff_EOS!$Z$5:$Z$14,vantHoff_EOS!$AE$5:$AN$14,$C$2,B38*1000000,$O38:$X38),\"-\")","v":0.48170937183073792},{"$f":"IF(AE$3<=vantHoff_EOS!$N$19,Phi_i_NS_Tci_Pci_wi_kijm_TinC_PinPa_yi(AE$3,vantHoff_EOS!$N$19,vantHoff_EOS!$X$5:$X$14,vantHoff_EOS!$Y$5:$Y$14,vantHoff_EOS!$Z$5:$Z$14,vantHoff_EOS!$AE$5:$AN$14,$C$2,B38*1000000,$O38:$X38),\"-\")","v":"-"},{"$f":"IF(AF$3<=vantHoff_EOS!$N$19,Phi_i_NS_Tci_Pci_wi_kijm_TinC_PinPa_yi(AF$3,vantHoff_EOS!$N$19,vantHoff_EOS!$X$5:$X$14,vantHoff_EOS!$Y$5:$Y$14,vantHoff_EOS!$Z$5:$Z$14,vantHoff_EOS!$AE$5:$AN$14,$C$2,B38*1000000,$O38:$X38),\"-\")","v":"-"},{"$f":"IF(AG$3<=vantHoff_EOS!$N$19,Phi_i_NS_Tci_Pci_wi_kijm_TinC_PinPa_yi(AG$3,vantHoff_EOS!$N$19,vantHoff_EOS!$X$5:$X$14,vantHoff_EOS!$Y$5:$Y$14,vantHoff_EOS!$Z$5:$Z$14,vantHoff_EOS!$AE$5:$AN$14,$C$2,B38*1000000,$O38:$X38),\"-\")","v":"-"},{"$f":"IF(AH$3<=vantHoff_EOS!$N$19,Phi_i_NS_Tci_Pci_wi_kijm_TinC_PinPa_yi(AH$3,vantHoff_EOS!$N$19,vantHoff_EOS!$X$5:$X$14,vantHoff_EOS!$Y$5:$Y$14,vantHoff_EOS!$Z$5:$Z$14,vantHoff_EOS!$AE$5:$AN$14,$C$2,B38*1000000,$O38:$X38),\"-\")","v":"-"},{"$f":"IF(AI$3<=vantHoff_EOS!$N$19,Phi_i_NS_Tci_Pci_wi_kijm_TinC_PinPa_yi(AI$3,vantHoff_EOS!$N$19,vantHoff_EOS!$X$5:$X$14,vantHoff_EOS!$Y$5:$Y$14,vantHoff_EOS!$Z$5:$Z$14,vantHoff_EOS!$AE$5:$AN$14,$C$2,B38*1000000,$O38:$X38),\"-\")","v":"-"}]
[36,{"$f":"B38+vantHoff_EOS!$E$26","v":14.999999999999975},320.14999999999998,3.1235358425737939E-3,{"$f":"lnKaT_Tref_lnKaTref_dHTref_da_db_dc_dd_de_TinC(vantHoff_EOS!$E$7,vantHoff_EOS!$B$9,vantHoff_EOS!$B$6,vantHoff_EOS!$O$27,vantHoff_EOS!$P$27,vantHoff_EOS!$Q$27,vantHoff_EOS!$R$27,vantHoff_EOS!$S$27,$C$2)","v":13.062534312676297},470962.76406017854,{"$f":"MolarExtentX_NS_vi_n0i_dHfi_dGfi_TrefinC_da_db_dc_dd_de_Tci_Pci_wi_kijm_TinC_PinPa(vantHoff_EOS!$N$19,vantHoff_EOS!$O$23:$X$23,vantHoff_EOS!$O$31:$X$31,vantHoff_EOS!$T$5:$T$14,vantHoff_EOS!$U$5:$U$14,vantHoff_EOS!$E$7,vantHoff_EOS!$O$27,vantHoff_EOS!$P$27,vantHoff_EOS!$Q$27,vantHoff_EOS!$R$27,vantHoff_EOS!$S$27,vantHoff_EOS!$X$5:$X$14,vantHoff_EOS!$Y$5:$Y$14,vantHoff_EOS!$Z$5:$Z$14,vantHoff_EOS!$AE$5:$AN$14,$C$2,B39*1000000)","v":0.99978251205815982},{"$f":"Ky_NS_n0i_vi_X(vantHoff_EOS!$N$19,vantHoff_EOS!$O$31:$X$31,vantHoff_EOS!$O$23:$X$23,G39)","v":6760477743163.5586},{"$f":"Kp_NS_vi_PinPa(vantHoff_EOS!$N$19,vantHoff_EOS!$O$23:$X$23,B39*1000000)","v":4.4444444444444609E-5},{"$f":"Kphi_NS_n0i_vi_X_Tci_Pci_wi_kijm_TinC_PinPa(vantHoff_EOS!$N$19,vantHoff_EOS!$O$31:$X$31,vantHoff_EOS!$O$23:$X$23,G39,vantHoff_EOS!$X$5:$X$14,vantHoff_EOS!$Y$5:$Y$14,vantHoff_EOS!$Z$5:$Z$14,vantHoff_EOS!$AE$5:$AN$14,$C$2,B39*1000000)","v":1.5674428041822608E-3},29.542114675551883,-10.021270588192507,-6.458309774682883,{"$f":"nT_NS_n0i_vi_X(vantHoff_EOS!$N$19,vantHoff_EOS!$O$31:$X$31,vantHoff_EOS!$O$23:$X$23,G39)","v":8.3404349758836798},{"$f":"IF(O$3<=vantHoff_EOS!$N$19,y_iindex_NS_n0i_vi_X(O$3,vantHoff_EOS!$N$19,vantHoff_EOS!$O$31:$X$31,vantHoff_EOS!$O$23:$X$23,$G39),\"-\")","v":2.6076330847137202E-5},{"$f":"IF(P$3<=vantHoff_EOS!$N$19,y_iindex_NS_n0i_vi_X(P$3,vantHoff_EOS!$N$19,vantHoff_EOS!$O$31:$X$31,vantHoff_EOS!$O$23:$X$23,$G39),\"-\")","v":2.6076330847137202E-5},{"$f":"IF(Q$3<=vantHoff_EOS!$N$19,y_iindex_NS_n0i_vi_X(Q$3,vantHoff_EOS!$N$19,vantHoff_EOS!$O$31:$X$31,vantHoff_EOS!$O$23:$X$23,$G39),\"-\")","v":2.6076330847137202E-5},{"$f":"IF(R$3<=vantHoff_EOS!$N$19,y_iindex_NS_n0i_vi_X(R$3,vantHoff_EOS!$N$19,vantHoff_EOS!$O$31:$X$31,vantHoff_EOS!$O$23:$X$23,$G39),\"-\")","v":0.11987174709101207},{"$f":"IF(S$3<=vantHoff_EOS!$N$19,y_iindex_NS_n0i_vi_X(S$3,vantHoff_EOS!$N$19,vantHoff_EOS!$O$31:$X$31,vantHoff_EOS!$O$23:$X$23,$G39),\"-\")","v":0.8800500239164466},{"$f":"IF(T$3<=vantHoff_EOS!$N$19,y_iindex_NS_n0i_vi_X(T$3,vantHoff_EOS!$N$19,vantHoff_EOS!$O$31:$X$31,vantHoff_EOS!$O$23:$X$23,$G39),\"-\")","v":"-"},{"$f":"IF(U$3<=vantHoff_EOS!$N$19,y_iindex_NS_n0i_vi_X(U$3,vantHoff_EOS!$N$19,vantHoff_EOS!$O$31:$X$31,vantHoff_EOS!$O$23:$X$23,$G39),\"-\")","v":"-"},{"$f":"IF(V$3<=vantHoff_EOS!$N$19,y_iindex_NS_n0i_vi_X(V$3,vantHoff_EOS!$N$19,vantHoff_EOS!$O$31:$X$31,vantHoff_EOS!$O$23:$X$23,$G39),\"-\")","v":"-"},{"$f":"IF(W$3<=vantHoff_EOS!$N$19,y_iindex_NS_n0i_vi_X(W$3,vantHoff_EOS!$N$19,vantHoff_EOS!$O$31:$X$31,vantHoff_EOS!$O$23:$X$23,$G39),\"-\")","v":"-"},{"$f":"IF(X$3<=vantHoff_EOS!$N$19,y_iindex_NS_n0i_vi_X(X$3,vantHoff_EOS!$N$19,vantHoff_EOS!$O$31:$X$31,vantHoff_EOS!$O$23:$X$23,$G39),\"-\")","v":"-"},1,{"$f":"IF(Z$3<=vantHoff_EOS!$N$19,Phi_i_NS_Tci_Pci_wi_kijm_TinC_PinPa_yi(Z$3,vantHoff_EOS!$N$19,vantHoff_EOS!$X$5:$X$14,vantHoff_EOS!$Y$5:$Y$14,vantHoff_EOS!$Z$5:$Z$14,vantHoff_EOS!$AE$5:$AN$14,$C$2,B39*1000000,$O39:$X39),\"-\")","v":3.7895358322515493},{"$f":"IF(AA$3<=vantHoff_EOS!$N$19,Phi_i_NS_Tci_Pci_wi_kijm_TinC_PinPa_yi(AA$3,vantHoff_EOS!$N$19,vantHoff_EOS!$X$5:$X$14,vantHoff_EOS!$Y$5:$Y$14,vantHoff_EOS!$Z$5:$Z$14,vantHoff_EOS!$AE$5:$AN$14,$C$2,B39*1000000,$O39:$X39),\"-\")","v":6.1462101577436998},{"$f":"IF(AB$3<=vantHoff_EOS!$N$19,Phi_i_NS_Tci_Pci_wi_kijm_TinC_PinPa_yi(AB$3,vantHoff_EOS!$N$19,vantHoff_EOS!$X$5:$X$14,vantHoff_EOS!$Y$5:$Y$14,vantHoff_EOS!$Z$5:$Z$14,vantHoff_EOS!$AE$5:$AN$14,$C$2,B39*1000000,$O39:$X39),\"-\")","v":0.15141153088159562},{"$f":"IF(AC$3<=vantHoff_EOS!$N$19,Phi_i_NS_Tci_Pci_wi_kijm_TinC_PinPa_yi(AC$3,vantHoff_EOS!$N$19,vantHoff_EOS!$X$5:$X$14,vantHoff_EOS!$Y$5:$Y$14,vantHoff_EOS!$Z$5:$Z$14,vantHoff_EOS!$AE$5:$AN$14,$C$2,B39*1000000,$O39:$X39),\"-\")","v":5.5276950612864004E-3},{"$f":"IF(AD$3<=vantHoff_EOS!$N$19,Phi_i_NS_Tci_Pci_wi_kijm_TinC_PinPa_yi(AD$3,vantHoff_EOS!$N$19,vantHoff_EOS!$X$5:$X$14,vantHoff_EOS!$Y$5:$Y$14,vantHoff_EOS!$Z$5:$Z$14,vantHoff_EOS!$AE$5:$AN$14,$C$2,B39*1000000,$O39:$X39),\"-\")","v":0.47736487971268199},{"$f":"IF(AE$3<=vantHoff_EOS!$N$19,Phi_i_NS_Tci_Pci_wi_kijm_TinC_PinPa_yi(AE$3,vantHoff_EOS!$N$19,vantHoff_EOS!$X$5:$X$14,vantHoff_EOS!$Y$5:$Y$14,vantHoff_EOS!$Z$5:$Z$14,vantHoff_EOS!$AE$5:$AN$14,$C$2,B39*1000000,$O39:$X39),\"-\")","v":"-"},{"$f":"IF(AF$3<=vantHoff_EOS!$N$19,Phi_i_NS_Tci_Pci_wi_kijm_TinC_PinPa_yi(AF$3,vantHoff_EOS!$N$19,vantHoff_EOS!$X$5:$X$14,vantHoff_EOS!$Y$5:$Y$14,vantHoff_EOS!$Z$5:$Z$14,vantHoff_EOS!$AE$5:$AN$14,$C$2,B39*1000000,$O39:$X39),\"-\")","v":"-"},{"$f":"IF(AG$3<=vantHoff_EOS!$N$19,Phi_i_NS_Tci_Pci_wi_kijm_TinC_PinPa_yi(AG$3,vantHoff_EOS!$N$19,vantHoff_EOS!$X$5:$X$14,vantHoff_EOS!$Y$5:$Y$14,vantHoff_EOS!$Z$5:$Z$14,vantHoff_EOS!$AE$5:$AN$14,$C$2,B39*1000000,$O39:$X39),\"-\")","v":"-"},{"$f":"IF(AH$3<=vantHoff_EOS!$N$19,Phi_i_NS_Tci_Pci_wi_kijm_TinC_PinPa_yi(AH$3,vantHoff_EOS!$N$19,vantHoff_EOS!$X$5:$X$14,vantHoff_EOS!$Y$5:$Y$14,vantHoff_EOS!$Z$5:$Z$14,vantHoff_EOS!$AE$5:$AN$14,$C$2,B39*1000000,$O39:$X39),\"-\")","v":"-"},{"$f":"IF(AI$3<=vantHoff_EOS!$N$19,Phi_i_NS_Tci_Pci_wi_kijm_TinC_PinPa_yi(AI$3,vantHoff_EOS!$N$19,vantHoff_EOS!$X$5:$X$14,vantHoff_EOS!$Y$5:$Y$14,vantHoff_EOS!$Z$5:$Z$14,vantHoff_EOS!$AE$5:$AN$14,$C$2,B39*1000000,$O39:$X39),\"-\")","v":"-"}]
[37,{"$f":"B39+vantHoff_EOS!$E$26","v":15.199999999999974},320.14999999999998,3.1235358425737939E-3,{"$f":"lnKaT_Tref_lnKaTref_dHTref_da_db_dc_dd_de_TinC(vantHoff_EOS!$E$7,vantHoff_EOS!$B$9,vantHoff_EOS!$B$6,vantHoff_EOS!$O$27,vantHoff_EOS!$P$27,vantHoff_EOS!$Q$27,vantHoff_EOS!$R$27,vantHoff_EOS!$S$27,$C$2)","v":13.062534312676297},470962.76406017854,{"$f":"MolarExtentX_NS_vi_n0i_dHfi_dGfi_TrefinC_da_db_dc_dd_de_Tci_Pci_wi_kijm_TinC_PinPa(vantHoff_EOS!$N$19,vantHoff_EOS!$O$23:$X$23,vantHoff_EOS!$O$31:$X$31,vantHoff_EOS!$T$5:$T$14,vantHoff_EOS!$U$5:$U$14,vantHoff_EOS!$E$7,vantHoff_EOS!$O$27,vantHoff_EOS!$P$27,vantHoff_EOS!$Q$27,vantHoff_EOS!$R$27,vantHoff_EOS!$S$27,vantHoff_EOS!$X$5:$X$14,vantHoff_EOS!$Y$5:$Y$14,vantHoff_EOS!$Z$5:$Z$14,vantHoff_EOS!$AE$5:$AN$14,$C$2,B40*1000000)","v":0.99978365893514065},{"$f":"Ky_NS_n0i_vi_X(vantHoff_EOS!$N$19,vantHoff_EOS!$O$31:$X$31,vantHoff_EOS!$O$23:$X$23,G40)","v":6868569670459.9932},{"$f":"Kp_NS_vi_PinPa(vantHoff_EOS!$N$19,vantHoff_EOS!$O$23:$X$23,B40*1000000)","v":4.3282548476454436E-5},{"$f":"Kphi_NS_n0i_vi_X_Tci_Pci_wi_kijm_TinC_PinPa(vantHoff_EOS!$N$19,vantHoff_EOS!$O$31:$X$31,vantHoff_EOS!$O$23:$X$23,G40,vantHoff_EOS!$X$5:$X$14,vantHoff_EOS!$Y$5:$Y$14,vantHoff_EOS!$Z$5:$Z$14,vantHoff_EOS!$AE$5:$AN$14,$C$2,B40*1000000)","v":1.5841906281660832E-3},29.557977001135512,-10.047761041692549,-6.4476816467664628,{"$f":"nT_NS_n0i_vi_X(vantHoff_EOS!$N$19,vantHoff_EOS!$O$31:$X$31,vantHoff_EOS!$O$23:$X$23,G40)","v":8.3404326821297179},{"$f":"IF(O$3<=vantHoff_EOS!$N$19,y_iindex_NS_n0i_vi_X(O$3,vantHoff_EOS!$N$19,vantHoff_EOS!$O$31:$X$31,vantHoff_EOS!$O$23:$X$23,$G40),\"-\")","v":2.5938829926999243E-5},{"$f":"IF(P$3<=vantHoff_EOS!$N$19,y_iindex_NS_n0i_vi_X(P$3,vantHoff_EOS!$N$19,vantHoff_EOS!$O$31:$X$31,vantHoff_EOS!$O$23:$X$23,$G40),\"-\")","v":2.5938829926999243E-5},{"$f":"IF(Q$3<=vantHoff_EOS!$N$19,y_iindex_NS_n0i_vi_X(Q$3,vantHoff_EOS!$N$19,vantHoff_EOS!$O$31:$X$31,vantHoff_EOS!$O$23:$X$23,$G40),\"-\")","v":2.5938829926999243E-5},{"$f":"IF(R$3<=vantHoff_EOS!$N$19,y_iindex_NS_n0i_vi_X(R$3,vantHoff_EOS!$N$19,vantHoff_EOS!$O$31:$X$31,vantHoff_EOS!$O$23:$X$23,$G40),\"-\")","v":0.11987191756577398},{"$f":"IF(S$3<=vantHoff_EOS!$N$19,y_iindex_NS_n0i_vi_X(S$3,vantHoff_EOS!$N$19,vantHoff_EOS!$O$31:$X$31,vantHoff_EOS!$O$23:$X$23,$G40),\"-\")","v":0.88005026594444513},{"$f":"IF(T$3<=vantHoff_EOS!$N$19,y_iindex_NS_n0i_vi_X(T$3,vantHoff_EOS!$N$19,vantHoff_EOS!$O$31:$X$31,vantHoff_EOS!$O$23:$X$23,$G40),\"-\")","v":"-"},{"$f":"IF(U$3<=vantHoff_EOS!$N$19,y_iindex_NS_n0i_vi_X(U$3,vantHoff_EOS!$N$19,vantHoff_EOS!$O$31:$X$31,vantHoff_EOS!$O$23:$X$23,$G40),\"-\")","v":"-"},{"$f":"IF(V$3<=vantHoff_EOS!$N$19,y_iindex_NS_n0i_vi_X(V$3,vantHoff_EOS!$N$19,vantHoff_EOS!$O$31:$X$31,vantHoff_EOS!$O$23:$X$23,$G40),\"-\")","v":"-"},{"$f":"IF(W$3<=vantHoff_EOS!$N$19,y_iindex_NS_n0i_vi_X(W$3,vantHoff_EOS!$N$19,vantHoff_EOS!$O$31:$X$31,vantHoff_EOS!$O$23:$X$23,$G40),\"-\")","v":"-"},{"$f":"IF(X$3<=vantHoff_EOS!$N$19,y_iindex_NS_n0i_vi_X(X$3,vantHoff_EOS!$N$19,vantHoff_EOS!$O$31:$X$31,vantHoff_EOS!$O$23:$X$23,$G40),\"-\")","v":"-"},1,{"$f":"IF(Z$3<=vantHoff_EOS!$N$19,Phi_i_NS_Tci_Pci_wi_kijm_TinC_PinPa_yi(Z$3,vantHoff_EOS!$N$19,vantHoff_EOS!$X$5:$X$14,vantHoff_EOS!$Y$5:$Y$14,vantHoff_EOS!$Z$5:$Z$14,vantHoff_EOS!$AE$5:$AN$14,$C$2,B40*1000000,$O40:$X40),\"-\")","v":3.7683956930134093},{"$f":"IF(AA$3<=vantHoff_EOS!$N$19,Phi_i_NS_Tci_Pci_wi_kijm_TinC_PinPa_yi(AA$3,vantHoff_EOS!$N$19,vantHoff_EOS!$X$5:$X$14,vantHoff_EOS!$Y$5:$Y$14,vantHoff_EOS!$Z$5:$Z$14,vantHoff_EOS!$AE$5:$AN$14,$C$2,B40*1000000,$O40:$X40),\"-\")","v":6.1098300496218254},{"$f":"IF(AB$3<=vantHoff_EOS!$N$19,Phi_i_NS_Tci_Pci_wi_kijm_TinC_PinPa_yi(AB$3,vantHoff_EOS!$N$19,vantHoff_EOS!$X$5:$X$14,vantHoff_EOS!$Y$5:$Y$14,vantHoff_EOS!$Z$5:$Z$14,vantHoff_EOS!$AE$5:$AN$14,$C$2,B40*1000000,$O40:$X40),\"-\")","v":0.15029930320693877},{"$f":"IF(AC$3<=vantHoff_EOS!$N$19,Phi_i_NS_Tci_Pci_wi_kijm_TinC_PinPa_yi(AC$3,vantHoff_EOS!$N$19,vantHoff_EOS!$X$5:$X$14,vantHoff_EOS!$Y$5:$Y$14,vantHoff_EOS!$Z$5:$Z$14,vantHoff_EOS!$AE$5:$AN$14,$C$2,B40*1000000,$O40:$X40),\"-\")","v":5.4821389103413502E-3},{"$f":"IF(AD$3<=vantHoff_EOS!$N$19,Phi_i_NS_Tci_Pci_wi_kijm_TinC_PinPa_yi(AD$3,vantHoff_EOS!$N$19,vantHoff_EOS!$X$5:$X$14,vantHoff_EOS!$Y$5:$Y$14,vantHoff_EOS!$Z$5:$Z$14,vantHoff_EOS!$AE$5:$AN$14,$C$2,B40*1000000,$O40:$X40),\"-\")","v":0.47313513559458903},{"$f":"IF(AE$3<=vantHoff_EOS!$N$19,Phi_i_NS_Tci_Pci_wi_kijm_TinC_PinPa_yi(AE$3,vantHoff_EOS!$N$19,vantHoff_EOS!$X$5:$X$14,vantHoff_EOS!$Y$5:$Y$14,vantHoff_EOS!$Z$5:$Z$14,vantHoff_EOS!$AE$5:$AN$14,$C$2,B40*1000000,$O40:$X40),\"-\")","v":"-"},{"$f":"IF(AF$3<=vantHoff_EOS!$N$19,Phi_i_NS_Tci_Pci_wi_kijm_TinC_PinPa_yi(AF$3,vantHoff_EOS!$N$19,vantHoff_EOS!$X$5:$X$14,vantHoff_EOS!$Y$5:$Y$14,vantHoff_EOS!$Z$5:$Z$14,vantHoff_EOS!$AE$5:$AN$14,$C$2,B40*1000000,$O40:$X40),\"-\")","v":"-"},{"$f":"IF(AG$3<=vantHoff_EOS!$N$19,Phi_i_NS_Tci_Pci_wi_kijm_TinC_PinPa_yi(AG$3,vantHoff_EOS!$N$19,vantHoff_EOS!$X$5:$X$14,vantHoff_EOS!$Y$5:$Y$14,vantHoff_EOS!$Z$5:$Z$14,vantHoff_EOS!$AE$5:$AN$14,$C$2,B40*1000000,$O40:$X40),\"-\")","v":"-"},{"$f":"IF(AH$3<=vantHoff_EOS!$N$19,Phi_i_NS_Tci_Pci_wi_kijm_TinC_PinPa_yi(AH$3,vantHoff_EOS!$N$19,vantHoff_EOS!$X$5:$X$14,vantHoff_EOS!$Y$5:$Y$14,vantHoff_EOS!$Z$5:$Z$14,vantHoff_EOS!$AE$5:$AN$14,$C$2,B40*1000000,$O40:$X40),\"-\")","v":"-"},{"$f":"IF(AI$3<=vantHoff_EOS!$N$19,Phi_i_NS_Tci_Pci_wi_kijm_TinC_PinPa_yi(AI$3,vantHoff_EOS!$N$19,vantHoff_EOS!$X$5:$X$14,vantHoff_EOS!$Y$5:$Y$14,vantHoff_EOS!$Z$5:$Z$14,vantHoff_EOS!$AE$5:$AN$14,$C$2,B40*1000000,$O40:$X40),\"-\")","v":"-"}]
[38,{"$f":"B40+vantHoff_EOS!$E$26","v":15.399999999999974},320.14999999999998,3.1235358425737939E-3,{"$f":"lnKaT_Tref_lnKaTref_dHTref_da_db_dc_dd_de_TinC(vantHoff_EOS!$E$7,vantHoff_EOS!$B$9,vantHoff_EOS!$B$6,vantHoff_EOS!$O$27,vantHoff_EOS!$P$27,vantHoff_EOS!$Q$27,vantHoff_EOS!$R$27,vantHoff_EOS!$S$27,$C$2)","v":13.062534312676297},470962.76406017854,{"$f":"MolarExtentX_NS_vi_n0i_dHfi_dGfi_TrefinC_da_db_dc_dd_de_Tci_Pci_wi_kijm_TinC_PinPa(vantHoff_EOS!$N$19,vantHoff_EOS!$O$23:$X$23,vantHoff_EOS!$O$31:$X$31,vantHoff_EOS!$T$5:$T$14,vantHoff_EOS!$U$5:$U$14,vantHoff_EOS!$E$7,vantHoff_EOS!$O$27,vantHoff_EOS!$P$27,vantHoff_EOS!$Q$27,vantHoff_EOS!$R$27,vantHoff_EOS!$S$27,vantHoff_EOS!$X$5:$X$14,vantHoff_EOS!$Y$5:$Y$14,vantHoff_EOS!$Z$5:$Z$14,vantHoff_EOS!$AE$5:$AN$14,$C$2,B41*1000000)","v":0.99978478607188837},{"$f":"Ky_NS_n0i_vi_X(vantHoff_EOS!$N$19,vantHoff_EOS!$O$31:$X$31,vantHoff_EOS!$O$23:$X$23,G41)","v":6977057926082.4707},{"$f":"Kp_NS_vi_PinPa(vantHoff_EOS!$N$19,vantHoff_EOS!$O$23:$X$23,B41*1000000)","v":4.2165626581211138E-5},{"$f":"Kphi_NS_n0i_vi_X_Tci_Pci_wi_kijm_TinC_PinPa(vantHoff_EOS!$N$19,vantHoff_EOS!$O$31:$X$31,vantHoff_EOS!$O$23:$X$23,G41,vantHoff_EOS!$X$5:$X$14,vantHoff_EOS!$Y$5:$Y$14,vantHoff_EOS!$Z$5:$Z$14,vantHoff_EOS!$AE$5:$AN$14,$C$2,B41*1000000)","v":1.6008685940088858E-3},29.573648443285247,-10.073905204827255,-6.4372089257821399,{"$f":"nT_NS_n0i_vi_X(vantHoff_EOS!$N$19,vantHoff_EOS!$O$31:$X$31,vantHoff_EOS!$O$23:$X$23,G41)","v":8.3404304278562229},{"$f":"IF(O$3<=vantHoff_EOS!$N$19,y_iindex_NS_n0i_vi_X(O$3,vantHoff_EOS!$N$19,vantHoff_EOS!$O$31:$X$31,vantHoff_EOS!$O$23:$X$23,$G41),\"-\")","v":2.5803695621372428E-5},{"$f":"IF(P$3<=vantHoff_EOS!$N$19,y_iindex_NS_n0i_vi_X(P$3,vantHoff_EOS!$N$19,vantHoff_EOS!$O$31:$X$31,vantHoff_EOS!$O$23:$X$23,$G41),\"-\")","v":2.5803695621372428E-5},{"$f":"IF(Q$3<=vantHoff_EOS!$N$19,y_iindex_NS_n0i_vi_X(Q$3,vantHoff_EOS!$N$19,vantHoff_EOS!$O$31:$X$31,vantHoff_EOS!$O$23:$X$23,$G41),\"-\")","v":2.5803695621372428E-5},{"$f":"IF(R$3<=vantHoff_EOS!$N$19,y_iindex_NS_n0i_vi_X(R$3,vantHoff_EOS!$N$19,vantHoff_EOS!$O$31:$X$31,vantHoff_EOS!$O$23:$X$23,$G41),\"-\")","v":0.1198720851063879},{"$f":"IF(S$3<=vantHoff_EOS!$N$19,y_iindex_NS_n0i_vi_X(S$3,vantHoff_EOS!$N$19,vantHoff_EOS!$O$31:$X$31,vantHoff_EOS!$O$23:$X$23,$G41),\"-\")","v":0.88005050380674799},{"$f":"IF(T$3<=vantHoff_EOS!$N$19,y_iindex_NS_n0i_vi_X(T$3,vantHoff_EOS!$N$19,vantHoff_EOS!$O$31:$X$31,vantHoff_EOS!$O$23:$X$23,$G41),\"-\")","v":"-"},{"$f":"IF(U$3<=vantHoff_EOS!$N$19,y_iindex_NS_n0i_vi_X(U$3,vantHoff_EOS!$N$19,vantHoff_EOS!$O$31:$X$31,vantHoff_EOS!$O$23:$X$23,$G41),\"-\")","v":"-"},{"$f":"IF(V$3<=vantHoff_EOS!$N$19,y_iindex_NS_n0i_vi_X(V$3,vantHoff_EOS!$N$19,vantHoff_EOS!$O$31:$X$31,vantHoff_EOS!$O$23:$X$23,$G41),\"-\")","v":"-"},{"$f":"IF(W$3<=vantHoff_EOS!$N$19,y_iindex_NS_n0i_vi_X(W$3,vantHoff_EOS!$N$19,vantHoff_EOS!$O$31:$X$31,vantHoff_EOS!$O$23:$X$23,$G41),\"-\")","v":"-"},{"$f":"IF(X$3<=vantHoff_EOS!$N$19,y_iindex_NS_n0i_vi_X(X$3,vantHoff_EOS!$N$19,vantHoff_EOS!$O$31:$X$31,vantHoff_EOS!$O$23:$X$23,$G41),\"-\")","v":"-"},1,{"$f":"IF(Z$3<=vantHoff_EOS!$N$19,Phi_i_NS_Tci_Pci_wi_kijm_TinC_PinPa_yi(Z$3,vantHoff_EOS!$N$19,vantHoff_EOS!$X$5:$X$14,vantHoff_EOS!$Y$5:$Y$14,vantHoff_EOS!$Z$5:$Z$14,vantHoff_EOS!$AE$5:$AN$14,$C$2,B41*1000000,$O41:$X41),\"-\")","v":3.74777930976507},{"$f":"IF(AA$3<=vantHoff_EOS!$N$19,Phi_i_NS_Tci_Pci_wi_kijm_TinC_PinPa_yi(AA$3,vantHoff_EOS!$N$19,vantHoff_EOS!$X$5:$X$14,vantHoff_EOS!$Y$5:$Y$14,vantHoff_EOS!$Z$5:$Z$14,vantHoff_EOS!$AE$5:$AN$14,$C$2,B41*1000000,$O41:$X41),\"-\")","v":6.0742872399852743},{"$f":"IF(AB$3<=vantHoff_EOS!$N$19,Phi_i_NS_Tci_Pci_wi_kijm_TinC_PinPa_yi(AB$3,vantHoff_EOS!$N$19,vantHoff_EOS!$X$5:$X$14,vantHoff_EOS!$Y$5:$Y$14,vantHoff_EOS!$Z$5:$Z$14,vantHoff_EOS!$AE$5:$AN$14,$C$2,B41*1000000,$O41:$X41),\"-\")","v":0.14922004524116447},{"$f":"IF(AC$3<=vantHoff_EOS!$N$19,Phi_i_NS_Tci_Pci_wi_kijm_TinC_PinPa_yi(AC$3,vantHoff_EOS!$N$19,vantHoff_EOS!$X$5:$X$14,vantHoff_EOS!$Y$5:$Y$14,vantHoff_EOS!$Z$5:$Z$14,vantHoff_EOS!$AE$5:$AN$14,$C$2,B41*1000000,$O41:$X41),\"-\")","v":5.4381625678321093E-3},{"$f":"IF(AD$3<=vantHoff_EOS!$N$19,Phi_i_NS_Tci_Pci_wi_kijm_TinC_PinPa_yi(AD$3,vantHoff_EOS!$N$19,vantHoff_EOS!$X$5:$X$14,vantHoff_EOS!$Y$5:$Y$14,vantHoff_EOS!$Z$5:$Z$14,vantHoff_EOS!$AE$5:$AN$14,$C$2,B41*1000000,$O41:$X41),\"-\")","v":0.46901579762019696},{"$f":"IF(AE$3<=vantHoff_EOS!$N$19,Phi_i_NS_Tci_Pci_wi_kijm_TinC_PinPa_yi(AE$3,vantHoff_EOS!$N$19,vantHoff_EOS!$X$5:$X$14,vantHoff_EOS!$Y$5:$Y$14,vantHoff_EOS!$Z$5:$Z$14,vantHoff_EOS!$AE$5:$AN$14,$C$2,B41*1000000,$O41:$X41),\"-\")","v":"-"},{"$f":"IF(AF$3<=vantHoff_EOS!$N$19,Phi_i_NS_Tci_Pci_wi_kijm_TinC_PinPa_yi(AF$3,vantHoff_EOS!$N$19,vantHoff_EOS!$X$5:$X$14,vantHoff_EOS!$Y$5:$Y$14,vantHoff_EOS!$Z$5:$Z$14,vantHoff_EOS!$AE$5:$AN$14,$C$2,B41*1000000,$O41:$X41),\"-\")","v":"-"},{"$f":"IF(AG$3<=vantHoff_EOS!$N$19,Phi_i_NS_Tci_Pci_wi_kijm_TinC_PinPa_yi(AG$3,vantHoff_EOS!$N$19,vantHoff_EOS!$X$5:$X$14,vantHoff_EOS!$Y$5:$Y$14,vantHoff_EOS!$Z$5:$Z$14,vantHoff_EOS!$AE$5:$AN$14,$C$2,B41*1000000,$O41:$X41),\"-\")","v":"-"},{"$f":"IF(AH$3<=vantHoff_EOS!$N$19,Phi_i_NS_Tci_Pci_wi_kijm_TinC_PinPa_yi(AH$3,vantHoff_EOS!$N$19,vantHoff_EOS!$X$5:$X$14,vantHoff_EOS!$Y$5:$Y$14,vantHoff_EOS!$Z$5:$Z$14,vantHoff_EOS!$AE$5:$AN$14,$C$2,B41*1000000,$O41:$X41),\"-\")","v":"-"},{"$f":"IF(AI$3<=vantHoff_EOS!$N$19,Phi_i_NS_Tci_Pci_wi_kijm_TinC_PinPa_yi(AI$3,vantHoff_EOS!$N$19,vantHoff_EOS!$X$5:$X$14,vantHoff_EOS!$Y$5:$Y$14,vantHoff_EOS!$Z$5:$Z$14,vantHoff_EOS!$AE$5:$AN$14,$C$2,B41*1000000,$O41:$X41),\"-\")","v":"-"}]
[39,{"$f":"B41+vantHoff_EOS!$E$26","v":15.599999999999973},320.14999999999998,3.1235358425737939E-3,{"$f":"lnKaT_Tref_lnKaTref_dHTref_da_db_dc_dd_de_TinC(vantHoff_EOS!$E$7,vantHoff_EOS!$B$9,vantHoff_EOS!$B$6,vantHoff_EOS!$O$27,vantHoff_EOS!$P$27,vantHoff_EOS!$Q$27,vantHoff_EOS!$R$27,vantHoff_EOS!$S$27,$C$2)","v":13.062534312676297},470962.76406017854,{"$f":"MolarExtentX_NS_vi_n0i_dHfi_dGfi_TrefinC_da_db_dc_dd_de_Tci_Pci_wi_kijm_TinC_PinPa(vantHoff_EOS!$N$19,vantHoff_EOS!$O$23:$X$23,vantHoff_EOS!$O$31:$X$31,vantHoff_EOS!$T$5:$T$14,vantHoff_EOS!$U$5:$U$14,vantHoff_EOS!$E$7,vantHoff_EOS!$O$27,vantHoff_EOS!$P$27,vantHoff_EOS!$Q$27,vantHoff_EOS!$R$27,vantHoff_EOS!$S$27,vantHoff_EOS!$X$5:$X$14,vantHoff_EOS!$Y$5:$Y$14,vantHoff_EOS!$Z$5:$Z$14,vantHoff_EOS!$AE$5:$AN$14,$C$2,B42*1000000)","v":0.99978589409561291},{"$f":"Ky_NS_n0i_vi_X(vantHoff_EOS!$N$19,vantHoff_EOS!$O$31:$X$31,vantHoff_EOS!$O$23:$X$23,G42)","v":7085944890362.9805},{"$f":"Kp_NS_vi_PinPa(vantHoff_EOS!$N$19,vantHoff_EOS!$O$23:$X$23,B42*1000000)","v":4.1091387245233523E-5},{"$f":"Kphi_NS_n0i_vi_X_Tci_Pci_wi_kijm_TinC_PinPa(vantHoff_EOS!$N$19,vantHoff_EOS!$O$31:$X$31,vantHoff_EOS!$O$23:$X$23,G42,vantHoff_EOS!$X$5:$X$14,vantHoff_EOS!$Y$5:$Y$14,vantHoff_EOS!$Z$5:$Z$14,vantHoff_EOS!$AE$5:$AN$14,$C$2,B42*1000000)","v":1.6174765685448528E-3},29.589134345085444,-10.099712014499071,-6.4268880179106187,{"$f":"nT_NS_n0i_vi_X(vantHoff_EOS!$N$19,vantHoff_EOS!$O$31:$X$31,vantHoff_EOS!$O$23:$X$23,G42)","v":8.3404282118087743},{"$f":"IF(O$3<=vantHoff_EOS!$N$19,y_iindex_NS_n0i_vi_X(O$3,vantHoff_EOS!$N$19,vantHoff_EOS!$O$31:$X$31,vantHoff_EOS!$O$23:$X$23,$G42),\"-\")","v":2.5670852736786812E-5},{"$f":"IF(P$3<=vantHoff_EOS!$N$19,y_iindex_NS_n0i_vi_X(P$3,vantHoff_EOS!$N$19,vantHoff_EOS!$O$31:$X$31,vantHoff_EOS!$O$23:$X$23,$G42),\"-\")","v":2.5670852736786812E-5},{"$f":"IF(Q$3<=vantHoff_EOS!$N$19,y_iindex_NS_n0i_vi_X(Q$3,vantHoff_EOS!$N$19,vantHoff_EOS!$O$31:$X$31,vantHoff_EOS!$O$23:$X$23,$G42),\"-\")","v":2.5670852736786812E-5},{"$f":"IF(R$3<=vantHoff_EOS!$N$19,y_iindex_NS_n0i_vi_X(R$3,vantHoff_EOS!$N$19,vantHoff_EOS!$O$31:$X$31,vantHoff_EOS!$O$23:$X$23,$G42),\"-\")","v":0.11987224980607933},{"$f":"IF(S$3<=vantHoff_EOS!$N$19,y_iindex_NS_n0i_vi_X(S$3,vantHoff_EOS!$N$19,vantHoff_EOS!$O$31:$X$31,vantHoff_EOS!$O$23:$X$23,$G42),\"-\")","v":0.88005073763571029},{"$f":"IF(T$3<=vantHoff_EOS!$N$19,y_iindex_NS_n0i_vi_X(T$3,vantHoff_EOS!$N$19,vantHoff_EOS!$O$31:$X$31,vantHoff_EOS!$O$23:$X$23,$G42),\"-\")","v":"-"},{"$f":"IF(U$3<=vantHoff_EOS!$N$19,y_iindex_NS_n0i_vi_X(U$3,vantHoff_EOS!$N$19,vantHoff_EOS!$O$31:$X$31,vantHoff_EOS!$O$23:$X$23,$G42),\"-\")","v":"-"},{"$f":"IF(V$3<=vantHoff_EOS!$N$19,y_iindex_NS_n0i_vi_X(V$3,vantHoff_EOS!$N$19,vantHoff_EOS!$O$31:$X$31,vantHoff_EOS!$O$23:$X$23,$G42),\"-\")","v":"-"},{"$f":"IF(W$3<=vantHoff_EOS!$N$19,y_iindex_NS_n0i_vi_X(W$3,vantHoff_EOS!$N$19,vantHoff_EOS!$O$31:$X$31,vantHoff_EOS!$O$23:$X$23,$G42),\"-\")","v":"-"},{"$f":"IF(X$3<=vantHoff_EOS!$N$19,y_iindex_NS_n0i_vi_X(X$3,vantHoff_EOS!$N$19,vantHoff_EOS!$O$31:$X$31,vantHoff_EOS!$O$23:$X$23,$G42),\"-\")","v":"-"},1,{"$f":"IF(Z$3<=vantHoff_EOS!$N$19,Phi_i_NS_Tci_Pci_wi_kijm_TinC_PinPa_yi(Z$3,vantHoff_EOS!$N$19,vantHoff_EOS!$X$5:$X$14,vantHoff_EOS!$Y$5:$Y$14,vantHoff_EOS!$Z$5:$Z$14,vantHoff_EOS!$AE$5:$AN$14,$C$2,B42*1000000,$O42:$X42),\"-\")","v":3.7276692210561082},{"$f":"IF(AA$3<=vantHoff_EOS!$N$19,Phi_i_NS_Tci_Pci_wi_kijm_TinC_PinPa_yi(AA$3,vantHoff_EOS!$N$19,vantHoff_EOS!$X$5:$X$14,vantHoff_EOS!$Y$5:$Y$14,vantHoff_EOS!$Z$5:$Z$14,vantHoff_EOS!$AE$5:$AN$14,$C$2,B42*1000000,$O42:$X42),\"-\")","v":6.0395543154740423},{"$f":"IF(AB$3<=vantHoff_EOS!$N$19,Phi_i_NS_Tci_Pci_wi_kijm_TinC_PinPa_yi(AB$3,vantHoff_EOS!$N$19,vantHoff_EOS!$X$5:$X$14,vantHoff_EOS!$Y$5:$Y$14,vantHoff_EOS!$Z$5:$Z$14,vantHoff_EOS!$AE$5:$AN$14,$C$2,B42*1000000,$O42:$X42),\"-\")","v":0.14817250599963194},{"$f":"IF(AC$3<=vantHoff_EOS!$N$19,Phi_i_NS_Tci_Pci_wi_kijm_TinC_PinPa_yi(AC$3,vantHoff_EOS!$N$19,vantHoff_EOS!$X$5:$X$14,vantHoff_EOS!$Y$5:$Y$14,vantHoff_EOS!$Z$5:$Z$14,vantHoff_EOS!$AE$5:$AN$14,$C$2,B42*1000000,$O42:$X42),\"-\")","v":5.3957010960442526E-3},{"$f":"IF(AD$3<=vantHoff_EOS!$N$19,Phi_i_NS_Tci_Pci_wi_kijm_TinC_PinPa_yi(AD$3,vantHoff_EOS!$N$19,vantHoff_EOS!$X$5:$X$14,vantHoff_EOS!$Y$5:$Y$14,vantHoff_EOS!$Z$5:$Z$14,vantHoff_EOS!$AE$5:$AN$14,$C$2,B42*1000000,$O42:$X42),\"-\")","v":0.46500274164530153},{"$f":"IF(AE$3<=vantHoff_EOS!$N$19,Phi_i_NS_Tci_Pci_wi_kijm_TinC_PinPa_yi(AE$3,vantHoff_EOS!$N$19,vantHoff_EOS!$X$5:$X$14,vantHoff_EOS!$Y$5:$Y$14,vantHoff_EOS!$Z$5:$Z$14,vantHoff_EOS!$AE$5:$AN$14,$C$2,B42*1000000,$O42:$X42),\"-\")","v":"-"},{"$f":"IF(AF$3<=vantHoff_EOS!$N$19,Phi_i_NS_Tci_Pci_wi_kijm_TinC_PinPa_yi(AF$3,vantHoff_EOS!$N$19,vantHoff_EOS!$X$5:$X$14,vantHoff_EOS!$Y$5:$Y$14,vantHoff_EOS!$Z$5:$Z$14,vantHoff_EOS!$AE$5:$AN$14,$C$2,B42*1000000,$O42:$X42),\"-\")","v":"-"},{"$f":"IF(AG$3<=vantHoff_EOS!$N$19,Phi_i_NS_Tci_Pci_wi_kijm_TinC_PinPa_yi(AG$3,vantHoff_EOS!$N$19,vantHoff_EOS!$X$5:$X$14,vantHoff_EOS!$Y$5:$Y$14,vantHoff_EOS!$Z$5:$Z$14,vantHoff_EOS!$AE$5:$AN$14,$C$2,B42*1000000,$O42:$X42),\"-\")","v":"-"},{"$f":"IF(AH$3<=vantHoff_EOS!$N$19,Phi_i_NS_Tci_Pci_wi_kijm_TinC_PinPa_yi(AH$3,vantHoff_EOS!$N$19,vantHoff_EOS!$X$5:$X$14,vantHoff_EOS!$Y$5:$Y$14,vantHoff_EOS!$Z$5:$Z$14,vantHoff_EOS!$AE$5:$AN$14,$C$2,B42*1000000,$O42:$X42),\"-\")","v":"-"},{"$f":"IF(AI$3<=vantHoff_EOS!$N$19,Phi_i_NS_Tci_Pci_wi_kijm_TinC_PinPa_yi(AI$3,vantHoff_EOS!$N$19,vantHoff_EOS!$X$5:$X$14,vantHoff_EOS!$Y$5:$Y$14,vantHoff_EOS!$Z$5:$Z$14,vantHoff_EOS!$AE$5:$AN$14,$C$2,B42*1000000,$O42:$X42),\"-\")","v":"-"}]
[40,{"$f":"B42+vantHoff_EOS!$E$26","v":15.799999999999972},320.14999999999998,3.1235358425737939E-3,{"$f":"lnKaT_Tref_lnKaTref_dHTref_da_db_dc_dd_de_TinC(vantHoff_EOS!$E$7,vantHoff_EOS!$B$9,vantHoff_EOS!$B$6,vantHoff_EOS!$O$27,vantHoff_EOS!$P$27,vantHoff_EOS!$Q$27,vantHoff_EOS!$R$27,vantHoff_EOS!$S$27,$C$2)","v":13.062534312676297},470962.76406017854,{"$f":"MolarExtentX_NS_vi_n0i_dHfi_dGfi_TrefinC_da_db_dc_dd_de_Tci_Pci_wi_kijm_TinC_PinPa(vantHoff_EOS!$N$19,vantHoff_EOS!$O$23:$X$23,vantHoff_EOS!$O$31:$X$31,vantHoff_EOS!$T$5:$T$14,vantHoff_EOS!$U$5:$U$14,vantHoff_EOS!$E$7,vantHoff_EOS!$O$27,vantHoff_EOS!$P$27,vantHoff_EOS!$Q$27,vantHoff_EOS!$R$27,vantHoff_EOS!$S$27,vantHoff_EOS!$X$5:$X$14,vantHoff_EOS!$Y$5:$Y$14,vantHoff_EOS!$Z$5:$Z$14,vantHoff_EOS!$AE$5:$AN$14,$C$2,B43*1000000)","v":0.99978698360426432},{"$f":"Ky_NS_n0i_vi_X(vantHoff_EOS!$N$19,vantHoff_EOS!$O$31:$X$31,vantHoff_EOS!$O$23:$X$23,G43)","v":7195232839086.0225},{"$f":"Kp_NS_vi_PinPa(vantHoff_EOS!$N$19,vantHoff_EOS!$O$23:$X$23,B43*1000000)","v":4.0057683063611735E-5},{"$f":"Kphi_NS_n0i_vi_X_Tci_Pci_wi_kijm_TinC_PinPa(vantHoff_EOS!$N$19,vantHoff_EOS!$O$31:$X$31,vantHoff_EOS!$O$23:$X$23,G43,vantHoff_EOS!$X$5:$X$14,vantHoff_EOS!$Y$5:$Y$14,vantHoff_EOS!$Z$5:$Z$14,vantHoff_EOS!$AE$5:$AN$14,$C$2,B43*1000000)","v":1.6340144516417434E-3},29.604439816979294,-10.12519006605393,-6.4167154382494447,{"$f":"nT_NS_n0i_vi_X(vantHoff_EOS!$N$19,vantHoff_EOS!$O$31:$X$31,vantHoff_EOS!$O$23:$X$23,G43)","v":8.3404260327914717},{"$f":"IF(O$3<=vantHoff_EOS!$N$19,y_iindex_NS_n0i_vi_X(O$3,vantHoff_EOS!$N$19,vantHoff_EOS!$O$31:$X$31,vantHoff_EOS!$O$23:$X$23,$G43),\"-\")","v":2.5540229587574429E-5},{"$f":"IF(P$3<=vantHoff_EOS!$N$19,y_iindex_NS_n0i_vi_X(P$3,vantHoff_EOS!$N$19,vantHoff_EOS!$O$31:$X$31,vantHoff_EOS!$O$23:$X$23,$G43),\"-\")","v":2.5540229587574429E-5},{"$f":"IF(Q$3<=vantHoff_EOS!$N$19,y_iindex_NS_n0i_vi_X(Q$3,vantHoff_EOS!$N$19,vantHoff_EOS!$O$31:$X$31,vantHoff_EOS!$O$23:$X$23,$G43),\"-\")","v":2.5540229587574429E-5},{"$f":"IF(R$3<=vantHoff_EOS!$N$19,y_iindex_NS_n0i_vi_X(R$3,vantHoff_EOS!$N$19,vantHoff_EOS!$O$31:$X$31,vantHoff_EOS!$O$23:$X$23,$G43),\"-\")","v":0.11987241175372475},{"$f":"IF(S$3<=vantHoff_EOS!$N$19,y_iindex_NS_n0i_vi_X(S$3,vantHoff_EOS!$N$19,vantHoff_EOS!$O$31:$X$31,vantHoff_EOS!$O$23:$X$23,$G43),\"-\")","v":0.88005096755751244},{"$f":"IF(T$3<=vantHoff_EOS!$N$19,y_iindex_NS_n0i_vi_X(T$3,vantHoff_EOS!$N$19,vantHoff_EOS!$O$31:$X$31,vantHoff_EOS!$O$23:$X$23,$G43),\"-\")","v":"-"},{"$f":"IF(U$3<=vantHoff_EOS!$N$19,y_iindex_NS_n0i_vi_X(U$3,vantHoff_EOS!$N$19,vantHoff_EOS!$O$31:$X$31,vantHoff_EOS!$O$23:$X$23,$G43),\"-\")","v":"-"},{"$f":"IF(V$3<=vantHoff_EOS!$N$19,y_iindex_NS_n0i_vi_X(V$3,vantHoff_EOS!$N$19,vantHoff_EOS!$O$31:$X$31,vantHoff_EOS!$O$23:$X$23,$G43),\"-\")","v":"-"},{"$f":"IF(W$3<=vantHoff_EOS!$N$19,y_iindex_NS_n0i_vi_X(W$3,vantHoff_EOS!$N$19,vantHoff_EOS!$O$31:$X$31,vantHoff_EOS!$O$23:$X$23,$G43),\"-\")","v":"-"},{"$f":"IF(X$3<=vantHoff_EOS!$N$19,y_iindex_NS_n0i_vi_X(X$3,vantHoff_EOS!$N$19,vantHoff_EOS!$O$31:$X$31,vantHoff_EOS!$O$23:$X$23,$G43),\"-\")","v":"-"},0.99999999999999989,{"$f":"IF(Z$3<=vantHoff_EOS!$N$19,Phi_i_NS_Tci_Pci_wi_kijm_TinC_PinPa_yi(Z$3,vantHoff_EOS!$N$19,vantHoff_EOS!$X$5:$X$14,vantHoff_EOS!$Y$5:$Y$14,vantHoff_EOS!$Z$5:$Z$14,vantHoff_EOS!$AE$5:$AN$14,$C$2,B43*1000000,$O43:$X43),\"-\")","v":3.7080487420165498},{"$f":"IF(AA$3<=vantHoff_EOS!$N$19,Phi_i_NS_Tci_Pci_wi_kijm_TinC_PinPa_yi(AA$3,vantHoff_EOS!$N$19,vantHoff_EOS!$X$5:$X$14,vantHoff_EOS!$Y$5:$Y$14,vantHoff_EOS!$Z$5:$Z$14,vantHoff_EOS!$AE$5:$AN$14,$C$2,B43*1000000,$O43:$X43),\"-\")","v":6.0056050528485478},{"$f":"IF(AB$3<=vantHoff_EOS!$N$19,Phi_i_NS_Tci_Pci_wi_kijm_TinC_PinPa_yi(AB$3,vantHoff_EOS!$N$19,vantHoff_EOS!$X$5:$X$14,vantHoff_EOS!$Y$5:$Y$14,vantHoff_EOS!$Z$5:$Z$14,vantHoff_EOS!$AE$5:$AN$14,$C$2,B43*1000000,$O43:$X43),\"-\")","v":0.14715549817546628},{"$f":"IF(AC$3<=vantHoff_EOS!$N$19,Phi_i_NS_Tci_Pci_wi_kijm_TinC_PinPa_yi(AC$3,vantHoff_EOS!$N$19,vantHoff_EOS!$X$5:$X$14,vantHoff_EOS!$Y$5:$Y$14,vantHoff_EOS!$Z$5:$Z$14,vantHoff_EOS!$AE$5:$AN$14,$C$2,B43*1000000,$O43:$X43),\"-\")","v":5.3546931544682149E-3},{"$f":"IF(AD$3<=vantHoff_EOS!$N$19,Phi_i_NS_Tci_Pci_wi_kijm_TinC_PinPa_yi(AD$3,vantHoff_EOS!$N$19,vantHoff_EOS!$X$5:$X$14,vantHoff_EOS!$Y$5:$Y$14,vantHoff_EOS!$Z$5:$Z$14,vantHoff_EOS!$AE$5:$AN$14,$C$2,B43*1000000,$O43:$X43),\"-\")","v":0.4610920477451087},{"$f":"IF(AE$3<=vantHoff_EOS!$N$19,Phi_i_NS_Tci_Pci_wi_kijm_TinC_PinPa_yi(AE$3,vantHoff_EOS!$N$19,vantHoff_EOS!$X$5:$X$14,vantHoff_EOS!$Y$5:$Y$14,vantHoff_EOS!$Z$5:$Z$14,vantHoff_EOS!$AE$5:$AN$14,$C$2,B43*1000000,$O43:$X43),\"-\")","v":"-"},{"$f":"IF(AF$3<=vantHoff_EOS!$N$19,Phi_i_NS_Tci_Pci_wi_kijm_TinC_PinPa_yi(AF$3,vantHoff_EOS!$N$19,vantHoff_EOS!$X$5:$X$14,vantHoff_EOS!$Y$5:$Y$14,vantHoff_EOS!$Z$5:$Z$14,vantHoff_EOS!$AE$5:$AN$14,$C$2,B43*1000000,$O43:$X43),\"-\")","v":"-"},{"$f":"IF(AG$3<=vantHoff_EOS!$N$19,Phi_i_NS_Tci_Pci_wi_kijm_TinC_PinPa_yi(AG$3,vantHoff_EOS!$N$19,vantHoff_EOS!$X$5:$X$14,vantHoff_EOS!$Y$5:$Y$14,vantHoff_EOS!$Z$5:$Z$14,vantHoff_EOS!$AE$5:$AN$14,$C$2,B43*1000000,$O43:$X43),\"-\")","v":"-"},{"$f":"IF(AH$3<=vantHoff_EOS!$N$19,Phi_i_NS_Tci_Pci_wi_kijm_TinC_PinPa_yi(AH$3,vantHoff_EOS!$N$19,vantHoff_EOS!$X$5:$X$14,vantHoff_EOS!$Y$5:$Y$14,vantHoff_EOS!$Z$5:$Z$14,vantHoff_EOS!$AE$5:$AN$14,$C$2,B43*1000000,$O43:$X43),\"-\")","v":"-"},{"$f":"IF(AI$3<=vantHoff_EOS!$N$19,Phi_i_NS_Tci_Pci_wi_kijm_TinC_PinPa_yi(AI$3,vantHoff_EOS!$N$19,vantHoff_EOS!$X$5:$X$14,vantHoff_EOS!$Y$5:$Y$14,vantHoff_EOS!$Z$5:$Z$14,vantHoff_EOS!$AE$5:$AN$14,$C$2,B43*1000000,$O43:$X43),\"-\")","v":"-"}]
[41,{"$f":"B43+vantHoff_EOS!$E$26","v":15.999999999999972},320.14999999999998,3.1235358425737939E-3,{"$f":"lnKaT_Tref_lnKaTref_dHTref_da_db_dc_dd_de_TinC(vantHoff_EOS!$E$7,vantHoff_EOS!$B$9,vantHoff_EOS!$B$6,vantHoff_EOS!$O$27,vantHoff_EOS!$P$27,vantHoff_EOS!$Q$27,vantHoff_EOS!$R$27,vantHoff_EOS!$S$27,$C$2)","v":13.062534312676297},470962.76406017854,{"$f":"MolarExtentX_NS_vi_n0i_dHfi_dGfi_TrefinC_da_db_dc_dd_de_Tci_Pci_wi_kijm_TinC_PinPa(vantHoff_EOS!$N$19,vantHoff_EOS!$O$23:$X$23,vantHoff_EOS!$O$31:$X$31,vantHoff_EOS!$T$5:$T$14,vantHoff_EOS!$U$5:$U$14,vantHoff_EOS!$E$7,vantHoff_EOS!$O$27,vantHoff_EOS!$P$27,vantHoff_EOS!$Q$27,vantHoff_EOS!$R$27,vantHoff_EOS!$S$27,vantHoff_EOS!$X$5:$X$14,vantHoff_EOS!$Y$5:$Y$14,vantHoff_EOS!$Z$5:$Z$14,vantHoff_EOS!$AE$5:$AN$14,$C$2,B44*1000000)","v":0.99978805516832925},{"$f":"Ky_NS_n0i_vi_X(vantHoff_EOS!$N$19,vantHoff_EOS!$O$31:$X$31,vantHoff_EOS!$O$23:$X$23,G44)","v":7304923950275.8223},{"$f":"Kp_NS_vi_PinPa(vantHoff_EOS!$N$19,vantHoff_EOS!$O$23:$X$23,B44*1000000)","v":3.9062500000000136E-5},{"$f":"Kphi_NS_n0i_vi_X_Tci_Pci_wi_kijm_TinC_PinPa(vantHoff_EOS!$N$19,vantHoff_EOS!$O$31:$X$31,vantHoff_EOS!$O$23:$X$23,G44,vantHoff_EOS!$X$5:$X$14,vantHoff_EOS!$Y$5:$Y$14,vantHoff_EOS!$Z$5:$Z$14,vantHoff_EOS!$AE$5:$AN$14,$C$2,B44*1000000)","v":1.650482173669142E-3},29.619569750437162,-10.15034763046765,-6.4066878072933386,{"$f":"nT_NS_n0i_vi_X(vantHoff_EOS!$N$19,vantHoff_EOS!$O$31:$X$31,vantHoff_EOS!$O$23:$X$23,G44)","v":8.3404238896633416},{"$f":"IF(O$3<=vantHoff_EOS!$N$19,y_iindex_NS_n0i_vi_X(O$3,vantHoff_EOS!$N$19,vantHoff_EOS!$O$31:$X$31,vantHoff_EOS!$O$23:$X$23,$G44),\"-\")","v":2.5411757780491755E-5},{"$f":"IF(P$3<=vantHoff_EOS!$N$19,y_iindex_NS_n0i_vi_X(P$3,vantHoff_EOS!$N$19,vantHoff_EOS!$O$31:$X$31,vantHoff_EOS!$O$23:$X$23,$G44),\"-\")","v":2.5411757780491755E-5},{"$f":"IF(Q$3<=vantHoff_EOS!$N$19,y_iindex_NS_n0i_vi_X(Q$3,vantHoff_EOS!$N$19,vantHoff_EOS!$O$31:$X$31,vantHoff_EOS!$O$23:$X$23,$G44),\"-\")","v":2.5411757780491755E-5},{"$f":"IF(R$3<=vantHoff_EOS!$N$19,y_iindex_NS_n0i_vi_X(R$3,vantHoff_EOS!$N$19,vantHoff_EOS!$O$31:$X$31,vantHoff_EOS!$O$23:$X$23,$G44),\"-\")","v":0.11987257103411866},{"$f":"IF(S$3<=vantHoff_EOS!$N$19,y_iindex_NS_n0i_vi_X(S$3,vantHoff_EOS!$N$19,vantHoff_EOS!$O$31:$X$31,vantHoff_EOS!$O$23:$X$23,$G44),\"-\")","v":0.88005119369253981},{"$f":"IF(T$3<=vantHoff_EOS!$N$19,y_iindex_NS_n0i_vi_X(T$3,vantHoff_EOS!$N$19,vantHoff_EOS!$O$31:$X$31,vantHoff_EOS!$O$23:$X$23,$G44),\"-\")","v":"-"},{"$f":"IF(U$3<=vantHoff_EOS!$N$19,y_iindex_NS_n0i_vi_X(U$3,vantHoff_EOS!$N$19,vantHoff_EOS!$O$31:$X$31,vantHoff_EOS!$O$23:$X$23,$G44),\"-\")","v":"-"},{"$f":"IF(V$3<=vantHoff_EOS!$N$19,y_iindex_NS_n0i_vi_X(V$3,vantHoff_EOS!$N$19,vantHoff_EOS!$O$31:$X$31,vantHoff_EOS!$O$23:$X$23,$G44),\"-\")","v":"-"},{"$f":"IF(W$3<=vantHoff_EOS!$N$19,y_iindex_NS_n0i_vi_X(W$3,vantHoff_EOS!$N$19,vantHoff_EOS!$O$31:$X$31,vantHoff_EOS!$O$23:$X$23,$G44),\"-\")","v":"-"},{"$f":"IF(X$3<=vantHoff_EOS!$N$19,y_iindex_NS_n0i_vi_X(X$3,vantHoff_EOS!$N$19,vantHoff_EOS!$O$31:$X$31,vantHoff_EOS!$O$23:$X$23,$G44),\"-\")","v":"-"},1,{"$f":"IF(Z$3<=vantHoff_EOS!$N$19,Phi_i_NS_Tci_Pci_wi_kijm_TinC_PinPa_yi(Z$3,vantHoff_EOS!$N$19,vantHoff_EOS!$X$5:$X$14,vantHoff_EOS!$Y$5:$Y$14,vantHoff_EOS!$Z$5:$Z$14,vantHoff_EOS!$AE$5:$AN$14,$C$2,B44*1000000,$O44:$X44),\"-\")","v":3.6889019220310693},{"$f":"IF(AA$3<=vantHoff_EOS!$N$19,Phi_i_NS_Tci_Pci_wi_kijm_TinC_PinPa_yi(AA$3,vantHoff_EOS!$N$19,vantHoff_EOS!$X$5:$X$14,vantHoff_EOS!$Y$5:$Y$14,vantHoff_EOS!$Z$5:$Z$14,vantHoff_EOS!$AE$5:$AN$14,$C$2,B44*1000000,$O44:$X44),\"-\")","v":5.9724143559351806},{"$f":"IF(AB$3<=vantHoff_EOS!$N$19,Phi_i_NS_Tci_Pci_wi_kijm_TinC_PinPa_yi(AB$3,vantHoff_EOS!$N$19,vantHoff_EOS!$X$5:$X$14,vantHoff_EOS!$Y$5:$Y$14,vantHoff_EOS!$Z$5:$Z$14,vantHoff_EOS!$AE$5:$AN$14,$C$2,B44*1000000,$O44:$X44),\"-\")","v":0.14616789413868309},{"$f":"IF(AC$3<=vantHoff_EOS!$N$19,Phi_i_NS_Tci_Pci_wi_kijm_TinC_PinPa_yi(AC$3,vantHoff_EOS!$N$19,vantHoff_EOS!$X$5:$X$14,vantHoff_EOS!$Y$5:$Y$14,vantHoff_EOS!$Z$5:$Z$14,vantHoff_EOS!$AE$5:$AN$14,$C$2,B44*1000000,$O44:$X44),\"-\")","v":5.3150807557606032E-3},{"$f":"IF(AD$3<=vantHoff_EOS!$N$19,Phi_i_NS_Tci_Pci_wi_kijm_TinC_PinPa_yi(AD$3,vantHoff_EOS!$N$19,vantHoff_EOS!$X$5:$X$14,vantHoff_EOS!$Y$5:$Y$14,vantHoff_EOS!$Z$5:$Z$14,vantHoff_EOS!$AE$5:$AN$14,$C$2,B44*1000000,$O44:$X44),\"-\")","v":0.45727998771276646},{"$f":"IF(AE$3<=vantHoff_EOS!$N$19,Phi_i_NS_Tci_Pci_wi_kijm_TinC_PinPa_yi(AE$3,vantHoff_EOS!$N$19,vantHoff_EOS!$X$5:$X$14,vantHoff_EOS!$Y$5:$Y$14,vantHoff_EOS!$Z$5:$Z$14,vantHoff_EOS!$AE$5:$AN$14,$C$2,B44*1000000,$O44:$X44),\"-\")","v":"-"},{"$f":"IF(AF$3<=vantHoff_EOS!$N$19,Phi_i_NS_Tci_Pci_wi_kijm_TinC_PinPa_yi(AF$3,vantHoff_EOS!$N$19,vantHoff_EOS!$X$5:$X$14,vantHoff_EOS!$Y$5:$Y$14,vantHoff_EOS!$Z$5:$Z$14,vantHoff_EOS!$AE$5:$AN$14,$C$2,B44*1000000,$O44:$X44),\"-\")","v":"-"},{"$f":"IF(AG$3<=vantHoff_EOS!$N$19,Phi_i_NS_Tci_Pci_wi_kijm_TinC_PinPa_yi(AG$3,vantHoff_EOS!$N$19,vantHoff_EOS!$X$5:$X$14,vantHoff_EOS!$Y$5:$Y$14,vantHoff_EOS!$Z$5:$Z$14,vantHoff_EOS!$AE$5:$AN$14,$C$2,B44*1000000,$O44:$X44),\"-\")","v":"-"},{"$f":"IF(AH$3<=vantHoff_EOS!$N$19,Phi_i_NS_Tci_Pci_wi_kijm_TinC_PinPa_yi(AH$3,vantHoff_EOS!$N$19,vantHoff_EOS!$X$5:$X$14,vantHoff_EOS!$Y$5:$Y$14,vantHoff_EOS!$Z$5:$Z$14,vantHoff_EOS!$AE$5:$AN$14,$C$2,B44*1000000,$O44:$X44),\"-\")","v":"-"},{"$f":"IF(AI$3<=vantHoff_EOS!$N$19,Phi_i_NS_Tci_Pci_wi_kijm_TinC_PinPa_yi(AI$3,vantHoff_EOS!$N$19,vantHoff_EOS!$X$5:$X$14,vantHoff_EOS!$Y$5:$Y$14,vantHoff_EOS!$Z$5:$Z$14,vantHoff_EOS!$AE$5:$AN$14,$C$2,B44*1000000,$O44:$X44),\"-\")","v":"-"}]
[42,{"$f":"B44+vantHoff_EOS!$E$26","v":16.199999999999971},320.14999999999998,3.1235358425737939E-3,{"$f":"lnKaT_Tref_lnKaTref_dHTref_da_db_dc_dd_de_TinC(vantHoff_EOS!$E$7,vantHoff_EOS!$B$9,vantHoff_EOS!$B$6,vantHoff_EOS!$O$27,vantHoff_EOS!$P$27,vantHoff_EOS!$Q$27,vantHoff_EOS!$R$27,vantHoff_EOS!$S$27,$C$2)","v":13.062534312676297},470962.76406017854,{"$f":"MolarExtentX_NS_vi_n0i_dHfi_dGfi_TrefinC_da_db_dc_dd_de_Tci_Pci_wi_kijm_TinC_PinPa(vantHoff_EOS!$N$19,vantHoff_EOS!$O$23:$X$23,vantHoff_EOS!$O$31:$X$31,vantHoff_EOS!$T$5:$T$14,vantHoff_EOS!$U$5:$U$14,vantHoff_EOS!$E$7,vantHoff_EOS!$O$27,vantHoff_EOS!$P$27,vantHoff_EOS!$Q$27,vantHoff_EOS!$R$27,vantHoff_EOS!$S$27,vantHoff_EOS!$X$5:$X$14,vantHoff_EOS!$Y$5:$Y$14,vantHoff_EOS!$Z$5:$Z$14,vantHoff_EOS!$AE$5:$AN$14,$C$2,B45*1000000)","v":0.9997891093324911},{"$f":"Ky_NS_n0i_vi_X(vantHoff_EOS!$N$19,vantHoff_EOS!$O$31:$X$31,vantHoff_EOS!$O$23:$X$23,G45)","v":7415020310446.8008},{"$f":"Kp_NS_vi_PinPa(vantHoff_EOS!$N$19,vantHoff_EOS!$O$23:$X$23,B45*1000000)","v":3.8103947568968282E-5},{"$f":"Kphi_NS_n0i_vi_X_Tci_Pci_wi_kijm_TinC_PinPa(vantHoff_EOS!$N$19,vantHoff_EOS!$O$31:$X$31,vantHoff_EOS!$O$23:$X$23,G45,vantHoff_EOS!$X$5:$X$14,vantHoff_EOS!$Y$5:$Y$14,vantHoff_EOS!$Z$5:$Z$14,vantHoff_EOS!$AE$5:$AN$14,$C$2,B45*1000000)","v":1.6668796931783626E-3},29.63452883061743,-10.175192670464764,-6.396801847476886,{"$f":"nT_NS_n0i_vi_X(vantHoff_EOS!$N$19,vantHoff_EOS!$O$31:$X$31,vantHoff_EOS!$O$23:$X$23,G45)","v":8.3404217813350172},{"$f":"IF(O$3<=vantHoff_EOS!$N$19,y_iindex_NS_n0i_vi_X(O$3,vantHoff_EOS!$N$19,vantHoff_EOS!$O$31:$X$31,vantHoff_EOS!$O$23:$X$23,$G45),\"-\")","v":2.5285372015699692E-5},{"$f":"IF(P$3<=vantHoff_EOS!$N$19,y_iindex_NS_n0i_vi_X(P$3,vantHoff_EOS!$N$19,vantHoff_EOS!$O$31:$X$31,vantHoff_EOS!$O$23:$X$23,$G45),\"-\")","v":2.5285372015699692E-5},{"$f":"IF(Q$3<=vantHoff_EOS!$N$19,y_iindex_NS_n0i_vi_X(Q$3,vantHoff_EOS!$N$19,vantHoff_EOS!$O$31:$X$31,vantHoff_EOS!$O$23:$X$23,$G45),\"-\")","v":2.5285372015699692E-5},{"$f":"IF(R$3<=vantHoff_EOS!$N$19,y_iindex_NS_n0i_vi_X(R$3,vantHoff_EOS!$N$19,vantHoff_EOS!$O$31:$X$31,vantHoff_EOS!$O$23:$X$23,$G45),\"-\")","v":0.11987272772822036},{"$f":"IF(S$3<=vantHoff_EOS!$N$19,y_iindex_NS_n0i_vi_X(S$3,vantHoff_EOS!$N$19,vantHoff_EOS!$O$31:$X$31,vantHoff_EOS!$O$23:$X$23,$G45),\"-\")","v":0.88005141615573257},{"$f":"IF(T$3<=vantHoff_EOS!$N$19,y_iindex_NS_n0i_vi_X(T$3,vantHoff_EOS!$N$19,vantHoff_EOS!$O$31:$X$31,vantHoff_EOS!$O$23:$X$23,$G45),\"-\")","v":"-"},{"$f":"IF(U$3<=vantHoff_EOS!$N$19,y_iindex_NS_n0i_vi_X(U$3,vantHoff_EOS!$N$19,vantHoff_EOS!$O$31:$X$31,vantHoff_EOS!$O$23:$X$23,$G45),\"-\")","v":"-"},{"$f":"IF(V$3<=vantHoff_EOS!$N$19,y_iindex_NS_n0i_vi_X(V$3,vantHoff_EOS!$N$19,vantHoff_EOS!$O$31:$X$31,vantHoff_EOS!$O$23:$X$23,$G45),\"-\")","v":"-"},{"$f":"IF(W$3<=vantHoff_EOS!$N$19,y_iindex_NS_n0i_vi_X(W$3,vantHoff_EOS!$N$19,vantHoff_EOS!$O$31:$X$31,vantHoff_EOS!$O$23:$X$23,$G45),\"-\")","v":"-"},{"$f":"IF(X$3<=vantHoff_EOS!$N$19,y_iindex_NS_n0i_vi_X(X$3,vantHoff_EOS!$N$19,vantHoff_EOS!$O$31:$X$31,vantHoff_EOS!$O$23:$X$23,$G45),\"-\")","v":"-"},1,{"$f":"IF(Z$3<=vantHoff_EOS!$N$19,Phi_i_NS_Tci_Pci_wi_kijm_TinC_PinPa_yi(Z$3,vantHoff_EOS!$N$19,vantHoff_EOS!$X$5:$X$14,vantHoff_EOS!$Y$5:$Y$14,vantHoff_EOS!$Z$5:$Z$14,vantHoff_EOS!$AE$5:$AN$14,$C$2,B45*1000000,$O45:$X45),\"-\")","v":3.670213505100663},{"$f":"IF(AA$3<=vantHoff_EOS!$N$19,Phi_i_NS_Tci_Pci_wi_kijm_TinC_PinPa_yi(AA$3,vantHoff_EOS!$N$19,vantHoff_EOS!$X$5:$X$14,vantHoff_EOS!$Y$5:$Y$14,vantHoff_EOS!$Z$5:$Z$14,vantHoff_EOS!$AE$5:$AN$14,$C$2,B45*1000000,$O45:$X45),\"-\")","v":5.9399581964287833},{"$f":"IF(AB$3<=vantHoff_EOS!$N$19,Phi_i_NS_Tci_Pci_wi_kijm_TinC_PinPa_yi(AB$3,vantHoff_EOS!$N$19,vantHoff_EOS!$X$5:$X$14,vantHoff_EOS!$Y$5:$Y$14,vantHoff_EOS!$Z$5:$Z$14,vantHoff_EOS!$AE$5:$AN$14,$C$2,B45*1000000,$O45:$X45),\"-\")","v":0.14520862223360184},{"$f":"IF(AC$3<=vantHoff_EOS!$N$19,Phi_i_NS_Tci_Pci_wi_kijm_TinC_PinPa_yi(AC$3,vantHoff_EOS!$N$19,vantHoff_EOS!$X$5:$X$14,vantHoff_EOS!$Y$5:$Y$14,vantHoff_EOS!$Z$5:$Z$14,vantHoff_EOS!$AE$5:$AN$14,$C$2,B45*1000000,$O45:$X45),\"-\")","v":5.2768090412999551E-3},{"$f":"IF(AD$3<=vantHoff_EOS!$N$19,Phi_i_NS_Tci_Pci_wi_kijm_TinC_PinPa_yi(AD$3,vantHoff_EOS!$N$19,vantHoff_EOS!$X$5:$X$14,vantHoff_EOS!$Y$5:$Y$14,vantHoff_EOS!$Z$5:$Z$14,vantHoff_EOS!$AE$5:$AN$14,$C$2,B45*1000000,$O45:$X45),\"-\")","v":0.45356301346520744},{"$f":"IF(AE$3<=vantHoff_EOS!$N$19,Phi_i_NS_Tci_Pci_wi_kijm_TinC_PinPa_yi(AE$3,vantHoff_EOS!$N$19,vantHoff_EOS!$X$5:$X$14,vantHoff_EOS!$Y$5:$Y$14,vantHoff_EOS!$Z$5:$Z$14,vantHoff_EOS!$AE$5:$AN$14,$C$2,B45*1000000,$O45:$X45),\"-\")","v":"-"},{"$f":"IF(AF$3<=vantHoff_EOS!$N$19,Phi_i_NS_Tci_Pci_wi_kijm_TinC_PinPa_yi(AF$3,vantHoff_EOS!$N$19,vantHoff_EOS!$X$5:$X$14,vantHoff_EOS!$Y$5:$Y$14,vantHoff_EOS!$Z$5:$Z$14,vantHoff_EOS!$AE$5:$AN$14,$C$2,B45*1000000,$O45:$X45),\"-\")","v":"-"},{"$f":"IF(AG$3<=vantHoff_EOS!$N$19,Phi_i_NS_Tci_Pci_wi_kijm_TinC_PinPa_yi(AG$3,vantHoff_EOS!$N$19,vantHoff_EOS!$X$5:$X$14,vantHoff_EOS!$Y$5:$Y$14,vantHoff_EOS!$Z$5:$Z$14,vantHoff_EOS!$AE$5:$AN$14,$C$2,B45*1000000,$O45:$X45),\"-\")","v":"-"},{"$f":"IF(AH$3<=vantHoff_EOS!$N$19,Phi_i_NS_Tci_Pci_wi_kijm_TinC_PinPa_yi(AH$3,vantHoff_EOS!$N$19,vantHoff_EOS!$X$5:$X$14,vantHoff_EOS!$Y$5:$Y$14,vantHoff_EOS!$Z$5:$Z$14,vantHoff_EOS!$AE$5:$AN$14,$C$2,B45*1000000,$O45:$X45),\"-\")","v":"-"},{"$f":"IF(AI$3<=vantHoff_EOS!$N$19,Phi_i_NS_Tci_Pci_wi_kijm_TinC_PinPa_yi(AI$3,vantHoff_EOS!$N$19,vantHoff_EOS!$X$5:$X$14,vantHoff_EOS!$Y$5:$Y$14,vantHoff_EOS!$Z$5:$Z$14,vantHoff_EOS!$AE$5:$AN$14,$C$2,B45*1000000,$O45:$X45),\"-\")","v":"-"}]
[43,{"$f":"B45+vantHoff_EOS!$E$26","v":16.39999999999997},320.14999999999998,3.1235358425737939E-3,{"$f":"lnKaT_Tref_lnKaTref_dHTref_da_db_dc_dd_de_TinC(vantHoff_EOS!$E$7,vantHoff_EOS!$B$9,vantHoff_EOS!$B$6,vantHoff_EOS!$O$27,vantHoff_EOS!$P$27,vantHoff_EOS!$Q$27,vantHoff_EOS!$R$27,vantHoff_EOS!$S$27,$C$2)","v":13.062534312676297},470962.76406017854,{"$f":"MolarExtentX_NS_vi_n0i_dHfi_dGfi_TrefinC_da_db_dc_dd_de_Tci_Pci_wi_kijm_TinC_PinPa(vantHoff_EOS!$N$19,vantHoff_EOS!$O$23:$X$23,vantHoff_EOS!$O$31:$X$31,vantHoff_EOS!$T$5:$T$14,vantHoff_EOS!$U$5:$U$14,vantHoff_EOS!$E$7,vantHoff_EOS!$O$27,vantHoff_EOS!$P$27,vantHoff_EOS!$Q$27,vantHoff_EOS!$R$27,vantHoff_EOS!$S$27,vantHoff_EOS!$X$5:$X$14,vantHoff_EOS!$Y$5:$Y$14,vantHoff_EOS!$Z$5:$Z$14,vantHoff_EOS!$AE$5:$AN$14,$C$2,B46*1000000)","v":0.99979014661716636},{"$f":"Ky_NS_n0i_vi_X(vantHoff_EOS!$N$19,vantHoff_EOS!$O$31:$X$31,vantHoff_EOS!$O$23:$X$23,G46)","v":7525523920404.0205},{"$f":"Kp_NS_vi_PinPa(vantHoff_EOS!$N$19,vantHoff_EOS!$O$23:$X$23,B46*1000000)","v":3.7180249851279131E-5},{"$f":"Kphi_NS_n0i_vi_X_Tci_Pci_wi_kijm_TinC_PinPa(vantHoff_EOS!$N$19,vantHoff_EOS!$O$31:$X$31,vantHoff_EOS!$O$23:$X$23,G46,vantHoff_EOS!$X$5:$X$14,vantHoff_EOS!$Y$5:$Y$14,vantHoff_EOS!$Z$5:$Z$14,vantHoff_EOS!$AE$5:$AN$14,$C$2,B46*1000000)","v":1.6832069947731825E-3},29.649321548113807,-10.199732855648394,-6.3870543797895571,{"$f":"nT_NS_n0i_vi_X(vantHoff_EOS!$N$19,vantHoff_EOS!$O$31:$X$31,vantHoff_EOS!$O$23:$X$23,G46)","v":8.3404197067656671},{"$f":"IF(O$3<=vantHoff_EOS!$N$19,y_iindex_NS_n0i_vi_X(O$3,vantHoff_EOS!$N$19,vantHoff_EOS!$O$31:$X$31,vantHoff_EOS!$O$23:$X$23,$G46),\"-\")","v":2.5161009902583767E-5},{"$f":"IF(P$3<=vantHoff_EOS!$N$19,y_iindex_NS_n0i_vi_X(P$3,vantHoff_EOS!$N$19,vantHoff_EOS!$O$31:$X$31,vantHoff_EOS!$O$23:$X$23,$G46),\"-\")","v":2.5161009902583767E-5},{"$f":"IF(Q$3<=vantHoff_EOS!$N$19,y_iindex_NS_n0i_vi_X(Q$3,vantHoff_EOS!$N$19,vantHoff_EOS!$O$31:$X$31,vantHoff_EOS!$O$23:$X$23,$G46),\"-\")","v":2.5161009902583767E-5},{"$f":"IF(R$3<=vantHoff_EOS!$N$19,y_iindex_NS_n0i_vi_X(R$3,vantHoff_EOS!$N$19,vantHoff_EOS!$O$31:$X$31,vantHoff_EOS!$O$23:$X$23,$G46),\"-\")","v":0.11987288191338218},{"$f":"IF(S$3<=vantHoff_EOS!$N$19,y_iindex_NS_n0i_vi_X(S$3,vantHoff_EOS!$N$19,vantHoff_EOS!$O$31:$X$31,vantHoff_EOS!$O$23:$X$23,$G46),\"-\")","v":0.88005163505691009},{"$f":"IF(T$3<=vantHoff_EOS!$N$19,y_iindex_NS_n0i_vi_X(T$3,vantHoff_EOS!$N$19,vantHoff_EOS!$O$31:$X$31,vantHoff_EOS!$O$23:$X$23,$G46),\"-\")","v":"-"},{"$f":"IF(U$3<=vantHoff_EOS!$N$19,y_iindex_NS_n0i_vi_X(U$3,vantHoff_EOS!$N$19,vantHoff_EOS!$O$31:$X$31,vantHoff_EOS!$O$23:$X$23,$G46),\"-\")","v":"-"},{"$f":"IF(V$3<=vantHoff_EOS!$N$19,y_iindex_NS_n0i_vi_X(V$3,vantHoff_EOS!$N$19,vantHoff_EOS!$O$31:$X$31,vantHoff_EOS!$O$23:$X$23,$G46),\"-\")","v":"-"},{"$f":"IF(W$3<=vantHoff_EOS!$N$19,y_iindex_NS_n0i_vi_X(W$3,vantHoff_EOS!$N$19,vantHoff_EOS!$O$31:$X$31,vantHoff_EOS!$O$23:$X$23,$G46),\"-\")","v":"-"},{"$f":"IF(X$3<=vantHoff_EOS!$N$19,y_iindex_NS_n0i_vi_X(X$3,vantHoff_EOS!$N$19,vantHoff_EOS!$O$31:$X$31,vantHoff_EOS!$O$23:$X$23,$G46),\"-\")","v":"-"},1,{"$f":"IF(Z$3<=vantHoff_EOS!$N$19,Phi_i_NS_Tci_Pci_wi_kijm_TinC_PinPa_yi(Z$3,vantHoff_EOS!$N$19,vantHoff_EOS!$X$5:$X$14,vantHoff_EOS!$Y$5:$Y$14,vantHoff_EOS!$Z$5:$Z$14,vantHoff_EOS!$AE$5:$AN$14,$C$2,B46*1000000,$O46:$X46),\"-\")","v":3.6519688927012521},{"$f":"IF(AA$3<=vantHoff_EOS!$N$19,Phi_i_NS_Tci_Pci_wi_kijm_TinC_PinPa_yi(AA$3,vantHoff_EOS!$N$19,vantHoff_EOS!$X$5:$X$14,vantHoff_EOS!$Y$5:$Y$14,vantHoff_EOS!$Z$5:$Z$14,vantHoff_EOS!$AE$5:$AN$14,$C$2,B46*1000000,$O46:$X46),\"-\")","v":5.9082135582932649},{"$f":"IF(AB$3<=vantHoff_EOS!$N$19,Phi_i_NS_Tci_Pci_wi_kijm_TinC_PinPa_yi(AB$3,vantHoff_EOS!$N$19,vantHoff_EOS!$X$5:$X$14,vantHoff_EOS!$Y$5:$Y$14,vantHoff_EOS!$Z$5:$Z$14,vantHoff_EOS!$AE$5:$AN$14,$C$2,B46*1000000,$O46:$X46),\"-\")","v":0.14427666334889691},{"$f":"IF(AC$3<=vantHoff_EOS!$N$19,Phi_i_NS_Tci_Pci_wi_kijm_TinC_PinPa_yi(AC$3,vantHoff_EOS!$N$19,vantHoff_EOS!$X$5:$X$14,vantHoff_EOS!$Y$5:$Y$14,vantHoff_EOS!$Z$5:$Z$14,vantHoff_EOS!$AE$5:$AN$14,$C$2,B46*1000000,$O46:$X46),\"-\")","v":5.2398260745242587E-3},{"$f":"IF(AD$3<=vantHoff_EOS!$N$19,Phi_i_NS_Tci_Pci_wi_kijm_TinC_PinPa_yi(AD$3,vantHoff_EOS!$N$19,vantHoff_EOS!$X$5:$X$14,vantHoff_EOS!$Y$5:$Y$14,vantHoff_EOS!$Z$5:$Z$14,vantHoff_EOS!$AE$5:$AN$14,$C$2,B46*1000000,$O46:$X46),\"-\")","v":0.44993774628047434},{"$f":"IF(AE$3<=vantHoff_EOS!$N$19,Phi_i_NS_Tci_Pci_wi_kijm_TinC_PinPa_yi(AE$3,vantHoff_EOS!$N$19,vantHoff_EOS!$X$5:$X$14,vantHoff_EOS!$Y$5:$Y$14,vantHoff_EOS!$Z$5:$Z$14,vantHoff_EOS!$AE$5:$AN$14,$C$2,B46*1000000,$O46:$X46),\"-\")","v":"-"},{"$f":"IF(AF$3<=vantHoff_EOS!$N$19,Phi_i_NS_Tci_Pci_wi_kijm_TinC_PinPa_yi(AF$3,vantHoff_EOS!$N$19,vantHoff_EOS!$X$5:$X$14,vantHoff_EOS!$Y$5:$Y$14,vantHoff_EOS!$Z$5:$Z$14,vantHoff_EOS!$AE$5:$AN$14,$C$2,B46*1000000,$O46:$X46),\"-\")","v":"-"},{"$f":"IF(AG$3<=vantHoff_EOS!$N$19,Phi_i_NS_Tci_Pci_wi_kijm_TinC_PinPa_yi(AG$3,vantHoff_EOS!$N$19,vantHoff_EOS!$X$5:$X$14,vantHoff_EOS!$Y$5:$Y$14,vantHoff_EOS!$Z$5:$Z$14,vantHoff_EOS!$AE$5:$AN$14,$C$2,B46*1000000,$O46:$X46),\"-\")","v":"-"},{"$f":"IF(AH$3<=vantHoff_EOS!$N$19,Phi_i_NS_Tci_Pci_wi_kijm_TinC_PinPa_yi(AH$3,vantHoff_EOS!$N$19,vantHoff_EOS!$X$5:$X$14,vantHoff_EOS!$Y$5:$Y$14,vantHoff_EOS!$Z$5:$Z$14,vantHoff_EOS!$AE$5:$AN$14,$C$2,B46*1000000,$O46:$X46),\"-\")","v":"-"},{"$f":"IF(AI$3<=vantHoff_EOS!$N$19,Phi_i_NS_Tci_Pci_wi_kijm_TinC_PinPa_yi(AI$3,vantHoff_EOS!$N$19,vantHoff_EOS!$X$5:$X$14,vantHoff_EOS!$Y$5:$Y$14,vantHoff_EOS!$Z$5:$Z$14,vantHoff_EOS!$AE$5:$AN$14,$C$2,B46*1000000,$O46:$X46),\"-\")","v":"-"}]
[44,{"$f":"B46+vantHoff_EOS!$E$26","v":16.599999999999969},320.14999999999998,3.1235358425737939E-3,{"$f":"lnKaT_Tref_lnKaTref_dHTref_da_db_dc_dd_de_TinC(vantHoff_EOS!$E$7,vantHoff_EOS!$B$9,vantHoff_EOS!$B$6,vantHoff_EOS!$O$27,vantHoff_EOS!$P$27,vantHoff_EOS!$Q$27,vantHoff_EOS!$R$27,vantHoff_EOS!$S$27,$C$2)","v":13.062534312676297},470962.76406017854,{"$f":"MolarExtentX_NS_vi_n0i_dHfi_dGfi_TrefinC_da_db_dc_dd_de_Tci_Pci_wi_kijm_TinC_PinPa(vantHoff_EOS!$N$19,vantHoff_EOS!$O$23:$X$23,vantHoff_EOS!$O$31:$X$31,vantHoff_EOS!$T$5:$T$14,vantHoff_EOS!$U$5:$U$14,vantHoff_EOS!$E$7,vantHoff_EOS!$O$27,vantHoff_EOS!$P$27,vantHoff_EOS!$Q$27,vantHoff_EOS!$R$27,vantHoff_EOS!$S$27,vantHoff_EOS!$X$5:$X$14,vantHoff_EOS!$Y$5:$Y$14,vantHoff_EOS!$Z$5:$Z$14,vantHoff_EOS!$AE$5:$AN$14,$C$2,B47*1000000)","v":0.99979116751992747},{"$f":"Ky_NS_n0i_vi_X(vantHoff_EOS!$N$19,vantHoff_EOS!$O$31:$X$31,vantHoff_EOS!$O$23:$X$23,G47)","v":7636436700565.9785},{"$f":"Kp_NS_vi_PinPa(vantHoff_EOS!$N$19,vantHoff_EOS!$O$23:$X$23,B47*1000000)","v":3.628973726230236E-5},{"$f":"Kphi_NS_n0i_vi_X_Tci_Pci_wi_kijm_TinC_PinPa(vantHoff_EOS!$N$19,vantHoff_EOS!$O$31:$X$31,vantHoff_EOS!$O$23:$X$23,G47,vantHoff_EOS!$X$5:$X$14,vantHoff_EOS!$Y$5:$Y$14,vantHoff_EOS!$Z$5:$Z$14,vantHoff_EOS!$AE$5:$AN$14,$C$2,B47*1000000)","v":1.6994640871536748E-3},29.663952209858977,-10.223975576713082,-6.3774423204702186,{"$f":"nT_NS_n0i_vi_X(vantHoff_EOS!$N$19,vantHoff_EOS!$O$31:$X$31,vantHoff_EOS!$O$23:$X$23,G47)","v":8.3404176649601443},{"$f":"IF(O$3<=vantHoff_EOS!$N$19,y_iindex_NS_n0i_vi_X(O$3,vantHoff_EOS!$N$19,vantHoff_EOS!$O$31:$X$31,vantHoff_EOS!$O$23:$X$23,$G47),\"-\")","v":2.503861178917679E-5},{"$f":"IF(P$3<=vantHoff_EOS!$N$19,y_iindex_NS_n0i_vi_X(P$3,vantHoff_EOS!$N$19,vantHoff_EOS!$O$31:$X$31,vantHoff_EOS!$O$23:$X$23,$G47),\"-\")","v":2.503861178917679E-5},{"$f":"IF(Q$3<=vantHoff_EOS!$N$19,y_iindex_NS_n0i_vi_X(Q$3,vantHoff_EOS!$N$19,vantHoff_EOS!$O$31:$X$31,vantHoff_EOS!$O$23:$X$23,$G47),\"-\")","v":2.503861178917679E-5},{"$f":"IF(R$3<=vantHoff_EOS!$N$19,y_iindex_NS_n0i_vi_X(R$3,vantHoff_EOS!$N$19,vantHoff_EOS!$O$31:$X$31,vantHoff_EOS!$O$23:$X$23,$G47),\"-\")","v":0.11987303366356115},{"$f":"IF(S$3<=vantHoff_EOS!$N$19,y_iindex_NS_n0i_vi_X(S$3,vantHoff_EOS!$N$19,vantHoff_EOS!$O$31:$X$31,vantHoff_EOS!$O$23:$X$23,$G47),\"-\")","v":0.88005185050107138},{"$f":"IF(T$3<=vantHoff_EOS!$N$19,y_iindex_NS_n0i_vi_X(T$3,vantHoff_EOS!$N$19,vantHoff_EOS!$O$31:$X$31,vantHoff_EOS!$O$23:$X$23,$G47),\"-\")","v":"-"},{"$f":"IF(U$3<=vantHoff_EOS!$N$19,y_iindex_NS_n0i_vi_X(U$3,vantHoff_EOS!$N$19,vantHoff_EOS!$O$31:$X$31,vantHoff_EOS!$O$23:$X$23,$G47),\"-\")","v":"-"},{"$f":"IF(V$3<=vantHoff_EOS!$N$19,y_iindex_NS_n0i_vi_X(V$3,vantHoff_EOS!$N$19,vantHoff_EOS!$O$31:$X$31,vantHoff_EOS!$O$23:$X$23,$G47),\"-\")","v":"-"},{"$f":"IF(W$3<=vantHoff_EOS!$N$19,y_iindex_NS_n0i_vi_X(W$3,vantHoff_EOS!$N$19,vantHoff_EOS!$O$31:$X$31,vantHoff_EOS!$O$23:$X$23,$G47),\"-\")","v":"-"},{"$f":"IF(X$3<=vantHoff_EOS!$N$19,y_iindex_NS_n0i_vi_X(X$3,vantHoff_EOS!$N$19,vantHoff_EOS!$O$31:$X$31,vantHoff_EOS!$O$23:$X$23,$G47),\"-\")","v":"-"},1,{"$f":"IF(Z$3<=vantHoff_EOS!$N$19,Phi_i_NS_Tci_Pci_wi_kijm_TinC_PinPa_yi(Z$3,vantHoff_EOS!$N$19,vantHoff_EOS!$X$5:$X$14,vantHoff_EOS!$Y$5:$Y$14,vantHoff_EOS!$Z$5:$Z$14,vantHoff_EOS!$AE$5:$AN$14,$C$2,B47*1000000,$O47:$X47),\"-\")","v":3.6341541089625817},{"$f":"IF(AA$3<=vantHoff_EOS!$N$19,Phi_i_NS_Tci_Pci_wi_kijm_TinC_PinPa_yi(AA$3,vantHoff_EOS!$N$19,vantHoff_EOS!$X$5:$X$14,vantHoff_EOS!$Y$5:$Y$14,vantHoff_EOS!$Z$5:$Z$14,vantHoff_EOS!$AE$5:$AN$14,$C$2,B47*1000000,$O47:$X47),\"-\")","v":5.8771583855185678},{"$f":"IF(AB$3<=vantHoff_EOS!$N$19,Phi_i_NS_Tci_Pci_wi_kijm_TinC_PinPa_yi(AB$3,vantHoff_EOS!$N$19,vantHoff_EOS!$X$5:$X$14,vantHoff_EOS!$Y$5:$Y$14,vantHoff_EOS!$Z$5:$Z$14,vantHoff_EOS!$AE$5:$AN$14,$C$2,B47*1000000,$O47:$X47),\"-\")","v":0.14337104773711851},{"$f":"IF(AC$3<=vantHoff_EOS!$N$19,Phi_i_NS_Tci_Pci_wi_kijm_TinC_PinPa_yi(AC$3,vantHoff_EOS!$N$19,vantHoff_EOS!$X$5:$X$14,vantHoff_EOS!$Y$5:$Y$14,vantHoff_EOS!$Z$5:$Z$14,vantHoff_EOS!$AE$5:$AN$14,$C$2,B47*1000000,$O47:$X47),\"-\")","v":5.2040826504275144E-3},{"$f":"IF(AD$3<=vantHoff_EOS!$N$19,Phi_i_NS_Tci_Pci_wi_kijm_TinC_PinPa_yi(AD$3,vantHoff_EOS!$N$19,vantHoff_EOS!$X$5:$X$14,vantHoff_EOS!$Y$5:$Y$14,vantHoff_EOS!$Z$5:$Z$14,vantHoff_EOS!$AE$5:$AN$14,$C$2,B47*1000000,$O47:$X47),\"-\")","v":0.44640096679781049},{"$f":"IF(AE$3<=vantHoff_EOS!$N$19,Phi_i_NS_Tci_Pci_wi_kijm_TinC_PinPa_yi(AE$3,vantHoff_EOS!$N$19,vantHoff_EOS!$X$5:$X$14,vantHoff_EOS!$Y$5:$Y$14,vantHoff_EOS!$Z$5:$Z$14,vantHoff_EOS!$AE$5:$AN$14,$C$2,B47*1000000,$O47:$X47),\"-\")","v":"-"},{"$f":"IF(AF$3<=vantHoff_EOS!$N$19,Phi_i_NS_Tci_Pci_wi_kijm_TinC_PinPa_yi(AF$3,vantHoff_EOS!$N$19,vantHoff_EOS!$X$5:$X$14,vantHoff_EOS!$Y$5:$Y$14,vantHoff_EOS!$Z$5:$Z$14,vantHoff_EOS!$AE$5:$AN$14,$C$2,B47*1000000,$O47:$X47),\"-\")","v":"-"},{"$f":"IF(AG$3<=vantHoff_EOS!$N$19,Phi_i_NS_Tci_Pci_wi_kijm_TinC_PinPa_yi(AG$3,vantHoff_EOS!$N$19,vantHoff_EOS!$X$5:$X$14,vantHoff_EOS!$Y$5:$Y$14,vantHoff_EOS!$Z$5:$Z$14,vantHoff_EOS!$AE$5:$AN$14,$C$2,B47*1000000,$O47:$X47),\"-\")","v":"-"},{"$f":"IF(AH$3<=vantHoff_EOS!$N$19,Phi_i_NS_Tci_Pci_wi_kijm_TinC_PinPa_yi(AH$3,vantHoff_EOS!$N$19,vantHoff_EOS!$X$5:$X$14,vantHoff_EOS!$Y$5:$Y$14,vantHoff_EOS!$Z$5:$Z$14,vantHoff_EOS!$AE$5:$AN$14,$C$2,B47*1000000,$O47:$X47),\"-\")","v":"-"},{"$f":"IF(AI$3<=vantHoff_EOS!$N$19,Phi_i_NS_Tci_Pci_wi_kijm_TinC_PinPa_yi(AI$3,vantHoff_EOS!$N$19,vantHoff_EOS!$X$5:$X$14,vantHoff_EOS!$Y$5:$Y$14,vantHoff_EOS!$Z$5:$Z$14,vantHoff_EOS!$AE$5:$AN$14,$C$2,B47*1000000,$O47:$X47),\"-\")","v":"-"}]
[45,{"$f":"B47+vantHoff_EOS!$E$26","v":16.799999999999969},320.14999999999998,3.1235358425737939E-3,{"$f":"lnKaT_Tref_lnKaTref_dHTref_da_db_dc_dd_de_TinC(vantHoff_EOS!$E$7,vantHoff_EOS!$B$9,vantHoff_EOS!$B$6,vantHoff_EOS!$O$27,vantHoff_EOS!$P$27,vantHoff_EOS!$Q$27,vantHoff_EOS!$R$27,vantHoff_EOS!$S$27,$C$2)","v":13.062534312676297},470962.76406017854,{"$f":"MolarExtentX_NS_vi_n0i_dHfi_dGfi_TrefinC_da_db_dc_dd_de_Tci_Pci_wi_kijm_TinC_PinPa(vantHoff_EOS!$N$19,vantHoff_EOS!$O$23:$X$23,vantHoff_EOS!$O$31:$X$31,vantHoff_EOS!$T$5:$T$14,vantHoff_EOS!$U$5:$U$14,vantHoff_EOS!$E$7,vantHoff_EOS!$O$27,vantHoff_EOS!$P$27,vantHoff_EOS!$Q$27,vantHoff_EOS!$R$27,vantHoff_EOS!$S$27,vantHoff_EOS!$X$5:$X$14,vantHoff_EOS!$Y$5:$Y$14,vantHoff_EOS!$Z$5:$Z$14,vantHoff_EOS!$AE$5:$AN$14,$C$2,B48*1000000)","v":0.99979217251682306},{"$f":"Ky_NS_n0i_vi_X(vantHoff_EOS!$N$19,vantHoff_EOS!$O$31:$X$31,vantHoff_EOS!$O$23:$X$23,G48)","v":7747760495954.3076},{"$f":"Kp_NS_vi_PinPa(vantHoff_EOS!$N$19,vantHoff_EOS!$O$23:$X$23,B48*1000000)","v":3.5430839002267697E-5},{"$f":"Kphi_NS_n0i_vi_X_Tci_Pci_wi_kijm_TinC_PinPa(vantHoff_EOS!$N$19,vantHoff_EOS!$O$31:$X$31,vantHoff_EOS!$O$23:$X$23,G48,vantHoff_EOS!$X$5:$X$14,vantHoff_EOS!$Y$5:$Y$14,vantHoff_EOS!$Z$5:$Z$14,vantHoff_EOS!$AE$5:$AN$14,$C$2,B48*1000000)","v":1.7156510013164054E-3},29.678424949270468,-10.247927958806514,-6.367962677786962,{"$f":"nT_NS_n0i_vi_X(vantHoff_EOS!$N$19,vantHoff_EOS!$O$31:$X$31,vantHoff_EOS!$O$23:$X$23,G48)","v":8.3404156549663533},{"$f":"IF(O$3<=vantHoff_EOS!$N$19,y_iindex_NS_n0i_vi_X(O$3,vantHoff_EOS!$N$19,vantHoff_EOS!$O$31:$X$31,vantHoff_EOS!$O$23:$X$23,$G48),\"-\")","v":2.4918120603879552E-5},{"$f":"IF(P$3<=vantHoff_EOS!$N$19,y_iindex_NS_n0i_vi_X(P$3,vantHoff_EOS!$N$19,vantHoff_EOS!$O$31:$X$31,vantHoff_EOS!$O$23:$X$23,$G48),\"-\")","v":2.4918120603879552E-5},{"$f":"IF(Q$3<=vantHoff_EOS!$N$19,y_iindex_NS_n0i_vi_X(Q$3,vantHoff_EOS!$N$19,vantHoff_EOS!$O$31:$X$31,vantHoff_EOS!$O$23:$X$23,$G48),\"-\")","v":2.4918120603879552E-5},{"$f":"IF(R$3<=vantHoff_EOS!$N$19,y_iindex_NS_n0i_vi_X(R$3,vantHoff_EOS!$N$19,vantHoff_EOS!$O$31:$X$31,vantHoff_EOS!$O$23:$X$23,$G48),\"-\")","v":0.11987318304951511},{"$f":"IF(S$3<=vantHoff_EOS!$N$19,y_iindex_NS_n0i_vi_X(S$3,vantHoff_EOS!$N$19,vantHoff_EOS!$O$31:$X$31,vantHoff_EOS!$O$23:$X$23,$G48),\"-\")","v":0.8800520625886733},{"$f":"IF(T$3<=vantHoff_EOS!$N$19,y_iindex_NS_n0i_vi_X(T$3,vantHoff_EOS!$N$19,vantHoff_EOS!$O$31:$X$31,vantHoff_EOS!$O$23:$X$23,$G48),\"-\")","v":"-"},{"$f":"IF(U$3<=vantHoff_EOS!$N$19,y_iindex_NS_n0i_vi_X(U$3,vantHoff_EOS!$N$19,vantHoff_EOS!$O$31:$X$31,vantHoff_EOS!$O$23:$X$23,$G48),\"-\")","v":"-"},{"$f":"IF(V$3<=vantHoff_EOS!$N$19,y_iindex_NS_n0i_vi_X(V$3,vantHoff_EOS!$N$19,vantHoff_EOS!$O$31:$X$31,vantHoff_EOS!$O$23:$X$23,$G48),\"-\")","v":"-"},{"$f":"IF(W$3<=vantHoff_EOS!$N$19,y_iindex_NS_n0i_vi_X(W$3,vantHoff_EOS!$N$19,vantHoff_EOS!$O$31:$X$31,vantHoff_EOS!$O$23:$X$23,$G48),\"-\")","v":"-"},{"$f":"IF(X$3<=vantHoff_EOS!$N$19,y_iindex_NS_n0i_vi_X(X$3,vantHoff_EOS!$N$19,vantHoff_EOS!$O$31:$X$31,vantHoff_EOS!$O$23:$X$23,$G48),\"-\")","v":"-"},1,{"$f":"IF(Z$3<=vantHoff_EOS!$N$19,Phi_i_NS_Tci_Pci_wi_kijm_TinC_PinPa_yi(Z$3,vantHoff_EOS!$N$19,vantHoff_EOS!$X$5:$X$14,vantHoff_EOS!$Y$5:$Y$14,vantHoff_EOS!$Z$5:$Z$14,vantHoff_EOS!$AE$5:$AN$14,$C$2,B48*1000000,$O48:$X48),\"-\")","v":3.6167557680049618},{"$f":"IF(AA$3<=vantHoff_EOS!$N$19,Phi_i_NS_Tci_Pci_wi_kijm_TinC_PinPa_yi(AA$3,vantHoff_EOS!$N$19,vantHoff_EOS!$X$5:$X$14,vantHoff_EOS!$Y$5:$Y$14,vantHoff_EOS!$Z$5:$Z$14,vantHoff_EOS!$AE$5:$AN$14,$C$2,B48*1000000,$O48:$X48),\"-\")","v":5.8467715330101591},{"$f":"IF(AB$3<=vantHoff_EOS!$N$19,Phi_i_NS_Tci_Pci_wi_kijm_TinC_PinPa_yi(AB$3,vantHoff_EOS!$N$19,vantHoff_EOS!$X$5:$X$14,vantHoff_EOS!$Y$5:$Y$14,vantHoff_EOS!$Z$5:$Z$14,vantHoff_EOS!$AE$5:$AN$14,$C$2,B48*1000000,$O48:$X48),\"-\")","v":0.1424908520627467},{"$f":"IF(AC$3<=vantHoff_EOS!$N$19,Phi_i_NS_Tci_Pci_wi_kijm_TinC_PinPa_yi(AC$3,vantHoff_EOS!$N$19,vantHoff_EOS!$X$5:$X$14,vantHoff_EOS!$Y$5:$Y$14,vantHoff_EOS!$Z$5:$Z$14,vantHoff_EOS!$AE$5:$AN$14,$C$2,B48*1000000,$O48:$X48),\"-\")","v":5.1695321197590882E-3},{"$f":"IF(AD$3<=vantHoff_EOS!$N$19,Phi_i_NS_Tci_Pci_wi_kijm_TinC_PinPa_yi(AD$3,vantHoff_EOS!$N$19,vantHoff_EOS!$X$5:$X$14,vantHoff_EOS!$Y$5:$Y$14,vantHoff_EOS!$Z$5:$Z$14,vantHoff_EOS!$AE$5:$AN$14,$C$2,B48*1000000,$O48:$X48),\"-\")","v":0.44294960571822556},{"$f":"IF(AE$3<=vantHoff_EOS!$N$19,Phi_i_NS_Tci_Pci_wi_kijm_TinC_PinPa_yi(AE$3,vantHoff_EOS!$N$19,vantHoff_EOS!$X$5:$X$14,vantHoff_EOS!$Y$5:$Y$14,vantHoff_EOS!$Z$5:$Z$14,vantHoff_EOS!$AE$5:$AN$14,$C$2,B48*1000000,$O48:$X48),\"-\")","v":"-"},{"$f":"IF(AF$3<=vantHoff_EOS!$N$19,Phi_i_NS_Tci_Pci_wi_kijm_TinC_PinPa_yi(AF$3,vantHoff_EOS!$N$19,vantHoff_EOS!$X$5:$X$14,vantHoff_EOS!$Y$5:$Y$14,vantHoff_EOS!$Z$5:$Z$14,vantHoff_EOS!$AE$5:$AN$14,$C$2,B48*1000000,$O48:$X48),\"-\")","v":"-"},{"$f":"IF(AG$3<=vantHoff_EOS!$N$19,Phi_i_NS_Tci_Pci_wi_kijm_TinC_PinPa_yi(AG$3,vantHoff_EOS!$N$19,vantHoff_EOS!$X$5:$X$14,vantHoff_EOS!$Y$5:$Y$14,vantHoff_EOS!$Z$5:$Z$14,vantHoff_EOS!$AE$5:$AN$14,$C$2,B48*1000000,$O48:$X48),\"-\")","v":"-"},{"$f":"IF(AH$3<=vantHoff_EOS!$N$19,Phi_i_NS_Tci_Pci_wi_kijm_TinC_PinPa_yi(AH$3,vantHoff_EOS!$N$19,vantHoff_EOS!$X$5:$X$14,vantHoff_EOS!$Y$5:$Y$14,vantHoff_EOS!$Z$5:$Z$14,vantHoff_EOS!$AE$5:$AN$14,$C$2,B48*1000000,$O48:$X48),\"-\")","v":"-"},{"$f":"IF(AI$3<=vantHoff_EOS!$N$19,Phi_i_NS_Tci_Pci_wi_kijm_TinC_PinPa_yi(AI$3,vantHoff_EOS!$N$19,vantHoff_EOS!$X$5:$X$14,vantHoff_EOS!$Y$5:$Y$14,vantHoff_EOS!$Z$5:$Z$14,vantHoff_EOS!$AE$5:$AN$14,$C$2,B48*1000000,$O48:$X48),\"-\")","v":"-"}]
[46,{"$f":"B48+vantHoff_EOS!$E$26","v":16.999999999999968},320.14999999999998,3.1235358425737939E-3,{"$f":"lnKaT_Tref_lnKaTref_dHTref_da_db_dc_dd_de_TinC(vantHoff_EOS!$E$7,vantHoff_EOS!$B$9,vantHoff_EOS!$B$6,vantHoff_EOS!$O$27,vantHoff_EOS!$P$27,vantHoff_EOS!$Q$27,vantHoff_EOS!$R$27,vantHoff_EOS!$S$27,$C$2)","v":13.062534312676297},470962.76406017854,{"$f":"MolarExtentX_NS_vi_n0i_dHfi_dGfi_TrefinC_da_db_dc_dd_de_Tci_Pci_wi_kijm_TinC_PinPa(vantHoff_EOS!$N$19,vantHoff_EOS!$O$23:$X$23,vantHoff_EOS!$O$31:$X$31,vantHoff_EOS!$T$5:$T$14,vantHoff_EOS!$U$5:$U$14,vantHoff_EOS!$E$7,vantHoff_EOS!$O$27,vantHoff_EOS!$P$27,vantHoff_EOS!$Q$27,vantHoff_EOS!$R$27,vantHoff_EOS!$S$27,vantHoff_EOS!$X$5:$X$14,vantHoff_EOS!$Y$5:$Y$14,vantHoff_EOS!$Z$5:$Z$14,vantHoff_EOS!$AE$5:$AN$14,$C$2,B49*1000000)","v":0.99979316206360314},{"$f":"Ky_NS_n0i_vi_X(vantHoff_EOS!$N$19,vantHoff_EOS!$O$31:$X$31,vantHoff_EOS!$O$23:$X$23,G49)","v":7859497080729.0527},{"$f":"Kp_NS_vi_PinPa(vantHoff_EOS!$N$19,vantHoff_EOS!$O$23:$X$23,B49*1000000)","v":3.4602076124567619E-5},{"$f":"Kphi_NS_n0i_vi_X_Tci_Pci_wi_kijm_TinC_PinPa(vantHoff_EOS!$N$19,vantHoff_EOS!$O$31:$X$31,vantHoff_EOS!$O$23:$X$23,G49,vantHoff_EOS!$X$5:$X$14,vantHoff_EOS!$Y$5:$Y$14,vantHoff_EOS!$Z$5:$Z$14,vantHoff_EOS!$AE$5:$AN$14,$C$2,B49*1000000)","v":1.7317677888969169E-3},29.692743735682491,-10.271596874100519,-6.3586125489059064,{"$f":"nT_NS_n0i_vi_X(vantHoff_EOS!$N$19,vantHoff_EOS!$O$31:$X$31,vantHoff_EOS!$O$23:$X$23,G49)","v":8.340413675872794},{"$f":"IF(O$3<=vantHoff_EOS!$N$19,y_iindex_NS_n0i_vi_X(O$3,vantHoff_EOS!$N$19,vantHoff_EOS!$O$31:$X$31,vantHoff_EOS!$O$23:$X$23,$G49),\"-\")","v":2.4799481708587957E-5},{"$f":"IF(P$3<=vantHoff_EOS!$N$19,y_iindex_NS_n0i_vi_X(P$3,vantHoff_EOS!$N$19,vantHoff_EOS!$O$31:$X$31,vantHoff_EOS!$O$23:$X$23,$G49),\"-\")","v":2.4799481708587957E-5},{"$f":"IF(Q$3<=vantHoff_EOS!$N$19,y_iindex_NS_n0i_vi_X(Q$3,vantHoff_EOS!$N$19,vantHoff_EOS!$O$31:$X$31,vantHoff_EOS!$O$23:$X$23,$G49),\"-\")","v":2.4799481708587957E-5},{"$f":"IF(R$3<=vantHoff_EOS!$N$19,y_iindex_NS_n0i_vi_X(R$3,vantHoff_EOS!$N$19,vantHoff_EOS!$O$31:$X$31,vantHoff_EOS!$O$23:$X$23,$G49),\"-\")","v":0.1198733301389848},{"$f":"IF(S$3<=vantHoff_EOS!$N$19,y_iindex_NS_n0i_vi_X(S$3,vantHoff_EOS!$N$19,vantHoff_EOS!$O$31:$X$31,vantHoff_EOS!$O$23:$X$23,$G49),\"-\")","v":0.88005227141588938},{"$f":"IF(T$3<=vantHoff_EOS!$N$19,y_iindex_NS_n0i_vi_X(T$3,vantHoff_EOS!$N$19,vantHoff_EOS!$O$31:$X$31,vantHoff_EOS!$O$23:$X$23,$G49),\"-\")","v":"-"},{"$f":"IF(U$3<=vantHoff_EOS!$N$19,y_iindex_NS_n0i_vi_X(U$3,vantHoff_EOS!$N$19,vantHoff_EOS!$O$31:$X$31,vantHoff_EOS!$O$23:$X$23,$G49),\"-\")","v":"-"},{"$f":"IF(V$3<=vantHoff_EOS!$N$19,y_iindex_NS_n0i_vi_X(V$3,vantHoff_EOS!$N$19,vantHoff_EOS!$O$31:$X$31,vantHoff_EOS!$O$23:$X$23,$G49),\"-\")","v":"-"},{"$f":"IF(W$3<=vantHoff_EOS!$N$19,y_iindex_NS_n0i_vi_X(W$3,vantHoff_EOS!$N$19,vantHoff_EOS!$O$31:$X$31,vantHoff_EOS!$O$23:$X$23,$G49),\"-\")","v":"-"},{"$f":"IF(X$3<=vantHoff_EOS!$N$19,y_iindex_NS_n0i_vi_X(X$3,vantHoff_EOS!$N$19,vantHoff_EOS!$O$31:$X$31,vantHoff_EOS!$O$23:$X$23,$G49),\"-\")","v":"-"},0.99999999999999989,{"$f":"IF(Z$3<=vantHoff_EOS!$N$19,Phi_i_NS_Tci_Pci_wi_kijm_TinC_PinPa_yi(Z$3,vantHoff_EOS!$N$19,vantHoff_EOS!$X$5:$X$14,vantHoff_EOS!$Y$5:$Y$14,vantHoff_EOS!$Z$5:$Z$14,vantHoff_EOS!$AE$5:$AN$14,$C$2,B49*1000000,$O49:$X49),\"-\")","v":3.5997610432830127},{"$f":"IF(AA$3<=vantHoff_EOS!$N$19,Phi_i_NS_Tci_Pci_wi_kijm_TinC_PinPa_yi(AA$3,vantHoff_EOS!$N$19,vantHoff_EOS!$X$5:$X$14,vantHoff_EOS!$Y$5:$Y$14,vantHoff_EOS!$Z$5:$Z$14,vantHoff_EOS!$AE$5:$AN$14,$C$2,B49*1000000,$O49:$X49),\"-\")","v":5.8170327204019481},{"$f":"IF(AB$3<=vantHoff_EOS!$N$19,Phi_i_NS_Tci_Pci_wi_kijm_TinC_PinPa_yi(AB$3,vantHoff_EOS!$N$19,vantHoff_EOS!$X$5:$X$14,vantHoff_EOS!$Y$5:$Y$14,vantHoff_EOS!$Z$5:$Z$14,vantHoff_EOS!$AE$5:$AN$14,$C$2,B49*1000000,$O49:$X49),\"-\")","v":0.14163519665983296},{"$f":"IF(AC$3<=vantHoff_EOS!$N$19,Phi_i_NS_Tci_Pci_wi_kijm_TinC_PinPa_yi(AC$3,vantHoff_EOS!$N$19,vantHoff_EOS!$X$5:$X$14,vantHoff_EOS!$Y$5:$Y$14,vantHoff_EOS!$Z$5:$Z$14,vantHoff_EOS!$AE$5:$AN$14,$C$2,B49*1000000,$O49:$X49),\"-\")","v":5.1361302266189996E-3},{"$f":"IF(AD$3<=vantHoff_EOS!$N$19,Phi_i_NS_Tci_Pci_wi_kijm_TinC_PinPa_yi(AD$3,vantHoff_EOS!$N$19,vantHoff_EOS!$X$5:$X$14,vantHoff_EOS!$Y$5:$Y$14,vantHoff_EOS!$Z$5:$Z$14,vantHoff_EOS!$AE$5:$AN$14,$C$2,B49*1000000,$O49:$X49),\"-\")","v":0.43958073514898532},{"$f":"IF(AE$3<=vantHoff_EOS!$N$19,Phi_i_NS_Tci_Pci_wi_kijm_TinC_PinPa_yi(AE$3,vantHoff_EOS!$N$19,vantHoff_EOS!$X$5:$X$14,vantHoff_EOS!$Y$5:$Y$14,vantHoff_EOS!$Z$5:$Z$14,vantHoff_EOS!$AE$5:$AN$14,$C$2,B49*1000000,$O49:$X49),\"-\")","v":"-"},{"$f":"IF(AF$3<=vantHoff_EOS!$N$19,Phi_i_NS_Tci_Pci_wi_kijm_TinC_PinPa_yi(AF$3,vantHoff_EOS!$N$19,vantHoff_EOS!$X$5:$X$14,vantHoff_EOS!$Y$5:$Y$14,vantHoff_EOS!$Z$5:$Z$14,vantHoff_EOS!$AE$5:$AN$14,$C$2,B49*1000000,$O49:$X49),\"-\")","v":"-"},{"$f":"IF(AG$3<=vantHoff_EOS!$N$19,Phi_i_NS_Tci_Pci_wi_kijm_TinC_PinPa_yi(AG$3,vantHoff_EOS!$N$19,vantHoff_EOS!$X$5:$X$14,vantHoff_EOS!$Y$5:$Y$14,vantHoff_EOS!$Z$5:$Z$14,vantHoff_EOS!$AE$5:$AN$14,$C$2,B49*1000000,$O49:$X49),\"-\")","v":"-"},{"$f":"IF(AH$3<=vantHoff_EOS!$N$19,Phi_i_NS_Tci_Pci_wi_kijm_TinC_PinPa_yi(AH$3,vantHoff_EOS!$N$19,vantHoff_EOS!$X$5:$X$14,vantHoff_EOS!$Y$5:$Y$14,vantHoff_EOS!$Z$5:$Z$14,vantHoff_EOS!$AE$5:$AN$14,$C$2,B49*1000000,$O49:$X49),\"-\")","v":"-"},{"$f":"IF(AI$3<=vantHoff_EOS!$N$19,Phi_i_NS_Tci_Pci_wi_kijm_TinC_PinPa_yi(AI$3,vantHoff_EOS!$N$19,vantHoff_EOS!$X$5:$X$14,vantHoff_EOS!$Y$5:$Y$14,vantHoff_EOS!$Z$5:$Z$14,vantHoff_EOS!$AE$5:$AN$14,$C$2,B49*1000000,$O49:$X49),\"-\")","v":"-"}]
[47,{"$f":"B49+vantHoff_EOS!$E$26","v":17.199999999999967},320.14999999999998,3.1235358425737939E-3,{"$f":"lnKaT_Tref_lnKaTref_dHTref_da_db_dc_dd_de_TinC(vantHoff_EOS!$E$7,vantHoff_EOS!$B$9,vantHoff_EOS!$B$6,vantHoff_EOS!$O$27,vantHoff_EOS!$P$27,vantHoff_EOS!$Q$27,vantHoff_EOS!$R$27,vantHoff_EOS!$S$27,$C$2)","v":13.062534312676297},470962.76406017854,{"$f":"MolarExtentX_NS_vi_n0i_dHfi_dGfi_TrefinC_da_db_dc_dd_de_Tci_Pci_wi_kijm_TinC_PinPa(vantHoff_EOS!$N$19,vantHoff_EOS!$O$23:$X$23,vantHoff_EOS!$O$31:$X$31,vantHoff_EOS!$T$5:$T$14,vantHoff_EOS!$U$5:$U$14,vantHoff_EOS!$E$7,vantHoff_EOS!$O$27,vantHoff_EOS!$P$27,vantHoff_EOS!$Q$27,vantHoff_EOS!$R$27,vantHoff_EOS!$S$27,vantHoff_EOS!$X$5:$X$14,vantHoff_EOS!$Y$5:$Y$14,vantHoff_EOS!$Z$5:$Z$14,vantHoff_EOS!$AE$5:$AN$14,$C$2,B50*1000000)","v":0.99979413659685934},{"$f":"Ky_NS_n0i_vi_X(vantHoff_EOS!$N$19,vantHoff_EOS!$O$31:$X$31,vantHoff_EOS!$O$23:$X$23,G50)","v":7971648162558.25},{"$f":"Kp_NS_vi_PinPa(vantHoff_EOS!$N$19,vantHoff_EOS!$O$23:$X$23,B50*1000000)","v":3.380205516495416E-5},{"$f":"Kphi_NS_n0i_vi_X_Tci_Pci_wi_kijm_TinC_PinPa(vantHoff_EOS!$N$19,vantHoff_EOS!$O$31:$X$31,vantHoff_EOS!$O$23:$X$23,G50,vantHoff_EOS!$X$5:$X$14,vantHoff_EOS!$Y$5:$Y$14,vantHoff_EOS!$Z$5:$Z$14,vantHoff_EOS!$AE$5:$AN$14,$C$2,B50*1000000)","v":1.7478145206414118E-3},29.706912383155412,-10.294988953626902,-6.3493891168516781,{"$f":"nT_NS_n0i_vi_X(vantHoff_EOS!$N$19,vantHoff_EOS!$O$31:$X$31,vantHoff_EOS!$O$23:$X$23,G50)","v":8.3404117268062805},{"$f":"IF(O$3<=vantHoff_EOS!$N$19,y_iindex_NS_n0i_vi_X(O$3,vantHoff_EOS!$N$19,vantHoff_EOS!$O$31:$X$31,vantHoff_EOS!$O$23:$X$23,$G50),\"-\")","v":2.4682642761988652E-5},{"$f":"IF(P$3<=vantHoff_EOS!$N$19,y_iindex_NS_n0i_vi_X(P$3,vantHoff_EOS!$N$19,vantHoff_EOS!$O$31:$X$31,vantHoff_EOS!$O$23:$X$23,$G50),\"-\")","v":2.4682642761988652E-5},{"$f":"IF(Q$3<=vantHoff_EOS!$N$19,y_iindex_NS_n0i_vi_X(Q$3,vantHoff_EOS!$N$19,vantHoff_EOS!$O$31:$X$31,vantHoff_EOS!$O$23:$X$23,$G50),\"-\")","v":2.4682642761988652E-5},{"$f":"IF(R$3<=vantHoff_EOS!$N$19,y_iindex_NS_n0i_vi_X(R$3,vantHoff_EOS!$N$19,vantHoff_EOS!$O$31:$X$31,vantHoff_EOS!$O$23:$X$23,$G50),\"-\")","v":0.11987347499686345},{"$f":"IF(S$3<=vantHoff_EOS!$N$19,y_iindex_NS_n0i_vi_X(S$3,vantHoff_EOS!$N$19,vantHoff_EOS!$O$31:$X$31,vantHoff_EOS!$O$23:$X$23,$G50),\"-\")","v":0.88005247707485068},{"$f":"IF(T$3<=vantHoff_EOS!$N$19,y_iindex_NS_n0i_vi_X(T$3,vantHoff_EOS!$N$19,vantHoff_EOS!$O$31:$X$31,vantHoff_EOS!$O$23:$X$23,$G50),\"-\")","v":"-"},{"$f":"IF(U$3<=vantHoff_EOS!$N$19,y_iindex_NS_n0i_vi_X(U$3,vantHoff_EOS!$N$19,vantHoff_EOS!$O$31:$X$31,vantHoff_EOS!$O$23:$X$23,$G50),\"-\")","v":"-"},{"$f":"IF(V$3<=vantHoff_EOS!$N$19,y_iindex_NS_n0i_vi_X(V$3,vantHoff_EOS!$N$19,vantHoff_EOS!$O$31:$X$31,vantHoff_EOS!$O$23:$X$23,$G50),\"-\")","v":"-"},{"$f":"IF(W$3<=vantHoff_EOS!$N$19,y_iindex_NS_n0i_vi_X(W$3,vantHoff_EOS!$N$19,vantHoff_EOS!$O$31:$X$31,vantHoff_EOS!$O$23:$X$23,$G50),\"-\")","v":"-"},{"$f":"IF(X$3<=vantHoff_EOS!$N$19,y_iindex_NS_n0i_vi_X(X$3,vantHoff_EOS!$N$19,vantHoff_EOS!$O$31:$X$31,vantHoff_EOS!$O$23:$X$23,$G50),\"-\")","v":"-"},1,{"$f":"IF(Z$3<=vantHoff_EOS!$N$19,Phi_i_NS_Tci_Pci_wi_kijm_TinC_PinPa_yi(Z$3,vantHoff_EOS!$N$19,vantHoff_EOS!$X$5:$X$14,vantHoff_EOS!$Y$5:$Y$14,vantHoff_EOS!$Z$5:$Z$14,vantHoff_EOS!$AE$5:$AN$14,$C$2,B50*1000000,$O50:$X50),\"-\")","v":3.5831576387974802},{"$f":"IF(AA$3<=vantHoff_EOS!$N$19,Phi_i_NS_Tci_Pci_wi_kijm_TinC_PinPa_yi(AA$3,vantHoff_EOS!$N$19,vantHoff_EOS!$X$5:$X$14,vantHoff_EOS!$Y$5:$Y$14,vantHoff_EOS!$Z$5:$Z$14,vantHoff_EOS!$AE$5:$AN$14,$C$2,B50*1000000,$O50:$X50),\"-\")","v":5.7879224885989498},{"$f":"IF(AB$3<=vantHoff_EOS!$N$19,Phi_i_NS_Tci_Pci_wi_kijm_TinC_PinPa_yi(AB$3,vantHoff_EOS!$N$19,vantHoff_EOS!$X$5:$X$14,vantHoff_EOS!$Y$5:$Y$14,vantHoff_EOS!$Z$5:$Z$14,vantHoff_EOS!$AE$5:$AN$14,$C$2,B50*1000000,$O50:$X50),\"-\")","v":0.14080324298204422},{"$f":"IF(AC$3<=vantHoff_EOS!$N$19,Phi_i_NS_Tci_Pci_wi_kijm_TinC_PinPa_yi(AC$3,vantHoff_EOS!$N$19,vantHoff_EOS!$X$5:$X$14,vantHoff_EOS!$Y$5:$Y$14,vantHoff_EOS!$Z$5:$Z$14,vantHoff_EOS!$AE$5:$AN$14,$C$2,B50*1000000,$O50:$X50),\"-\")","v":5.1038349582725982E-3},{"$f":"IF(AD$3<=vantHoff_EOS!$N$19,Phi_i_NS_Tci_Pci_wi_kijm_TinC_PinPa_yi(AD$3,vantHoff_EOS!$N$19,vantHoff_EOS!$X$5:$X$14,vantHoff_EOS!$Y$5:$Y$14,vantHoff_EOS!$Z$5:$Z$14,vantHoff_EOS!$AE$5:$AN$14,$C$2,B50*1000000,$O50:$X50),\"-\")","v":0.4362915605406153},{"$f":"IF(AE$3<=vantHoff_EOS!$N$19,Phi_i_NS_Tci_Pci_wi_kijm_TinC_PinPa_yi(AE$3,vantHoff_EOS!$N$19,vantHoff_EOS!$X$5:$X$14,vantHoff_EOS!$Y$5:$Y$14,vantHoff_EOS!$Z$5:$Z$14,vantHoff_EOS!$AE$5:$AN$14,$C$2,B50*1000000,$O50:$X50),\"-\")","v":"-"},{"$f":"IF(AF$3<=vantHoff_EOS!$N$19,Phi_i_NS_Tci_Pci_wi_kijm_TinC_PinPa_yi(AF$3,vantHoff_EOS!$N$19,vantHoff_EOS!$X$5:$X$14,vantHoff_EOS!$Y$5:$Y$14,vantHoff_EOS!$Z$5:$Z$14,vantHoff_EOS!$AE$5:$AN$14,$C$2,B50*1000000,$O50:$X50),\"-\")","v":"-"},{"$f":"IF(AG$3<=vantHoff_EOS!$N$19,Phi_i_NS_Tci_Pci_wi_kijm_TinC_PinPa_yi(AG$3,vantHoff_EOS!$N$19,vantHoff_EOS!$X$5:$X$14,vantHoff_EOS!$Y$5:$Y$14,vantHoff_EOS!$Z$5:$Z$14,vantHoff_EOS!$AE$5:$AN$14,$C$2,B50*1000000,$O50:$X50),\"-\")","v":"-"},{"$f":"IF(AH$3<=vantHoff_EOS!$N$19,Phi_i_NS_Tci_Pci_wi_kijm_TinC_PinPa_yi(AH$3,vantHoff_EOS!$N$19,vantHoff_EOS!$X$5:$X$14,vantHoff_EOS!$Y$5:$Y$14,vantHoff_EOS!$Z$5:$Z$14,vantHoff_EOS!$AE$5:$AN$14,$C$2,B50*1000000,$O50:$X50),\"-\")","v":"-"},{"$f":"IF(AI$3<=vantHoff_EOS!$N$19,Phi_i_NS_Tci_Pci_wi_kijm_TinC_PinPa_yi(AI$3,vantHoff_EOS!$N$19,vantHoff_EOS!$X$5:$X$14,vantHoff_EOS!$Y$5:$Y$14,vantHoff_EOS!$Z$5:$Z$14,vantHoff_EOS!$AE$5:$AN$14,$C$2,B50*1000000,$O50:$X50),\"-\")","v":"-"}]
[48,{"$f":"B50+vantHoff_EOS!$E$26","v":17.399999999999967},320.14999999999998,3.1235358425737939E-3,{"$f":"lnKaT_Tref_lnKaTref_dHTref_da_db_dc_dd_de_TinC(vantHoff_EOS!$E$7,vantHoff_EOS!$B$9,vantHoff_EOS!$B$6,vantHoff_EOS!$O$27,vantHoff_EOS!$P$27,vantHoff_EOS!$Q$27,vantHoff_EOS!$R$27,vantHoff_EOS!$S$27,$C$2)","v":13.062534312676297},470962.76406017854,{"$f":"MolarExtentX_NS_vi_n0i_dHfi_dGfi_TrefinC_da_db_dc_dd_de_Tci_Pci_wi_kijm_TinC_PinPa(vantHoff_EOS!$N$19,vantHoff_EOS!$O$23:$X$23,vantHoff_EOS!$O$31:$X$31,vantHoff_EOS!$T$5:$T$14,vantHoff_EOS!$U$5:$U$14,vantHoff_EOS!$E$7,vantHoff_EOS!$O$27,vantHoff_EOS!$P$27,vantHoff_EOS!$Q$27,vantHoff_EOS!$R$27,vantHoff_EOS!$S$27,vantHoff_EOS!$X$5:$X$14,vantHoff_EOS!$Y$5:$Y$14,vantHoff_EOS!$Z$5:$Z$14,vantHoff_EOS!$AE$5:$AN$14,$C$2,B51*1000000)","v":0.99979509653508425},{"$f":"Ky_NS_n0i_vi_X(vantHoff_EOS!$N$19,vantHoff_EOS!$O$31:$X$31,vantHoff_EOS!$O$23:$X$23,G51)","v":8084215386464.7734},{"$f":"Kp_NS_vi_PinPa(vantHoff_EOS!$N$19,vantHoff_EOS!$O$23:$X$23,B51*1000000)","v":3.3029462280354206E-5},{"$f":"Kphi_NS_n0i_vi_X_Tci_Pci_wi_kijm_TinC_PinPa(vantHoff_EOS!$N$19,vantHoff_EOS!$O$31:$X$31,vantHoff_EOS!$O$23:$X$23,G51,vantHoff_EOS!$X$5:$X$14,vantHoff_EOS!$Y$5:$Y$14,vantHoff_EOS!$Z$5:$Z$14,vantHoff_EOS!$AE$5:$AN$14,$C$2,B51*1000000)","v":1.763791284996011E-3},29.720934558665803,-10.318110598429055,-6.3402896475610611,{"$f":"nT_NS_n0i_vi_X(vantHoff_EOS!$N$19,vantHoff_EOS!$O$31:$X$31,vantHoff_EOS!$O$23:$X$23,G51)","v":8.3404098069298307},{"$f":"IF(O$3<=vantHoff_EOS!$N$19,y_iindex_NS_n0i_vi_X(O$3,vantHoff_EOS!$N$19,vantHoff_EOS!$O$31:$X$31,vantHoff_EOS!$O$23:$X$23,$G51),\"-\")","v":2.4567553592570724E-5},{"$f":"IF(P$3<=vantHoff_EOS!$N$19,y_iindex_NS_n0i_vi_X(P$3,vantHoff_EOS!$N$19,vantHoff_EOS!$O$31:$X$31,vantHoff_EOS!$O$23:$X$23,$G51),\"-\")","v":2.4567553592570724E-5},{"$f":"IF(Q$3<=vantHoff_EOS!$N$19,y_iindex_NS_n0i_vi_X(Q$3,vantHoff_EOS!$N$19,vantHoff_EOS!$O$31:$X$31,vantHoff_EOS!$O$23:$X$23,$G51),\"-\")","v":2.4567553592570724E-5},{"$f":"IF(R$3<=vantHoff_EOS!$N$19,y_iindex_NS_n0i_vi_X(R$3,vantHoff_EOS!$N$19,vantHoff_EOS!$O$31:$X$31,vantHoff_EOS!$O$23:$X$23,$G51),\"-\")","v":0.11987361768535407},{"$f":"IF(S$3<=vantHoff_EOS!$N$19,y_iindex_NS_n0i_vi_X(S$3,vantHoff_EOS!$N$19,vantHoff_EOS!$O$31:$X$31,vantHoff_EOS!$O$23:$X$23,$G51),\"-\")","v":0.88005267965386835},{"$f":"IF(T$3<=vantHoff_EOS!$N$19,y_iindex_NS_n0i_vi_X(T$3,vantHoff_EOS!$N$19,vantHoff_EOS!$O$31:$X$31,vantHoff_EOS!$O$23:$X$23,$G51),\"-\")","v":"-"},{"$f":"IF(U$3<=vantHoff_EOS!$N$19,y_iindex_NS_n0i_vi_X(U$3,vantHoff_EOS!$N$19,vantHoff_EOS!$O$31:$X$31,vantHoff_EOS!$O$23:$X$23,$G51),\"-\")","v":"-"},{"$f":"IF(V$3<=vantHoff_EOS!$N$19,y_iindex_NS_n0i_vi_X(V$3,vantHoff_EOS!$N$19,vantHoff_EOS!$O$31:$X$31,vantHoff_EOS!$O$23:$X$23,$G51),\"-\")","v":"-"},{"$f":"IF(W$3<=vantHoff_EOS!$N$19,y_iindex_NS_n0i_vi_X(W$3,vantHoff_EOS!$N$19,vantHoff_EOS!$O$31:$X$31,vantHoff_EOS!$O$23:$X$23,$G51),\"-\")","v":"-"},{"$f":"IF(X$3<=vantHoff_EOS!$N$19,y_iindex_NS_n0i_vi_X(X$3,vantHoff_EOS!$N$19,vantHoff_EOS!$O$31:$X$31,vantHoff_EOS!$O$23:$X$23,$G51),\"-\")","v":"-"},1.0000000000000002,{"$f":"IF(Z$3<=vantHoff_EOS!$N$19,Phi_i_NS_Tci_Pci_wi_kijm_TinC_PinPa_yi(Z$3,vantHoff_EOS!$N$19,vantHoff_EOS!$X$5:$X$14,vantHoff_EOS!$Y$5:$Y$14,vantHoff_EOS!$Z$5:$Z$14,vantHoff_EOS!$AE$5:$AN$14,$C$2,B51*1000000,$O51:$X51),\"-\")","v":3.5669337620464963},{"$f":"IF(AA$3<=vantHoff_EOS!$N$19,Phi_i_NS_Tci_Pci_wi_kijm_TinC_PinPa_yi(AA$3,vantHoff_EOS!$N$19,vantHoff_EOS!$X$5:$X$14,vantHoff_EOS!$Y$5:$Y$14,vantHoff_EOS!$Z$5:$Z$14,vantHoff_EOS!$AE$5:$AN$14,$C$2,B51*1000000,$O51:$X51),\"-\")","v":5.7594221588693095},{"$f":"IF(AB$3<=vantHoff_EOS!$N$19,Phi_i_NS_Tci_Pci_wi_kijm_TinC_PinPa_yi(AB$3,vantHoff_EOS!$N$19,vantHoff_EOS!$X$5:$X$14,vantHoff_EOS!$Y$5:$Y$14,vantHoff_EOS!$Z$5:$Z$14,vantHoff_EOS!$AE$5:$AN$14,$C$2,B51*1000000,$O51:$X51),\"-\")","v":0.13999419122953996},{"$f":"IF(AC$3<=vantHoff_EOS!$N$19,Phi_i_NS_Tci_Pci_wi_kijm_TinC_PinPa_yi(AC$3,vantHoff_EOS!$N$19,vantHoff_EOS!$X$5:$X$14,vantHoff_EOS!$Y$5:$Y$14,vantHoff_EOS!$Z$5:$Z$14,vantHoff_EOS!$AE$5:$AN$14,$C$2,B51*1000000,$O51:$X51),\"-\")","v":5.0726064061254791E-3},{"$f":"IF(AD$3<=vantHoff_EOS!$N$19,Phi_i_NS_Tci_Pci_wi_kijm_TinC_PinPa_yi(AD$3,vantHoff_EOS!$N$19,vantHoff_EOS!$X$5:$X$14,vantHoff_EOS!$Y$5:$Y$14,vantHoff_EOS!$Z$5:$Z$14,vantHoff_EOS!$AE$5:$AN$14,$C$2,B51*1000000,$O51:$X51),\"-\")","v":0.43307941316964793},{"$f":"IF(AE$3<=vantHoff_EOS!$N$19,Phi_i_NS_Tci_Pci_wi_kijm_TinC_PinPa_yi(AE$3,vantHoff_EOS!$N$19,vantHoff_EOS!$X$5:$X$14,vantHoff_EOS!$Y$5:$Y$14,vantHoff_EOS!$Z$5:$Z$14,vantHoff_EOS!$AE$5:$AN$14,$C$2,B51*1000000,$O51:$X51),\"-\")","v":"-"},{"$f":"IF(AF$3<=vantHoff_EOS!$N$19,Phi_i_NS_Tci_Pci_wi_kijm_TinC_PinPa_yi(AF$3,vantHoff_EOS!$N$19,vantHoff_EOS!$X$5:$X$14,vantHoff_EOS!$Y$5:$Y$14,vantHoff_EOS!$Z$5:$Z$14,vantHoff_EOS!$AE$5:$AN$14,$C$2,B51*1000000,$O51:$X51),\"-\")","v":"-"},{"$f":"IF(AG$3<=vantHoff_EOS!$N$19,Phi_i_NS_Tci_Pci_wi_kijm_TinC_PinPa_yi(AG$3,vantHoff_EOS!$N$19,vantHoff_EOS!$X$5:$X$14,vantHoff_EOS!$Y$5:$Y$14,vantHoff_EOS!$Z$5:$Z$14,vantHoff_EOS!$AE$5:$AN$14,$C$2,B51*1000000,$O51:$X51),\"-\")","v":"-"},{"$f":"IF(AH$3<=vantHoff_EOS!$N$19,Phi_i_NS_Tci_Pci_wi_kijm_TinC_PinPa_yi(AH$3,vantHoff_EOS!$N$19,vantHoff_EOS!$X$5:$X$14,vantHoff_EOS!$Y$5:$Y$14,vantHoff_EOS!$Z$5:$Z$14,vantHoff_EOS!$AE$5:$AN$14,$C$2,B51*1000000,$O51:$X51),\"-\")","v":"-"},{"$f":"IF(AI$3<=vantHoff_EOS!$N$19,Phi_i_NS_Tci_Pci_wi_kijm_TinC_PinPa_yi(AI$3,vantHoff_EOS!$N$19,vantHoff_EOS!$X$5:$X$14,vantHoff_EOS!$Y$5:$Y$14,vantHoff_EOS!$Z$5:$Z$14,vantHoff_EOS!$AE$5:$AN$14,$C$2,B51*1000000,$O51:$X51),\"-\")","v":"-"}]
[49,{"$f":"B51+vantHoff_EOS!$E$26","v":17.599999999999966},320.14999999999998,3.1235358425737939E-3,{"$f":"lnKaT_Tref_lnKaTref_dHTref_da_db_dc_dd_de_TinC(vantHoff_EOS!$E$7,vantHoff_EOS!$B$9,vantHoff_EOS!$B$6,vantHoff_EOS!$O$27,vantHoff_EOS!$P$27,vantHoff_EOS!$Q$27,vantHoff_EOS!$R$27,vantHoff_EOS!$S$27,$C$2)","v":13.062534312676297},470962.76406017854,{"$f":"MolarExtentX_NS_vi_n0i_dHfi_dGfi_TrefinC_da_db_dc_dd_de_Tci_Pci_wi_kijm_TinC_PinPa(vantHoff_EOS!$N$19,vantHoff_EOS!$O$23:$X$23,vantHoff_EOS!$O$31:$X$31,vantHoff_EOS!$T$5:$T$14,vantHoff_EOS!$U$5:$U$14,vantHoff_EOS!$E$7,vantHoff_EOS!$O$27,vantHoff_EOS!$P$27,vantHoff_EOS!$Q$27,vantHoff_EOS!$R$27,vantHoff_EOS!$S$27,vantHoff_EOS!$X$5:$X$14,vantHoff_EOS!$Y$5:$Y$14,vantHoff_EOS!$Z$5:$Z$14,vantHoff_EOS!$AE$5:$AN$14,$C$2,B52*1000000)","v":0.99979604227966012},{"$f":"Ky_NS_n0i_vi_X(vantHoff_EOS!$N$19,vantHoff_EOS!$O$31:$X$31,vantHoff_EOS!$O$23:$X$23,G52)","v":8197200338631.3975},{"$f":"Kp_NS_vi_PinPa(vantHoff_EOS!$N$19,vantHoff_EOS!$O$23:$X$23,B52*1000000)","v":3.2283057851239799E-5},{"$f":"Kphi_NS_n0i_vi_X_Tci_Pci_wi_kijm_TinC_PinPa(vantHoff_EOS!$N$19,vantHoff_EOS!$O$31:$X$31,vantHoff_EOS!$O$23:$X$23,G52,vantHoff_EOS!$X$5:$X$14,vantHoff_EOS!$Y$5:$Y$14,vantHoff_EOS!$Z$5:$Z$14,vantHoff_EOS!$AE$5:$AN$14,$C$2,B52*1000000)","v":1.7796981868032477E-3},29.734813789782834,-10.340967990076299,-6.3313114870304252,{"$f":"nT_NS_n0i_vi_X(vantHoff_EOS!$N$19,vantHoff_EOS!$O$31:$X$31,vantHoff_EOS!$O$23:$X$23,G52)","v":8.3404079154406787},{"$f":"IF(O$3<=vantHoff_EOS!$N$19,y_iindex_NS_n0i_vi_X(O$3,vantHoff_EOS!$N$19,vantHoff_EOS!$O$31:$X$31,vantHoff_EOS!$O$23:$X$23,$G52),\"-\")","v":2.4454166080089053E-5},{"$f":"IF(P$3<=vantHoff_EOS!$N$19,y_iindex_NS_n0i_vi_X(P$3,vantHoff_EOS!$N$19,vantHoff_EOS!$O$31:$X$31,vantHoff_EOS!$O$23:$X$23,$G52),\"-\")","v":2.4454166080089053E-5},{"$f":"IF(Q$3<=vantHoff_EOS!$N$19,y_iindex_NS_n0i_vi_X(Q$3,vantHoff_EOS!$N$19,vantHoff_EOS!$O$31:$X$31,vantHoff_EOS!$O$23:$X$23,$G52),\"-\")","v":2.4454166080089053E-5},{"$f":"IF(R$3<=vantHoff_EOS!$N$19,y_iindex_NS_n0i_vi_X(R$3,vantHoff_EOS!$N$19,vantHoff_EOS!$O$31:$X$31,vantHoff_EOS!$O$23:$X$23,$G52),\"-\")","v":0.11987375826411655},{"$f":"IF(S$3<=vantHoff_EOS!$N$19,y_iindex_NS_n0i_vi_X(S$3,vantHoff_EOS!$N$19,vantHoff_EOS!$O$31:$X$31,vantHoff_EOS!$O$23:$X$23,$G52),\"-\")","v":0.8800528792376433},{"$f":"IF(T$3<=vantHoff_EOS!$N$19,y_iindex_NS_n0i_vi_X(T$3,vantHoff_EOS!$N$19,vantHoff_EOS!$O$31:$X$31,vantHoff_EOS!$O$23:$X$23,$G52),\"-\")","v":"-"},{"$f":"IF(U$3<=vantHoff_EOS!$N$19,y_iindex_NS_n0i_vi_X(U$3,vantHoff_EOS!$N$19,vantHoff_EOS!$O$31:$X$31,vantHoff_EOS!$O$23:$X$23,$G52),\"-\")","v":"-"},{"$f":"IF(V$3<=vantHoff_EOS!$N$19,y_iindex_NS_n0i_vi_X(V$3,vantHoff_EOS!$N$19,vantHoff_EOS!$O$31:$X$31,vantHoff_EOS!$O$23:$X$23,$G52),\"-\")","v":"-"},{"$f":"IF(W$3<=vantHoff_EOS!$N$19,y_iindex_NS_n0i_vi_X(W$3,vantHoff_EOS!$N$19,vantHoff_EOS!$O$31:$X$31,vantHoff_EOS!$O$23:$X$23,$G52),\"-\")","v":"-"},{"$f":"IF(X$3<=vantHoff_EOS!$N$19,y_iindex_NS_n0i_vi_X(X$3,vantHoff_EOS!$N$19,vantHoff_EOS!$O$31:$X$31,vantHoff_EOS!$O$23:$X$23,$G52),\"-\")","v":"-"},1,{"$f":"IF(Z$3<=vantHoff_EOS!$N$19,Phi_i_NS_Tci_Pci_wi_kijm_TinC_PinPa_yi(Z$3,vantHoff_EOS!$N$19,vantHoff_EOS!$X$5:$X$14,vantHoff_EOS!$Y$5:$Y$14,vantHoff_EOS!$Z$5:$Z$14,vantHoff_EOS!$AE$5:$AN$14,$C$2,B52*1000000,$O52:$X52),\"-\")","v":3.5510780985973014},{"$f":"IF(AA$3<=vantHoff_EOS!$N$19,Phi_i_NS_Tci_Pci_wi_kijm_TinC_PinPa_yi(AA$3,vantHoff_EOS!$N$19,vantHoff_EOS!$X$5:$X$14,vantHoff_EOS!$Y$5:$Y$14,vantHoff_EOS!$Z$5:$Z$14,vantHoff_EOS!$AE$5:$AN$14,$C$2,B52*1000000,$O52:$X52),\"-\")","v":5.7315137943182455},{"$f":"IF(AB$3<=vantHoff_EOS!$N$19,Phi_i_NS_Tci_Pci_wi_kijm_TinC_PinPa_yi(AB$3,vantHoff_EOS!$N$19,vantHoff_EOS!$X$5:$X$14,vantHoff_EOS!$Y$5:$Y$14,vantHoff_EOS!$Z$5:$Z$14,vantHoff_EOS!$AE$5:$AN$14,$C$2,B52*1000000,$O52:$X52),\"-\")","v":0.13920727813851411},{"$f":"IF(AC$3<=vantHoff_EOS!$N$19,Phi_i_NS_Tci_Pci_wi_kijm_TinC_PinPa_yi(AC$3,vantHoff_EOS!$N$19,vantHoff_EOS!$X$5:$X$14,vantHoff_EOS!$Y$5:$Y$14,vantHoff_EOS!$Z$5:$Z$14,vantHoff_EOS!$AE$5:$AN$14,$C$2,B52*1000000,$O52:$X52),\"-\")","v":5.0424066369027347E-3},{"$f":"IF(AD$3<=vantHoff_EOS!$N$19,Phi_i_NS_Tci_Pci_wi_kijm_TinC_PinPa_yi(AD$3,vantHoff_EOS!$N$19,vantHoff_EOS!$X$5:$X$14,vantHoff_EOS!$Y$5:$Y$14,vantHoff_EOS!$Z$5:$Z$14,vantHoff_EOS!$AE$5:$AN$14,$C$2,B52*1000000,$O52:$X52),\"-\")","v":0.42994174312452083},{"$f":"IF(AE$3<=vantHoff_EOS!$N$19,Phi_i_NS_Tci_Pci_wi_kijm_TinC_PinPa_yi(AE$3,vantHoff_EOS!$N$19,vantHoff_EOS!$X$5:$X$14,vantHoff_EOS!$Y$5:$Y$14,vantHoff_EOS!$Z$5:$Z$14,vantHoff_EOS!$AE$5:$AN$14,$C$2,B52*1000000,$O52:$X52),\"-\")","v":"-"},{"$f":"IF(AF$3<=vantHoff_EOS!$N$19,Phi_i_NS_Tci_Pci_wi_kijm_TinC_PinPa_yi(AF$3,vantHoff_EOS!$N$19,vantHoff_EOS!$X$5:$X$14,vantHoff_EOS!$Y$5:$Y$14,vantHoff_EOS!$Z$5:$Z$14,vantHoff_EOS!$AE$5:$AN$14,$C$2,B52*1000000,$O52:$X52),\"-\")","v":"-"},{"$f":"IF(AG$3<=vantHoff_EOS!$N$19,Phi_i_NS_Tci_Pci_wi_kijm_TinC_PinPa_yi(AG$3,vantHoff_EOS!$N$19,vantHoff_EOS!$X$5:$X$14,vantHoff_EOS!$Y$5:$Y$14,vantHoff_EOS!$Z$5:$Z$14,vantHoff_EOS!$AE$5:$AN$14,$C$2,B52*1000000,$O52:$X52),\"-\")","v":"-"},{"$f":"IF(AH$3<=vantHoff_EOS!$N$19,Phi_i_NS_Tci_Pci_wi_kijm_TinC_PinPa_yi(AH$3,vantHoff_EOS!$N$19,vantHoff_EOS!$X$5:$X$14,vantHoff_EOS!$Y$5:$Y$14,vantHoff_EOS!$Z$5:$Z$14,vantHoff_EOS!$AE$5:$AN$14,$C$2,B52*1000000,$O52:$X52),\"-\")","v":"-"},{"$f":"IF(AI$3<=vantHoff_EOS!$N$19,Phi_i_NS_Tci_Pci_wi_kijm_TinC_PinPa_yi(AI$3,vantHoff_EOS!$N$19,vantHoff_EOS!$X$5:$X$14,vantHoff_EOS!$Y$5:$Y$14,vantHoff_EOS!$Z$5:$Z$14,vantHoff_EOS!$AE$5:$AN$14,$C$2,B52*1000000,$O52:$X52),\"-\")","v":"-"}]
[50,{"$f":"B52+vantHoff_EOS!$E$26","v":17.799999999999965},320.14999999999998,3.1235358425737939E-3,{"$f":"lnKaT_Tref_lnKaTref_dHTref_da_db_dc_dd_de_TinC(vantHoff_EOS!$E$7,vantHoff_EOS!$B$9,vantHoff_EOS!$B$6,vantHoff_EOS!$O$27,vantHoff_EOS!$P$27,vantHoff_EOS!$Q$27,vantHoff_EOS!$R$27,vantHoff_EOS!$S$27,$C$2)","v":13.062534312676297},470962.76406017854,{"$f":"MolarExtentX_NS_vi_n0i_dHfi_dGfi_TrefinC_da_db_dc_dd_de_Tci_Pci_wi_kijm_TinC_PinPa(vantHoff_EOS!$N$19,vantHoff_EOS!$O$23:$X$23,vantHoff_EOS!$O$31:$X$31,vantHoff_EOS!$T$5:$T$14,vantHoff_EOS!$U$5:$U$14,vantHoff_EOS!$E$7,vantHoff_EOS!$O$27,vantHoff_EOS!$P$27,vantHoff_EOS!$Q$27,vantHoff_EOS!$R$27,vantHoff_EOS!$S$27,vantHoff_EOS!$X$5:$X$14,vantHoff_EOS!$Y$5:$Y$14,vantHoff_EOS!$Z$5:$Z$14,vantHoff_EOS!$AE$5:$AN$14,$C$2,B53*1000000)","v":0.99979697421577918},{"$f":"Ky_NS_n0i_vi_X(vantHoff_EOS!$N$19,vantHoff_EOS!$O$31:$X$31,vantHoff_EOS!$O$23:$X$23,G53)","v":8310604549739.873},{"$f":"Kp_NS_vi_PinPa(vantHoff_EOS!$N$19,vantHoff_EOS!$O$23:$X$23,B53*1000000)","v":3.1561671506123091E-5},{"$f":"Kphi_NS_n0i_vi_X_Tci_Pci_wi_kijm_TinC_PinPa(vantHoff_EOS!$N$19,vantHoff_EOS!$O$31:$X$31,vantHoff_EOS!$O$23:$X$23,G53,vantHoff_EOS!$X$5:$X$14,vantHoff_EOS!$Y$5:$Y$14,vantHoff_EOS!$Z$5:$Z$14,vantHoff_EOS!$AE$5:$AN$14,$C$2,B53*1000000)","v":1.7955353460964965E-3},29.74855347181763,-10.363567100584167,-6.322452058556788,{"$f":"nT_NS_n0i_vi_X(vantHoff_EOS!$N$19,vantHoff_EOS!$O$31:$X$31,vantHoff_EOS!$O$23:$X$23,G53)","v":8.3404060515684417},{"$f":"IF(O$3<=vantHoff_EOS!$N$19,y_iindex_NS_n0i_vi_X(O$3,vantHoff_EOS!$N$19,vantHoff_EOS!$O$31:$X$31,vantHoff_EOS!$O$23:$X$23,$G53),\"-\")","v":2.4342434045239686E-5},{"$f":"IF(P$3<=vantHoff_EOS!$N$19,y_iindex_NS_n0i_vi_X(P$3,vantHoff_EOS!$N$19,vantHoff_EOS!$O$31:$X$31,vantHoff_EOS!$O$23:$X$23,$G53),\"-\")","v":2.4342434045239686E-5},{"$f":"IF(Q$3<=vantHoff_EOS!$N$19,y_iindex_NS_n0i_vi_X(Q$3,vantHoff_EOS!$N$19,vantHoff_EOS!$O$31:$X$31,vantHoff_EOS!$O$23:$X$23,$G53),\"-\")","v":2.4342434045239686E-5},{"$f":"IF(R$3<=vantHoff_EOS!$N$19,y_iindex_NS_n0i_vi_X(R$3,vantHoff_EOS!$N$19,vantHoff_EOS!$O$31:$X$31,vantHoff_EOS!$O$23:$X$23,$G53),\"-\")","v":0.11987389679040435},{"$f":"IF(S$3<=vantHoff_EOS!$N$19,y_iindex_NS_n0i_vi_X(S$3,vantHoff_EOS!$N$19,vantHoff_EOS!$O$31:$X$31,vantHoff_EOS!$O$23:$X$23,$G53),\"-\")","v":0.88005307590745996},{"$f":"IF(T$3<=vantHoff_EOS!$N$19,y_iindex_NS_n0i_vi_X(T$3,vantHoff_EOS!$N$19,vantHoff_EOS!$O$31:$X$31,vantHoff_EOS!$O$23:$X$23,$G53),\"-\")","v":"-"},{"$f":"IF(U$3<=vantHoff_EOS!$N$19,y_iindex_NS_n0i_vi_X(U$3,vantHoff_EOS!$N$19,vantHoff_EOS!$O$31:$X$31,vantHoff_EOS!$O$23:$X$23,$G53),\"-\")","v":"-"},{"$f":"IF(V$3<=vantHoff_EOS!$N$19,y_iindex_NS_n0i_vi_X(V$3,vantHoff_EOS!$N$19,vantHoff_EOS!$O$31:$X$31,vantHoff_EOS!$O$23:$X$23,$G53),\"-\")","v":"-"},{"$f":"IF(W$3<=vantHoff_EOS!$N$19,y_iindex_NS_n0i_vi_X(W$3,vantHoff_EOS!$N$19,vantHoff_EOS!$O$31:$X$31,vantHoff_EOS!$O$23:$X$23,$G53),\"-\")","v":"-"},{"$f":"IF(X$3<=vantHoff_EOS!$N$19,y_iindex_NS_n0i_vi_X(X$3,vantHoff_EOS!$N$19,vantHoff_EOS!$O$31:$X$31,vantHoff_EOS!$O$23:$X$23,$G53),\"-\")","v":"-"},1,{"$f":"IF(Z$3<=vantHoff_EOS!$N$19,Phi_i_NS_Tci_Pci_wi_kijm_TinC_PinPa_yi(Z$3,vantHoff_EOS!$N$19,vantHoff_EOS!$X$5:$X$14,vantHoff_EOS!$Y$5:$Y$14,vantHoff_EOS!$Z$5:$Z$14,vantHoff_EOS!$AE$5:$AN$14,$C$2,B53*1000000,$O53:$X53),\"-\")","v":3.5355797881684548},{"$f":"IF(AA$3<=vantHoff_EOS!$N$19,Phi_i_NS_Tci_Pci_wi_kijm_TinC_PinPa_yi(AA$3,vantHoff_EOS!$N$19,vantHoff_EOS!$X$5:$X$14,vantHoff_EOS!$Y$5:$Y$14,vantHoff_EOS!$Z$5:$Z$14,vantHoff_EOS!$AE$5:$AN$14,$C$2,B53*1000000,$O53:$X53),\"-\")","v":5.70418016358812},{"$f":"IF(AB$3<=vantHoff_EOS!$N$19,Phi_i_NS_Tci_Pci_wi_kijm_TinC_PinPa_yi(AB$3,vantHoff_EOS!$N$19,vantHoff_EOS!$X$5:$X$14,vantHoff_EOS!$Y$5:$Y$14,vantHoff_EOS!$Z$5:$Z$14,vantHoff_EOS!$AE$5:$AN$14,$C$2,B53*1000000,$O53:$X53),\"-\")","v":0.1384417749205373},{"$f":"IF(AC$3<=vantHoff_EOS!$N$19,Phi_i_NS_Tci_Pci_wi_kijm_TinC_PinPa_yi(AC$3,vantHoff_EOS!$N$19,vantHoff_EOS!$X$5:$X$14,vantHoff_EOS!$Y$5:$Y$14,vantHoff_EOS!$Z$5:$Z$14,vantHoff_EOS!$AE$5:$AN$14,$C$2,B53*1000000,$O53:$X53),\"-\")","v":5.0131995731698556E-3},{"$f":"IF(AD$3<=vantHoff_EOS!$N$19,Phi_i_NS_Tci_Pci_wi_kijm_TinC_PinPa_yi(AD$3,vantHoff_EOS!$N$19,vantHoff_EOS!$X$5:$X$14,vantHoff_EOS!$Y$5:$Y$14,vantHoff_EOS!$Z$5:$Z$14,vantHoff_EOS!$AE$5:$AN$14,$C$2,B53*1000000,$O53:$X53),\"-\")","v":0.4268761127557647},{"$f":"IF(AE$3<=vantHoff_EOS!$N$19,Phi_i_NS_Tci_Pci_wi_kijm_TinC_PinPa_yi(AE$3,vantHoff_EOS!$N$19,vantHoff_EOS!$X$5:$X$14,vantHoff_EOS!$Y$5:$Y$14,vantHoff_EOS!$Z$5:$Z$14,vantHoff_EOS!$AE$5:$AN$14,$C$2,B53*1000000,$O53:$X53),\"-\")","v":"-"},{"$f":"IF(AF$3<=vantHoff_EOS!$N$19,Phi_i_NS_Tci_Pci_wi_kijm_TinC_PinPa_yi(AF$3,vantHoff_EOS!$N$19,vantHoff_EOS!$X$5:$X$14,vantHoff_EOS!$Y$5:$Y$14,vantHoff_EOS!$Z$5:$Z$14,vantHoff_EOS!$AE$5:$AN$14,$C$2,B53*1000000,$O53:$X53),\"-\")","v":"-"},{"$f":"IF(AG$3<=vantHoff_EOS!$N$19,Phi_i_NS_Tci_Pci_wi_kijm_TinC_PinPa_yi(AG$3,vantHoff_EOS!$N$19,vantHoff_EOS!$X$5:$X$14,vantHoff_EOS!$Y$5:$Y$14,vantHoff_EOS!$Z$5:$Z$14,vantHoff_EOS!$AE$5:$AN$14,$C$2,B53*1000000,$O53:$X53),\"-\")","v":"-"},{"$f":"IF(AH$3<=vantHoff_EOS!$N$19,Phi_i_NS_Tci_Pci_wi_kijm_TinC_PinPa_yi(AH$3,vantHoff_EOS!$N$19,vantHoff_EOS!$X$5:$X$14,vantHoff_EOS!$Y$5:$Y$14,vantHoff_EOS!$Z$5:$Z$14,vantHoff_EOS!$AE$5:$AN$14,$C$2,B53*1000000,$O53:$X53),\"-\")","v":"-"},{"$f":"IF(AI$3<=vantHoff_EOS!$N$19,Phi_i_NS_Tci_Pci_wi_kijm_TinC_PinPa_yi(AI$3,vantHoff_EOS!$N$19,vantHoff_EOS!$X$5:$X$14,vantHoff_EOS!$Y$5:$Y$14,vantHoff_EOS!$Z$5:$Z$14,vantHoff_EOS!$AE$5:$AN$14,$C$2,B53*1000000,$O53:$X53),\"-\")","v":"-"}]
[]
[]
[]
[]
[]
[null,"T [C]",{"$f":"vantHoff_EOS!$E$29","v":60},{"$f":"TEXT(C59,\"????.?\")&\" C\"","v":"  60.  C"},null,null,null,null,null,null,null,null,null,null,null,null,"Mole fraction y",null,null,null,null,null,null,null,null,null,null,null,"Fugacity coefficients"]
[null,"P [MPa]","T [K]","1/T [1/K]","ln Ka_T","Ka_T","X","Ky","Kp","Kphi","ln Ky","ln Kp","ln Kphi (T2)","nT [mol]",1,2,3,4,5,6,7,8,9,10,"Sum y",1,2,3,4,5,6,7,8,9,10]
[1,{"$f":"vantHoff_EOS!$E$30","v":8},{"$f":"$C$59+273.15","v":333.15},{"$f":"1/C61","v":3.0016509079993999E-3},{"$f":"lnKaT_Tref_lnKaTref_dHTref_da_db_dc_dd_de_TinC(vantHoff_EOS!$E$7,vantHoff_EOS!$B$9,vantHoff_EOS!$B$6,vantHoff_EOS!$O$27,vantHoff_EOS!$P$27,vantHoff_EOS!$Q$27,vantHoff_EOS!$R$27,vantHoff_EOS!$S$27,$C$59)","v":11.370905491151026},{"$f":"EXP(E61)","v":86760.392694887007},{"$f":"MolarExtentX_NS_vi_n0i_dHfi_dGfi_TrefinC_da_db_dc_dd_de_Tci_Pci_wi_kijm_TinC_PinPa(vantHoff_EOS!$N$19,vantHoff_EOS!$O$23:$X$23,vantHoff_EOS!$O$31:$X$31,vantHoff_EOS!$T$5:$T$14,vantHoff_EOS!$U$5:$U$14,vantHoff_EOS!$E$7,vantHoff_EOS!$O$27,vantHoff_EOS!$P$27,vantHoff_EOS!$Q$27,vantHoff_EOS!$R$27,vantHoff_EOS!$S$27,vantHoff_EOS!$X$5:$X$14,vantHoff_EOS!$Y$5:$Y$14,vantHoff_EOS!$Z$5:$Z$14,vantHoff_EOS!$AE$5:$AN$14,$C$59,B61*1000000)","v":0.9993036173353943},{"$f":"Ky_NS_n0i_vi_X(vantHoff_EOS!$N$19,vantHoff_EOS!$O$31:$X$31,vantHoff_EOS!$O$23:$X$23,G61)","v":205887863552.27176},{"$f":"Kp_NS_vi_PinPa(vantHoff_EOS!$N$19,vantHoff_EOS!$O$23:$X$23,B61*1000000)","v":1.5625000000000003E-4},{"$f":"Kphi_NS_n0i_vi_X_Tci_Pci_wi_kijm_TinC_PinPa(vantHoff_EOS!$N$19,vantHoff_EOS!$O$31:$X$31,vantHoff_EOS!$O$23:$X$23,G61,vantHoff_EOS!$X$5:$X$14,vantHoff_EOS!$Y$5:$Y$14,vantHoff_EOS!$Z$5:$Z$14,vantHoff_EOS!$AE$5:$AN$14,$C$59,B61*1000000)","v":2.696936441682291E-3},{"$f":"LN(H61)","v":26.050597505834823},{"$f":"LN(I61)","v":-8.7640532693477624},{"$f":"LN(J61)","v":-5.9156388014046843},{"$f":"nT_NS_n0i_vi_X(vantHoff_EOS!$N$19,vantHoff_EOS!$O$31:$X$31,vantHoff_EOS!$O$23:$X$23,G61)","v":8.3413927653292106},{"$f":"IF(O$60<=vantHoff_EOS!$N$19,y_iindex_NS_n0i_vi_X(O$3,vantHoff_EOS!$N$19,vantHoff_EOS!$O$31:$X$31,vantHoff_EOS!$O$23:$X$23,$G61),\"-\")","v":8.3485178578354E-5},{"$f":"IF(P$60<=vantHoff_EOS!$N$19,y_iindex_NS_n0i_vi_X(P$3,vantHoff_EOS!$N$19,vantHoff_EOS!$O$31:$X$31,vantHoff_EOS!$O$23:$X$23,$G61),\"-\")","v":8.3485178578354E-5},{"$f":"IF(Q$60<=vantHoff_EOS!$N$19,y_iindex_NS_n0i_vi_X(Q$3,vantHoff_EOS!$N$19,vantHoff_EOS!$O$31:$X$31,vantHoff_EOS!$O$23:$X$23,$G61),\"-\")","v":8.3485178578354E-5},{"$f":"IF(R$60<=vantHoff_EOS!$N$19,y_iindex_NS_n0i_vi_X(R$3,vantHoff_EOS!$N$19,vantHoff_EOS!$O$31:$X$31,vantHoff_EOS!$O$23:$X$23,$G61),\"-\")","v":0.11980057113351318},{"$f":"IF(S$60<=vantHoff_EOS!$N$19,y_iindex_NS_n0i_vi_X(S$3,vantHoff_EOS!$N$19,vantHoff_EOS!$O$31:$X$31,vantHoff_EOS!$O$23:$X$23,$G61),\"-\")","v":0.87994897333075184},{"$f":"IF(T$60<=vantHoff_EOS!$N$19,y_iindex_NS_n0i_vi_X(T$3,vantHoff_EOS!$N$19,vantHoff_EOS!$O$31:$X$31,vantHoff_EOS!$O$23:$X$23,$G61),\"-\")","v":"-"},{"$f":"IF(U$60<=vantHoff_EOS!$N$19,y_iindex_NS_n0i_vi_X(U$3,vantHoff_EOS!$N$19,vantHoff_EOS!$O$31:$X$31,vantHoff_EOS!$O$23:$X$23,$G61),\"-\")","v":"-"},{"$f":"IF(V$60<=vantHoff_EOS!$N$19,y_iindex_NS_n0i_vi_X(V$3,vantHoff_EOS!$N$19,vantHoff_EOS!$O$31:$X$31,vantHoff_EOS!$O$23:$X$23,$G61),\"-\")","v":"-"},{"$f":"IF(W$60<=vantHoff_EOS!$N$19,y_iindex_NS_n0i_vi_X(W$3,vantHoff_EOS!$N$19,vantHoff_EOS!$O$31:$X$31,vantHoff_EOS!$O$23:$X$23,$G61),\"-\")","v":"-"},{"$f":"IF(X$60<=vantHoff_EOS!$N$19,y_iindex_NS_n0i_vi_X(X$3,vantHoff_EOS!$N$19,vantHoff_EOS!$O$31:$X$31,vantHoff_EOS!$O$23:$X$23,$G61),\"-\")","v":"-"},{"$f":"SUM(O61:X61)","v":1},{"$f":"IF(Z$60<=vantHoff_EOS!$N$19,Phi_i_NS_Tci_Pci_wi_kijm_TinC_PinPa_yi(Z$3,vantHoff_EOS!$N$19,vantHoff_EOS!$X$5:$X$14,vantHoff_EOS!$Y$5:$Y$14,vantHoff_EOS!$Z$5:$Z$14,vantHoff_EOS!$AE$5:$AN$14,$C$59,B61*1000000,$O61:$X61),\"-\")","v":3.9940751629984708},{"$f":"IF(AA$60<=vantHoff_EOS!$N$19,Phi_i_NS_Tci_Pci_wi_kijm_TinC_PinPa_yi(AA$3,vantHoff_EOS!$N$19,vantHoff_EOS!$X$5:$X$14,vantHoff_EOS!$Y$5:$Y$14,vantHoff_EOS!$Z$5:$Z$14,vantHoff_EOS!$AE$5:$AN$14,$C$59,B61*1000000,$O61:$X61),\"-\")","v":6.0024092096562809},{"$f":"IF(AB$60<=vantHoff_EOS!$N$19,Phi_i_NS_Tci_Pci_wi_kijm_TinC_PinPa_yi(AB$3,vantHoff_EOS!$N$19,vantHoff_EOS!$X$5:$X$14,vantHoff_EOS!$Y$5:$Y$14,vantHoff_EOS!$Z$5:$Z$14,vantHoff_EOS!$AE$5:$AN$14,$C$59,B61*1000000,$O61:$X61),\"-\")","v":0.28699146403756032},{"$f":"IF(AC$60<=vantHoff_EOS!$N$19,Phi_i_NS_Tci_Pci_wi_kijm_TinC_PinPa_yi(AC$3,vantHoff_EOS!$N$19,vantHoff_EOS!$X$5:$X$14,vantHoff_EOS!$Y$5:$Y$14,vantHoff_EOS!$Z$5:$Z$14,vantHoff_EOS!$AE$5:$AN$14,$C$59,B61*1000000,$O61:$X61),\"-\")","v":1.8555878688051704E-2},{"$f":"IF(AD$60<=vantHoff_EOS!$N$19,Phi_i_NS_Tci_Pci_wi_kijm_TinC_PinPa_yi(AD$3,vantHoff_EOS!$N$19,vantHoff_EOS!$X$5:$X$14,vantHoff_EOS!$Y$5:$Y$14,vantHoff_EOS!$Z$5:$Z$14,vantHoff_EOS!$AE$5:$AN$14,$C$59,B61*1000000,$O61:$X61),\"-\")","v":0.83931312938458924},{"$f":"IF(AE$60<=vantHoff_EOS!$N$19,Phi_i_NS_Tci_Pci_wi_kijm_TinC_PinPa_yi(AE$3,vantHoff_EOS!$N$19,vantHoff_EOS!$X$5:$X$14,vantHoff_EOS!$Y$5:$Y$14,vantHoff_EOS!$Z$5:$Z$14,vantHoff_EOS!$AE$5:$AN$14,$C$59,B61*1000000,$O61:$X61),\"-\")","v":"-"},{"$f":"IF(AF$60<=vantHoff_EOS!$N$19,Phi_i_NS_Tci_Pci_wi_kijm_TinC_PinPa_yi(AF$3,vantHoff_EOS!$N$19,vantHoff_EOS!$X$5:$X$14,vantHoff_EOS!$Y$5:$Y$14,vantHoff_EOS!$Z$5:$Z$14,vantHoff_EOS!$AE$5:$AN$14,$C$59,B61*1000000,$O61:$X61),\"-\")","v":"-"},{"$f":"IF(AG$60<=vantHoff_EOS!$N$19,Phi_i_NS_Tci_Pci_wi_kijm_TinC_PinPa_yi(AG$3,vantHoff_EOS!$N$19,vantHoff_EOS!$X$5:$X$14,vantHoff_EOS!$Y$5:$Y$14,vantHoff_EOS!$Z$5:$Z$14,vantHoff_EOS!$AE$5:$AN$14,$C$59,B61*1000000,$O61:$X61),\"-\")","v":"-"},{"$f":"IF(AH$60<=vantHoff_EOS!$N$19,Phi_i_NS_Tci_Pci_wi_kijm_TinC_PinPa_yi(AH$3,vantHoff_EOS!$N$19,vantHoff_EOS!$X$5:$X$14,vantHoff_EOS!$Y$5:$Y$14,vantHoff_EOS!$Z$5:$Z$14,vantHoff_EOS!$AE$5:$AN$14,$C$59,B61*1000000,$O61:$X61),\"-\")","v":"-"},{"$f":"IF(AI$60<=vantHoff_EOS!$N$19,Phi_i_NS_Tci_Pci_wi_kijm_TinC_PinPa_yi(AI$3,vantHoff_EOS!$N$19,vantHoff_EOS!$X$5:$X$14,vantHoff_EOS!$Y$5:$Y$14,vantHoff_EOS!$Z$5:$Z$14,vantHoff_EOS!$AE$5:$AN$14,$C$59,B61*1000000,$O61:$X61),\"-\")","v":"-"}]
[2,{"$f":"B61+vantHoff_EOS!$E$31","v":8.1999999999999993},{"$f":"$C$59+273.15","v":333.15},{"$f":"1/C62","v":3.0016509079993999E-3},{"$f":"lnKaT_Tref_lnKaTref_dHTref_da_db_dc_dd_de_TinC(vantHoff_EOS!$E$7,vantHoff_EOS!$B$9,vantHoff_EOS!$B$6,vantHoff_EOS!$O$27,vantHoff_EOS!$P$27,vantHoff_EOS!$Q$27,vantHoff_EOS!$R$27,vantHoff_EOS!$S$27,$C$59)","v":11.370905491151026},{"$f":"EXP(E62)","v":86760.392694887007},{"$f":"MolarExtentX_NS_vi_n0i_dHfi_dGfi_TrefinC_da_db_dc_dd_de_Tci_Pci_wi_kijm_TinC_PinPa(vantHoff_EOS!$N$19,vantHoff_EOS!$O$23:$X$23,vantHoff_EOS!$O$31:$X$31,vantHoff_EOS!$T$5:$T$14,vantHoff_EOS!$U$5:$U$14,vantHoff_EOS!$E$7,vantHoff_EOS!$O$27,vantHoff_EOS!$P$27,vantHoff_EOS!$Q$27,vantHoff_EOS!$R$27,vantHoff_EOS!$S$27,vantHoff_EOS!$X$5:$X$14,vantHoff_EOS!$Y$5:$Y$14,vantHoff_EOS!$Z$5:$Z$14,vantHoff_EOS!$AE$5:$AN$14,$C$59,B62*1000000)","v":0.999317954398807},{"$f":"Ky_NS_n0i_vi_X(vantHoff_EOS!$N$19,vantHoff_EOS!$O$31:$X$31,vantHoff_EOS!$O$23:$X$23,G62)","v":219148049438.60394},{"$f":"Kp_NS_vi_PinPa(vantHoff_EOS!$N$19,vantHoff_EOS!$O$23:$X$23,B62*1000000)","v":1.4872099940511606E-4},{"$f":"Kphi_NS_n0i_vi_X_Tci_Pci_wi_kijm_TinC_PinPa(vantHoff_EOS!$N$19,vantHoff_EOS!$O$31:$X$31,vantHoff_EOS!$O$23:$X$23,G62,vantHoff_EOS!$X$5:$X$14,vantHoff_EOS!$Y$5:$Y$14,vantHoff_EOS!$Z$5:$Z$14,vantHoff_EOS!$AE$5:$AN$14,$C$59,B62*1000000)","v":2.6620216548277399E-3},{"$f":"LN(H62)","v":26.113013363194863},-8.8134384945285067,-5.9286694242460083,{"$f":"nT_NS_n0i_vi_X(vantHoff_EOS!$N$19,vantHoff_EOS!$O$31:$X$31,vantHoff_EOS!$O$23:$X$23,G62)","v":8.3413640912023865},{"$f":"IF(O$60<=vantHoff_EOS!$N$19,y_iindex_NS_n0i_vi_X(O$3,vantHoff_EOS!$N$19,vantHoff_EOS!$O$31:$X$31,vantHoff_EOS!$O$23:$X$23,$G62),\"-\")","v":8.1766674339555064E-5},{"$f":"IF(P$60<=vantHoff_EOS!$N$19,y_iindex_NS_n0i_vi_X(P$3,vantHoff_EOS!$N$19,vantHoff_EOS!$O$31:$X$31,vantHoff_EOS!$O$23:$X$23,$G62),\"-\")","v":8.1766674339555064E-5},{"$f":"IF(Q$60<=vantHoff_EOS!$N$19,y_iindex_NS_n0i_vi_X(Q$3,vantHoff_EOS!$N$19,vantHoff_EOS!$O$31:$X$31,vantHoff_EOS!$O$23:$X$23,$G62),\"-\")","v":8.1766674339555064E-5},{"$f":"IF(R$60<=vantHoff_EOS!$N$19,y_iindex_NS_n0i_vi_X(R$3,vantHoff_EOS!$N$19,vantHoff_EOS!$O$31:$X$31,vantHoff_EOS!$O$23:$X$23,$G62),\"-\")","v":0.11980270174908021},{"$f":"IF(S$60<=vantHoff_EOS!$N$19,y_iindex_NS_n0i_vi_X(S$3,vantHoff_EOS!$N$19,vantHoff_EOS!$O$31:$X$31,vantHoff_EOS!$O$23:$X$23,$G62),\"-\")","v":0.87995199822790104},{"$f":"IF(T$60<=vantHoff_EOS!$N$19,y_iindex_NS_n0i_vi_X(T$3,vantHoff_EOS!$N$19,vantHoff_EOS!$O$31:$X$31,vantHoff_EOS!$O$23:$X$23,$G62),\"-\")","v":"-"},{"$f":"IF(U$60<=vantHoff_EOS!$N$19,y_iindex_NS_n0i_vi_X(U$3,vantHoff_EOS!$N$19,vantHoff_EOS!$O$31:$X$31,vantHoff_EOS!$O$23:$X$23,$G62),\"-\")","v":"-"},{"$f":"IF(V$60<=vantHoff_EOS!$N$19,y_iindex_NS_n0i_vi_X(V$3,vantHoff_EOS!$N$19,vantHoff_EOS!$O$31:$X$31,vantHoff_EOS!$O$23:$X$23,$G62),\"-\")","v":"-"},{"$f":"IF(W$60<=vantHoff_EOS!$N$19,y_iindex_NS_n0i_vi_X(W$3,vantHoff_EOS!$N$19,vantHoff_EOS!$O$31:$X$31,vantHoff_EOS!$O$23:$X$23,$G62),\"-\")","v":"-"},{"$f":"IF(X$60<=vantHoff_EOS!$N$19,y_iindex_NS_n0i_vi_X(X$3,vantHoff_EOS!$N$19,vantHoff_EOS!$O$31:$X$31,vantHoff_EOS!$O$23:$X$23,$G62),\"-\")","v":"-"},{"$f":"SUM(O62:X62)","v":0.99999999999999989},{"$f":"IF(Z$60<=vantHoff_EOS!$N$19,Phi_i_NS_Tci_Pci_wi_kijm_TinC_PinPa_yi(Z$3,vantHoff_EOS!$N$19,vantHoff_EOS!$X$5:$X$14,vantHoff_EOS!$Y$5:$Y$14,vantHoff_EOS!$Z$5:$Z$14,vantHoff_EOS!$AE$5:$AN$14,$C$59,B62*1000000,$O62:$X62),\"-\")","v":3.9850369280499036},{"$f":"IF(AA$60<=vantHoff_EOS!$N$19,Phi_i_NS_Tci_Pci_wi_kijm_TinC_PinPa_yi(AA$3,vantHoff_EOS!$N$19,vantHoff_EOS!$X$5:$X$14,vantHoff_EOS!$Y$5:$Y$14,vantHoff_EOS!$Z$5:$Z$14,vantHoff_EOS!$AE$5:$AN$14,$C$59,B62*1000000,$O62:$X62),\"-\")","v":5.9972860940823267},{"$f":"IF(AB$60<=vantHoff_EOS!$N$19,Phi_i_NS_Tci_Pci_wi_kijm_TinC_PinPa_yi(AB$3,vantHoff_EOS!$N$19,vantHoff_EOS!$X$5:$X$14,vantHoff_EOS!$Y$5:$Y$14,vantHoff_EOS!$Z$5:$Z$14,vantHoff_EOS!$AE$5:$AN$14,$C$59,B62*1000000,$O62:$X62),\"-\")","v":0.28141892440366667},{"$f":"IF(AC$60<=vantHoff_EOS!$N$19,Phi_i_NS_Tci_Pci_wi_kijm_TinC_PinPa_yi(AC$3,vantHoff_EOS!$N$19,vantHoff_EOS!$X$5:$X$14,vantHoff_EOS!$Y$5:$Y$14,vantHoff_EOS!$Z$5:$Z$14,vantHoff_EOS!$AE$5:$AN$14,$C$59,B62*1000000,$O62:$X62),\"-\")","v":1.7904079596269332E-2},{"$f":"IF(AD$60<=vantHoff_EOS!$N$19,Phi_i_NS_Tci_Pci_wi_kijm_TinC_PinPa_yi(AD$3,vantHoff_EOS!$N$19,vantHoff_EOS!$X$5:$X$14,vantHoff_EOS!$Y$5:$Y$14,vantHoff_EOS!$Z$5:$Z$14,vantHoff_EOS!$AE$5:$AN$14,$C$59,B62*1000000,$O62:$X62),\"-\")","v":0.82536270192214622},{"$f":"IF(AE$60<=vantHoff_EOS!$N$19,Phi_i_NS_Tci_Pci_wi_kijm_TinC_PinPa_yi(AE$3,vantHoff_EOS!$N$19,vantHoff_EOS!$X$5:$X$14,vantHoff_EOS!$Y$5:$Y$14,vantHoff_EOS!$Z$5:$Z$14,vantHoff_EOS!$AE$5:$AN$14,$C$59,B62*1000000,$O62:$X62),\"-\")","v":"-"},{"$f":"IF(AF$60<=vantHoff_EOS!$N$19,Phi_i_NS_Tci_Pci_wi_kijm_TinC_PinPa_yi(AF$3,vantHoff_EOS!$N$19,vantHoff_EOS!$X$5:$X$14,vantHoff_EOS!$Y$5:$Y$14,vantHoff_EOS!$Z$5:$Z$14,vantHoff_EOS!$AE$5:$AN$14,$C$59,B62*1000000,$O62:$X62),\"-\")","v":"-"},{"$f":"IF(AG$60<=vantHoff_EOS!$N$19,Phi_i_NS_Tci_Pci_wi_kijm_TinC_PinPa_yi(AG$3,vantHoff_EOS!$N$19,vantHoff_EOS!$X$5:$X$14,vantHoff_EOS!$Y$5:$Y$14,vantHoff_EOS!$Z$5:$Z$14,vantHoff_EOS!$AE$5:$AN$14,$C$59,B62*1000000,$O62:$X62),\"-\")","v":"-"},{"$f":"IF(AH$60<=vantHoff_EOS!$N$19,Phi_i_NS_Tci_Pci_wi_kijm_TinC_PinPa_yi(AH$3,vantHoff_EOS!$N$19,vantHoff_EOS!$X$5:$X$14,vantHoff_EOS!$Y$5:$Y$14,vantHoff_EOS!$Z$5:$Z$14,vantHoff_EOS!$AE$5:$AN$14,$C$59,B62*1000000,$O62:$X62),\"-\")","v":"-"},{"$f":"IF(AI$60<=vantHoff_EOS!$N$19,Phi_i_NS_Tci_Pci_wi_kijm_TinC_PinPa_yi(AI$3,vantHoff_EOS!$N$19,vantHoff_EOS!$X$5:$X$14,vantHoff_EOS!$Y$5:$Y$14,vantHoff_EOS!$Z$5:$Z$14,vantHoff_EOS!$AE$5:$AN$14,$C$59,B62*1000000,$O62:$X62),\"-\")","v":"-"}]
[3,{"$f":"B62+vantHoff_EOS!$E$31","v":8.3999999999999986},333.15,3.0016509079993999E-3,{"$f":"lnKaT_Tref_lnKaTref_dHTref_da_db_dc_dd_de_TinC(vantHoff_EOS!$E$7,vantHoff_EOS!$B$9,vantHoff_EOS!$B$6,vantHoff_EOS!$O$27,vantHoff_EOS!$P$27,vantHoff_EOS!$Q$27,vantHoff_EOS!$R$27,vantHoff_EOS!$S$27,$C$59)","v":11.370905491151026},86760.392694887007,{"$f":"MolarExtentX_NS_vi_n0i_dHfi_dGfi_TrefinC_da_db_dc_dd_de_Tci_Pci_wi_kijm_TinC_PinPa(vantHoff_EOS!$N$19,vantHoff_EOS!$O$23:$X$23,vantHoff_EOS!$O$31:$X$31,vantHoff_EOS!$T$5:$T$14,vantHoff_EOS!$U$5:$U$14,vantHoff_EOS!$E$7,vantHoff_EOS!$O$27,vantHoff_EOS!$P$27,vantHoff_EOS!$Q$27,vantHoff_EOS!$R$27,vantHoff_EOS!$S$27,vantHoff_EOS!$X$5:$X$14,vantHoff_EOS!$Y$5:$Y$14,vantHoff_EOS!$Z$5:$Z$14,vantHoff_EOS!$AE$5:$AN$14,$C$59,B63*1000000)","v":0.99933106034545194},{"$f":"Ky_NS_n0i_vi_X(vantHoff_EOS!$N$19,vantHoff_EOS!$O$31:$X$31,vantHoff_EOS!$O$23:$X$23,G63)","v":232284370053.36243},{"$f":"Kp_NS_vi_PinPa(vantHoff_EOS!$N$19,vantHoff_EOS!$O$23:$X$23,B63*1000000)","v":1.4172335600907035E-4},{"$f":"Kphi_NS_n0i_vi_X_Tci_Pci_wi_kijm_TinC_PinPa(vantHoff_EOS!$N$19,vantHoff_EOS!$O$31:$X$31,vantHoff_EOS!$O$23:$X$23,G63,vantHoff_EOS!$X$5:$X$14,vantHoff_EOS!$Y$5:$Y$14,vantHoff_EOS!$Z$5:$Z$14,vantHoff_EOS!$AE$5:$AN$14,$C$59,B63*1000000)","v":2.6354821307472418E-3},26.171228191003966,-8.8616335976866267,-5.9386891419055283,{"$f":"nT_NS_n0i_vi_X(vantHoff_EOS!$N$19,vantHoff_EOS!$O$31:$X$31,vantHoff_EOS!$O$23:$X$23,G63)","v":8.341337879309096},{"$f":"IF(O$60<=vantHoff_EOS!$N$19,y_iindex_NS_n0i_vi_X(O$3,vantHoff_EOS!$N$19,vantHoff_EOS!$O$31:$X$31,vantHoff_EOS!$O$23:$X$23,$G63),\"-\")","v":8.0195726899803926E-5},{"$f":"IF(P$60<=vantHoff_EOS!$N$19,y_iindex_NS_n0i_vi_X(P$3,vantHoff_EOS!$N$19,vantHoff_EOS!$O$31:$X$31,vantHoff_EOS!$O$23:$X$23,$G63),\"-\")","v":8.0195726899803926E-5},{"$f":"IF(Q$60<=vantHoff_EOS!$N$19,y_iindex_NS_n0i_vi_X(Q$3,vantHoff_EOS!$N$19,vantHoff_EOS!$O$31:$X$31,vantHoff_EOS!$O$23:$X$23,$G63),\"-\")","v":8.0195726899803926E-5},{"$f":"IF(R$60<=vantHoff_EOS!$N$19,y_iindex_NS_n0i_vi_X(R$3,vantHoff_EOS!$N$19,vantHoff_EOS!$O$31:$X$31,vantHoff_EOS!$O$23:$X$23,$G63),\"-\")","v":0.11980464942252471},{"$f":"IF(S$60<=vantHoff_EOS!$N$19,y_iindex_NS_n0i_vi_X(S$3,vantHoff_EOS!$N$19,vantHoff_EOS!$O$31:$X$31,vantHoff_EOS!$O$23:$X$23,$G63),\"-\")","v":0.87995476339677592},{"$f":"IF(T$60<=vantHoff_EOS!$N$19,y_iindex_NS_n0i_vi_X(T$3,vantHoff_EOS!$N$19,vantHoff_EOS!$O$31:$X$31,vantHoff_EOS!$O$23:$X$23,$G63),\"-\")","v":"-"},{"$f":"IF(U$60<=vantHoff_EOS!$N$19,y_iindex_NS_n0i_vi_X(U$3,vantHoff_EOS!$N$19,vantHoff_EOS!$O$31:$X$31,vantHoff_EOS!$O$23:$X$23,$G63),\"-\")","v":"-"},{"$f":"IF(V$60<=vantHoff_EOS!$N$19,y_iindex_NS_n0i_vi_X(V$3,vantHoff_EOS!$N$19,vantHoff_EOS!$O$31:$X$31,vantHoff_EOS!$O$23:$X$23,$G63),\"-\")","v":"-"},{"$f":"IF(W$60<=vantHoff_EOS!$N$19,y_iindex_NS_n0i_vi_X(W$3,vantHoff_EOS!$N$19,vantHoff_EOS!$O$31:$X$31,vantHoff_EOS!$O$23:$X$23,$G63),\"-\")","v":"-"},{"$f":"IF(X$60<=vantHoff_EOS!$N$19,y_iindex_NS_n0i_vi_X(X$3,vantHoff_EOS!$N$19,vantHoff_EOS!$O$31:$X$31,vantHoff_EOS!$O$23:$X$23,$G63),\"-\")","v":"-"},1,{"$f":"IF(Z$60<=vantHoff_EOS!$N$19,Phi_i_NS_Tci_Pci_wi_kijm_TinC_PinPa_yi(Z$3,vantHoff_EOS!$N$19,vantHoff_EOS!$X$5:$X$14,vantHoff_EOS!$Y$5:$Y$14,vantHoff_EOS!$Z$5:$Z$14,vantHoff_EOS!$AE$5:$AN$14,$C$59,B63*1000000,$O63:$X63),\"-\")","v":3.9732086848321191},{"$f":"IF(AA$60<=vantHoff_EOS!$N$19,Phi_i_NS_Tci_Pci_wi_kijm_TinC_PinPa_yi(AA$3,vantHoff_EOS!$N$19,vantHoff_EOS!$X$5:$X$14,vantHoff_EOS!$Y$5:$Y$14,vantHoff_EOS!$Z$5:$Z$14,vantHoff_EOS!$AE$5:$AN$14,$C$59,B63*1000000,$O63:$X63),\"-\")","v":5.9868939366970659},{"$f":"IF(AB$60<=vantHoff_EOS!$N$19,Phi_i_NS_Tci_Pci_wi_kijm_TinC_PinPa_yi(AB$3,vantHoff_EOS!$N$19,vantHoff_EOS!$X$5:$X$14,vantHoff_EOS!$Y$5:$Y$14,vantHoff_EOS!$Z$5:$Z$14,vantHoff_EOS!$AE$5:$AN$14,$C$59,B63*1000000,$O63:$X63),\"-\")","v":0.27615658298211687},{"$f":"IF(AC$60<=vantHoff_EOS!$N$19,Phi_i_NS_Tci_Pci_wi_kijm_TinC_PinPa_yi(AC$3,vantHoff_EOS!$N$19,vantHoff_EOS!$X$5:$X$14,vantHoff_EOS!$Y$5:$Y$14,vantHoff_EOS!$Z$5:$Z$14,vantHoff_EOS!$AE$5:$AN$14,$C$59,B63*1000000,$O63:$X63),\"-\")","v":1.7312445397050586E-2},{"$f":"IF(AD$60<=vantHoff_EOS!$N$19,Phi_i_NS_Tci_Pci_wi_kijm_TinC_PinPa_yi(AD$3,vantHoff_EOS!$N$19,vantHoff_EOS!$X$5:$X$14,vantHoff_EOS!$Y$5:$Y$14,vantHoff_EOS!$Z$5:$Z$14,vantHoff_EOS!$AE$5:$AN$14,$C$59,B63*1000000,$O63:$X63),\"-\")","v":0.81189486100112696},{"$f":"IF(AE$60<=vantHoff_EOS!$N$19,Phi_i_NS_Tci_Pci_wi_kijm_TinC_PinPa_yi(AE$3,vantHoff_EOS!$N$19,vantHoff_EOS!$X$5:$X$14,vantHoff_EOS!$Y$5:$Y$14,vantHoff_EOS!$Z$5:$Z$14,vantHoff_EOS!$AE$5:$AN$14,$C$59,B63*1000000,$O63:$X63),\"-\")","v":"-"},{"$f":"IF(AF$60<=vantHoff_EOS!$N$19,Phi_i_NS_Tci_Pci_wi_kijm_TinC_PinPa_yi(AF$3,vantHoff_EOS!$N$19,vantHoff_EOS!$X$5:$X$14,vantHoff_EOS!$Y$5:$Y$14,vantHoff_EOS!$Z$5:$Z$14,vantHoff_EOS!$AE$5:$AN$14,$C$59,B63*1000000,$O63:$X63),\"-\")","v":"-"},{"$f":"IF(AG$60<=vantHoff_EOS!$N$19,Phi_i_NS_Tci_Pci_wi_kijm_TinC_PinPa_yi(AG$3,vantHoff_EOS!$N$19,vantHoff_EOS!$X$5:$X$14,vantHoff_EOS!$Y$5:$Y$14,vantHoff_EOS!$Z$5:$Z$14,vantHoff_EOS!$AE$5:$AN$14,$C$59,B63*1000000,$O63:$X63),\"-\")","v":"-"},{"$f":"IF(AH$60<=vantHoff_EOS!$N$19,Phi_i_NS_Tci_Pci_wi_kijm_TinC_PinPa_yi(AH$3,vantHoff_EOS!$N$19,vantHoff_EOS!$X$5:$X$14,vantHoff_EOS!$Y$5:$Y$14,vantHoff_EOS!$Z$5:$Z$14,vantHoff_EOS!$AE$5:$AN$14,$C$59,B63*1000000,$O63:$X63),\"-\")","v":"-"},{"$f":"IF(AI$60<=vantHoff_EOS!$N$19,Phi_i_NS_Tci_Pci_wi_kijm_TinC_PinPa_yi(AI$3,vantHoff_EOS!$N$19,vantHoff_EOS!$X$5:$X$14,vantHoff_EOS!$Y$5:$Y$14,vantHoff_EOS!$Z$5:$Z$14,vantHoff_EOS!$AE$5:$AN$14,$C$59,B63*1000000,$O63:$X63),\"-\")","v":"-"}]
[4,{"$f":"B63+vantHoff_EOS!$E$31","v":8.5999999999999979},333.15,3.0016509079993999E-3,{"$f":"lnKaT_Tref_lnKaTref_dHTref_da_db_dc_dd_de_TinC(vantHoff_EOS!$E$7,vantHoff_EOS!$B$9,vantHoff_EOS!$B$6,vantHoff_EOS!$O$27,vantHoff_EOS!$P$27,vantHoff_EOS!$Q$27,vantHoff_EOS!$R$27,vantHoff_EOS!$S$27,$C$59)","v":11.370905491151026},86760.392694887007,{"$f":"MolarExtentX_NS_vi_n0i_dHfi_dGfi_TrefinC_da_db_dc_dd_de_Tci_Pci_wi_kijm_TinC_PinPa(vantHoff_EOS!$N$19,vantHoff_EOS!$O$23:$X$23,vantHoff_EOS!$O$31:$X$31,vantHoff_EOS!$T$5:$T$14,vantHoff_EOS!$U$5:$U$14,vantHoff_EOS!$E$7,vantHoff_EOS!$O$27,vantHoff_EOS!$P$27,vantHoff_EOS!$Q$27,vantHoff_EOS!$R$27,vantHoff_EOS!$S$27,vantHoff_EOS!$X$5:$X$14,vantHoff_EOS!$Y$5:$Y$14,vantHoff_EOS!$Z$5:$Z$14,vantHoff_EOS!$AE$5:$AN$14,$C$59,B64*1000000)","v":0.99934312863695018},{"$f":"Ky_NS_n0i_vi_X(vantHoff_EOS!$N$19,vantHoff_EOS!$O$31:$X$31,vantHoff_EOS!$O$23:$X$23,G64)","v":245325423724.48209},{"$f":"Kp_NS_vi_PinPa(vantHoff_EOS!$N$19,vantHoff_EOS!$O$23:$X$23,B64*1000000)","v":1.3520822065981615E-4},{"$f":"Kphi_NS_n0i_vi_X_Tci_Pci_wi_kijm_TinC_PinPa(vantHoff_EOS!$N$19,vantHoff_EOS!$O$31:$X$31,vantHoff_EOS!$O$23:$X$23,G64,vantHoff_EOS!$X$5:$X$14,vantHoff_EOS!$Y$5:$Y$14,vantHoff_EOS!$Z$5:$Z$14,vantHoff_EOS!$AE$5:$AN$14,$C$59,B64*1000000)","v":2.6156271635115525E-3},26.22585142623398,-8.9086945925070147,-5.9462513771377958,{"$f":"nT_NS_n0i_vi_X(vantHoff_EOS!$N$19,vantHoff_EOS!$O$31:$X$31,vantHoff_EOS!$O$23:$X$23,G64)","v":8.3413137427260988},{"$f":"IF(O$60<=vantHoff_EOS!$N$19,y_iindex_NS_n0i_vi_X(O$3,vantHoff_EOS!$N$19,vantHoff_EOS!$O$31:$X$31,vantHoff_EOS!$O$23:$X$23,$G64),\"-\")","v":7.8749149511685653E-5},{"$f":"IF(P$60<=vantHoff_EOS!$N$19,y_iindex_NS_n0i_vi_X(P$3,vantHoff_EOS!$N$19,vantHoff_EOS!$O$31:$X$31,vantHoff_EOS!$O$23:$X$23,$G64),\"-\")","v":7.8749149511685653E-5},{"$f":"IF(Q$60<=vantHoff_EOS!$N$19,y_iindex_NS_n0i_vi_X(Q$3,vantHoff_EOS!$N$19,vantHoff_EOS!$O$31:$X$31,vantHoff_EOS!$O$23:$X$23,$G64),\"-\")","v":7.8749149511685653E-5},{"$f":"IF(R$60<=vantHoff_EOS!$N$19,y_iindex_NS_n0i_vi_X(R$3,vantHoff_EOS!$N$19,vantHoff_EOS!$O$31:$X$31,vantHoff_EOS!$O$23:$X$23,$G64),\"-\")","v":0.11980644290096513},{"$f":"IF(S$60<=vantHoff_EOS!$N$19,y_iindex_NS_n0i_vi_X(S$3,vantHoff_EOS!$N$19,vantHoff_EOS!$O$31:$X$31,vantHoff_EOS!$O$23:$X$23,$G64),\"-\")","v":0.8799573096504999},{"$f":"IF(T$60<=vantHoff_EOS!$N$19,y_iindex_NS_n0i_vi_X(T$3,vantHoff_EOS!$N$19,vantHoff_EOS!$O$31:$X$31,vantHoff_EOS!$O$23:$X$23,$G64),\"-\")","v":"-"},{"$f":"IF(U$60<=vantHoff_EOS!$N$19,y_iindex_NS_n0i_vi_X(U$3,vantHoff_EOS!$N$19,vantHoff_EOS!$O$31:$X$31,vantHoff_EOS!$O$23:$X$23,$G64),\"-\")","v":"-"},{"$f":"IF(V$60<=vantHoff_EOS!$N$19,y_iindex_NS_n0i_vi_X(V$3,vantHoff_EOS!$N$19,vantHoff_EOS!$O$31:$X$31,vantHoff_EOS!$O$23:$X$23,$G64),\"-\")","v":"-"},{"$f":"IF(W$60<=vantHoff_EOS!$N$19,y_iindex_NS_n0i_vi_X(W$3,vantHoff_EOS!$N$19,vantHoff_EOS!$O$31:$X$31,vantHoff_EOS!$O$23:$X$23,$G64),\"-\")","v":"-"},{"$f":"IF(X$60<=vantHoff_EOS!$N$19,y_iindex_NS_n0i_vi_X(X$3,vantHoff_EOS!$N$19,vantHoff_EOS!$O$31:$X$31,vantHoff_EOS!$O$23:$X$23,$G64),\"-\")","v":"-"},1,{"$f":"IF(Z$60<=vantHoff_EOS!$N$19,Phi_i_NS_Tci_Pci_wi_kijm_TinC_PinPa_yi(Z$3,vantHoff_EOS!$N$19,vantHoff_EOS!$X$5:$X$14,vantHoff_EOS!$Y$5:$Y$14,vantHoff_EOS!$Z$5:$Z$14,vantHoff_EOS!$AE$5:$AN$14,$C$59,B64*1000000,$O64:$X64),\"-\")","v":3.9592392806635219},{"$f":"IF(AA$60<=vantHoff_EOS!$N$19,Phi_i_NS_Tci_Pci_wi_kijm_TinC_PinPa_yi(AA$3,vantHoff_EOS!$N$19,vantHoff_EOS!$X$5:$X$14,vantHoff_EOS!$Y$5:$Y$14,vantHoff_EOS!$Z$5:$Z$14,vantHoff_EOS!$AE$5:$AN$14,$C$59,B64*1000000,$O64:$X64),\"-\")","v":5.9723598010762862},{"$f":"IF(AB$60<=vantHoff_EOS!$N$19,Phi_i_NS_Tci_Pci_wi_kijm_TinC_PinPa_yi(AB$3,vantHoff_EOS!$N$19,vantHoff_EOS!$X$5:$X$14,vantHoff_EOS!$Y$5:$Y$14,vantHoff_EOS!$Z$5:$Z$14,vantHoff_EOS!$AE$5:$AN$14,$C$59,B64*1000000,$O64:$X64),\"-\")","v":0.27117609550775312},{"$f":"IF(AC$60<=vantHoff_EOS!$N$19,Phi_i_NS_Tci_Pci_wi_kijm_TinC_PinPa_yi(AC$3,vantHoff_EOS!$N$19,vantHoff_EOS!$X$5:$X$14,vantHoff_EOS!$Y$5:$Y$14,vantHoff_EOS!$Z$5:$Z$14,vantHoff_EOS!$AE$5:$AN$14,$C$59,B64*1000000,$O64:$X64),\"-\")","v":1.6772003927377214E-2},{"$f":"IF(AD$60<=vantHoff_EOS!$N$19,Phi_i_NS_Tci_Pci_wi_kijm_TinC_PinPa_yi(AD$3,vantHoff_EOS!$N$19,vantHoff_EOS!$X$5:$X$14,vantHoff_EOS!$Y$5:$Y$14,vantHoff_EOS!$Z$5:$Z$14,vantHoff_EOS!$AE$5:$AN$14,$C$59,B64*1000000,$O64:$X64),\"-\")","v":0.79890197392231299},{"$f":"IF(AE$60<=vantHoff_EOS!$N$19,Phi_i_NS_Tci_Pci_wi_kijm_TinC_PinPa_yi(AE$3,vantHoff_EOS!$N$19,vantHoff_EOS!$X$5:$X$14,vantHoff_EOS!$Y$5:$Y$14,vantHoff_EOS!$Z$5:$Z$14,vantHoff_EOS!$AE$5:$AN$14,$C$59,B64*1000000,$O64:$X64),\"-\")","v":"-"},{"$f":"IF(AF$60<=vantHoff_EOS!$N$19,Phi_i_NS_Tci_Pci_wi_kijm_TinC_PinPa_yi(AF$3,vantHoff_EOS!$N$19,vantHoff_EOS!$X$5:$X$14,vantHoff_EOS!$Y$5:$Y$14,vantHoff_EOS!$Z$5:$Z$14,vantHoff_EOS!$AE$5:$AN$14,$C$59,B64*1000000,$O64:$X64),\"-\")","v":"-"},{"$f":"IF(AG$60<=vantHoff_EOS!$N$19,Phi_i_NS_Tci_Pci_wi_kijm_TinC_PinPa_yi(AG$3,vantHoff_EOS!$N$19,vantHoff_EOS!$X$5:$X$14,vantHoff_EOS!$Y$5:$Y$14,vantHoff_EOS!$Z$5:$Z$14,vantHoff_EOS!$AE$5:$AN$14,$C$59,B64*1000000,$O64:$X64),\"-\")","v":"-"},{"$f":"IF(AH$60<=vantHoff_EOS!$N$19,Phi_i_NS_Tci_Pci_wi_kijm_TinC_PinPa_yi(AH$3,vantHoff_EOS!$N$19,vantHoff_EOS!$X$5:$X$14,vantHoff_EOS!$Y$5:$Y$14,vantHoff_EOS!$Z$5:$Z$14,vantHoff_EOS!$AE$5:$AN$14,$C$59,B64*1000000,$O64:$X64),\"-\")","v":"-"},{"$f":"IF(AI$60<=vantHoff_EOS!$N$19,Phi_i_NS_Tci_Pci_wi_kijm_TinC_PinPa_yi(AI$3,vantHoff_EOS!$N$19,vantHoff_EOS!$X$5:$X$14,vantHoff_EOS!$Y$5:$Y$14,vantHoff_EOS!$Z$5:$Z$14,vantHoff_EOS!$AE$5:$AN$14,$C$59,B64*1000000,$O64:$X64),\"-\")","v":"-"}]
[5,{"$f":"B64+vantHoff_EOS!$E$31","v":8.7999999999999972},333.15,3.0016509079993999E-3,{"$f":"lnKaT_Tref_lnKaTref_dHTref_da_db_dc_dd_de_TinC(vantHoff_EOS!$E$7,vantHoff_EOS!$B$9,vantHoff_EOS!$B$6,vantHoff_EOS!$O$27,vantHoff_EOS!$P$27,vantHoff_EOS!$Q$27,vantHoff_EOS!$R$27,vantHoff_EOS!$S$27,$C$59)","v":11.370905491151026},86760.392694887007,{"$f":"MolarExtentX_NS_vi_n0i_dHfi_dGfi_TrefinC_da_db_dc_dd_de_Tci_Pci_wi_kijm_TinC_PinPa(vantHoff_EOS!$N$19,vantHoff_EOS!$O$23:$X$23,vantHoff_EOS!$O$31:$X$31,vantHoff_EOS!$T$5:$T$14,vantHoff_EOS!$U$5:$U$14,vantHoff_EOS!$E$7,vantHoff_EOS!$O$27,vantHoff_EOS!$P$27,vantHoff_EOS!$Q$27,vantHoff_EOS!$R$27,vantHoff_EOS!$S$27,vantHoff_EOS!$X$5:$X$14,vantHoff_EOS!$Y$5:$Y$14,vantHoff_EOS!$Z$5:$Z$14,vantHoff_EOS!$AE$5:$AN$14,$C$59,B65*1000000)","v":0.99935431002096353},{"$f":"Ky_NS_n0i_vi_X(vantHoff_EOS!$N$19,vantHoff_EOS!$O$31:$X$31,vantHoff_EOS!$O$23:$X$23,G65)","v":258293772616.28818},{"$f":"Kp_NS_vi_PinPa(vantHoff_EOS!$N$19,vantHoff_EOS!$O$23:$X$23,B65*1000000)","v":1.2913223140495879E-4},{"$f":"Kphi_NS_n0i_vi_X_Tci_Pci_wi_kijm_TinC_PinPa(vantHoff_EOS!$N$19,vantHoff_EOS!$O$31:$X$31,vantHoff_EOS!$O$23:$X$23,G65,vantHoff_EOS!$X$5:$X$14,vantHoff_EOS!$Y$5:$Y$14,vantHoff_EOS!$Z$5:$Z$14,vantHoff_EOS!$AE$5:$AN$14,$C$59,B65*1000000)","v":2.6011949635892421E-3},26.277363427645259,-8.9546736289564119,-5.9517843381585873,{"$f":"nT_NS_n0i_vi_X(vantHoff_EOS!$N$19,vantHoff_EOS!$O$31:$X$31,vantHoff_EOS!$O$23:$X$23,G65)","v":8.3412913799580721},{"$f":"IF(O$60<=vantHoff_EOS!$N$19,y_iindex_NS_n0i_vi_X(O$3,vantHoff_EOS!$N$19,vantHoff_EOS!$O$31:$X$31,vantHoff_EOS!$O$23:$X$23,$G65),\"-\")","v":7.7408874672318842E-5},{"$f":"IF(P$60<=vantHoff_EOS!$N$19,y_iindex_NS_n0i_vi_X(P$3,vantHoff_EOS!$N$19,vantHoff_EOS!$O$31:$X$31,vantHoff_EOS!$O$23:$X$23,$G65),\"-\")","v":7.7408874672318842E-5},{"$f":"IF(Q$60<=vantHoff_EOS!$N$19,y_iindex_NS_n0i_vi_X(Q$3,vantHoff_EOS!$N$19,vantHoff_EOS!$O$31:$X$31,vantHoff_EOS!$O$23:$X$23,$G65),\"-\")","v":7.7408874672318842E-5},{"$f":"IF(R$60<=vantHoff_EOS!$N$19,y_iindex_NS_n0i_vi_X(R$3,vantHoff_EOS!$N$19,vantHoff_EOS!$O$31:$X$31,vantHoff_EOS!$O$23:$X$23,$G65),\"-\")","v":0.11980810458463889},{"$f":"IF(S$60<=vantHoff_EOS!$N$19,y_iindex_NS_n0i_vi_X(S$3,vantHoff_EOS!$N$19,vantHoff_EOS!$O$31:$X$31,vantHoff_EOS!$O$23:$X$23,$G65),\"-\")","v":0.87995966879134424},{"$f":"IF(T$60<=vantHoff_EOS!$N$19,y_iindex_NS_n0i_vi_X(T$3,vantHoff_EOS!$N$19,vantHoff_EOS!$O$31:$X$31,vantHoff_EOS!$O$23:$X$23,$G65),\"-\")","v":"-"},{"$f":"IF(U$60<=vantHoff_EOS!$N$19,y_iindex_NS_n0i_vi_X(U$3,vantHoff_EOS!$N$19,vantHoff_EOS!$O$31:$X$31,vantHoff_EOS!$O$23:$X$23,$G65),\"-\")","v":"-"},{"$f":"IF(V$60<=vantHoff_EOS!$N$19,y_iindex_NS_n0i_vi_X(V$3,vantHoff_EOS!$N$19,vantHoff_EOS!$O$31:$X$31,vantHoff_EOS!$O$23:$X$23,$G65),\"-\")","v":"-"},{"$f":"IF(W$60<=vantHoff_EOS!$N$19,y_iindex_NS_n0i_vi_X(W$3,vantHoff_EOS!$N$19,vantHoff_EOS!$O$31:$X$31,vantHoff_EOS!$O$23:$X$23,$G65),\"-\")","v":"-"},{"$f":"IF(X$60<=vantHoff_EOS!$N$19,y_iindex_NS_n0i_vi_X(X$3,vantHoff_EOS!$N$19,vantHoff_EOS!$O$31:$X$31,vantHoff_EOS!$O$23:$X$23,$G65),\"-\")","v":"-"},1,{"$f":"IF(Z$60<=vantHoff_EOS!$N$19,Phi_i_NS_Tci_Pci_wi_kijm_TinC_PinPa_yi(Z$3,vantHoff_EOS!$N$19,vantHoff_EOS!$X$5:$X$14,vantHoff_EOS!$Y$5:$Y$14,vantHoff_EOS!$Z$5:$Z$14,vantHoff_EOS!$AE$5:$AN$14,$C$59,B65*1000000,$O65:$X65),\"-\")","v":3.9436267921366208},{"$f":"IF(AA$60<=vantHoff_EOS!$N$19,Phi_i_NS_Tci_Pci_wi_kijm_TinC_PinPa_yi(AA$3,vantHoff_EOS!$N$19,vantHoff_EOS!$X$5:$X$14,vantHoff_EOS!$Y$5:$Y$14,vantHoff_EOS!$Z$5:$Z$14,vantHoff_EOS!$AE$5:$AN$14,$C$59,B65*1000000,$O65:$X65),\"-\")","v":5.9545553164060783},{"$f":"IF(AB$60<=vantHoff_EOS!$N$19,Phi_i_NS_Tci_Pci_wi_kijm_TinC_PinPa_yi(AB$3,vantHoff_EOS!$N$19,vantHoff_EOS!$X$5:$X$14,vantHoff_EOS!$Y$5:$Y$14,vantHoff_EOS!$Z$5:$Z$14,vantHoff_EOS!$AE$5:$AN$14,$C$59,B65*1000000,$O65:$X65),\"-\")","v":0.26645325087962429},{"$f":"IF(AC$60<=vantHoff_EOS!$N$19,Phi_i_NS_Tci_Pci_wi_kijm_TinC_PinPa_yi(AC$3,vantHoff_EOS!$N$19,vantHoff_EOS!$X$5:$X$14,vantHoff_EOS!$Y$5:$Y$14,vantHoff_EOS!$Z$5:$Z$14,vantHoff_EOS!$AE$5:$AN$14,$C$59,B65*1000000,$O65:$X65),\"-\")","v":1.6275677293032337E-2},{"$f":"IF(AD$60<=vantHoff_EOS!$N$19,Phi_i_NS_Tci_Pci_wi_kijm_TinC_PinPa_yi(AD$3,vantHoff_EOS!$N$19,vantHoff_EOS!$X$5:$X$14,vantHoff_EOS!$Y$5:$Y$14,vantHoff_EOS!$Z$5:$Z$14,vantHoff_EOS!$AE$5:$AN$14,$C$59,B65*1000000,$O65:$X65),\"-\")","v":0.78637181955740976},{"$f":"IF(AE$60<=vantHoff_EOS!$N$19,Phi_i_NS_Tci_Pci_wi_kijm_TinC_PinPa_yi(AE$3,vantHoff_EOS!$N$19,vantHoff_EOS!$X$5:$X$14,vantHoff_EOS!$Y$5:$Y$14,vantHoff_EOS!$Z$5:$Z$14,vantHoff_EOS!$AE$5:$AN$14,$C$59,B65*1000000,$O65:$X65),\"-\")","v":"-"},{"$f":"IF(AF$60<=vantHoff_EOS!$N$19,Phi_i_NS_Tci_Pci_wi_kijm_TinC_PinPa_yi(AF$3,vantHoff_EOS!$N$19,vantHoff_EOS!$X$5:$X$14,vantHoff_EOS!$Y$5:$Y$14,vantHoff_EOS!$Z$5:$Z$14,vantHoff_EOS!$AE$5:$AN$14,$C$59,B65*1000000,$O65:$X65),\"-\")","v":"-"},{"$f":"IF(AG$60<=vantHoff_EOS!$N$19,Phi_i_NS_Tci_Pci_wi_kijm_TinC_PinPa_yi(AG$3,vantHoff_EOS!$N$19,vantHoff_EOS!$X$5:$X$14,vantHoff_EOS!$Y$5:$Y$14,vantHoff_EOS!$Z$5:$Z$14,vantHoff_EOS!$AE$5:$AN$14,$C$59,B65*1000000,$O65:$X65),\"-\")","v":"-"},{"$f":"IF(AH$60<=vantHoff_EOS!$N$19,Phi_i_NS_Tci_Pci_wi_kijm_TinC_PinPa_yi(AH$3,vantHoff_EOS!$N$19,vantHoff_EOS!$X$5:$X$14,vantHoff_EOS!$Y$5:$Y$14,vantHoff_EOS!$Z$5:$Z$14,vantHoff_EOS!$AE$5:$AN$14,$C$59,B65*1000000,$O65:$X65),\"-\")","v":"-"},{"$f":"IF(AI$60<=vantHoff_EOS!$N$19,Phi_i_NS_Tci_Pci_wi_kijm_TinC_PinPa_yi(AI$3,vantHoff_EOS!$N$19,vantHoff_EOS!$X$5:$X$14,vantHoff_EOS!$Y$5:$Y$14,vantHoff_EOS!$Z$5:$Z$14,vantHoff_EOS!$AE$5:$AN$14,$C$59,B65*1000000,$O65:$X65),\"-\")","v":"-"}]
[6,{"$f":"B65+vantHoff_EOS!$E$31","v":8.9999999999999964},333.15,3.0016509079993999E-3,{"$f":"lnKaT_Tref_lnKaTref_dHTref_da_db_dc_dd_de_TinC(vantHoff_EOS!$E$7,vantHoff_EOS!$B$9,vantHoff_EOS!$B$6,vantHoff_EOS!$O$27,vantHoff_EOS!$P$27,vantHoff_EOS!$Q$27,vantHoff_EOS!$R$27,vantHoff_EOS!$S$27,$C$59)","v":11.370905491151026},86760.392694887007,{"$f":"MolarExtentX_NS_vi_n0i_dHfi_dGfi_TrefinC_da_db_dc_dd_de_Tci_Pci_wi_kijm_TinC_PinPa(vantHoff_EOS!$N$19,vantHoff_EOS!$O$23:$X$23,vantHoff_EOS!$O$31:$X$31,vantHoff_EOS!$T$5:$T$14,vantHoff_EOS!$U$5:$U$14,vantHoff_EOS!$E$7,vantHoff_EOS!$O$27,vantHoff_EOS!$P$27,vantHoff_EOS!$Q$27,vantHoff_EOS!$R$27,vantHoff_EOS!$S$27,vantHoff_EOS!$X$5:$X$14,vantHoff_EOS!$Y$5:$Y$14,vantHoff_EOS!$Z$5:$Z$14,vantHoff_EOS!$AE$5:$AN$14,$C$59,B66*1000000)","v":0.99936472433559631},{"$f":"Ky_NS_n0i_vi_X(vantHoff_EOS!$N$19,vantHoff_EOS!$O$31:$X$31,vantHoff_EOS!$O$23:$X$23,G66)","v":271207549189.9888},{"$f":"Kp_NS_vi_PinPa(vantHoff_EOS!$N$19,vantHoff_EOS!$O$23:$X$23,B66*1000000)","v":1.2345679012345693E-4},{"$f":"Kphi_NS_n0i_vi_X_Tci_Pci_wi_kijm_TinC_PinPa(vantHoff_EOS!$N$19,vantHoff_EOS!$O$31:$X$31,vantHoff_EOS!$O$23:$X$23,G66,vantHoff_EOS!$X$5:$X$14,vantHoff_EOS!$Y$5:$Y$14,vantHoff_EOS!$Z$5:$Z$14,vantHoff_EOS!$AE$5:$AN$14,$C$59,B66*1000000)","v":2.591222713346537E-3},26.326150228871501,-8.9996193406605283,-5.9556254245749729,{"$f":"nT_NS_n0i_vi_X(vantHoff_EOS!$N$19,vantHoff_EOS!$O$31:$X$31,vantHoff_EOS!$O$23:$X$23,G66)","v":8.3412705513288081},{"$f":"IF(O$60<=vantHoff_EOS!$N$19,y_iindex_NS_n0i_vi_X(O$3,vantHoff_EOS!$N$19,vantHoff_EOS!$O$31:$X$31,vantHoff_EOS!$O$23:$X$23,$G66),\"-\")","v":7.6160539391985872E-5},{"$f":"IF(P$60<=vantHoff_EOS!$N$19,y_iindex_NS_n0i_vi_X(P$3,vantHoff_EOS!$N$19,vantHoff_EOS!$O$31:$X$31,vantHoff_EOS!$O$23:$X$23,$G66),\"-\")","v":7.6160539391985872E-5},{"$f":"IF(Q$60<=vantHoff_EOS!$N$19,y_iindex_NS_n0i_vi_X(Q$3,vantHoff_EOS!$N$19,vantHoff_EOS!$O$31:$X$31,vantHoff_EOS!$O$23:$X$23,$G66),\"-\")","v":7.6160539391985872E-5},{"$f":"IF(R$60<=vantHoff_EOS!$N$19,y_iindex_NS_n0i_vi_X(R$3,vantHoff_EOS!$N$19,vantHoff_EOS!$O$31:$X$31,vantHoff_EOS!$O$23:$X$23,$G66),\"-\")","v":0.1198096522808977},{"$f":"IF(S$60<=vantHoff_EOS!$N$19,y_iindex_NS_n0i_vi_X(S$3,vantHoff_EOS!$N$19,vantHoff_EOS!$O$31:$X$31,vantHoff_EOS!$O$23:$X$23,$G66),\"-\")","v":0.87996186610092619},{"$f":"IF(T$60<=vantHoff_EOS!$N$19,y_iindex_NS_n0i_vi_X(T$3,vantHoff_EOS!$N$19,vantHoff_EOS!$O$31:$X$31,vantHoff_EOS!$O$23:$X$23,$G66),\"-\")","v":"-"},{"$f":"IF(U$60<=vantHoff_EOS!$N$19,y_iindex_NS_n0i_vi_X(U$3,vantHoff_EOS!$N$19,vantHoff_EOS!$O$31:$X$31,vantHoff_EOS!$O$23:$X$23,$G66),\"-\")","v":"-"},{"$f":"IF(V$60<=vantHoff_EOS!$N$19,y_iindex_NS_n0i_vi_X(V$3,vantHoff_EOS!$N$19,vantHoff_EOS!$O$31:$X$31,vantHoff_EOS!$O$23:$X$23,$G66),\"-\")","v":"-"},{"$f":"IF(W$60<=vantHoff_EOS!$N$19,y_iindex_NS_n0i_vi_X(W$3,vantHoff_EOS!$N$19,vantHoff_EOS!$O$31:$X$31,vantHoff_EOS!$O$23:$X$23,$G66),\"-\")","v":"-"},{"$f":"IF(X$60<=vantHoff_EOS!$N$19,y_iindex_NS_n0i_vi_X(X$3,vantHoff_EOS!$N$19,vantHoff_EOS!$O$31:$X$31,vantHoff_EOS!$O$23:$X$23,$G66),\"-\")","v":"-"},0.99999999999999989,{"$f":"IF(Z$60<=vantHoff_EOS!$N$19,Phi_i_NS_Tci_Pci_wi_kijm_TinC_PinPa_yi(Z$3,vantHoff_EOS!$N$19,vantHoff_EOS!$X$5:$X$14,vantHoff_EOS!$Y$5:$Y$14,vantHoff_EOS!$Z$5:$Z$14,vantHoff_EOS!$AE$5:$AN$14,$C$59,B66*1000000,$O66:$X66),\"-\")","v":3.9267590660692377},{"$f":"IF(AA$60<=vantHoff_EOS!$N$19,Phi_i_NS_Tci_Pci_wi_kijm_TinC_PinPa_yi(AA$3,vantHoff_EOS!$N$19,vantHoff_EOS!$X$5:$X$14,vantHoff_EOS!$Y$5:$Y$14,vantHoff_EOS!$Z$5:$Z$14,vantHoff_EOS!$AE$5:$AN$14,$C$59,B66*1000000,$O66:$X66),\"-\")","v":5.9341646283368306},{"$f":"IF(AB$60<=vantHoff_EOS!$N$19,Phi_i_NS_Tci_Pci_wi_kijm_TinC_PinPa_yi(AB$3,vantHoff_EOS!$N$19,vantHoff_EOS!$X$5:$X$14,vantHoff_EOS!$Y$5:$Y$14,vantHoff_EOS!$Z$5:$Z$14,vantHoff_EOS!$AE$5:$AN$14,$C$59,B66*1000000,$O66:$X66),\"-\")","v":0.26196707606149022},{"$f":"IF(AC$60<=vantHoff_EOS!$N$19,Phi_i_NS_Tci_Pci_wi_kijm_TinC_PinPa_yi(AC$3,vantHoff_EOS!$N$19,vantHoff_EOS!$X$5:$X$14,vantHoff_EOS!$Y$5:$Y$14,vantHoff_EOS!$Z$5:$Z$14,vantHoff_EOS!$AE$5:$AN$14,$C$59,B66*1000000,$O66:$X66),\"-\")","v":1.5817771598524856E-2},{"$f":"IF(AD$60<=vantHoff_EOS!$N$19,Phi_i_NS_Tci_Pci_wi_kijm_TinC_PinPa_yi(AD$3,vantHoff_EOS!$N$19,vantHoff_EOS!$X$5:$X$14,vantHoff_EOS!$Y$5:$Y$14,vantHoff_EOS!$Z$5:$Z$14,vantHoff_EOS!$AE$5:$AN$14,$C$59,B66*1000000,$O66:$X66),\"-\")","v":0.7742894736098308},{"$f":"IF(AE$60<=vantHoff_EOS!$N$19,Phi_i_NS_Tci_Pci_wi_kijm_TinC_PinPa_yi(AE$3,vantHoff_EOS!$N$19,vantHoff_EOS!$X$5:$X$14,vantHoff_EOS!$Y$5:$Y$14,vantHoff_EOS!$Z$5:$Z$14,vantHoff_EOS!$AE$5:$AN$14,$C$59,B66*1000000,$O66:$X66),\"-\")","v":"-"},{"$f":"IF(AF$60<=vantHoff_EOS!$N$19,Phi_i_NS_Tci_Pci_wi_kijm_TinC_PinPa_yi(AF$3,vantHoff_EOS!$N$19,vantHoff_EOS!$X$5:$X$14,vantHoff_EOS!$Y$5:$Y$14,vantHoff_EOS!$Z$5:$Z$14,vantHoff_EOS!$AE$5:$AN$14,$C$59,B66*1000000,$O66:$X66),\"-\")","v":"-"},{"$f":"IF(AG$60<=vantHoff_EOS!$N$19,Phi_i_NS_Tci_Pci_wi_kijm_TinC_PinPa_yi(AG$3,vantHoff_EOS!$N$19,vantHoff_EOS!$X$5:$X$14,vantHoff_EOS!$Y$5:$Y$14,vantHoff_EOS!$Z$5:$Z$14,vantHoff_EOS!$AE$5:$AN$14,$C$59,B66*1000000,$O66:$X66),\"-\")","v":"-"},{"$f":"IF(AH$60<=vantHoff_EOS!$N$19,Phi_i_NS_Tci_Pci_wi_kijm_TinC_PinPa_yi(AH$3,vantHoff_EOS!$N$19,vantHoff_EOS!$X$5:$X$14,vantHoff_EOS!$Y$5:$Y$14,vantHoff_EOS!$Z$5:$Z$14,vantHoff_EOS!$AE$5:$AN$14,$C$59,B66*1000000,$O66:$X66),\"-\")","v":"-"},{"$f":"IF(AI$60<=vantHoff_EOS!$N$19,Phi_i_NS_Tci_Pci_wi_kijm_TinC_PinPa_yi(AI$3,vantHoff_EOS!$N$19,vantHoff_EOS!$X$5:$X$14,vantHoff_EOS!$Y$5:$Y$14,vantHoff_EOS!$Z$5:$Z$14,vantHoff_EOS!$AE$5:$AN$14,$C$59,B66*1000000,$O66:$X66),\"-\")","v":"-"}]
[7,{"$f":"B66+vantHoff_EOS!$E$31","v":9.1999999999999957},333.15,3.0016509079993999E-3,{"$f":"lnKaT_Tref_lnKaTref_dHTref_da_db_dc_dd_de_TinC(vantHoff_EOS!$E$7,vantHoff_EOS!$B$9,vantHoff_EOS!$B$6,vantHoff_EOS!$O$27,vantHoff_EOS!$P$27,vantHoff_EOS!$Q$27,vantHoff_EOS!$R$27,vantHoff_EOS!$S$27,$C$59)","v":11.370905491151026},86760.392694887007,{"$f":"MolarExtentX_NS_vi_n0i_dHfi_dGfi_TrefinC_da_db_dc_dd_de_Tci_Pci_wi_kijm_TinC_PinPa(vantHoff_EOS!$N$19,vantHoff_EOS!$O$23:$X$23,vantHoff_EOS!$O$31:$X$31,vantHoff_EOS!$T$5:$T$14,vantHoff_EOS!$U$5:$U$14,vantHoff_EOS!$E$7,vantHoff_EOS!$O$27,vantHoff_EOS!$P$27,vantHoff_EOS!$Q$27,vantHoff_EOS!$R$27,vantHoff_EOS!$S$27,vantHoff_EOS!$X$5:$X$14,vantHoff_EOS!$Y$5:$Y$14,vantHoff_EOS!$Z$5:$Z$14,vantHoff_EOS!$AE$5:$AN$14,$C$59,B67*1000000)","v":0.99937446847834688},{"$f":"Ky_NS_n0i_vi_X(vantHoff_EOS!$N$19,vantHoff_EOS!$O$31:$X$31,vantHoff_EOS!$O$23:$X$23,G67)","v":284081556058.94183},{"$f":"Kp_NS_vi_PinPa(vantHoff_EOS!$N$19,vantHoff_EOS!$O$23:$X$23,B67*1000000)","v":1.1814744801512297E-4},{"$f":"Kphi_NS_n0i_vi_X_Tci_Pci_wi_kijm_TinC_PinPa(vantHoff_EOS!$N$19,vantHoff_EOS!$O$31:$X$31,vantHoff_EOS!$O$23:$X$23,G67,vantHoff_EOS!$X$5:$X$14,vantHoff_EOS!$Y$5:$Y$14,vantHoff_EOS!$Z$5:$Z$14,vantHoff_EOS!$AE$5:$AN$14,$C$59,B67*1000000)","v":2.5849617116941712E-3},26.372527203104056,-9.0435771540980792,-5.9580445828551643,{"$f":"nT_NS_n0i_vi_X(vantHoff_EOS!$N$19,vantHoff_EOS!$O$31:$X$31,vantHoff_EOS!$O$23:$X$23,G67)","v":8.3412510630433054},{"$f":"IF(O$60<=vantHoff_EOS!$N$19,y_iindex_NS_n0i_vi_X(O$3,vantHoff_EOS!$N$19,vantHoff_EOS!$O$31:$X$31,vantHoff_EOS!$O$23:$X$23,$G67),\"-\")","v":7.4992530128315896E-5},{"$f":"IF(P$60<=vantHoff_EOS!$N$19,y_iindex_NS_n0i_vi_X(P$3,vantHoff_EOS!$N$19,vantHoff_EOS!$O$31:$X$31,vantHoff_EOS!$O$23:$X$23,$G67),\"-\")","v":7.4992530128315896E-5},{"$f":"IF(Q$60<=vantHoff_EOS!$N$19,y_iindex_NS_n0i_vi_X(Q$3,vantHoff_EOS!$N$19,vantHoff_EOS!$O$31:$X$31,vantHoff_EOS!$O$23:$X$23,$G67),\"-\")","v":7.4992530128315896E-5},{"$f":"IF(R$60<=vantHoff_EOS!$N$19,y_iindex_NS_n0i_vi_X(R$3,vantHoff_EOS!$N$19,vantHoff_EOS!$O$31:$X$31,vantHoff_EOS!$O$23:$X$23,$G67),\"-\")","v":0.11981110038830615},{"$f":"IF(S$60<=vantHoff_EOS!$N$19,y_iindex_NS_n0i_vi_X(S$3,vantHoff_EOS!$N$19,vantHoff_EOS!$O$31:$X$31,vantHoff_EOS!$O$23:$X$23,$G67),\"-\")","v":0.87996392202130902},{"$f":"IF(T$60<=vantHoff_EOS!$N$19,y_iindex_NS_n0i_vi_X(T$3,vantHoff_EOS!$N$19,vantHoff_EOS!$O$31:$X$31,vantHoff_EOS!$O$23:$X$23,$G67),\"-\")","v":"-"},{"$f":"IF(U$60<=vantHoff_EOS!$N$19,y_iindex_NS_n0i_vi_X(U$3,vantHoff_EOS!$N$19,vantHoff_EOS!$O$31:$X$31,vantHoff_EOS!$O$23:$X$23,$G67),\"-\")","v":"-"},{"$f":"IF(V$60<=vantHoff_EOS!$N$19,y_iindex_NS_n0i_vi_X(V$3,vantHoff_EOS!$N$19,vantHoff_EOS!$O$31:$X$31,vantHoff_EOS!$O$23:$X$23,$G67),\"-\")","v":"-"},{"$f":"IF(W$60<=vantHoff_EOS!$N$19,y_iindex_NS_n0i_vi_X(W$3,vantHoff_EOS!$N$19,vantHoff_EOS!$O$31:$X$31,vantHoff_EOS!$O$23:$X$23,$G67),\"-\")","v":"-"},{"$f":"IF(X$60<=vantHoff_EOS!$N$19,y_iindex_NS_n0i_vi_X(X$3,vantHoff_EOS!$N$19,vantHoff_EOS!$O$31:$X$31,vantHoff_EOS!$O$23:$X$23,$G67),\"-\")","v":"-"},1.0000000000000002,{"$f":"IF(Z$60<=vantHoff_EOS!$N$19,Phi_i_NS_Tci_Pci_wi_kijm_TinC_PinPa_yi(Z$3,vantHoff_EOS!$N$19,vantHoff_EOS!$X$5:$X$14,vantHoff_EOS!$Y$5:$Y$14,vantHoff_EOS!$Z$5:$Z$14,vantHoff_EOS!$AE$5:$AN$14,$C$59,B67*1000000,$O67:$X67),\"-\")","v":3.9089416301043034},{"$f":"IF(AA$60<=vantHoff_EOS!$N$19,Phi_i_NS_Tci_Pci_wi_kijm_TinC_PinPa_yi(AA$3,vantHoff_EOS!$N$19,vantHoff_EOS!$X$5:$X$14,vantHoff_EOS!$Y$5:$Y$14,vantHoff_EOS!$Z$5:$Z$14,vantHoff_EOS!$AE$5:$AN$14,$C$59,B67*1000000,$O67:$X67),\"-\")","v":5.911731289255358},{"$f":"IF(AB$60<=vantHoff_EOS!$N$19,Phi_i_NS_Tci_Pci_wi_kijm_TinC_PinPa_yi(AB$3,vantHoff_EOS!$N$19,vantHoff_EOS!$X$5:$X$14,vantHoff_EOS!$Y$5:$Y$14,vantHoff_EOS!$Z$5:$Z$14,vantHoff_EOS!$AE$5:$AN$14,$C$59,B67*1000000,$O67:$X67),\"-\")","v":0.25769919932985347},{"$f":"IF(AC$60<=vantHoff_EOS!$N$19,Phi_i_NS_Tci_Pci_wi_kijm_TinC_PinPa_yi(AC$3,vantHoff_EOS!$N$19,vantHoff_EOS!$X$5:$X$14,vantHoff_EOS!$Y$5:$Y$14,vantHoff_EOS!$Z$5:$Z$14,vantHoff_EOS!$AE$5:$AN$14,$C$59,B67*1000000,$O67:$X67),\"-\")","v":1.5393630395762876E-2},{"$f":"IF(AD$60<=vantHoff_EOS!$N$19,Phi_i_NS_Tci_Pci_wi_kijm_TinC_PinPa_yi(AD$3,vantHoff_EOS!$N$19,vantHoff_EOS!$X$5:$X$14,vantHoff_EOS!$Y$5:$Y$14,vantHoff_EOS!$Z$5:$Z$14,vantHoff_EOS!$AE$5:$AN$14,$C$59,B67*1000000,$O67:$X67),\"-\")","v":0.76263852167088586},{"$f":"IF(AE$60<=vantHoff_EOS!$N$19,Phi_i_NS_Tci_Pci_wi_kijm_TinC_PinPa_yi(AE$3,vantHoff_EOS!$N$19,vantHoff_EOS!$X$5:$X$14,vantHoff_EOS!$Y$5:$Y$14,vantHoff_EOS!$Z$5:$Z$14,vantHoff_EOS!$AE$5:$AN$14,$C$59,B67*1000000,$O67:$X67),\"-\")","v":"-"},{"$f":"IF(AF$60<=vantHoff_EOS!$N$19,Phi_i_NS_Tci_Pci_wi_kijm_TinC_PinPa_yi(AF$3,vantHoff_EOS!$N$19,vantHoff_EOS!$X$5:$X$14,vantHoff_EOS!$Y$5:$Y$14,vantHoff_EOS!$Z$5:$Z$14,vantHoff_EOS!$AE$5:$AN$14,$C$59,B67*1000000,$O67:$X67),\"-\")","v":"-"},{"$f":"IF(AG$60<=vantHoff_EOS!$N$19,Phi_i_NS_Tci_Pci_wi_kijm_TinC_PinPa_yi(AG$3,vantHoff_EOS!$N$19,vantHoff_EOS!$X$5:$X$14,vantHoff_EOS!$Y$5:$Y$14,vantHoff_EOS!$Z$5:$Z$14,vantHoff_EOS!$AE$5:$AN$14,$C$59,B67*1000000,$O67:$X67),\"-\")","v":"-"},{"$f":"IF(AH$60<=vantHoff_EOS!$N$19,Phi_i_NS_Tci_Pci_wi_kijm_TinC_PinPa_yi(AH$3,vantHoff_EOS!$N$19,vantHoff_EOS!$X$5:$X$14,vantHoff_EOS!$Y$5:$Y$14,vantHoff_EOS!$Z$5:$Z$14,vantHoff_EOS!$AE$5:$AN$14,$C$59,B67*1000000,$O67:$X67),\"-\")","v":"-"},{"$f":"IF(AI$60<=vantHoff_EOS!$N$19,Phi_i_NS_Tci_Pci_wi_kijm_TinC_PinPa_yi(AI$3,vantHoff_EOS!$N$19,vantHoff_EOS!$X$5:$X$14,vantHoff_EOS!$Y$5:$Y$14,vantHoff_EOS!$Z$5:$Z$14,vantHoff_EOS!$AE$5:$AN$14,$C$59,B67*1000000,$O67:$X67),\"-\")","v":"-"}]
[8,{"$f":"B67+vantHoff_EOS!$E$31","v":9.399999999999995},333.15,3.0016509079993999E-3,{"$f":"lnKaT_Tref_lnKaTref_dHTref_da_db_dc_dd_de_TinC(vantHoff_EOS!$E$7,vantHoff_EOS!$B$9,vantHoff_EOS!$B$6,vantHoff_EOS!$O$27,vantHoff_EOS!$P$27,vantHoff_EOS!$Q$27,vantHoff_EOS!$R$27,vantHoff_EOS!$S$27,$C$59)","v":11.370905491151026},86760.392694887007,{"$f":"MolarExtentX_NS_vi_n0i_dHfi_dGfi_TrefinC_da_db_dc_dd_de_Tci_Pci_wi_kijm_TinC_PinPa(vantHoff_EOS!$N$19,vantHoff_EOS!$O$23:$X$23,vantHoff_EOS!$O$31:$X$31,vantHoff_EOS!$T$5:$T$14,vantHoff_EOS!$U$5:$U$14,vantHoff_EOS!$E$7,vantHoff_EOS!$O$27,vantHoff_EOS!$P$27,vantHoff_EOS!$Q$27,vantHoff_EOS!$R$27,vantHoff_EOS!$S$27,vantHoff_EOS!$X$5:$X$14,vantHoff_EOS!$Y$5:$Y$14,vantHoff_EOS!$Z$5:$Z$14,vantHoff_EOS!$AE$5:$AN$14,$C$59,B68*1000000)","v":0.99938362194942776},{"$f":"Ky_NS_n0i_vi_X(vantHoff_EOS!$N$19,vantHoff_EOS!$O$31:$X$31,vantHoff_EOS!$O$23:$X$23,G68)","v":296928041066.59515},{"$f":"Kp_NS_vi_PinPa(vantHoff_EOS!$N$19,vantHoff_EOS!$O$23:$X$23,B68*1000000)","v":1.1317338162064297E-4},{"$f":"Kphi_NS_n0i_vi_X_Tci_Pci_wi_kijm_TinC_PinPa(vantHoff_EOS!$N$19,vantHoff_EOS!$O$31:$X$31,vantHoff_EOS!$O$23:$X$23,G68,vantHoff_EOS!$X$5:$X$14,vantHoff_EOS!$Y$5:$Y$14,vantHoff_EOS!$Z$5:$Z$14,vantHoff_EOS!$AE$5:$AN$14,$C$59,B68*1000000)","v":2.5818201929323332E-3},26.416755660422062,-9.0865895645400059,-5.9592606276609867,{"$f":"nT_NS_n0i_vi_X(vantHoff_EOS!$N$19,vantHoff_EOS!$O$31:$X$31,vantHoff_EOS!$O$23:$X$23,G68)","v":8.3412327561011441},{"$f":"IF(O$60<=vantHoff_EOS!$N$19,y_iindex_NS_n0i_vi_X(O$3,vantHoff_EOS!$N$19,vantHoff_EOS!$O$31:$X$31,vantHoff_EOS!$O$23:$X$23,$G68),\"-\")","v":7.3895318425372505E-5},{"$f":"IF(P$60<=vantHoff_EOS!$N$19,y_iindex_NS_n0i_vi_X(P$3,vantHoff_EOS!$N$19,vantHoff_EOS!$O$31:$X$31,vantHoff_EOS!$O$23:$X$23,$G68),\"-\")","v":7.3895318425372505E-5},{"$f":"IF(Q$60<=vantHoff_EOS!$N$19,y_iindex_NS_n0i_vi_X(Q$3,vantHoff_EOS!$N$19,vantHoff_EOS!$O$31:$X$31,vantHoff_EOS!$O$23:$X$23,$G68),\"-\")","v":7.3895318425372505E-5},{"$f":"IF(R$60<=vantHoff_EOS!$N$19,y_iindex_NS_n0i_vi_X(R$3,vantHoff_EOS!$N$19,vantHoff_EOS!$O$31:$X$31,vantHoff_EOS!$O$23:$X$23,$G68),\"-\")","v":0.11981246072032155},{"$f":"IF(S$60<=vantHoff_EOS!$N$19,y_iindex_NS_n0i_vi_X(S$3,vantHoff_EOS!$N$19,vantHoff_EOS!$O$31:$X$31,vantHoff_EOS!$O$23:$X$23,$G68),\"-\")","v":0.87996585332440236},{"$f":"IF(T$60<=vantHoff_EOS!$N$19,y_iindex_NS_n0i_vi_X(T$3,vantHoff_EOS!$N$19,vantHoff_EOS!$O$31:$X$31,vantHoff_EOS!$O$23:$X$23,$G68),\"-\")","v":"-"},{"$f":"IF(U$60<=vantHoff_EOS!$N$19,y_iindex_NS_n0i_vi_X(U$3,vantHoff_EOS!$N$19,vantHoff_EOS!$O$31:$X$31,vantHoff_EOS!$O$23:$X$23,$G68),\"-\")","v":"-"},{"$f":"IF(V$60<=vantHoff_EOS!$N$19,y_iindex_NS_n0i_vi_X(V$3,vantHoff_EOS!$N$19,vantHoff_EOS!$O$31:$X$31,vantHoff_EOS!$O$23:$X$23,$G68),\"-\")","v":"-"},{"$f":"IF(W$60<=vantHoff_EOS!$N$19,y_iindex_NS_n0i_vi_X(W$3,vantHoff_EOS!$N$19,vantHoff_EOS!$O$31:$X$31,vantHoff_EOS!$O$23:$X$23,$G68),\"-\")","v":"-"},{"$f":"IF(X$60<=vantHoff_EOS!$N$19,y_iindex_NS_n0i_vi_X(X$3,vantHoff_EOS!$N$19,vantHoff_EOS!$O$31:$X$31,vantHoff_EOS!$O$23:$X$23,$G68),\"-\")","v":"-"},1,{"$f":"IF(Z$60<=vantHoff_EOS!$N$19,Phi_i_NS_Tci_Pci_wi_kijm_TinC_PinPa_yi(Z$3,vantHoff_EOS!$N$19,vantHoff_EOS!$X$5:$X$14,vantHoff_EOS!$Y$5:$Y$14,vantHoff_EOS!$Z$5:$Z$14,vantHoff_EOS!$AE$5:$AN$14,$C$59,B68*1000000,$O68:$X68),\"-\")","v":3.8904174380789431},{"$f":"IF(AA$60<=vantHoff_EOS!$N$19,Phi_i_NS_Tci_Pci_wi_kijm_TinC_PinPa_yi(AA$3,vantHoff_EOS!$N$19,vantHoff_EOS!$X$5:$X$14,vantHoff_EOS!$Y$5:$Y$14,vantHoff_EOS!$Z$5:$Z$14,vantHoff_EOS!$AE$5:$AN$14,$C$59,B68*1000000,$O68:$X68),\"-\")","v":5.8876915133473178},{"$f":"IF(AB$60<=vantHoff_EOS!$N$19,Phi_i_NS_Tci_Pci_wi_kijm_TinC_PinPa_yi(AB$3,vantHoff_EOS!$N$19,vantHoff_EOS!$X$5:$X$14,vantHoff_EOS!$Y$5:$Y$14,vantHoff_EOS!$Z$5:$Z$14,vantHoff_EOS!$AE$5:$AN$14,$C$59,B68*1000000,$O68:$X68),\"-\")","v":0.25363338170143268},{"$f":"IF(AC$60<=vantHoff_EOS!$N$19,Phi_i_NS_Tci_Pci_wi_kijm_TinC_PinPa_yi(AC$3,vantHoff_EOS!$N$19,vantHoff_EOS!$X$5:$X$14,vantHoff_EOS!$Y$5:$Y$14,vantHoff_EOS!$Z$5:$Z$14,vantHoff_EOS!$AE$5:$AN$14,$C$59,B68*1000000,$O68:$X68),\"-\")","v":1.4999392009896816E-2},{"$f":"IF(AD$60<=vantHoff_EOS!$N$19,Phi_i_NS_Tci_Pci_wi_kijm_TinC_PinPa_yi(AD$3,vantHoff_EOS!$N$19,vantHoff_EOS!$X$5:$X$14,vantHoff_EOS!$Y$5:$Y$14,vantHoff_EOS!$Z$5:$Z$14,vantHoff_EOS!$AE$5:$AN$14,$C$59,B68*1000000,$O68:$X68),\"-\")","v":0.75140185075487853},{"$f":"IF(AE$60<=vantHoff_EOS!$N$19,Phi_i_NS_Tci_Pci_wi_kijm_TinC_PinPa_yi(AE$3,vantHoff_EOS!$N$19,vantHoff_EOS!$X$5:$X$14,vantHoff_EOS!$Y$5:$Y$14,vantHoff_EOS!$Z$5:$Z$14,vantHoff_EOS!$AE$5:$AN$14,$C$59,B68*1000000,$O68:$X68),\"-\")","v":"-"},{"$f":"IF(AF$60<=vantHoff_EOS!$N$19,Phi_i_NS_Tci_Pci_wi_kijm_TinC_PinPa_yi(AF$3,vantHoff_EOS!$N$19,vantHoff_EOS!$X$5:$X$14,vantHoff_EOS!$Y$5:$Y$14,vantHoff_EOS!$Z$5:$Z$14,vantHoff_EOS!$AE$5:$AN$14,$C$59,B68*1000000,$O68:$X68),\"-\")","v":"-"},{"$f":"IF(AG$60<=vantHoff_EOS!$N$19,Phi_i_NS_Tci_Pci_wi_kijm_TinC_PinPa_yi(AG$3,vantHoff_EOS!$N$19,vantHoff_EOS!$X$5:$X$14,vantHoff_EOS!$Y$5:$Y$14,vantHoff_EOS!$Z$5:$Z$14,vantHoff_EOS!$AE$5:$AN$14,$C$59,B68*1000000,$O68:$X68),\"-\")","v":"-"},{"$f":"IF(AH$60<=vantHoff_EOS!$N$19,Phi_i_NS_Tci_Pci_wi_kijm_TinC_PinPa_yi(AH$3,vantHoff_EOS!$N$19,vantHoff_EOS!$X$5:$X$14,vantHoff_EOS!$Y$5:$Y$14,vantHoff_EOS!$Z$5:$Z$14,vantHoff_EOS!$AE$5:$AN$14,$C$59,B68*1000000,$O68:$X68),\"-\")","v":"-"},{"$f":"IF(AI$60<=vantHoff_EOS!$N$19,Phi_i_NS_Tci_Pci_wi_kijm_TinC_PinPa_yi(AI$3,vantHoff_EOS!$N$19,vantHoff_EOS!$X$5:$X$14,vantHoff_EOS!$Y$5:$Y$14,vantHoff_EOS!$Z$5:$Z$14,vantHoff_EOS!$AE$5:$AN$14,$C$59,B68*1000000,$O68:$X68),\"-\")","v":"-"}]
[9,{"$f":"B68+vantHoff_EOS!$E$31","v":9.5999999999999943},333.15,3.0016509079993999E-3,{"$f":"lnKaT_Tref_lnKaTref_dHTref_da_db_dc_dd_de_TinC(vantHoff_EOS!$E$7,vantHoff_EOS!$B$9,vantHoff_EOS!$B$6,vantHoff_EOS!$O$27,vantHoff_EOS!$P$27,vantHoff_EOS!$Q$27,vantHoff_EOS!$R$27,vantHoff_EOS!$S$27,$C$59)","v":11.370905491151026},86760.392694887007,{"$f":"MolarExtentX_NS_vi_n0i_dHfi_dGfi_TrefinC_da_db_dc_dd_de_Tci_Pci_wi_kijm_TinC_PinPa(vantHoff_EOS!$N$19,vantHoff_EOS!$O$23:$X$23,vantHoff_EOS!$O$31:$X$31,vantHoff_EOS!$T$5:$T$14,vantHoff_EOS!$U$5:$U$14,vantHoff_EOS!$E$7,vantHoff_EOS!$O$27,vantHoff_EOS!$P$27,vantHoff_EOS!$Q$27,vantHoff_EOS!$R$27,vantHoff_EOS!$S$27,vantHoff_EOS!$X$5:$X$14,vantHoff_EOS!$Y$5:$Y$14,vantHoff_EOS!$Z$5:$Z$14,vantHoff_EOS!$AE$5:$AN$14,$C$59,B69*1000000)","v":0.99939225080788596},{"$f":"Ky_NS_n0i_vi_X(vantHoff_EOS!$N$19,vantHoff_EOS!$O$31:$X$31,vantHoff_EOS!$O$23:$X$23,G69)","v":309757257140.06281},{"$f":"Kp_NS_vi_PinPa(vantHoff_EOS!$N$19,vantHoff_EOS!$O$23:$X$23,B69*1000000)","v":1.0850694444444457E-4},{"$f":"Kphi_NS_n0i_vi_X_Tci_Pci_wi_kijm_TinC_PinPa(vantHoff_EOS!$N$19,vantHoff_EOS!$O$31:$X$31,vantHoff_EOS!$O$23:$X$23,G69,vantHoff_EOS!$X$5:$X$14,vantHoff_EOS!$Y$5:$Y$14,vantHoff_EOS!$Z$5:$Z$14,vantHoff_EOS!$AE$5:$AN$14,$C$59,B69*1000000)","v":2.5813237420121266E-3},26.459054786204817,-9.1286963829356704,-5.9594529333290023,{"$f":"nT_NS_n0i_vi_X(vantHoff_EOS!$N$19,vantHoff_EOS!$O$31:$X$31,vantHoff_EOS!$O$23:$X$23,G69)","v":8.3412154983842282},{"$f":"IF(O$60<=vantHoff_EOS!$N$19,y_iindex_NS_n0i_vi_X(O$3,vantHoff_EOS!$N$19,vantHoff_EOS!$O$31:$X$31,vantHoff_EOS!$O$23:$X$23,$G69),\"-\")","v":7.2860986774860855E-5},{"$f":"IF(P$60<=vantHoff_EOS!$N$19,y_iindex_NS_n0i_vi_X(P$3,vantHoff_EOS!$N$19,vantHoff_EOS!$O$31:$X$31,vantHoff_EOS!$O$23:$X$23,$G69),\"-\")","v":7.2860986774860855E-5},{"$f":"IF(Q$60<=vantHoff_EOS!$N$19,y_iindex_NS_n0i_vi_X(Q$3,vantHoff_EOS!$N$19,vantHoff_EOS!$O$31:$X$31,vantHoff_EOS!$O$23:$X$23,$G69),\"-\")","v":7.2860986774860855E-5},{"$f":"IF(R$60<=vantHoff_EOS!$N$19,y_iindex_NS_n0i_vi_X(R$3,vantHoff_EOS!$N$19,vantHoff_EOS!$O$31:$X$31,vantHoff_EOS!$O$23:$X$23,$G69),\"-\")","v":0.11981374309313525},{"$f":"IF(S$60<=vantHoff_EOS!$N$19,y_iindex_NS_n0i_vi_X(S$3,vantHoff_EOS!$N$19,vantHoff_EOS!$O$31:$X$31,vantHoff_EOS!$O$23:$X$23,$G69),\"-\")","v":0.87996767394654019},{"$f":"IF(T$60<=vantHoff_EOS!$N$19,y_iindex_NS_n0i_vi_X(T$3,vantHoff_EOS!$N$19,vantHoff_EOS!$O$31:$X$31,vantHoff_EOS!$O$23:$X$23,$G69),\"-\")","v":"-"},{"$f":"IF(U$60<=vantHoff_EOS!$N$19,y_iindex_NS_n0i_vi_X(U$3,vantHoff_EOS!$N$19,vantHoff_EOS!$O$31:$X$31,vantHoff_EOS!$O$23:$X$23,$G69),\"-\")","v":"-"},{"$f":"IF(V$60<=vantHoff_EOS!$N$19,y_iindex_NS_n0i_vi_X(V$3,vantHoff_EOS!$N$19,vantHoff_EOS!$O$31:$X$31,vantHoff_EOS!$O$23:$X$23,$G69),\"-\")","v":"-"},{"$f":"IF(W$60<=vantHoff_EOS!$N$19,y_iindex_NS_n0i_vi_X(W$3,vantHoff_EOS!$N$19,vantHoff_EOS!$O$31:$X$31,vantHoff_EOS!$O$23:$X$23,$G69),\"-\")","v":"-"},{"$f":"IF(X$60<=vantHoff_EOS!$N$19,y_iindex_NS_n0i_vi_X(X$3,vantHoff_EOS!$N$19,vantHoff_EOS!$O$31:$X$31,vantHoff_EOS!$O$23:$X$23,$G69),\"-\")","v":"-"},1,{"$f":"IF(Z$60<=vantHoff_EOS!$N$19,Phi_i_NS_Tci_Pci_wi_kijm_TinC_PinPa_yi(Z$3,vantHoff_EOS!$N$19,vantHoff_EOS!$X$5:$X$14,vantHoff_EOS!$Y$5:$Y$14,vantHoff_EOS!$Z$5:$Z$14,vantHoff_EOS!$AE$5:$AN$14,$C$59,B69*1000000,$O69:$X69),\"-\")","v":3.8713811631142967},{"$f":"IF(AA$60<=vantHoff_EOS!$N$19,Phi_i_NS_Tci_Pci_wi_kijm_TinC_PinPa_yi(AA$3,vantHoff_EOS!$N$19,vantHoff_EOS!$X$5:$X$14,vantHoff_EOS!$Y$5:$Y$14,vantHoff_EOS!$Z$5:$Z$14,vantHoff_EOS!$AE$5:$AN$14,$C$59,B69*1000000,$O69:$X69),\"-\")","v":5.8623983124692449},{"$f":"IF(AB$60<=vantHoff_EOS!$N$19,Phi_i_NS_Tci_Pci_wi_kijm_TinC_PinPa_yi(AB$3,vantHoff_EOS!$N$19,vantHoff_EOS!$X$5:$X$14,vantHoff_EOS!$Y$5:$Y$14,vantHoff_EOS!$Z$5:$Z$14,vantHoff_EOS!$AE$5:$AN$14,$C$59,B69*1000000,$O69:$X69),\"-\")","v":0.24975516212980006},{"$f":"IF(AC$60<=vantHoff_EOS!$N$19,Phi_i_NS_Tci_Pci_wi_kijm_TinC_PinPa_yi(AC$3,vantHoff_EOS!$N$19,vantHoff_EOS!$X$5:$X$14,vantHoff_EOS!$Y$5:$Y$14,vantHoff_EOS!$Z$5:$Z$14,vantHoff_EOS!$AE$5:$AN$14,$C$59,B69*1000000,$O69:$X69),\"-\")","v":1.4631815101736886E-2},{"$f":"IF(AD$60<=vantHoff_EOS!$N$19,Phi_i_NS_Tci_Pci_wi_kijm_TinC_PinPa_yi(AD$3,vantHoff_EOS!$N$19,vantHoff_EOS!$X$5:$X$14,vantHoff_EOS!$Y$5:$Y$14,vantHoff_EOS!$Z$5:$Z$14,vantHoff_EOS!$AE$5:$AN$14,$C$59,B69*1000000,$O69:$X69),\"-\")","v":0.74056216929991059},{"$f":"IF(AE$60<=vantHoff_EOS!$N$19,Phi_i_NS_Tci_Pci_wi_kijm_TinC_PinPa_yi(AE$3,vantHoff_EOS!$N$19,vantHoff_EOS!$X$5:$X$14,vantHoff_EOS!$Y$5:$Y$14,vantHoff_EOS!$Z$5:$Z$14,vantHoff_EOS!$AE$5:$AN$14,$C$59,B69*1000000,$O69:$X69),\"-\")","v":"-"},{"$f":"IF(AF$60<=vantHoff_EOS!$N$19,Phi_i_NS_Tci_Pci_wi_kijm_TinC_PinPa_yi(AF$3,vantHoff_EOS!$N$19,vantHoff_EOS!$X$5:$X$14,vantHoff_EOS!$Y$5:$Y$14,vantHoff_EOS!$Z$5:$Z$14,vantHoff_EOS!$AE$5:$AN$14,$C$59,B69*1000000,$O69:$X69),\"-\")","v":"-"},{"$f":"IF(AG$60<=vantHoff_EOS!$N$19,Phi_i_NS_Tci_Pci_wi_kijm_TinC_PinPa_yi(AG$3,vantHoff_EOS!$N$19,vantHoff_EOS!$X$5:$X$14,vantHoff_EOS!$Y$5:$Y$14,vantHoff_EOS!$Z$5:$Z$14,vantHoff_EOS!$AE$5:$AN$14,$C$59,B69*1000000,$O69:$X69),\"-\")","v":"-"},{"$f":"IF(AH$60<=vantHoff_EOS!$N$19,Phi_i_NS_Tci_Pci_wi_kijm_TinC_PinPa_yi(AH$3,vantHoff_EOS!$N$19,vantHoff_EOS!$X$5:$X$14,vantHoff_EOS!$Y$5:$Y$14,vantHoff_EOS!$Z$5:$Z$14,vantHoff_EOS!$AE$5:$AN$14,$C$59,B69*1000000,$O69:$X69),\"-\")","v":"-"},{"$f":"IF(AI$60<=vantHoff_EOS!$N$19,Phi_i_NS_Tci_Pci_wi_kijm_TinC_PinPa_yi(AI$3,vantHoff_EOS!$N$19,vantHoff_EOS!$X$5:$X$14,vantHoff_EOS!$Y$5:$Y$14,vantHoff_EOS!$Z$5:$Z$14,vantHoff_EOS!$AE$5:$AN$14,$C$59,B69*1000000,$O69:$X69),\"-\")","v":"-"}]
[10,{"$f":"B69+vantHoff_EOS!$E$31","v":9.7999999999999936},333.15,3.0016509079993999E-3,{"$f":"lnKaT_Tref_lnKaTref_dHTref_da_db_dc_dd_de_TinC(vantHoff_EOS!$E$7,vantHoff_EOS!$B$9,vantHoff_EOS!$B$6,vantHoff_EOS!$O$27,vantHoff_EOS!$P$27,vantHoff_EOS!$Q$27,vantHoff_EOS!$R$27,vantHoff_EOS!$S$27,$C$59)","v":11.370905491151026},86760.392694887007,{"$f":"MolarExtentX_NS_vi_n0i_dHfi_dGfi_TrefinC_da_db_dc_dd_de_Tci_Pci_wi_kijm_TinC_PinPa(vantHoff_EOS!$N$19,vantHoff_EOS!$O$23:$X$23,vantHoff_EOS!$O$31:$X$31,vantHoff_EOS!$T$5:$T$14,vantHoff_EOS!$U$5:$U$14,vantHoff_EOS!$E$7,vantHoff_EOS!$O$27,vantHoff_EOS!$P$27,vantHoff_EOS!$Q$27,vantHoff_EOS!$R$27,vantHoff_EOS!$S$27,vantHoff_EOS!$X$5:$X$14,vantHoff_EOS!$Y$5:$Y$14,vantHoff_EOS!$Z$5:$Z$14,vantHoff_EOS!$AE$5:$AN$14,$C$59,B70*1000000)","v":0.99940041055831885},{"$f":"Ky_NS_n0i_vi_X(vantHoff_EOS!$N$19,vantHoff_EOS!$O$31:$X$31,vantHoff_EOS!$O$23:$X$23,G70)","v":322577875406.22882},{"$f":"Kp_NS_vi_PinPa(vantHoff_EOS!$N$19,vantHoff_EOS!$O$23:$X$23,B70*1000000)","v":1.0412328196584769E-4},{"$f":"Kphi_NS_n0i_vi_X_Tci_Pci_wi_kijm_TinC_PinPa(vantHoff_EOS!$N$19,vantHoff_EOS!$O$31:$X$31,vantHoff_EOS!$O$23:$X$23,G70,vantHoff_EOS!$X$5:$X$14,vantHoff_EOS!$Y$5:$Y$14,vantHoff_EOS!$Z$5:$Z$14,vantHoff_EOS!$AE$5:$AN$14,$C$59,B70*1000000)","v":2.5830872433911032E-3},26.499610418159897,-9.1699349573411428,-5.9587699894453712,{"$f":"nT_NS_n0i_vi_X(vantHoff_EOS!$N$19,vantHoff_EOS!$O$31:$X$31,vantHoff_EOS!$O$23:$X$23,G70)","v":8.3411991788833628},{"$f":"IF(O$60<=vantHoff_EOS!$N$19,y_iindex_NS_n0i_vi_X(O$3,vantHoff_EOS!$N$19,vantHoff_EOS!$O$31:$X$31,vantHoff_EOS!$O$23:$X$23,$G70),\"-\")","v":7.1882882643430011E-5},{"$f":"IF(P$60<=vantHoff_EOS!$N$19,y_iindex_NS_n0i_vi_X(P$3,vantHoff_EOS!$N$19,vantHoff_EOS!$O$31:$X$31,vantHoff_EOS!$O$23:$X$23,$G70),\"-\")","v":7.1882882643430011E-5},{"$f":"IF(Q$60<=vantHoff_EOS!$N$19,y_iindex_NS_n0i_vi_X(Q$3,vantHoff_EOS!$N$19,vantHoff_EOS!$O$31:$X$31,vantHoff_EOS!$O$23:$X$23,$G70),\"-\")","v":7.1882882643430011E-5},{"$f":"IF(R$60<=vantHoff_EOS!$N$19,y_iindex_NS_n0i_vi_X(R$3,vantHoff_EOS!$N$19,vantHoff_EOS!$O$31:$X$31,vantHoff_EOS!$O$23:$X$23,$G70),\"-\")","v":0.11981495575461233},{"$f":"IF(S$60<=vantHoff_EOS!$N$19,y_iindex_NS_n0i_vi_X(S$3,vantHoff_EOS!$N$19,vantHoff_EOS!$O$31:$X$31,vantHoff_EOS!$O$23:$X$23,$G70),\"-\")","v":0.87996939559745735},{"$f":"IF(T$60<=vantHoff_EOS!$N$19,y_iindex_NS_n0i_vi_X(T$3,vantHoff_EOS!$N$19,vantHoff_EOS!$O$31:$X$31,vantHoff_EOS!$O$23:$X$23,$G70),\"-\")","v":"-"},{"$f":"IF(U$60<=vantHoff_EOS!$N$19,y_iindex_NS_n0i_vi_X(U$3,vantHoff_EOS!$N$19,vantHoff_EOS!$O$31:$X$31,vantHoff_EOS!$O$23:$X$23,$G70),\"-\")","v":"-"},{"$f":"IF(V$60<=vantHoff_EOS!$N$19,y_iindex_NS_n0i_vi_X(V$3,vantHoff_EOS!$N$19,vantHoff_EOS!$O$31:$X$31,vantHoff_EOS!$O$23:$X$23,$G70),\"-\")","v":"-"},{"$f":"IF(W$60<=vantHoff_EOS!$N$19,y_iindex_NS_n0i_vi_X(W$3,vantHoff_EOS!$N$19,vantHoff_EOS!$O$31:$X$31,vantHoff_EOS!$O$23:$X$23,$G70),\"-\")","v":"-"},{"$f":"IF(X$60<=vantHoff_EOS!$N$19,y_iindex_NS_n0i_vi_X(X$3,vantHoff_EOS!$N$19,vantHoff_EOS!$O$31:$X$31,vantHoff_EOS!$O$23:$X$23,$G70),\"-\")","v":"-"},1,{"$f":"IF(Z$60<=vantHoff_EOS!$N$19,Phi_i_NS_Tci_Pci_wi_kijm_TinC_PinPa_yi(Z$3,vantHoff_EOS!$N$19,vantHoff_EOS!$X$5:$X$14,vantHoff_EOS!$Y$5:$Y$14,vantHoff_EOS!$Z$5:$Z$14,vantHoff_EOS!$AE$5:$AN$14,$C$59,B70*1000000,$O70:$X70),\"-\")","v":3.8519897483915226},{"$f":"IF(AA$60<=vantHoff_EOS!$N$19,Phi_i_NS_Tci_Pci_wi_kijm_TinC_PinPa_yi(AA$3,vantHoff_EOS!$N$19,vantHoff_EOS!$X$5:$X$14,vantHoff_EOS!$Y$5:$Y$14,vantHoff_EOS!$Z$5:$Z$14,vantHoff_EOS!$AE$5:$AN$14,$C$59,B70*1000000,$O70:$X70),\"-\")","v":5.8361393622702602},{"$f":"IF(AB$60<=vantHoff_EOS!$N$19,Phi_i_NS_Tci_Pci_wi_kijm_TinC_PinPa_yi(AB$3,vantHoff_EOS!$N$19,vantHoff_EOS!$X$5:$X$14,vantHoff_EOS!$Y$5:$Y$14,vantHoff_EOS!$Z$5:$Z$14,vantHoff_EOS!$AE$5:$AN$14,$C$59,B70*1000000,$O70:$X70),\"-\")","v":0.24605158226872206},{"$f":"IF(AC$60<=vantHoff_EOS!$N$19,Phi_i_NS_Tci_Pci_wi_kijm_TinC_PinPa_yi(AC$3,vantHoff_EOS!$N$19,vantHoff_EOS!$X$5:$X$14,vantHoff_EOS!$Y$5:$Y$14,vantHoff_EOS!$Z$5:$Z$14,vantHoff_EOS!$AE$5:$AN$14,$C$59,B70*1000000,$O70:$X70),\"-\")","v":1.4288150411777972E-2},{"$f":"IF(AD$60<=vantHoff_EOS!$N$19,Phi_i_NS_Tci_Pci_wi_kijm_TinC_PinPa_yi(AD$3,vantHoff_EOS!$N$19,vantHoff_EOS!$X$5:$X$14,vantHoff_EOS!$Y$5:$Y$14,vantHoff_EOS!$Z$5:$Z$14,vantHoff_EOS!$AE$5:$AN$14,$C$59,B70*1000000,$O70:$X70),\"-\")","v":0.73010234846534028},{"$f":"IF(AE$60<=vantHoff_EOS!$N$19,Phi_i_NS_Tci_Pci_wi_kijm_TinC_PinPa_yi(AE$3,vantHoff_EOS!$N$19,vantHoff_EOS!$X$5:$X$14,vantHoff_EOS!$Y$5:$Y$14,vantHoff_EOS!$Z$5:$Z$14,vantHoff_EOS!$AE$5:$AN$14,$C$59,B70*1000000,$O70:$X70),\"-\")","v":"-"},{"$f":"IF(AF$60<=vantHoff_EOS!$N$19,Phi_i_NS_Tci_Pci_wi_kijm_TinC_PinPa_yi(AF$3,vantHoff_EOS!$N$19,vantHoff_EOS!$X$5:$X$14,vantHoff_EOS!$Y$5:$Y$14,vantHoff_EOS!$Z$5:$Z$14,vantHoff_EOS!$AE$5:$AN$14,$C$59,B70*1000000,$O70:$X70),\"-\")","v":"-"},{"$f":"IF(AG$60<=vantHoff_EOS!$N$19,Phi_i_NS_Tci_Pci_wi_kijm_TinC_PinPa_yi(AG$3,vantHoff_EOS!$N$19,vantHoff_EOS!$X$5:$X$14,vantHoff_EOS!$Y$5:$Y$14,vantHoff_EOS!$Z$5:$Z$14,vantHoff_EOS!$AE$5:$AN$14,$C$59,B70*1000000,$O70:$X70),\"-\")","v":"-"},{"$f":"IF(AH$60<=vantHoff_EOS!$N$19,Phi_i_NS_Tci_Pci_wi_kijm_TinC_PinPa_yi(AH$3,vantHoff_EOS!$N$19,vantHoff_EOS!$X$5:$X$14,vantHoff_EOS!$Y$5:$Y$14,vantHoff_EOS!$Z$5:$Z$14,vantHoff_EOS!$AE$5:$AN$14,$C$59,B70*1000000,$O70:$X70),\"-\")","v":"-"},{"$f":"IF(AI$60<=vantHoff_EOS!$N$19,Phi_i_NS_Tci_Pci_wi_kijm_TinC_PinPa_yi(AI$3,vantHoff_EOS!$N$19,vantHoff_EOS!$X$5:$X$14,vantHoff_EOS!$Y$5:$Y$14,vantHoff_EOS!$Z$5:$Z$14,vantHoff_EOS!$AE$5:$AN$14,$C$59,B70*1000000,$O70:$X70),\"-\")","v":"-"}]
[11,{"$f":"B70+vantHoff_EOS!$E$31","v":9.9999999999999929},333.15,3.0016509079993999E-3,{"$f":"lnKaT_Tref_lnKaTref_dHTref_da_db_dc_dd_de_TinC(vantHoff_EOS!$E$7,vantHoff_EOS!$B$9,vantHoff_EOS!$B$6,vantHoff_EOS!$O$27,vantHoff_EOS!$P$27,vantHoff_EOS!$Q$27,vantHoff_EOS!$R$27,vantHoff_EOS!$S$27,$C$59)","v":11.370905491151026},86760.392694887007,{"$f":"MolarExtentX_NS_vi_n0i_dHfi_dGfi_TrefinC_da_db_dc_dd_de_Tci_Pci_wi_kijm_TinC_PinPa(vantHoff_EOS!$N$19,vantHoff_EOS!$O$23:$X$23,vantHoff_EOS!$O$31:$X$31,vantHoff_EOS!$T$5:$T$14,vantHoff_EOS!$U$5:$U$14,vantHoff_EOS!$E$7,vantHoff_EOS!$O$27,vantHoff_EOS!$P$27,vantHoff_EOS!$Q$27,vantHoff_EOS!$R$27,vantHoff_EOS!$S$27,vantHoff_EOS!$X$5:$X$14,vantHoff_EOS!$Y$5:$Y$14,vantHoff_EOS!$Z$5:$Z$14,vantHoff_EOS!$AE$5:$AN$14,$C$59,B71*1000000)","v":0.99940814829852531},{"$f":"Ky_NS_n0i_vi_X(vantHoff_EOS!$N$19,vantHoff_EOS!$O$31:$X$31,vantHoff_EOS!$O$23:$X$23,G71)","v":335397295767.27502},{"$f":"Kp_NS_vi_PinPa(vantHoff_EOS!$N$19,vantHoff_EOS!$O$23:$X$23,B71*1000000)","v":1.0000000000000014E-4},{"$f":"Kphi_NS_n0i_vi_X_Tci_Pci_wi_kijm_TinC_PinPa(vantHoff_EOS!$N$19,vantHoff_EOS!$O$31:$X$31,vantHoff_EOS!$O$23:$X$23,G71,vantHoff_EOS!$X$5:$X$14,vantHoff_EOS!$Y$5:$Y$14,vantHoff_EOS!$Z$5:$Z$14,vantHoff_EOS!$AE$5:$AN$14,$C$59,B71*1000000)","v":2.5867945918995128E-3},26.53858162359364,-9.2103403719761818,-5.9573357790467538,{"$f":"nT_NS_n0i_vi_X(vantHoff_EOS!$N$19,vantHoff_EOS!$O$31:$X$31,vantHoff_EOS!$O$23:$X$23,G71)","v":8.3411837034029492},{"$f":"IF(O$60<=vantHoff_EOS!$N$19,y_iindex_NS_n0i_vi_X(O$3,vantHoff_EOS!$N$19,vantHoff_EOS!$O$31:$X$31,vantHoff_EOS!$O$23:$X$23,$G71),\"-\")","v":7.0955361075818388E-5},{"$f":"IF(P$60<=vantHoff_EOS!$N$19,y_iindex_NS_n0i_vi_X(P$3,vantHoff_EOS!$N$19,vantHoff_EOS!$O$31:$X$31,vantHoff_EOS!$O$23:$X$23,$G71),\"-\")","v":7.0955361075818388E-5},{"$f":"IF(Q$60<=vantHoff_EOS!$N$19,y_iindex_NS_n0i_vi_X(Q$3,vantHoff_EOS!$N$19,vantHoff_EOS!$O$31:$X$31,vantHoff_EOS!$O$23:$X$23,$G71),\"-\")","v":7.0955361075818388E-5},{"$f":"IF(R$60<=vantHoff_EOS!$N$19,y_iindex_NS_n0i_vi_X(R$3,vantHoff_EOS!$N$19,vantHoff_EOS!$O$31:$X$31,vantHoff_EOS!$O$23:$X$23,$G71),\"-\")","v":0.11981610570341439},{"$f":"IF(S$60<=vantHoff_EOS!$N$19,y_iindex_NS_n0i_vi_X(S$3,vantHoff_EOS!$N$19,vantHoff_EOS!$O$31:$X$31,vantHoff_EOS!$O$23:$X$23,$G71),\"-\")","v":0.87997102821335815},{"$f":"IF(T$60<=vantHoff_EOS!$N$19,y_iindex_NS_n0i_vi_X(T$3,vantHoff_EOS!$N$19,vantHoff_EOS!$O$31:$X$31,vantHoff_EOS!$O$23:$X$23,$G71),\"-\")","v":"-"},{"$f":"IF(U$60<=vantHoff_EOS!$N$19,y_iindex_NS_n0i_vi_X(U$3,vantHoff_EOS!$N$19,vantHoff_EOS!$O$31:$X$31,vantHoff_EOS!$O$23:$X$23,$G71),\"-\")","v":"-"},{"$f":"IF(V$60<=vantHoff_EOS!$N$19,y_iindex_NS_n0i_vi_X(V$3,vantHoff_EOS!$N$19,vantHoff_EOS!$O$31:$X$31,vantHoff_EOS!$O$23:$X$23,$G71),\"-\")","v":"-"},{"$f":"IF(W$60<=vantHoff_EOS!$N$19,y_iindex_NS_n0i_vi_X(W$3,vantHoff_EOS!$N$19,vantHoff_EOS!$O$31:$X$31,vantHoff_EOS!$O$23:$X$23,$G71),\"-\")","v":"-"},{"$f":"IF(X$60<=vantHoff_EOS!$N$19,y_iindex_NS_n0i_vi_X(X$3,vantHoff_EOS!$N$19,vantHoff_EOS!$O$31:$X$31,vantHoff_EOS!$O$23:$X$23,$G71),\"-\")","v":"-"},1,{"$f":"IF(Z$60<=vantHoff_EOS!$N$19,Phi_i_NS_Tci_Pci_wi_kijm_TinC_PinPa_yi(Z$3,vantHoff_EOS!$N$19,vantHoff_EOS!$X$5:$X$14,vantHoff_EOS!$Y$5:$Y$14,vantHoff_EOS!$Z$5:$Z$14,vantHoff_EOS!$AE$5:$AN$14,$C$59,B71*1000000,$O71:$X71),\"-\")","v":3.8323703278076318},{"$f":"IF(AA$60<=vantHoff_EOS!$N$19,Phi_i_NS_Tci_Pci_wi_kijm_TinC_PinPa_yi(AA$3,vantHoff_EOS!$N$19,vantHoff_EOS!$X$5:$X$14,vantHoff_EOS!$Y$5:$Y$14,vantHoff_EOS!$Z$5:$Z$14,vantHoff_EOS!$AE$5:$AN$14,$C$59,B71*1000000,$O71:$X71),\"-\")","v":5.8091504539852572},{"$f":"IF(AB$60<=vantHoff_EOS!$N$19,Phi_i_NS_Tci_Pci_wi_kijm_TinC_PinPa_yi(AB$3,vantHoff_EOS!$N$19,vantHoff_EOS!$X$5:$X$14,vantHoff_EOS!$Y$5:$Y$14,vantHoff_EOS!$Z$5:$Z$14,vantHoff_EOS!$AE$5:$AN$14,$C$59,B71*1000000,$O71:$X71),\"-\")","v":0.2425109685205136},{"$f":"IF(AC$60<=vantHoff_EOS!$N$19,Phi_i_NS_Tci_Pci_wi_kijm_TinC_PinPa_yi(AC$3,vantHoff_EOS!$N$19,vantHoff_EOS!$X$5:$X$14,vantHoff_EOS!$Y$5:$Y$14,vantHoff_EOS!$Z$5:$Z$14,vantHoff_EOS!$AE$5:$AN$14,$C$59,B71*1000000,$O71:$X71),\"-\")","v":1.3966044579982084E-2},{"$f":"IF(AD$60<=vantHoff_EOS!$N$19,Phi_i_NS_Tci_Pci_wi_kijm_TinC_PinPa_yi(AD$3,vantHoff_EOS!$N$19,vantHoff_EOS!$X$5:$X$14,vantHoff_EOS!$Y$5:$Y$14,vantHoff_EOS!$Z$5:$Z$14,vantHoff_EOS!$AE$5:$AN$14,$C$59,B71*1000000,$O71:$X71),\"-\")","v":0.72000564383000532},{"$f":"IF(AE$60<=vantHoff_EOS!$N$19,Phi_i_NS_Tci_Pci_wi_kijm_TinC_PinPa_yi(AE$3,vantHoff_EOS!$N$19,vantHoff_EOS!$X$5:$X$14,vantHoff_EOS!$Y$5:$Y$14,vantHoff_EOS!$Z$5:$Z$14,vantHoff_EOS!$AE$5:$AN$14,$C$59,B71*1000000,$O71:$X71),\"-\")","v":"-"},{"$f":"IF(AF$60<=vantHoff_EOS!$N$19,Phi_i_NS_Tci_Pci_wi_kijm_TinC_PinPa_yi(AF$3,vantHoff_EOS!$N$19,vantHoff_EOS!$X$5:$X$14,vantHoff_EOS!$Y$5:$Y$14,vantHoff_EOS!$Z$5:$Z$14,vantHoff_EOS!$AE$5:$AN$14,$C$59,B71*1000000,$O71:$X71),\"-\")","v":"-"},{"$f":"IF(AG$60<=vantHoff_EOS!$N$19,Phi_i_NS_Tci_Pci_wi_kijm_TinC_PinPa_yi(AG$3,vantHoff_EOS!$N$19,vantHoff_EOS!$X$5:$X$14,vantHoff_EOS!$Y$5:$Y$14,vantHoff_EOS!$Z$5:$Z$14,vantHoff_EOS!$AE$5:$AN$14,$C$59,B71*1000000,$O71:$X71),\"-\")","v":"-"},{"$f":"IF(AH$60<=vantHoff_EOS!$N$19,Phi_i_NS_Tci_Pci_wi_kijm_TinC_PinPa_yi(AH$3,vantHoff_EOS!$N$19,vantHoff_EOS!$X$5:$X$14,vantHoff_EOS!$Y$5:$Y$14,vantHoff_EOS!$Z$5:$Z$14,vantHoff_EOS!$AE$5:$AN$14,$C$59,B71*1000000,$O71:$X71),\"-\")","v":"-"},{"$f":"IF(AI$60<=vantHoff_EOS!$N$19,Phi_i_NS_Tci_Pci_wi_kijm_TinC_PinPa_yi(AI$3,vantHoff_EOS!$N$19,vantHoff_EOS!$X$5:$X$14,vantHoff_EOS!$Y$5:$Y$14,vantHoff_EOS!$Z$5:$Z$14,vantHoff_EOS!$AE$5:$AN$14,$C$59,B71*1000000,$O71:$X71),\"-\")","v":"-"}]
[12,{"$f":"B71+vantHoff_EOS!$E$31","v":10.199999999999992},333.15,3.0016509079993999E-3,{"$f":"lnKaT_Tref_lnKaTref_dHTref_da_db_dc_dd_de_TinC(vantHoff_EOS!$E$7,vantHoff_EOS!$B$9,vantHoff_EOS!$B$6,vantHoff_EOS!$O$27,vantHoff_EOS!$P$27,vantHoff_EOS!$Q$27,vantHoff_EOS!$R$27,vantHoff_EOS!$S$27,$C$59)","v":11.370905491151026},86760.392694887007,{"$f":"MolarExtentX_NS_vi_n0i_dHfi_dGfi_TrefinC_da_db_dc_dd_de_Tci_Pci_wi_kijm_TinC_PinPa(vantHoff_EOS!$N$19,vantHoff_EOS!$O$23:$X$23,vantHoff_EOS!$O$31:$X$31,vantHoff_EOS!$T$5:$T$14,vantHoff_EOS!$U$5:$U$14,vantHoff_EOS!$E$7,vantHoff_EOS!$O$27,vantHoff_EOS!$P$27,vantHoff_EOS!$Q$27,vantHoff_EOS!$R$27,vantHoff_EOS!$S$27,vantHoff_EOS!$X$5:$X$14,vantHoff_EOS!$Y$5:$Y$14,vantHoff_EOS!$Z$5:$Z$14,vantHoff_EOS!$AE$5:$AN$14,$C$59,B72*1000000)","v":0.99941550434488713},{"$f":"Ky_NS_n0i_vi_X(vantHoff_EOS!$N$19,vantHoff_EOS!$O$31:$X$31,vantHoff_EOS!$O$23:$X$23,G72)","v":348221884255.50934},{"$f":"Kp_NS_vi_PinPa(vantHoff_EOS!$N$19,vantHoff_EOS!$O$23:$X$23,B72*1000000)","v":9.6116878123798677E-5},{"$f":"Kphi_NS_n0i_vi_X_Tci_Pci_wi_kijm_TinC_PinPa(vantHoff_EOS!$N$19,vantHoff_EOS!$O$31:$X$31,vantHoff_EOS!$O$23:$X$23,G72,vantHoff_EOS!$X$5:$X$14,vantHoff_EOS!$Y$5:$Y$14,vantHoff_EOS!$Z$5:$Z$14,vantHoff_EOS!$AE$5:$AN$14,$C$59,B72*1000000)","v":2.5921837499128407E-3},26.576105711976734,-9.2499456265685414,-5.9552546118346914,{"$f":"nT_NS_n0i_vi_X(vantHoff_EOS!$N$19,vantHoff_EOS!$O$31:$X$31,vantHoff_EOS!$O$23:$X$23,G72)","v":8.3411689913102265},{"$f":"IF(O$60<=vantHoff_EOS!$N$19,y_iindex_NS_n0i_vi_X(O$3,vantHoff_EOS!$N$19,vantHoff_EOS!$O$31:$X$31,vantHoff_EOS!$O$23:$X$23,$G72),\"-\")","v":7.0073589891512175E-5},{"$f":"IF(P$60<=vantHoff_EOS!$N$19,y_iindex_NS_n0i_vi_X(P$3,vantHoff_EOS!$N$19,vantHoff_EOS!$O$31:$X$31,vantHoff_EOS!$O$23:$X$23,$G72),\"-\")","v":7.0073589891512175E-5},{"$f":"IF(Q$60<=vantHoff_EOS!$N$19,y_iindex_NS_n0i_vi_X(Q$3,vantHoff_EOS!$N$19,vantHoff_EOS!$O$31:$X$31,vantHoff_EOS!$O$23:$X$23,$G72),\"-\")","v":7.0073589891512175E-5},{"$f":"IF(R$60<=vantHoff_EOS!$N$19,y_iindex_NS_n0i_vi_X(R$3,vantHoff_EOS!$N$19,vantHoff_EOS!$O$31:$X$31,vantHoff_EOS!$O$23:$X$23,$G72),\"-\")","v":0.11981719893051819},{"$f":"IF(S$60<=vantHoff_EOS!$N$19,y_iindex_NS_n0i_vi_X(S$3,vantHoff_EOS!$N$19,vantHoff_EOS!$O$31:$X$31,vantHoff_EOS!$O$23:$X$23,$G72),\"-\")","v":0.87997258029980718},{"$f":"IF(T$60<=vantHoff_EOS!$N$19,y_iindex_NS_n0i_vi_X(T$3,vantHoff_EOS!$N$19,vantHoff_EOS!$O$31:$X$31,vantHoff_EOS!$O$23:$X$23,$G72),\"-\")","v":"-"},{"$f":"IF(U$60<=vantHoff_EOS!$N$19,y_iindex_NS_n0i_vi_X(U$3,vantHoff_EOS!$N$19,vantHoff_EOS!$O$31:$X$31,vantHoff_EOS!$O$23:$X$23,$G72),\"-\")","v":"-"},{"$f":"IF(V$60<=vantHoff_EOS!$N$19,y_iindex_NS_n0i_vi_X(V$3,vantHoff_EOS!$N$19,vantHoff_EOS!$O$31:$X$31,vantHoff_EOS!$O$23:$X$23,$G72),\"-\")","v":"-"},{"$f":"IF(W$60<=vantHoff_EOS!$N$19,y_iindex_NS_n0i_vi_X(W$3,vantHoff_EOS!$N$19,vantHoff_EOS!$O$31:$X$31,vantHoff_EOS!$O$23:$X$23,$G72),\"-\")","v":"-"},{"$f":"IF(X$60<=vantHoff_EOS!$N$19,y_iindex_NS_n0i_vi_X(X$3,vantHoff_EOS!$N$19,vantHoff_EOS!$O$31:$X$31,vantHoff_EOS!$O$23:$X$23,$G72),\"-\")","v":"-"},0.99999999999999989,{"$f":"IF(Z$60<=vantHoff_EOS!$N$19,Phi_i_NS_Tci_Pci_wi_kijm_TinC_PinPa_yi(Z$3,vantHoff_EOS!$N$19,vantHoff_EOS!$X$5:$X$14,vantHoff_EOS!$Y$5:$Y$14,vantHoff_EOS!$Z$5:$Z$14,vantHoff_EOS!$AE$5:$AN$14,$C$59,B72*1000000,$O72:$X72),\"-\")","v":3.8126262598418412},{"$f":"IF(AA$60<=vantHoff_EOS!$N$19,Phi_i_NS_Tci_Pci_wi_kijm_TinC_PinPa_yi(AA$3,vantHoff_EOS!$N$19,vantHoff_EOS!$X$5:$X$14,vantHoff_EOS!$Y$5:$Y$14,vantHoff_EOS!$Z$5:$Z$14,vantHoff_EOS!$AE$5:$AN$14,$C$59,B72*1000000,$O72:$X72),\"-\")","v":5.7816257734589849},{"$f":"IF(AB$60<=vantHoff_EOS!$N$19,Phi_i_NS_Tci_Pci_wi_kijm_TinC_PinPa_yi(AB$3,vantHoff_EOS!$N$19,vantHoff_EOS!$X$5:$X$14,vantHoff_EOS!$Y$5:$Y$14,vantHoff_EOS!$Z$5:$Z$14,vantHoff_EOS!$AE$5:$AN$14,$C$59,B72*1000000,$O72:$X72),\"-\")","v":0.23912275638857111},{"$f":"IF(AC$60<=vantHoff_EOS!$N$19,Phi_i_NS_Tci_Pci_wi_kijm_TinC_PinPa_yi(AC$3,vantHoff_EOS!$N$19,vantHoff_EOS!$X$5:$X$14,vantHoff_EOS!$Y$5:$Y$14,vantHoff_EOS!$Z$5:$Z$14,vantHoff_EOS!$AE$5:$AN$14,$C$59,B72*1000000,$O72:$X72),\"-\")","v":1.3663466756224841E-2},{"$f":"IF(AD$60<=vantHoff_EOS!$N$19,Phi_i_NS_Tci_Pci_wi_kijm_TinC_PinPa_yi(AD$3,vantHoff_EOS!$N$19,vantHoff_EOS!$X$5:$X$14,vantHoff_EOS!$Y$5:$Y$14,vantHoff_EOS!$Z$5:$Z$14,vantHoff_EOS!$AE$5:$AN$14,$C$59,B72*1000000,$O72:$X72),\"-\")","v":0.71025583602535058},{"$f":"IF(AE$60<=vantHoff_EOS!$N$19,Phi_i_NS_Tci_Pci_wi_kijm_TinC_PinPa_yi(AE$3,vantHoff_EOS!$N$19,vantHoff_EOS!$X$5:$X$14,vantHoff_EOS!$Y$5:$Y$14,vantHoff_EOS!$Z$5:$Z$14,vantHoff_EOS!$AE$5:$AN$14,$C$59,B72*1000000,$O72:$X72),\"-\")","v":"-"},{"$f":"IF(AF$60<=vantHoff_EOS!$N$19,Phi_i_NS_Tci_Pci_wi_kijm_TinC_PinPa_yi(AF$3,vantHoff_EOS!$N$19,vantHoff_EOS!$X$5:$X$14,vantHoff_EOS!$Y$5:$Y$14,vantHoff_EOS!$Z$5:$Z$14,vantHoff_EOS!$AE$5:$AN$14,$C$59,B72*1000000,$O72:$X72),\"-\")","v":"-"},{"$f":"IF(AG$60<=vantHoff_EOS!$N$19,Phi_i_NS_Tci_Pci_wi_kijm_TinC_PinPa_yi(AG$3,vantHoff_EOS!$N$19,vantHoff_EOS!$X$5:$X$14,vantHoff_EOS!$Y$5:$Y$14,vantHoff_EOS!$Z$5:$Z$14,vantHoff_EOS!$AE$5:$AN$14,$C$59,B72*1000000,$O72:$X72),\"-\")","v":"-"},{"$f":"IF(AH$60<=vantHoff_EOS!$N$19,Phi_i_NS_Tci_Pci_wi_kijm_TinC_PinPa_yi(AH$3,vantHoff_EOS!$N$19,vantHoff_EOS!$X$5:$X$14,vantHoff_EOS!$Y$5:$Y$14,vantHoff_EOS!$Z$5:$Z$14,vantHoff_EOS!$AE$5:$AN$14,$C$59,B72*1000000,$O72:$X72),\"-\")","v":"-"},{"$f":"IF(AI$60<=vantHoff_EOS!$N$19,Phi_i_NS_Tci_Pci_wi_kijm_TinC_PinPa_yi(AI$3,vantHoff_EOS!$N$19,vantHoff_EOS!$X$5:$X$14,vantHoff_EOS!$Y$5:$Y$14,vantHoff_EOS!$Z$5:$Z$14,vantHoff_EOS!$AE$5:$AN$14,$C$59,B72*1000000,$O72:$X72),\"-\")","v":"-"}]
[13,{"$f":"B72+vantHoff_EOS!$E$31","v":10.399999999999991},333.15,3.0016509079993999E-3,{"$f":"lnKaT_Tref_lnKaTref_dHTref_da_db_dc_dd_de_TinC(vantHoff_EOS!$E$7,vantHoff_EOS!$B$9,vantHoff_EOS!$B$6,vantHoff_EOS!$O$27,vantHoff_EOS!$P$27,vantHoff_EOS!$Q$27,vantHoff_EOS!$R$27,vantHoff_EOS!$S$27,$C$59)","v":11.370905491151026},86760.392694887007,{"$f":"MolarExtentX_NS_vi_n0i_dHfi_dGfi_TrefinC_da_db_dc_dd_de_Tci_Pci_wi_kijm_TinC_PinPa(vantHoff_EOS!$N$19,vantHoff_EOS!$O$23:$X$23,vantHoff_EOS!$O$31:$X$31,vantHoff_EOS!$T$5:$T$14,vantHoff_EOS!$U$5:$U$14,vantHoff_EOS!$E$7,vantHoff_EOS!$O$27,vantHoff_EOS!$P$27,vantHoff_EOS!$Q$27,vantHoff_EOS!$R$27,vantHoff_EOS!$S$27,vantHoff_EOS!$X$5:$X$14,vantHoff_EOS!$Y$5:$Y$14,vantHoff_EOS!$Z$5:$Z$14,vantHoff_EOS!$AE$5:$AN$14,$C$59,B73*1000000)","v":0.99942251348134037},{"$f":"Ky_NS_n0i_vi_X(vantHoff_EOS!$N$19,vantHoff_EOS!$O$31:$X$31,vantHoff_EOS!$O$23:$X$23,G73)","v":361057157094.20978},{"$f":"Kp_NS_vi_PinPa(vantHoff_EOS!$N$19,vantHoff_EOS!$O$23:$X$23,B73*1000000)","v":9.2455621301775322E-5},{"$f":"Kphi_NS_n0i_vi_X_Tci_Pci_wi_kijm_TinC_PinPa(vantHoff_EOS!$N$19,vantHoff_EOS!$O$31:$X$31,vantHoff_EOS!$O$23:$X$23,G73,vantHoff_EOS!$X$5:$X$14,vantHoff_EOS!$Y$5:$Y$14,vantHoff_EOS!$Z$5:$Z$14,vantHoff_EOS!$AE$5:$AN$14,$C$59,B73*1000000)","v":2.5990355633296802E-3},26.612302112647296,-9.2887817982827432,-5.9526148399498071,{"$f":"nT_NS_n0i_vi_X(vantHoff_EOS!$N$19,vantHoff_EOS!$O$31:$X$31,vantHoff_EOS!$O$23:$X$23,G73)","v":8.3411549730373196},{"$f":"IF(O$60<=vantHoff_EOS!$N$19,y_iindex_NS_n0i_vi_X(O$3,vantHoff_EOS!$N$19,vantHoff_EOS!$O$31:$X$31,vantHoff_EOS!$O$23:$X$23,$G73),\"-\")","v":6.9233399993927607E-5},{"$f":"IF(P$60<=vantHoff_EOS!$N$19,y_iindex_NS_n0i_vi_X(P$3,vantHoff_EOS!$N$19,vantHoff_EOS!$O$31:$X$31,vantHoff_EOS!$O$23:$X$23,$G73),\"-\")","v":6.9233399993927607E-5},{"$f":"IF(Q$60<=vantHoff_EOS!$N$19,y_iindex_NS_n0i_vi_X(Q$3,vantHoff_EOS!$N$19,vantHoff_EOS!$O$31:$X$31,vantHoff_EOS!$O$23:$X$23,$G73),\"-\")","v":6.9233399993927607E-5},{"$f":"IF(R$60<=vantHoff_EOS!$N$19,y_iindex_NS_n0i_vi_X(R$3,vantHoff_EOS!$N$19,vantHoff_EOS!$O$31:$X$31,vantHoff_EOS!$O$23:$X$23,$G73),\"-\")","v":0.11981824060480369},{"$f":"IF(S$60<=vantHoff_EOS!$N$19,y_iindex_NS_n0i_vi_X(S$3,vantHoff_EOS!$N$19,vantHoff_EOS!$O$31:$X$31,vantHoff_EOS!$O$23:$X$23,$G73),\"-\")","v":0.87997405919521443},{"$f":"IF(T$60<=vantHoff_EOS!$N$19,y_iindex_NS_n0i_vi_X(T$3,vantHoff_EOS!$N$19,vantHoff_EOS!$O$31:$X$31,vantHoff_EOS!$O$23:$X$23,$G73),\"-\")","v":"-"},{"$f":"IF(U$60<=vantHoff_EOS!$N$19,y_iindex_NS_n0i_vi_X(U$3,vantHoff_EOS!$N$19,vantHoff_EOS!$O$31:$X$31,vantHoff_EOS!$O$23:$X$23,$G73),\"-\")","v":"-"},{"$f":"IF(V$60<=vantHoff_EOS!$N$19,y_iindex_NS_n0i_vi_X(V$3,vantHoff_EOS!$N$19,vantHoff_EOS!$O$31:$X$31,vantHoff_EOS!$O$23:$X$23,$G73),\"-\")","v":"-"},{"$f":"IF(W$60<=vantHoff_EOS!$N$19,y_iindex_NS_n0i_vi_X(W$3,vantHoff_EOS!$N$19,vantHoff_EOS!$O$31:$X$31,vantHoff_EOS!$O$23:$X$23,$G73),\"-\")","v":"-"},{"$f":"IF(X$60<=vantHoff_EOS!$N$19,y_iindex_NS_n0i_vi_X(X$3,vantHoff_EOS!$N$19,vantHoff_EOS!$O$31:$X$31,vantHoff_EOS!$O$23:$X$23,$G73),\"-\")","v":"-"},0.99999999999999989,{"$f":"IF(Z$60<=vantHoff_EOS!$N$19,Phi_i_NS_Tci_Pci_wi_kijm_TinC_PinPa_yi(Z$3,vantHoff_EOS!$N$19,vantHoff_EOS!$X$5:$X$14,vantHoff_EOS!$Y$5:$Y$14,vantHoff_EOS!$Z$5:$Z$14,vantHoff_EOS!$AE$5:$AN$14,$C$59,B73*1000000,$O73:$X73),\"-\")","v":3.7928417833689321},{"$f":"IF(AA$60<=vantHoff_EOS!$N$19,Phi_i_NS_Tci_Pci_wi_kijm_TinC_PinPa_yi(AA$3,vantHoff_EOS!$N$19,vantHoff_EOS!$X$5:$X$14,vantHoff_EOS!$Y$5:$Y$14,vantHoff_EOS!$Z$5:$Z$14,vantHoff_EOS!$AE$5:$AN$14,$C$59,B73*1000000,$O73:$X73),\"-\")","v":5.7537258582168773},{"$f":"IF(AB$60<=vantHoff_EOS!$N$19,Phi_i_NS_Tci_Pci_wi_kijm_TinC_PinPa_yi(AB$3,vantHoff_EOS!$N$19,vantHoff_EOS!$X$5:$X$14,vantHoff_EOS!$Y$5:$Y$14,vantHoff_EOS!$Z$5:$Z$14,vantHoff_EOS!$AE$5:$AN$14,$C$59,B73*1000000,$O73:$X73),\"-\")","v":0.2358773467755903},{"$f":"IF(AC$60<=vantHoff_EOS!$N$19,Phi_i_NS_Tci_Pci_wi_kijm_TinC_PinPa_yi(AC$3,vantHoff_EOS!$N$19,vantHoff_EOS!$X$5:$X$14,vantHoff_EOS!$Y$5:$Y$14,vantHoff_EOS!$Z$5:$Z$14,vantHoff_EOS!$AE$5:$AN$14,$C$59,B73*1000000,$O73:$X73),\"-\")","v":1.3378651732838179E-2},{"$f":"IF(AD$60<=vantHoff_EOS!$N$19,Phi_i_NS_Tci_Pci_wi_kijm_TinC_PinPa_yi(AD$3,vantHoff_EOS!$N$19,vantHoff_EOS!$X$5:$X$14,vantHoff_EOS!$Y$5:$Y$14,vantHoff_EOS!$Z$5:$Z$14,vantHoff_EOS!$AE$5:$AN$14,$C$59,B73*1000000,$O73:$X73),\"-\")","v":0.7008373159322564},{"$f":"IF(AE$60<=vantHoff_EOS!$N$19,Phi_i_NS_Tci_Pci_wi_kijm_TinC_PinPa_yi(AE$3,vantHoff_EOS!$N$19,vantHoff_EOS!$X$5:$X$14,vantHoff_EOS!$Y$5:$Y$14,vantHoff_EOS!$Z$5:$Z$14,vantHoff_EOS!$AE$5:$AN$14,$C$59,B73*1000000,$O73:$X73),\"-\")","v":"-"},{"$f":"IF(AF$60<=vantHoff_EOS!$N$19,Phi_i_NS_Tci_Pci_wi_kijm_TinC_PinPa_yi(AF$3,vantHoff_EOS!$N$19,vantHoff_EOS!$X$5:$X$14,vantHoff_EOS!$Y$5:$Y$14,vantHoff_EOS!$Z$5:$Z$14,vantHoff_EOS!$AE$5:$AN$14,$C$59,B73*1000000,$O73:$X73),\"-\")","v":"-"},{"$f":"IF(AG$60<=vantHoff_EOS!$N$19,Phi_i_NS_Tci_Pci_wi_kijm_TinC_PinPa_yi(AG$3,vantHoff_EOS!$N$19,vantHoff_EOS!$X$5:$X$14,vantHoff_EOS!$Y$5:$Y$14,vantHoff_EOS!$Z$5:$Z$14,vantHoff_EOS!$AE$5:$AN$14,$C$59,B73*1000000,$O73:$X73),\"-\")","v":"-"},{"$f":"IF(AH$60<=vantHoff_EOS!$N$19,Phi_i_NS_Tci_Pci_wi_kijm_TinC_PinPa_yi(AH$3,vantHoff_EOS!$N$19,vantHoff_EOS!$X$5:$X$14,vantHoff_EOS!$Y$5:$Y$14,vantHoff_EOS!$Z$5:$Z$14,vantHoff_EOS!$AE$5:$AN$14,$C$59,B73*1000000,$O73:$X73),\"-\")","v":"-"},{"$f":"IF(AI$60<=vantHoff_EOS!$N$19,Phi_i_NS_Tci_Pci_wi_kijm_TinC_PinPa_yi(AI$3,vantHoff_EOS!$N$19,vantHoff_EOS!$X$5:$X$14,vantHoff_EOS!$Y$5:$Y$14,vantHoff_EOS!$Z$5:$Z$14,vantHoff_EOS!$AE$5:$AN$14,$C$59,B73*1000000,$O73:$X73),\"-\")","v":"-"}]
[14,{"$f":"B73+vantHoff_EOS!$E$31","v":10.599999999999991},333.15,3.0016509079993999E-3,{"$f":"lnKaT_Tref_lnKaTref_dHTref_da_db_dc_dd_de_TinC(vantHoff_EOS!$E$7,vantHoff_EOS!$B$9,vantHoff_EOS!$B$6,vantHoff_EOS!$O$27,vantHoff_EOS!$P$27,vantHoff_EOS!$Q$27,vantHoff_EOS!$R$27,vantHoff_EOS!$S$27,$C$59)","v":11.370905491151026},86760.392694887007,{"$f":"MolarExtentX_NS_vi_n0i_dHfi_dGfi_TrefinC_da_db_dc_dd_de_Tci_Pci_wi_kijm_TinC_PinPa(vantHoff_EOS!$N$19,vantHoff_EOS!$O$23:$X$23,vantHoff_EOS!$O$31:$X$31,vantHoff_EOS!$T$5:$T$14,vantHoff_EOS!$U$5:$U$14,vantHoff_EOS!$E$7,vantHoff_EOS!$O$27,vantHoff_EOS!$P$27,vantHoff_EOS!$Q$27,vantHoff_EOS!$R$27,vantHoff_EOS!$S$27,vantHoff_EOS!$X$5:$X$14,vantHoff_EOS!$Y$5:$Y$14,vantHoff_EOS!$Z$5:$Z$14,vantHoff_EOS!$AE$5:$AN$14,$C$59,B74*1000000)","v":0.99942920593226103},{"$f":"Ky_NS_n0i_vi_X(vantHoff_EOS!$N$19,vantHoff_EOS!$O$31:$X$31,vantHoff_EOS!$O$23:$X$23,G74)","v":373907925306.1496},{"$f":"Kp_NS_vi_PinPa(vantHoff_EOS!$N$19,vantHoff_EOS!$O$23:$X$23,B74*1000000)","v":8.8999644001424135E-5},{"$f":"Kphi_NS_n0i_vi_X_Tci_Pci_wi_kijm_TinC_PinPa(vantHoff_EOS!$N$19,vantHoff_EOS!$O$31:$X$31,vantHoff_EOS!$O$23:$X$23,G74,vantHoff_EOS!$X$5:$X$14,vantHoff_EOS!$Y$5:$Y$14,vantHoff_EOS!$Z$5:$Z$14,vantHoff_EOS!$AE$5:$AN$14,$C$59,B74*1000000)","v":2.6071652690833748E-3},26.64727541503046,-9.3268781882241321,-5.9494917516851515,{"$f":"nT_NS_n0i_vi_X(vantHoff_EOS!$N$19,vantHoff_EOS!$O$31:$X$31,vantHoff_EOS!$O$23:$X$23,G74)","v":8.3411415881354785},{"$f":"IF(O$60<=vantHoff_EOS!$N$19,y_iindex_NS_n0i_vi_X(O$3,vantHoff_EOS!$N$19,vantHoff_EOS!$O$31:$X$31,vantHoff_EOS!$O$23:$X$23,$G74),\"-\")","v":6.8431168768417707E-5},{"$f":"IF(P$60<=vantHoff_EOS!$N$19,y_iindex_NS_n0i_vi_X(P$3,vantHoff_EOS!$N$19,vantHoff_EOS!$O$31:$X$31,vantHoff_EOS!$O$23:$X$23,$G74),\"-\")","v":6.8431168768417707E-5},{"$f":"IF(Q$60<=vantHoff_EOS!$N$19,y_iindex_NS_n0i_vi_X(Q$3,vantHoff_EOS!$N$19,vantHoff_EOS!$O$31:$X$31,vantHoff_EOS!$O$23:$X$23,$G74),\"-\")","v":6.8431168768417707E-5},{"$f":"IF(R$60<=vantHoff_EOS!$N$19,y_iindex_NS_n0i_vi_X(R$3,vantHoff_EOS!$N$19,vantHoff_EOS!$O$31:$X$31,vantHoff_EOS!$O$23:$X$23,$G74),\"-\")","v":0.11981923521761804},{"$f":"IF(S$60<=vantHoff_EOS!$N$19,y_iindex_NS_n0i_vi_X(S$3,vantHoff_EOS!$N$19,vantHoff_EOS!$O$31:$X$31,vantHoff_EOS!$O$23:$X$23,$G74),\"-\")","v":0.87997547127607667},{"$f":"IF(T$60<=vantHoff_EOS!$N$19,y_iindex_NS_n0i_vi_X(T$3,vantHoff_EOS!$N$19,vantHoff_EOS!$O$31:$X$31,vantHoff_EOS!$O$23:$X$23,$G74),\"-\")","v":"-"},{"$f":"IF(U$60<=vantHoff_EOS!$N$19,y_iindex_NS_n0i_vi_X(U$3,vantHoff_EOS!$N$19,vantHoff_EOS!$O$31:$X$31,vantHoff_EOS!$O$23:$X$23,$G74),\"-\")","v":"-"},{"$f":"IF(V$60<=vantHoff_EOS!$N$19,y_iindex_NS_n0i_vi_X(V$3,vantHoff_EOS!$N$19,vantHoff_EOS!$O$31:$X$31,vantHoff_EOS!$O$23:$X$23,$G74),\"-\")","v":"-"},{"$f":"IF(W$60<=vantHoff_EOS!$N$19,y_iindex_NS_n0i_vi_X(W$3,vantHoff_EOS!$N$19,vantHoff_EOS!$O$31:$X$31,vantHoff_EOS!$O$23:$X$23,$G74),\"-\")","v":"-"},{"$f":"IF(X$60<=vantHoff_EOS!$N$19,y_iindex_NS_n0i_vi_X(X$3,vantHoff_EOS!$N$19,vantHoff_EOS!$O$31:$X$31,vantHoff_EOS!$O$23:$X$23,$G74),\"-\")","v":"-"},1,{"$f":"IF(Z$60<=vantHoff_EOS!$N$19,Phi_i_NS_Tci_Pci_wi_kijm_TinC_PinPa_yi(Z$3,vantHoff_EOS!$N$19,vantHoff_EOS!$X$5:$X$14,vantHoff_EOS!$Y$5:$Y$14,vantHoff_EOS!$Z$5:$Z$14,vantHoff_EOS!$AE$5:$AN$14,$C$59,B74*1000000,$O74:$X74),\"-\")","v":3.7730856509456419},{"$f":"IF(AA$60<=vantHoff_EOS!$N$19,Phi_i_NS_Tci_Pci_wi_kijm_TinC_PinPa_yi(AA$3,vantHoff_EOS!$N$19,vantHoff_EOS!$X$5:$X$14,vantHoff_EOS!$Y$5:$Y$14,vantHoff_EOS!$Z$5:$Z$14,vantHoff_EOS!$AE$5:$AN$14,$C$59,B74*1000000,$O74:$X74),\"-\")","v":5.7255838279787454},{"$f":"IF(AB$60<=vantHoff_EOS!$N$19,Phi_i_NS_Tci_Pci_wi_kijm_TinC_PinPa_yi(AB$3,vantHoff_EOS!$N$19,vantHoff_EOS!$X$5:$X$14,vantHoff_EOS!$Y$5:$Y$14,vantHoff_EOS!$Z$5:$Z$14,vantHoff_EOS!$AE$5:$AN$14,$C$59,B74*1000000,$O74:$X74),\"-\")","v":0.23276598688330419},{"$f":"IF(AC$60<=vantHoff_EOS!$N$19,Phi_i_NS_Tci_Pci_wi_kijm_TinC_PinPa_yi(AC$3,vantHoff_EOS!$N$19,vantHoff_EOS!$X$5:$X$14,vantHoff_EOS!$Y$5:$Y$14,vantHoff_EOS!$Z$5:$Z$14,vantHoff_EOS!$AE$5:$AN$14,$C$59,B74*1000000,$O74:$X74),\"-\")","v":1.3110055271088637E-2},{"$f":"IF(AD$60<=vantHoff_EOS!$N$19,Phi_i_NS_Tci_Pci_wi_kijm_TinC_PinPa_yi(AD$3,vantHoff_EOS!$N$19,vantHoff_EOS!$X$5:$X$14,vantHoff_EOS!$Y$5:$Y$14,vantHoff_EOS!$Z$5:$Z$14,vantHoff_EOS!$AE$5:$AN$14,$C$59,B74*1000000,$O74:$X74),\"-\")","v":0.69173513177392554},{"$f":"IF(AE$60<=vantHoff_EOS!$N$19,Phi_i_NS_Tci_Pci_wi_kijm_TinC_PinPa_yi(AE$3,vantHoff_EOS!$N$19,vantHoff_EOS!$X$5:$X$14,vantHoff_EOS!$Y$5:$Y$14,vantHoff_EOS!$Z$5:$Z$14,vantHoff_EOS!$AE$5:$AN$14,$C$59,B74*1000000,$O74:$X74),\"-\")","v":"-"},{"$f":"IF(AF$60<=vantHoff_EOS!$N$19,Phi_i_NS_Tci_Pci_wi_kijm_TinC_PinPa_yi(AF$3,vantHoff_EOS!$N$19,vantHoff_EOS!$X$5:$X$14,vantHoff_EOS!$Y$5:$Y$14,vantHoff_EOS!$Z$5:$Z$14,vantHoff_EOS!$AE$5:$AN$14,$C$59,B74*1000000,$O74:$X74),\"-\")","v":"-"},{"$f":"IF(AG$60<=vantHoff_EOS!$N$19,Phi_i_NS_Tci_Pci_wi_kijm_TinC_PinPa_yi(AG$3,vantHoff_EOS!$N$19,vantHoff_EOS!$X$5:$X$14,vantHoff_EOS!$Y$5:$Y$14,vantHoff_EOS!$Z$5:$Z$14,vantHoff_EOS!$AE$5:$AN$14,$C$59,B74*1000000,$O74:$X74),\"-\")","v":"-"},{"$f":"IF(AH$60<=vantHoff_EOS!$N$19,Phi_i_NS_Tci_Pci_wi_kijm_TinC_PinPa_yi(AH$3,vantHoff_EOS!$N$19,vantHoff_EOS!$X$5:$X$14,vantHoff_EOS!$Y$5:$Y$14,vantHoff_EOS!$Z$5:$Z$14,vantHoff_EOS!$AE$5:$AN$14,$C$59,B74*1000000,$O74:$X74),\"-\")","v":"-"},{"$f":"IF(AI$60<=vantHoff_EOS!$N$19,Phi_i_NS_Tci_Pci_wi_kijm_TinC_PinPa_yi(AI$3,vantHoff_EOS!$N$19,vantHoff_EOS!$X$5:$X$14,vantHoff_EOS!$Y$5:$Y$14,vantHoff_EOS!$Z$5:$Z$14,vantHoff_EOS!$AE$5:$AN$14,$C$59,B74*1000000,$O74:$X74),\"-\")","v":"-"}]
[15,{"$f":"B74+vantHoff_EOS!$E$31","v":10.79999999999999},333.15,3.0016509079993999E-3,{"$f":"lnKaT_Tref_lnKaTref_dHTref_da_db_dc_dd_de_TinC(vantHoff_EOS!$E$7,vantHoff_EOS!$B$9,vantHoff_EOS!$B$6,vantHoff_EOS!$O$27,vantHoff_EOS!$P$27,vantHoff_EOS!$Q$27,vantHoff_EOS!$R$27,vantHoff_EOS!$S$27,$C$59)","v":11.370905491151026},86760.392694887007,{"$f":"MolarExtentX_NS_vi_n0i_dHfi_dGfi_TrefinC_da_db_dc_dd_de_Tci_Pci_wi_kijm_TinC_PinPa(vantHoff_EOS!$N$19,vantHoff_EOS!$O$23:$X$23,vantHoff_EOS!$O$31:$X$31,vantHoff_EOS!$T$5:$T$14,vantHoff_EOS!$U$5:$U$14,vantHoff_EOS!$E$7,vantHoff_EOS!$O$27,vantHoff_EOS!$P$27,vantHoff_EOS!$Q$27,vantHoff_EOS!$R$27,vantHoff_EOS!$S$27,vantHoff_EOS!$X$5:$X$14,vantHoff_EOS!$Y$5:$Y$14,vantHoff_EOS!$Z$5:$Z$14,vantHoff_EOS!$AE$5:$AN$14,$C$59,B75*1000000)","v":0.99943560812963794},{"$f":"Ky_NS_n0i_vi_X(vantHoff_EOS!$N$19,vantHoff_EOS!$O$31:$X$31,vantHoff_EOS!$O$23:$X$23,G75)","v":386778409666.50067},{"$f":"Kp_NS_vi_PinPa(vantHoff_EOS!$N$19,vantHoff_EOS!$O$23:$X$23,B75*1000000)","v":8.5733882030178483E-5},{"$f":"Kphi_NS_n0i_vi_X_Tci_Pci_wi_kijm_TinC_PinPa(vantHoff_EOS!$N$19,vantHoff_EOS!$O$31:$X$31,vantHoff_EOS!$O$23:$X$23,G75,vantHoff_EOS!$X$5:$X$14,vantHoff_EOS!$Y$5:$Y$14,vantHoff_EOS!$Z$5:$Z$14,vantHoff_EOS!$AE$5:$AN$14,$C$59,B75*1000000)","v":2.616415961910091E-3},26.681117781145808,-9.3642624542484381,-5.9459498511810684,{"$f":"nT_NS_n0i_vi_X(vantHoff_EOS!$N$19,vantHoff_EOS!$O$31:$X$31,vantHoff_EOS!$O$23:$X$23,G75)","v":8.3411287837407233},{"$f":"IF(O$60<=vantHoff_EOS!$N$19,y_iindex_NS_n0i_vi_X(O$3,vantHoff_EOS!$N$19,vantHoff_EOS!$O$31:$X$31,vantHoff_EOS!$O$23:$X$23,$G75),\"-\")","v":6.7663728135000257E-5},{"$f":"IF(P$60<=vantHoff_EOS!$N$19,y_iindex_NS_n0i_vi_X(P$3,vantHoff_EOS!$N$19,vantHoff_EOS!$O$31:$X$31,vantHoff_EOS!$O$23:$X$23,$G75),\"-\")","v":6.7663728135000257E-5},{"$f":"IF(Q$60<=vantHoff_EOS!$N$19,y_iindex_NS_n0i_vi_X(Q$3,vantHoff_EOS!$N$19,vantHoff_EOS!$O$31:$X$31,vantHoff_EOS!$O$23:$X$23,$G75),\"-\")","v":6.7663728135000257E-5},{"$f":"IF(R$60<=vantHoff_EOS!$N$19,y_iindex_NS_n0i_vi_X(R$3,vantHoff_EOS!$N$19,vantHoff_EOS!$O$31:$X$31,vantHoff_EOS!$O$23:$X$23,$G75),\"-\")","v":0.11982018669677269},{"$f":"IF(S$60<=vantHoff_EOS!$N$19,y_iindex_NS_n0i_vi_X(S$3,vantHoff_EOS!$N$19,vantHoff_EOS!$O$31:$X$31,vantHoff_EOS!$O$23:$X$23,$G75),\"-\")","v":0.87997682211882244},{"$f":"IF(T$60<=vantHoff_EOS!$N$19,y_iindex_NS_n0i_vi_X(T$3,vantHoff_EOS!$N$19,vantHoff_EOS!$O$31:$X$31,vantHoff_EOS!$O$23:$X$23,$G75),\"-\")","v":"-"},{"$f":"IF(U$60<=vantHoff_EOS!$N$19,y_iindex_NS_n0i_vi_X(U$3,vantHoff_EOS!$N$19,vantHoff_EOS!$O$31:$X$31,vantHoff_EOS!$O$23:$X$23,$G75),\"-\")","v":"-"},{"$f":"IF(V$60<=vantHoff_EOS!$N$19,y_iindex_NS_n0i_vi_X(V$3,vantHoff_EOS!$N$19,vantHoff_EOS!$O$31:$X$31,vantHoff_EOS!$O$23:$X$23,$G75),\"-\")","v":"-"},{"$f":"IF(W$60<=vantHoff_EOS!$N$19,y_iindex_NS_n0i_vi_X(W$3,vantHoff_EOS!$N$19,vantHoff_EOS!$O$31:$X$31,vantHoff_EOS!$O$23:$X$23,$G75),\"-\")","v":"-"},{"$f":"IF(X$60<=vantHoff_EOS!$N$19,y_iindex_NS_n0i_vi_X(X$3,vantHoff_EOS!$N$19,vantHoff_EOS!$O$31:$X$31,vantHoff_EOS!$O$23:$X$23,$G75),\"-\")","v":"-"},1.0000000000000002,{"$f":"IF(Z$60<=vantHoff_EOS!$N$19,Phi_i_NS_Tci_Pci_wi_kijm_TinC_PinPa_yi(Z$3,vantHoff_EOS!$N$19,vantHoff_EOS!$X$5:$X$14,vantHoff_EOS!$Y$5:$Y$14,vantHoff_EOS!$Z$5:$Z$14,vantHoff_EOS!$AE$5:$AN$14,$C$59,B75*1000000,$O75:$X75),\"-\")","v":3.7534139926644281},{"$f":"IF(AA$60<=vantHoff_EOS!$N$19,Phi_i_NS_Tci_Pci_wi_kijm_TinC_PinPa_yi(AA$3,vantHoff_EOS!$N$19,vantHoff_EOS!$X$5:$X$14,vantHoff_EOS!$Y$5:$Y$14,vantHoff_EOS!$Z$5:$Z$14,vantHoff_EOS!$AE$5:$AN$14,$C$59,B75*1000000,$O75:$X75),\"-\")","v":5.6973103130819434},{"$f":"IF(AB$60<=vantHoff_EOS!$N$19,Phi_i_NS_Tci_Pci_wi_kijm_TinC_PinPa_yi(AB$3,vantHoff_EOS!$N$19,vantHoff_EOS!$X$5:$X$14,vantHoff_EOS!$Y$5:$Y$14,vantHoff_EOS!$Z$5:$Z$14,vantHoff_EOS!$AE$5:$AN$14,$C$59,B75*1000000,$O75:$X75),\"-\")","v":0.22978067038844535},{"$f":"IF(AC$60<=vantHoff_EOS!$N$19,Phi_i_NS_Tci_Pci_wi_kijm_TinC_PinPa_yi(AC$3,vantHoff_EOS!$N$19,vantHoff_EOS!$X$5:$X$14,vantHoff_EOS!$Y$5:$Y$14,vantHoff_EOS!$Z$5:$Z$14,vantHoff_EOS!$AE$5:$AN$14,$C$59,B75*1000000,$O75:$X75),\"-\")","v":1.2856318572638668E-2},{"$f":"IF(AD$60<=vantHoff_EOS!$N$19,Phi_i_NS_Tci_Pci_wi_kijm_TinC_PinPa_yi(AD$3,vantHoff_EOS!$N$19,vantHoff_EOS!$X$5:$X$14,vantHoff_EOS!$Y$5:$Y$14,vantHoff_EOS!$Z$5:$Z$14,vantHoff_EOS!$AE$5:$AN$14,$C$59,B75*1000000,$O75:$X75),\"-\")","v":0.6829350099900916},{"$f":"IF(AE$60<=vantHoff_EOS!$N$19,Phi_i_NS_Tci_Pci_wi_kijm_TinC_PinPa_yi(AE$3,vantHoff_EOS!$N$19,vantHoff_EOS!$X$5:$X$14,vantHoff_EOS!$Y$5:$Y$14,vantHoff_EOS!$Z$5:$Z$14,vantHoff_EOS!$AE$5:$AN$14,$C$59,B75*1000000,$O75:$X75),\"-\")","v":"-"},{"$f":"IF(AF$60<=vantHoff_EOS!$N$19,Phi_i_NS_Tci_Pci_wi_kijm_TinC_PinPa_yi(AF$3,vantHoff_EOS!$N$19,vantHoff_EOS!$X$5:$X$14,vantHoff_EOS!$Y$5:$Y$14,vantHoff_EOS!$Z$5:$Z$14,vantHoff_EOS!$AE$5:$AN$14,$C$59,B75*1000000,$O75:$X75),\"-\")","v":"-"},{"$f":"IF(AG$60<=vantHoff_EOS!$N$19,Phi_i_NS_Tci_Pci_wi_kijm_TinC_PinPa_yi(AG$3,vantHoff_EOS!$N$19,vantHoff_EOS!$X$5:$X$14,vantHoff_EOS!$Y$5:$Y$14,vantHoff_EOS!$Z$5:$Z$14,vantHoff_EOS!$AE$5:$AN$14,$C$59,B75*1000000,$O75:$X75),\"-\")","v":"-"},{"$f":"IF(AH$60<=vantHoff_EOS!$N$19,Phi_i_NS_Tci_Pci_wi_kijm_TinC_PinPa_yi(AH$3,vantHoff_EOS!$N$19,vantHoff_EOS!$X$5:$X$14,vantHoff_EOS!$Y$5:$Y$14,vantHoff_EOS!$Z$5:$Z$14,vantHoff_EOS!$AE$5:$AN$14,$C$59,B75*1000000,$O75:$X75),\"-\")","v":"-"},{"$f":"IF(AI$60<=vantHoff_EOS!$N$19,Phi_i_NS_Tci_Pci_wi_kijm_TinC_PinPa_yi(AI$3,vantHoff_EOS!$N$19,vantHoff_EOS!$X$5:$X$14,vantHoff_EOS!$Y$5:$Y$14,vantHoff_EOS!$Z$5:$Z$14,vantHoff_EOS!$AE$5:$AN$14,$C$59,B75*1000000,$O75:$X75),\"-\")","v":"-"}]
[16,{"$f":"B75+vantHoff_EOS!$E$31","v":10.999999999999989},333.15,3.0016509079993999E-3,{"$f":"lnKaT_Tref_lnKaTref_dHTref_da_db_dc_dd_de_TinC(vantHoff_EOS!$E$7,vantHoff_EOS!$B$9,vantHoff_EOS!$B$6,vantHoff_EOS!$O$27,vantHoff_EOS!$P$27,vantHoff_EOS!$Q$27,vantHoff_EOS!$R$27,vantHoff_EOS!$S$27,$C$59)","v":11.370905491151026},86760.392694887007,{"$f":"MolarExtentX_NS_vi_n0i_dHfi_dGfi_TrefinC_da_db_dc_dd_de_Tci_Pci_wi_kijm_TinC_PinPa(vantHoff_EOS!$N$19,vantHoff_EOS!$O$23:$X$23,vantHoff_EOS!$O$31:$X$31,vantHoff_EOS!$T$5:$T$14,vantHoff_EOS!$U$5:$U$14,vantHoff_EOS!$E$7,vantHoff_EOS!$O$27,vantHoff_EOS!$P$27,vantHoff_EOS!$Q$27,vantHoff_EOS!$R$27,vantHoff_EOS!$S$27,vantHoff_EOS!$X$5:$X$14,vantHoff_EOS!$Y$5:$Y$14,vantHoff_EOS!$Z$5:$Z$14,vantHoff_EOS!$AE$5:$AN$14,$C$59,B76*1000000)","v":0.99944174332477664},{"$f":"Ky_NS_n0i_vi_X(vantHoff_EOS!$N$19,vantHoff_EOS!$O$31:$X$31,vantHoff_EOS!$O$23:$X$23,G76)","v":399672333053.6507},{"$f":"Kp_NS_vi_PinPa(vantHoff_EOS!$N$19,vantHoff_EOS!$O$23:$X$23,B76*1000000)","v":8.2644628099173736E-5},{"$f":"Kphi_NS_n0i_vi_X_Tci_Pci_wi_kijm_TinC_PinPa(vantHoff_EOS!$N$19,vantHoff_EOS!$O$31:$X$31,vantHoff_EOS!$O$23:$X$23,G76,vantHoff_EOS!$X$5:$X$14,vantHoff_EOS!$Y$5:$Y$14,vantHoff_EOS!$Z$5:$Z$14,vantHoff_EOS!$AE$5:$AN$14,$C$59,B76*1000000)","v":2.6266535086635519E-3},26.713910880987591,-9.4009607315848296,-5.9420446731850545,{"$f":"nT_NS_n0i_vi_X(vantHoff_EOS!$N$19,vantHoff_EOS!$O$31:$X$31,vantHoff_EOS!$O$23:$X$23,G76)","v":8.3411165133504461},{"$f":"IF(O$60<=vantHoff_EOS!$N$19,y_iindex_NS_n0i_vi_X(O$3,vantHoff_EOS!$N$19,vantHoff_EOS!$O$31:$X$31,vantHoff_EOS!$O$23:$X$23,$G76),\"-\")","v":6.6928291234133211E-5},{"$f":"IF(P$60<=vantHoff_EOS!$N$19,y_iindex_NS_n0i_vi_X(P$3,vantHoff_EOS!$N$19,vantHoff_EOS!$O$31:$X$31,vantHoff_EOS!$O$23:$X$23,$G76),\"-\")","v":6.6928291234133211E-5},{"$f":"IF(Q$60<=vantHoff_EOS!$N$19,y_iindex_NS_n0i_vi_X(Q$3,vantHoff_EOS!$N$19,vantHoff_EOS!$O$31:$X$31,vantHoff_EOS!$O$23:$X$23,$G76),\"-\")","v":6.6928291234133211E-5},{"$f":"IF(R$60<=vantHoff_EOS!$N$19,y_iindex_NS_n0i_vi_X(R$3,vantHoff_EOS!$N$19,vantHoff_EOS!$O$31:$X$31,vantHoff_EOS!$O$23:$X$23,$G76),\"-\")","v":0.11982109849743874},{"$f":"IF(S$60<=vantHoff_EOS!$N$19,y_iindex_NS_n0i_vi_X(S$3,vantHoff_EOS!$N$19,vantHoff_EOS!$O$31:$X$31,vantHoff_EOS!$O$23:$X$23,$G76),\"-\")","v":0.87997811662885894},{"$f":"IF(T$60<=vantHoff_EOS!$N$19,y_iindex_NS_n0i_vi_X(T$3,vantHoff_EOS!$N$19,vantHoff_EOS!$O$31:$X$31,vantHoff_EOS!$O$23:$X$23,$G76),\"-\")","v":"-"},{"$f":"IF(U$60<=vantHoff_EOS!$N$19,y_iindex_NS_n0i_vi_X(U$3,vantHoff_EOS!$N$19,vantHoff_EOS!$O$31:$X$31,vantHoff_EOS!$O$23:$X$23,$G76),\"-\")","v":"-"},{"$f":"IF(V$60<=vantHoff_EOS!$N$19,y_iindex_NS_n0i_vi_X(V$3,vantHoff_EOS!$N$19,vantHoff_EOS!$O$31:$X$31,vantHoff_EOS!$O$23:$X$23,$G76),\"-\")","v":"-"},{"$f":"IF(W$60<=vantHoff_EOS!$N$19,y_iindex_NS_n0i_vi_X(W$3,vantHoff_EOS!$N$19,vantHoff_EOS!$O$31:$X$31,vantHoff_EOS!$O$23:$X$23,$G76),\"-\")","v":"-"},{"$f":"IF(X$60<=vantHoff_EOS!$N$19,y_iindex_NS_n0i_vi_X(X$3,vantHoff_EOS!$N$19,vantHoff_EOS!$O$31:$X$31,vantHoff_EOS!$O$23:$X$23,$G76),\"-\")","v":"-"},1,{"$f":"IF(Z$60<=vantHoff_EOS!$N$19,Phi_i_NS_Tci_Pci_wi_kijm_TinC_PinPa_yi(Z$3,vantHoff_EOS!$N$19,vantHoff_EOS!$X$5:$X$14,vantHoff_EOS!$Y$5:$Y$14,vantHoff_EOS!$Z$5:$Z$14,vantHoff_EOS!$AE$5:$AN$14,$C$59,B76*1000000,$O76:$X76),\"-\")","v":3.7338725937419937},{"$f":"IF(AA$60<=vantHoff_EOS!$N$19,Phi_i_NS_Tci_Pci_wi_kijm_TinC_PinPa_yi(AA$3,vantHoff_EOS!$N$19,vantHoff_EOS!$X$5:$X$14,vantHoff_EOS!$Y$5:$Y$14,vantHoff_EOS!$Z$5:$Z$14,vantHoff_EOS!$AE$5:$AN$14,$C$59,B76*1000000,$O76:$X76),\"-\")","v":5.6689973884739038},{"$f":"IF(AB$60<=vantHoff_EOS!$N$19,Phi_i_NS_Tci_Pci_wi_kijm_TinC_PinPa_yi(AB$3,vantHoff_EOS!$N$19,vantHoff_EOS!$X$5:$X$14,vantHoff_EOS!$Y$5:$Y$14,vantHoff_EOS!$Z$5:$Z$14,vantHoff_EOS!$AE$5:$AN$14,$C$59,B76*1000000,$O76:$X76),\"-\")","v":0.22691405295468381},{"$f":"IF(AC$60<=vantHoff_EOS!$N$19,Phi_i_NS_Tci_Pci_wi_kijm_TinC_PinPa_yi(AC$3,vantHoff_EOS!$N$19,vantHoff_EOS!$X$5:$X$14,vantHoff_EOS!$Y$5:$Y$14,vantHoff_EOS!$Z$5:$Z$14,vantHoff_EOS!$AE$5:$AN$14,$C$59,B76*1000000,$O76:$X76),\"-\")","v":1.2616239709100309E-2},{"$f":"IF(AD$60<=vantHoff_EOS!$N$19,Phi_i_NS_Tci_Pci_wi_kijm_TinC_PinPa_yi(AD$3,vantHoff_EOS!$N$19,vantHoff_EOS!$X$5:$X$14,vantHoff_EOS!$Y$5:$Y$14,vantHoff_EOS!$Z$5:$Z$14,vantHoff_EOS!$AE$5:$AN$14,$C$59,B76*1000000,$O76:$X76),\"-\")","v":0.67442335813549925},{"$f":"IF(AE$60<=vantHoff_EOS!$N$19,Phi_i_NS_Tci_Pci_wi_kijm_TinC_PinPa_yi(AE$3,vantHoff_EOS!$N$19,vantHoff_EOS!$X$5:$X$14,vantHoff_EOS!$Y$5:$Y$14,vantHoff_EOS!$Z$5:$Z$14,vantHoff_EOS!$AE$5:$AN$14,$C$59,B76*1000000,$O76:$X76),\"-\")","v":"-"},{"$f":"IF(AF$60<=vantHoff_EOS!$N$19,Phi_i_NS_Tci_Pci_wi_kijm_TinC_PinPa_yi(AF$3,vantHoff_EOS!$N$19,vantHoff_EOS!$X$5:$X$14,vantHoff_EOS!$Y$5:$Y$14,vantHoff_EOS!$Z$5:$Z$14,vantHoff_EOS!$AE$5:$AN$14,$C$59,B76*1000000,$O76:$X76),\"-\")","v":"-"},{"$f":"IF(AG$60<=vantHoff_EOS!$N$19,Phi_i_NS_Tci_Pci_wi_kijm_TinC_PinPa_yi(AG$3,vantHoff_EOS!$N$19,vantHoff_EOS!$X$5:$X$14,vantHoff_EOS!$Y$5:$Y$14,vantHoff_EOS!$Z$5:$Z$14,vantHoff_EOS!$AE$5:$AN$14,$C$59,B76*1000000,$O76:$X76),\"-\")","v":"-"},{"$f":"IF(AH$60<=vantHoff_EOS!$N$19,Phi_i_NS_Tci_Pci_wi_kijm_TinC_PinPa_yi(AH$3,vantHoff_EOS!$N$19,vantHoff_EOS!$X$5:$X$14,vantHoff_EOS!$Y$5:$Y$14,vantHoff_EOS!$Z$5:$Z$14,vantHoff_EOS!$AE$5:$AN$14,$C$59,B76*1000000,$O76:$X76),\"-\")","v":"-"},{"$f":"IF(AI$60<=vantHoff_EOS!$N$19,Phi_i_NS_Tci_Pci_wi_kijm_TinC_PinPa_yi(AI$3,vantHoff_EOS!$N$19,vantHoff_EOS!$X$5:$X$14,vantHoff_EOS!$Y$5:$Y$14,vantHoff_EOS!$Z$5:$Z$14,vantHoff_EOS!$AE$5:$AN$14,$C$59,B76*1000000,$O76:$X76),\"-\")","v":"-"}]
[17,{"$f":"B76+vantHoff_EOS!$E$31","v":11.199999999999989},333.15,3.0016509079993999E-3,{"$f":"lnKaT_Tref_lnKaTref_dHTref_da_db_dc_dd_de_TinC(vantHoff_EOS!$E$7,vantHoff_EOS!$B$9,vantHoff_EOS!$B$6,vantHoff_EOS!$O$27,vantHoff_EOS!$P$27,vantHoff_EOS!$Q$27,vantHoff_EOS!$R$27,vantHoff_EOS!$S$27,$C$59)","v":11.370905491151026},86760.392694887007,{"$f":"MolarExtentX_NS_vi_n0i_dHfi_dGfi_TrefinC_da_db_dc_dd_de_Tci_Pci_wi_kijm_TinC_PinPa(vantHoff_EOS!$N$19,vantHoff_EOS!$O$23:$X$23,vantHoff_EOS!$O$31:$X$31,vantHoff_EOS!$T$5:$T$14,vantHoff_EOS!$U$5:$U$14,vantHoff_EOS!$E$7,vantHoff_EOS!$O$27,vantHoff_EOS!$P$27,vantHoff_EOS!$Q$27,vantHoff_EOS!$R$27,vantHoff_EOS!$S$27,vantHoff_EOS!$X$5:$X$14,vantHoff_EOS!$Y$5:$Y$14,vantHoff_EOS!$Z$5:$Z$14,vantHoff_EOS!$AE$5:$AN$14,$C$59,B77*1000000)","v":0.99944763208098786},{"$f":"Ky_NS_n0i_vi_X(vantHoff_EOS!$N$19,vantHoff_EOS!$O$31:$X$31,vantHoff_EOS!$O$23:$X$23,G77)","v":412592995363.41217},{"$f":"Kp_NS_vi_PinPa(vantHoff_EOS!$N$19,vantHoff_EOS!$O$23:$X$23,B77*1000000)","v":7.9719387755102238E-5},{"$f":"Kphi_NS_n0i_vi_X_Tci_Pci_wi_kijm_TinC_PinPa(vantHoff_EOS!$N$19,vantHoff_EOS!$O$31:$X$31,vantHoff_EOS!$O$23:$X$23,G77,vantHoff_EOS!$X$5:$X$14,vantHoff_EOS!$Y$5:$Y$14,vantHoff_EOS!$Z$5:$Z$14,vantHoff_EOS!$AE$5:$AN$14,$C$59,B77*1000000)","v":2.6377625466291904E-3},26.745727460617864,-9.4369977425901865,-5.9378242413884372,{"$f":"nT_NS_n0i_vi_X(vantHoff_EOS!$N$19,vantHoff_EOS!$O$31:$X$31,vantHoff_EOS!$O$23:$X$23,G77)","v":8.3411047358380248},{"$f":"IF(O$60<=vantHoff_EOS!$N$19,y_iindex_NS_n0i_vi_X(O$3,vantHoff_EOS!$N$19,vantHoff_EOS!$O$31:$X$31,vantHoff_EOS!$O$23:$X$23,$G77),\"-\")","v":6.6222393376606629E-5},{"$f":"IF(P$60<=vantHoff_EOS!$N$19,y_iindex_NS_n0i_vi_X(P$3,vantHoff_EOS!$N$19,vantHoff_EOS!$O$31:$X$31,vantHoff_EOS!$O$23:$X$23,$G77),\"-\")","v":6.6222393376606629E-5},{"$f":"IF(Q$60<=vantHoff_EOS!$N$19,y_iindex_NS_n0i_vi_X(Q$3,vantHoff_EOS!$N$19,vantHoff_EOS!$O$31:$X$31,vantHoff_EOS!$O$23:$X$23,$G77),\"-\")","v":6.6222393376606629E-5},{"$f":"IF(R$60<=vantHoff_EOS!$N$19,y_iindex_NS_n0i_vi_X(R$3,vantHoff_EOS!$N$19,vantHoff_EOS!$O$31:$X$31,vantHoff_EOS!$O$23:$X$23,$G77),\"-\")","v":0.11982197367535802},{"$f":"IF(S$60<=vantHoff_EOS!$N$19,y_iindex_NS_n0i_vi_X(S$3,vantHoff_EOS!$N$19,vantHoff_EOS!$O$31:$X$31,vantHoff_EOS!$O$23:$X$23,$G77),\"-\")","v":0.87997935914451209},{"$f":"IF(T$60<=vantHoff_EOS!$N$19,y_iindex_NS_n0i_vi_X(T$3,vantHoff_EOS!$N$19,vantHoff_EOS!$O$31:$X$31,vantHoff_EOS!$O$23:$X$23,$G77),\"-\")","v":"-"},{"$f":"IF(U$60<=vantHoff_EOS!$N$19,y_iindex_NS_n0i_vi_X(U$3,vantHoff_EOS!$N$19,vantHoff_EOS!$O$31:$X$31,vantHoff_EOS!$O$23:$X$23,$G77),\"-\")","v":"-"},{"$f":"IF(V$60<=vantHoff_EOS!$N$19,y_iindex_NS_n0i_vi_X(V$3,vantHoff_EOS!$N$19,vantHoff_EOS!$O$31:$X$31,vantHoff_EOS!$O$23:$X$23,$G77),\"-\")","v":"-"},{"$f":"IF(W$60<=vantHoff_EOS!$N$19,y_iindex_NS_n0i_vi_X(W$3,vantHoff_EOS!$N$19,vantHoff_EOS!$O$31:$X$31,vantHoff_EOS!$O$23:$X$23,$G77),\"-\")","v":"-"},{"$f":"IF(X$60<=vantHoff_EOS!$N$19,y_iindex_NS_n0i_vi_X(X$3,vantHoff_EOS!$N$19,vantHoff_EOS!$O$31:$X$31,vantHoff_EOS!$O$23:$X$23,$G77),\"-\")","v":"-"},0.99999999999999989,{"$f":"IF(Z$60<=vantHoff_EOS!$N$19,Phi_i_NS_Tci_Pci_wi_kijm_TinC_PinPa_yi(Z$3,vantHoff_EOS!$N$19,vantHoff_EOS!$X$5:$X$14,vantHoff_EOS!$Y$5:$Y$14,vantHoff_EOS!$Z$5:$Z$14,vantHoff_EOS!$AE$5:$AN$14,$C$59,B77*1000000,$O77:$X77),\"-\")","v":3.7144987203742592},{"$f":"IF(AA$60<=vantHoff_EOS!$N$19,Phi_i_NS_Tci_Pci_wi_kijm_TinC_PinPa_yi(AA$3,vantHoff_EOS!$N$19,vantHoff_EOS!$X$5:$X$14,vantHoff_EOS!$Y$5:$Y$14,vantHoff_EOS!$Z$5:$Z$14,vantHoff_EOS!$AE$5:$AN$14,$C$59,B77*1000000,$O77:$X77),\"-\")","v":5.6407217396047313},{"$f":"IF(AB$60<=vantHoff_EOS!$N$19,Phi_i_NS_Tci_Pci_wi_kijm_TinC_PinPa_yi(AB$3,vantHoff_EOS!$N$19,vantHoff_EOS!$X$5:$X$14,vantHoff_EOS!$Y$5:$Y$14,vantHoff_EOS!$Z$5:$Z$14,vantHoff_EOS!$AE$5:$AN$14,$C$59,B77*1000000,$O77:$X77),\"-\")","v":0.22415938011155531},{"$f":"IF(AC$60<=vantHoff_EOS!$N$19,Phi_i_NS_Tci_Pci_wi_kijm_TinC_PinPa_yi(AC$3,vantHoff_EOS!$N$19,vantHoff_EOS!$X$5:$X$14,vantHoff_EOS!$Y$5:$Y$14,vantHoff_EOS!$Z$5:$Z$14,vantHoff_EOS!$AE$5:$AN$14,$C$59,B77*1000000,$O77:$X77),\"-\")","v":1.2388750415351436E-2},{"$f":"IF(AD$60<=vantHoff_EOS!$N$19,Phi_i_NS_Tci_Pci_wi_kijm_TinC_PinPa_yi(AD$3,vantHoff_EOS!$N$19,vantHoff_EOS!$X$5:$X$14,vantHoff_EOS!$Y$5:$Y$14,vantHoff_EOS!$Z$5:$Z$14,vantHoff_EOS!$AE$5:$AN$14,$C$59,B77*1000000,$O77:$X77),\"-\")","v":0.66618725557108982},{"$f":"IF(AE$60<=vantHoff_EOS!$N$19,Phi_i_NS_Tci_Pci_wi_kijm_TinC_PinPa_yi(AE$3,vantHoff_EOS!$N$19,vantHoff_EOS!$X$5:$X$14,vantHoff_EOS!$Y$5:$Y$14,vantHoff_EOS!$Z$5:$Z$14,vantHoff_EOS!$AE$5:$AN$14,$C$59,B77*1000000,$O77:$X77),\"-\")","v":"-"},{"$f":"IF(AF$60<=vantHoff_EOS!$N$19,Phi_i_NS_Tci_Pci_wi_kijm_TinC_PinPa_yi(AF$3,vantHoff_EOS!$N$19,vantHoff_EOS!$X$5:$X$14,vantHoff_EOS!$Y$5:$Y$14,vantHoff_EOS!$Z$5:$Z$14,vantHoff_EOS!$AE$5:$AN$14,$C$59,B77*1000000,$O77:$X77),\"-\")","v":"-"},{"$f":"IF(AG$60<=vantHoff_EOS!$N$19,Phi_i_NS_Tci_Pci_wi_kijm_TinC_PinPa_yi(AG$3,vantHoff_EOS!$N$19,vantHoff_EOS!$X$5:$X$14,vantHoff_EOS!$Y$5:$Y$14,vantHoff_EOS!$Z$5:$Z$14,vantHoff_EOS!$AE$5:$AN$14,$C$59,B77*1000000,$O77:$X77),\"-\")","v":"-"},{"$f":"IF(AH$60<=vantHoff_EOS!$N$19,Phi_i_NS_Tci_Pci_wi_kijm_TinC_PinPa_yi(AH$3,vantHoff_EOS!$N$19,vantHoff_EOS!$X$5:$X$14,vantHoff_EOS!$Y$5:$Y$14,vantHoff_EOS!$Z$5:$Z$14,vantHoff_EOS!$AE$5:$AN$14,$C$59,B77*1000000,$O77:$X77),\"-\")","v":"-"},{"$f":"IF(AI$60<=vantHoff_EOS!$N$19,Phi_i_NS_Tci_Pci_wi_kijm_TinC_PinPa_yi(AI$3,vantHoff_EOS!$N$19,vantHoff_EOS!$X$5:$X$14,vantHoff_EOS!$Y$5:$Y$14,vantHoff_EOS!$Z$5:$Z$14,vantHoff_EOS!$AE$5:$AN$14,$C$59,B77*1000000,$O77:$X77),\"-\")","v":"-"}]
[18,{"$f":"B77+vantHoff_EOS!$E$31","v":11.399999999999988},333.15,3.0016509079993999E-3,{"$f":"lnKaT_Tref_lnKaTref_dHTref_da_db_dc_dd_de_TinC(vantHoff_EOS!$E$7,vantHoff_EOS!$B$9,vantHoff_EOS!$B$6,vantHoff_EOS!$O$27,vantHoff_EOS!$P$27,vantHoff_EOS!$Q$27,vantHoff_EOS!$R$27,vantHoff_EOS!$S$27,$C$59)","v":11.370905491151026},86760.392694887007,{"$f":"MolarExtentX_NS_vi_n0i_dHfi_dGfi_TrefinC_da_db_dc_dd_de_Tci_Pci_wi_kijm_TinC_PinPa(vantHoff_EOS!$N$19,vantHoff_EOS!$O$23:$X$23,vantHoff_EOS!$O$31:$X$31,vantHoff_EOS!$T$5:$T$14,vantHoff_EOS!$U$5:$U$14,vantHoff_EOS!$E$7,vantHoff_EOS!$O$27,vantHoff_EOS!$P$27,vantHoff_EOS!$Q$27,vantHoff_EOS!$R$27,vantHoff_EOS!$S$27,vantHoff_EOS!$X$5:$X$14,vantHoff_EOS!$Y$5:$Y$14,vantHoff_EOS!$Z$5:$Z$14,vantHoff_EOS!$AE$5:$AN$14,$C$59,B78*1000000)","v":0.99945329267409067},{"$f":"Ky_NS_n0i_vi_X(vantHoff_EOS!$N$19,vantHoff_EOS!$O$31:$X$31,vantHoff_EOS!$O$23:$X$23,G78)","v":425543334815.03027},{"$f":"Kp_NS_vi_PinPa(vantHoff_EOS!$N$19,vantHoff_EOS!$O$23:$X$23,B78*1000000)","v":7.6946752847030002E-5},{"$f":"Kphi_NS_n0i_vi_X_Tci_Pci_wi_kijm_TinC_PinPa(vantHoff_EOS!$N$19,vantHoff_EOS!$O$31:$X$31,vantHoff_EOS!$O$23:$X$23,G78,vantHoff_EOS!$X$5:$X$14,vantHoff_EOS!$Y$5:$Y$14,vantHoff_EOS!$Z$5:$Z$14,vantHoff_EOS!$AE$5:$AN$14,$C$59,B78*1000000)","v":2.6496433036381464E-3},26.776632624227702,-9.4723968967889896,-5.9333302504444214,{"$f":"nT_NS_n0i_vi_X(vantHoff_EOS!$N$19,vantHoff_EOS!$O$31:$X$31,vantHoff_EOS!$O$23:$X$23,G78)","v":8.3410934146518194},{"$f":"IF(O$60<=vantHoff_EOS!$N$19,y_iindex_NS_n0i_vi_X(O$3,vantHoff_EOS!$N$19,vantHoff_EOS!$O$31:$X$31,vantHoff_EOS!$O$23:$X$23,$G78),\"-\")","v":6.5543844041957155E-5},{"$f":"IF(P$60<=vantHoff_EOS!$N$19,y_iindex_NS_n0i_vi_X(P$3,vantHoff_EOS!$N$19,vantHoff_EOS!$O$31:$X$31,vantHoff_EOS!$O$23:$X$23,$G78),\"-\")","v":6.5543844041957155E-5},{"$f":"IF(Q$60<=vantHoff_EOS!$N$19,y_iindex_NS_n0i_vi_X(Q$3,vantHoff_EOS!$N$19,vantHoff_EOS!$O$31:$X$31,vantHoff_EOS!$O$23:$X$23,$G78),\"-\")","v":6.5543844041957155E-5},{"$f":"IF(R$60<=vantHoff_EOS!$N$19,y_iindex_NS_n0i_vi_X(R$3,vantHoff_EOS!$N$19,vantHoff_EOS!$O$31:$X$31,vantHoff_EOS!$O$23:$X$23,$G78),\"-\")","v":0.11982281494635565},{"$f":"IF(S$60<=vantHoff_EOS!$N$19,y_iindex_NS_n0i_vi_X(S$3,vantHoff_EOS!$N$19,vantHoff_EOS!$O$31:$X$31,vantHoff_EOS!$O$23:$X$23,$G78),\"-\")","v":0.87998055352151838},{"$f":"IF(T$60<=vantHoff_EOS!$N$19,y_iindex_NS_n0i_vi_X(T$3,vantHoff_EOS!$N$19,vantHoff_EOS!$O$31:$X$31,vantHoff_EOS!$O$23:$X$23,$G78),\"-\")","v":"-"},{"$f":"IF(U$60<=vantHoff_EOS!$N$19,y_iindex_NS_n0i_vi_X(U$3,vantHoff_EOS!$N$19,vantHoff_EOS!$O$31:$X$31,vantHoff_EOS!$O$23:$X$23,$G78),\"-\")","v":"-"},{"$f":"IF(V$60<=vantHoff_EOS!$N$19,y_iindex_NS_n0i_vi_X(V$3,vantHoff_EOS!$N$19,vantHoff_EOS!$O$31:$X$31,vantHoff_EOS!$O$23:$X$23,$G78),\"-\")","v":"-"},{"$f":"IF(W$60<=vantHoff_EOS!$N$19,y_iindex_NS_n0i_vi_X(W$3,vantHoff_EOS!$N$19,vantHoff_EOS!$O$31:$X$31,vantHoff_EOS!$O$23:$X$23,$G78),\"-\")","v":"-"},{"$f":"IF(X$60<=vantHoff_EOS!$N$19,y_iindex_NS_n0i_vi_X(X$3,vantHoff_EOS!$N$19,vantHoff_EOS!$O$31:$X$31,vantHoff_EOS!$O$23:$X$23,$G78),\"-\")","v":"-"},0.99999999999999989,{"$f":"IF(Z$60<=vantHoff_EOS!$N$19,Phi_i_NS_Tci_Pci_wi_kijm_TinC_PinPa_yi(Z$3,vantHoff_EOS!$N$19,vantHoff_EOS!$X$5:$X$14,vantHoff_EOS!$Y$5:$Y$14,vantHoff_EOS!$Z$5:$Z$14,vantHoff_EOS!$AE$5:$AN$14,$C$59,B78*1000000,$O78:$X78),\"-\")","v":3.6953225939893679},{"$f":"IF(AA$60<=vantHoff_EOS!$N$19,Phi_i_NS_Tci_Pci_wi_kijm_TinC_PinPa_yi(AA$3,vantHoff_EOS!$N$19,vantHoff_EOS!$X$5:$X$14,vantHoff_EOS!$Y$5:$Y$14,vantHoff_EOS!$Z$5:$Z$14,vantHoff_EOS!$AE$5:$AN$14,$C$59,B78*1000000,$O78:$X78),\"-\")","v":5.6125472289608842},{"$f":"IF(AB$60<=vantHoff_EOS!$N$19,Phi_i_NS_Tci_Pci_wi_kijm_TinC_PinPa_yi(AB$3,vantHoff_EOS!$N$19,vantHoff_EOS!$X$5:$X$14,vantHoff_EOS!$Y$5:$Y$14,vantHoff_EOS!$Z$5:$Z$14,vantHoff_EOS!$AE$5:$AN$14,$C$59,B78*1000000,$O78:$X78),\"-\")","v":0.22151042522625639},{"$f":"IF(AC$60<=vantHoff_EOS!$N$19,Phi_i_NS_Tci_Pci_wi_kijm_TinC_PinPa_yi(AC$3,vantHoff_EOS!$N$19,vantHoff_EOS!$X$5:$X$14,vantHoff_EOS!$Y$5:$Y$14,vantHoff_EOS!$Z$5:$Z$14,vantHoff_EOS!$AE$5:$AN$14,$C$59,B78*1000000,$O78:$X78),\"-\")","v":1.2172897066970861E-2},{"$f":"IF(AD$60<=vantHoff_EOS!$N$19,Phi_i_NS_Tci_Pci_wi_kijm_TinC_PinPa_yi(AD$3,vantHoff_EOS!$N$19,vantHoff_EOS!$X$5:$X$14,vantHoff_EOS!$Y$5:$Y$14,vantHoff_EOS!$Z$5:$Z$14,vantHoff_EOS!$AE$5:$AN$14,$C$59,B78*1000000,$O78:$X78),\"-\")","v":0.65821443601202534},{"$f":"IF(AE$60<=vantHoff_EOS!$N$19,Phi_i_NS_Tci_Pci_wi_kijm_TinC_PinPa_yi(AE$3,vantHoff_EOS!$N$19,vantHoff_EOS!$X$5:$X$14,vantHoff_EOS!$Y$5:$Y$14,vantHoff_EOS!$Z$5:$Z$14,vantHoff_EOS!$AE$5:$AN$14,$C$59,B78*1000000,$O78:$X78),\"-\")","v":"-"},{"$f":"IF(AF$60<=vantHoff_EOS!$N$19,Phi_i_NS_Tci_Pci_wi_kijm_TinC_PinPa_yi(AF$3,vantHoff_EOS!$N$19,vantHoff_EOS!$X$5:$X$14,vantHoff_EOS!$Y$5:$Y$14,vantHoff_EOS!$Z$5:$Z$14,vantHoff_EOS!$AE$5:$AN$14,$C$59,B78*1000000,$O78:$X78),\"-\")","v":"-"},{"$f":"IF(AG$60<=vantHoff_EOS!$N$19,Phi_i_NS_Tci_Pci_wi_kijm_TinC_PinPa_yi(AG$3,vantHoff_EOS!$N$19,vantHoff_EOS!$X$5:$X$14,vantHoff_EOS!$Y$5:$Y$14,vantHoff_EOS!$Z$5:$Z$14,vantHoff_EOS!$AE$5:$AN$14,$C$59,B78*1000000,$O78:$X78),\"-\")","v":"-"},{"$f":"IF(AH$60<=vantHoff_EOS!$N$19,Phi_i_NS_Tci_Pci_wi_kijm_TinC_PinPa_yi(AH$3,vantHoff_EOS!$N$19,vantHoff_EOS!$X$5:$X$14,vantHoff_EOS!$Y$5:$Y$14,vantHoff_EOS!$Z$5:$Z$14,vantHoff_EOS!$AE$5:$AN$14,$C$59,B78*1000000,$O78:$X78),\"-\")","v":"-"},{"$f":"IF(AI$60<=vantHoff_EOS!$N$19,Phi_i_NS_Tci_Pci_wi_kijm_TinC_PinPa_yi(AI$3,vantHoff_EOS!$N$19,vantHoff_EOS!$X$5:$X$14,vantHoff_EOS!$Y$5:$Y$14,vantHoff_EOS!$Z$5:$Z$14,vantHoff_EOS!$AE$5:$AN$14,$C$59,B78*1000000,$O78:$X78),\"-\")","v":"-"}]
[19,{"$f":"B78+vantHoff_EOS!$E$31","v":11.599999999999987},333.15,3.0016509079993999E-3,{"$f":"lnKaT_Tref_lnKaTref_dHTref_da_db_dc_dd_de_TinC(vantHoff_EOS!$E$7,vantHoff_EOS!$B$9,vantHoff_EOS!$B$6,vantHoff_EOS!$O$27,vantHoff_EOS!$P$27,vantHoff_EOS!$Q$27,vantHoff_EOS!$R$27,vantHoff_EOS!$S$27,$C$59)","v":11.370905491151026},86760.392694887007,{"$f":"MolarExtentX_NS_vi_n0i_dHfi_dGfi_TrefinC_da_db_dc_dd_de_Tci_Pci_wi_kijm_TinC_PinPa(vantHoff_EOS!$N$19,vantHoff_EOS!$O$23:$X$23,vantHoff_EOS!$O$31:$X$31,vantHoff_EOS!$T$5:$T$14,vantHoff_EOS!$U$5:$U$14,vantHoff_EOS!$E$7,vantHoff_EOS!$O$27,vantHoff_EOS!$P$27,vantHoff_EOS!$Q$27,vantHoff_EOS!$R$27,vantHoff_EOS!$S$27,vantHoff_EOS!$X$5:$X$14,vantHoff_EOS!$Y$5:$Y$14,vantHoff_EOS!$Z$5:$Z$14,vantHoff_EOS!$AE$5:$AN$14,$C$59,B79*1000000)","v":0.99945874142066304},{"$f":"Ky_NS_n0i_vi_X(vantHoff_EOS!$N$19,vantHoff_EOS!$O$31:$X$31,vantHoff_EOS!$O$23:$X$23,G79)","v":438525978332.78485},{"$f":"Kp_NS_vi_PinPa(vantHoff_EOS!$N$19,vantHoff_EOS!$O$23:$X$23,B79*1000000)","v":7.4316290130796867E-5},{"$f":"Kphi_NS_n0i_vi_X_Tci_Pci_wi_kijm_TinC_PinPa(vantHoff_EOS!$N$19,vantHoff_EOS!$O$31:$X$31,vantHoff_EOS!$O$23:$X$23,G79,vantHoff_EOS!$X$5:$X$14,vantHoff_EOS!$Y$5:$Y$14,vantHoff_EOS!$Z$5:$Z$14,vantHoff_EOS!$AE$5:$AN$14,$C$59,B79*1000000)","v":2.6622090494167533E-3},26.806684890636163,-9.5071803822127272,-5.9285990311321486,{"$f":"nT_NS_n0i_vi_X(vantHoff_EOS!$N$19,vantHoff_EOS!$O$31:$X$31,vantHoff_EOS!$O$23:$X$23,G79)","v":8.3410825171586733},{"$f":"IF(O$60<=vantHoff_EOS!$N$19,y_iindex_NS_n0i_vi_X(O$3,vantHoff_EOS!$N$19,vantHoff_EOS!$O$31:$X$31,vantHoff_EOS!$O$23:$X$23,$G79),\"-\")","v":6.4890687536481995E-5},{"$f":"IF(P$60<=vantHoff_EOS!$N$19,y_iindex_NS_n0i_vi_X(P$3,vantHoff_EOS!$N$19,vantHoff_EOS!$O$31:$X$31,vantHoff_EOS!$O$23:$X$23,$G79),\"-\")","v":6.4890687536481995E-5},{"$f":"IF(Q$60<=vantHoff_EOS!$N$19,y_iindex_NS_n0i_vi_X(Q$3,vantHoff_EOS!$N$19,vantHoff_EOS!$O$31:$X$31,vantHoff_EOS!$O$23:$X$23,$G79),\"-\")","v":6.4890687536481995E-5},{"$f":"IF(R$60<=vantHoff_EOS!$N$19,y_iindex_NS_n0i_vi_X(R$3,vantHoff_EOS!$N$19,vantHoff_EOS!$O$31:$X$31,vantHoff_EOS!$O$23:$X$23,$G79),\"-\")","v":0.11982362473511665},{"$f":"IF(S$60<=vantHoff_EOS!$N$19,y_iindex_NS_n0i_vi_X(S$3,vantHoff_EOS!$N$19,vantHoff_EOS!$O$31:$X$31,vantHoff_EOS!$O$23:$X$23,$G79),\"-\")","v":0.87998170320227398},{"$f":"IF(T$60<=vantHoff_EOS!$N$19,y_iindex_NS_n0i_vi_X(T$3,vantHoff_EOS!$N$19,vantHoff_EOS!$O$31:$X$31,vantHoff_EOS!$O$23:$X$23,$G79),\"-\")","v":"-"},{"$f":"IF(U$60<=vantHoff_EOS!$N$19,y_iindex_NS_n0i_vi_X(U$3,vantHoff_EOS!$N$19,vantHoff_EOS!$O$31:$X$31,vantHoff_EOS!$O$23:$X$23,$G79),\"-\")","v":"-"},{"$f":"IF(V$60<=vantHoff_EOS!$N$19,y_iindex_NS_n0i_vi_X(V$3,vantHoff_EOS!$N$19,vantHoff_EOS!$O$31:$X$31,vantHoff_EOS!$O$23:$X$23,$G79),\"-\")","v":"-"},{"$f":"IF(W$60<=vantHoff_EOS!$N$19,y_iindex_NS_n0i_vi_X(W$3,vantHoff_EOS!$N$19,vantHoff_EOS!$O$31:$X$31,vantHoff_EOS!$O$23:$X$23,$G79),\"-\")","v":"-"},{"$f":"IF(X$60<=vantHoff_EOS!$N$19,y_iindex_NS_n0i_vi_X(X$3,vantHoff_EOS!$N$19,vantHoff_EOS!$O$31:$X$31,vantHoff_EOS!$O$23:$X$23,$G79),\"-\")","v":"-"},1,{"$f":"IF(Z$60<=vantHoff_EOS!$N$19,Phi_i_NS_Tci_Pci_wi_kijm_TinC_PinPa_yi(Z$3,vantHoff_EOS!$N$19,vantHoff_EOS!$X$5:$X$14,vantHoff_EOS!$Y$5:$Y$14,vantHoff_EOS!$Z$5:$Z$14,vantHoff_EOS!$AE$5:$AN$14,$C$59,B79*1000000,$O79:$X79),\"-\")","v":3.6763685888524082},{"$f":"IF(AA$60<=vantHoff_EOS!$N$19,Phi_i_NS_Tci_Pci_wi_kijm_TinC_PinPa_yi(AA$3,vantHoff_EOS!$N$19,vantHoff_EOS!$X$5:$X$14,vantHoff_EOS!$Y$5:$Y$14,vantHoff_EOS!$Z$5:$Z$14,vantHoff_EOS!$AE$5:$AN$14,$C$59,B79*1000000,$O79:$X79),\"-\")","v":5.5845269897410139},{"$f":"IF(AB$60<=vantHoff_EOS!$N$19,Phi_i_NS_Tci_Pci_wi_kijm_TinC_PinPa_yi(AB$3,vantHoff_EOS!$N$19,vantHoff_EOS!$X$5:$X$14,vantHoff_EOS!$Y$5:$Y$14,vantHoff_EOS!$Z$5:$Z$14,vantHoff_EOS!$AE$5:$AN$14,$C$59,B79*1000000,$O79:$X79),\"-\")","v":0.21896143580610236},{"$f":"IF(AC$60<=vantHoff_EOS!$N$19,Phi_i_NS_Tci_Pci_wi_kijm_TinC_PinPa_yi(AC$3,vantHoff_EOS!$N$19,vantHoff_EOS!$X$5:$X$14,vantHoff_EOS!$Y$5:$Y$14,vantHoff_EOS!$Z$5:$Z$14,vantHoff_EOS!$AE$5:$AN$14,$C$59,B79*1000000,$O79:$X79),\"-\")","v":1.1967824959303324E-2},{"$f":"IF(AD$60<=vantHoff_EOS!$N$19,Phi_i_NS_Tci_Pci_wi_kijm_TinC_PinPa_yi(AD$3,vantHoff_EOS!$N$19,vantHoff_EOS!$X$5:$X$14,vantHoff_EOS!$Y$5:$Y$14,vantHoff_EOS!$Z$5:$Z$14,vantHoff_EOS!$AE$5:$AN$14,$C$59,B79*1000000,$O79:$X79),\"-\")","v":0.65049326479263603},{"$f":"IF(AE$60<=vantHoff_EOS!$N$19,Phi_i_NS_Tci_Pci_wi_kijm_TinC_PinPa_yi(AE$3,vantHoff_EOS!$N$19,vantHoff_EOS!$X$5:$X$14,vantHoff_EOS!$Y$5:$Y$14,vantHoff_EOS!$Z$5:$Z$14,vantHoff_EOS!$AE$5:$AN$14,$C$59,B79*1000000,$O79:$X79),\"-\")","v":"-"},{"$f":"IF(AF$60<=vantHoff_EOS!$N$19,Phi_i_NS_Tci_Pci_wi_kijm_TinC_PinPa_yi(AF$3,vantHoff_EOS!$N$19,vantHoff_EOS!$X$5:$X$14,vantHoff_EOS!$Y$5:$Y$14,vantHoff_EOS!$Z$5:$Z$14,vantHoff_EOS!$AE$5:$AN$14,$C$59,B79*1000000,$O79:$X79),\"-\")","v":"-"},{"$f":"IF(AG$60<=vantHoff_EOS!$N$19,Phi_i_NS_Tci_Pci_wi_kijm_TinC_PinPa_yi(AG$3,vantHoff_EOS!$N$19,vantHoff_EOS!$X$5:$X$14,vantHoff_EOS!$Y$5:$Y$14,vantHoff_EOS!$Z$5:$Z$14,vantHoff_EOS!$AE$5:$AN$14,$C$59,B79*1000000,$O79:$X79),\"-\")","v":"-"},{"$f":"IF(AH$60<=vantHoff_EOS!$N$19,Phi_i_NS_Tci_Pci_wi_kijm_TinC_PinPa_yi(AH$3,vantHoff_EOS!$N$19,vantHoff_EOS!$X$5:$X$14,vantHoff_EOS!$Y$5:$Y$14,vantHoff_EOS!$Z$5:$Z$14,vantHoff_EOS!$AE$5:$AN$14,$C$59,B79*1000000,$O79:$X79),\"-\")","v":"-"},{"$f":"IF(AI$60<=vantHoff_EOS!$N$19,Phi_i_NS_Tci_Pci_wi_kijm_TinC_PinPa_yi(AI$3,vantHoff_EOS!$N$19,vantHoff_EOS!$X$5:$X$14,vantHoff_EOS!$Y$5:$Y$14,vantHoff_EOS!$Z$5:$Z$14,vantHoff_EOS!$AE$5:$AN$14,$C$59,B79*1000000,$O79:$X79),\"-\")","v":"-"}]
[20,{"$f":"B79+vantHoff_EOS!$E$31","v":11.799999999999986},333.15,3.0016509079993999E-3,{"$f":"lnKaT_Tref_lnKaTref_dHTref_da_db_dc_dd_de_TinC(vantHoff_EOS!$E$7,vantHoff_EOS!$B$9,vantHoff_EOS!$B$6,vantHoff_EOS!$O$27,vantHoff_EOS!$P$27,vantHoff_EOS!$Q$27,vantHoff_EOS!$R$27,vantHoff_EOS!$S$27,$C$59)","v":11.370905491151026},86760.392694887007,{"$f":"MolarExtentX_NS_vi_n0i_dHfi_dGfi_TrefinC_da_db_dc_dd_de_Tci_Pci_wi_kijm_TinC_PinPa(vantHoff_EOS!$N$19,vantHoff_EOS!$O$23:$X$23,vantHoff_EOS!$O$31:$X$31,vantHoff_EOS!$T$5:$T$14,vantHoff_EOS!$U$5:$U$14,vantHoff_EOS!$E$7,vantHoff_EOS!$O$27,vantHoff_EOS!$P$27,vantHoff_EOS!$Q$27,vantHoff_EOS!$R$27,vantHoff_EOS!$S$27,vantHoff_EOS!$X$5:$X$14,vantHoff_EOS!$Y$5:$Y$14,vantHoff_EOS!$Z$5:$Z$14,vantHoff_EOS!$AE$5:$AN$14,$C$59,B80*1000000)","v":0.99946399294962596},{"$f":"Ky_NS_n0i_vi_X(vantHoff_EOS!$N$19,vantHoff_EOS!$O$31:$X$31,vantHoff_EOS!$O$23:$X$23,G80)","v":451543284344.0979},{"$f":"Kp_NS_vi_PinPa(vantHoff_EOS!$N$19,vantHoff_EOS!$O$23:$X$23,B80*1000000)","v":7.181844297615643E-5},{"$f":"Kphi_NS_n0i_vi_X_Tci_Pci_wi_kijm_TinC_PinPa(vantHoff_EOS!$N$19,vantHoff_EOS!$O$31:$X$31,vantHoff_EOS!$O$23:$X$23,G80,vantHoff_EOS!$X$5:$X$14,vantHoff_EOS!$Y$5:$Y$14,vantHoff_EOS!$Z$5:$Z$14,vantHoff_EOS!$AE$5:$AN$14,$C$59,B80*1000000)","v":2.6753840292284684E-3},26.835937073080178,-9.5413692489313267,-5.923662346609853,{"$f":"nT_NS_n0i_vi_X(vantHoff_EOS!$N$19,vantHoff_EOS!$O$31:$X$31,vantHoff_EOS!$O$23:$X$23,G80)","v":8.3410720141007477},{"$f":"IF(O$60<=vantHoff_EOS!$N$19,y_iindex_NS_n0i_vi_X(O$3,vantHoff_EOS!$N$19,vantHoff_EOS!$O$31:$X$31,vantHoff_EOS!$O$23:$X$23,$G80),\"-\")","v":6.4261170442829501E-5},{"$f":"IF(P$60<=vantHoff_EOS!$N$19,y_iindex_NS_n0i_vi_X(P$3,vantHoff_EOS!$N$19,vantHoff_EOS!$O$31:$X$31,vantHoff_EOS!$O$23:$X$23,$G80),\"-\")","v":6.4261170442829501E-5},{"$f":"IF(Q$60<=vantHoff_EOS!$N$19,y_iindex_NS_n0i_vi_X(Q$3,vantHoff_EOS!$N$19,vantHoff_EOS!$O$31:$X$31,vantHoff_EOS!$O$23:$X$23,$G80),\"-\")","v":6.4261170442829501E-5},{"$f":"IF(R$60<=vantHoff_EOS!$N$19,y_iindex_NS_n0i_vi_X(R$3,vantHoff_EOS!$N$19,vantHoff_EOS!$O$31:$X$31,vantHoff_EOS!$O$23:$X$23,$G80),\"-\")","v":0.11982440521554211},{"$f":"IF(S$60<=vantHoff_EOS!$N$19,y_iindex_NS_n0i_vi_X(S$3,vantHoff_EOS!$N$19,vantHoff_EOS!$O$31:$X$31,vantHoff_EOS!$O$23:$X$23,$G80),\"-\")","v":0.87998281127312938},{"$f":"IF(T$60<=vantHoff_EOS!$N$19,y_iindex_NS_n0i_vi_X(T$3,vantHoff_EOS!$N$19,vantHoff_EOS!$O$31:$X$31,vantHoff_EOS!$O$23:$X$23,$G80),\"-\")","v":"-"},{"$f":"IF(U$60<=vantHoff_EOS!$N$19,y_iindex_NS_n0i_vi_X(U$3,vantHoff_EOS!$N$19,vantHoff_EOS!$O$31:$X$31,vantHoff_EOS!$O$23:$X$23,$G80),\"-\")","v":"-"},{"$f":"IF(V$60<=vantHoff_EOS!$N$19,y_iindex_NS_n0i_vi_X(V$3,vantHoff_EOS!$N$19,vantHoff_EOS!$O$31:$X$31,vantHoff_EOS!$O$23:$X$23,$G80),\"-\")","v":"-"},{"$f":"IF(W$60<=vantHoff_EOS!$N$19,y_iindex_NS_n0i_vi_X(W$3,vantHoff_EOS!$N$19,vantHoff_EOS!$O$31:$X$31,vantHoff_EOS!$O$23:$X$23,$G80),\"-\")","v":"-"},{"$f":"IF(X$60<=vantHoff_EOS!$N$19,y_iindex_NS_n0i_vi_X(X$3,vantHoff_EOS!$N$19,vantHoff_EOS!$O$31:$X$31,vantHoff_EOS!$O$23:$X$23,$G80),\"-\")","v":"-"},1,{"$f":"IF(Z$60<=vantHoff_EOS!$N$19,Phi_i_NS_Tci_Pci_wi_kijm_TinC_PinPa_yi(Z$3,vantHoff_EOS!$N$19,vantHoff_EOS!$X$5:$X$14,vantHoff_EOS!$Y$5:$Y$14,vantHoff_EOS!$Z$5:$Z$14,vantHoff_EOS!$AE$5:$AN$14,$C$59,B80*1000000,$O80:$X80),\"-\")","v":3.6576562133335186},{"$f":"IF(AA$60<=vantHoff_EOS!$N$19,Phi_i_NS_Tci_Pci_wi_kijm_TinC_PinPa_yi(AA$3,vantHoff_EOS!$N$19,vantHoff_EOS!$X$5:$X$14,vantHoff_EOS!$Y$5:$Y$14,vantHoff_EOS!$Z$5:$Z$14,vantHoff_EOS!$AE$5:$AN$14,$C$59,B80*1000000,$O80:$X80),\"-\")","v":5.5567051488679526},{"$f":"IF(AB$60<=vantHoff_EOS!$N$19,Phi_i_NS_Tci_Pci_wi_kijm_TinC_PinPa_yi(AB$3,vantHoff_EOS!$N$19,vantHoff_EOS!$X$5:$X$14,vantHoff_EOS!$Y$5:$Y$14,vantHoff_EOS!$Z$5:$Z$14,vantHoff_EOS!$AE$5:$AN$14,$C$59,B80*1000000,$O80:$X80),\"-\")","v":0.21650708670416033},{"$f":"IF(AC$60<=vantHoff_EOS!$N$19,Phi_i_NS_Tci_Pci_wi_kijm_TinC_PinPa_yi(AC$3,vantHoff_EOS!$N$19,vantHoff_EOS!$X$5:$X$14,vantHoff_EOS!$Y$5:$Y$14,vantHoff_EOS!$Z$5:$Z$14,vantHoff_EOS!$AE$5:$AN$14,$C$59,B80*1000000,$O80:$X80),\"-\")","v":1.1772765203275531E-2},{"$f":"IF(AD$60<=vantHoff_EOS!$N$19,Phi_i_NS_Tci_Pci_wi_kijm_TinC_PinPa_yi(AD$3,vantHoff_EOS!$N$19,vantHoff_EOS!$X$5:$X$14,vantHoff_EOS!$Y$5:$Y$14,vantHoff_EOS!$Z$5:$Z$14,vantHoff_EOS!$AE$5:$AN$14,$C$59,B80*1000000,$O80:$X80),\"-\")","v":0.64301271298559937},{"$f":"IF(AE$60<=vantHoff_EOS!$N$19,Phi_i_NS_Tci_Pci_wi_kijm_TinC_PinPa_yi(AE$3,vantHoff_EOS!$N$19,vantHoff_EOS!$X$5:$X$14,vantHoff_EOS!$Y$5:$Y$14,vantHoff_EOS!$Z$5:$Z$14,vantHoff_EOS!$AE$5:$AN$14,$C$59,B80*1000000,$O80:$X80),\"-\")","v":"-"},{"$f":"IF(AF$60<=vantHoff_EOS!$N$19,Phi_i_NS_Tci_Pci_wi_kijm_TinC_PinPa_yi(AF$3,vantHoff_EOS!$N$19,vantHoff_EOS!$X$5:$X$14,vantHoff_EOS!$Y$5:$Y$14,vantHoff_EOS!$Z$5:$Z$14,vantHoff_EOS!$AE$5:$AN$14,$C$59,B80*1000000,$O80:$X80),\"-\")","v":"-"},{"$f":"IF(AG$60<=vantHoff_EOS!$N$19,Phi_i_NS_Tci_Pci_wi_kijm_TinC_PinPa_yi(AG$3,vantHoff_EOS!$N$19,vantHoff_EOS!$X$5:$X$14,vantHoff_EOS!$Y$5:$Y$14,vantHoff_EOS!$Z$5:$Z$14,vantHoff_EOS!$AE$5:$AN$14,$C$59,B80*1000000,$O80:$X80),\"-\")","v":"-"},{"$f":"IF(AH$60<=vantHoff_EOS!$N$19,Phi_i_NS_Tci_Pci_wi_kijm_TinC_PinPa_yi(AH$3,vantHoff_EOS!$N$19,vantHoff_EOS!$X$5:$X$14,vantHoff_EOS!$Y$5:$Y$14,vantHoff_EOS!$Z$5:$Z$14,vantHoff_EOS!$AE$5:$AN$14,$C$59,B80*1000000,$O80:$X80),\"-\")","v":"-"},{"$f":"IF(AI$60<=vantHoff_EOS!$N$19,Phi_i_NS_Tci_Pci_wi_kijm_TinC_PinPa_yi(AI$3,vantHoff_EOS!$N$19,vantHoff_EOS!$X$5:$X$14,vantHoff_EOS!$Y$5:$Y$14,vantHoff_EOS!$Z$5:$Z$14,vantHoff_EOS!$AE$5:$AN$14,$C$59,B80*1000000,$O80:$X80),\"-\")","v":"-"}]
[21,{"$f":"B80+vantHoff_EOS!$E$31","v":11.999999999999986},333.15,3.0016509079993999E-3,{"$f":"lnKaT_Tref_lnKaTref_dHTref_da_db_dc_dd_de_TinC(vantHoff_EOS!$E$7,vantHoff_EOS!$B$9,vantHoff_EOS!$B$6,vantHoff_EOS!$O$27,vantHoff_EOS!$P$27,vantHoff_EOS!$Q$27,vantHoff_EOS!$R$27,vantHoff_EOS!$S$27,$C$59)","v":11.370905491151026},86760.392694887007,{"$f":"MolarExtentX_NS_vi_n0i_dHfi_dGfi_TrefinC_da_db_dc_dd_de_Tci_Pci_wi_kijm_TinC_PinPa(vantHoff_EOS!$N$19,vantHoff_EOS!$O$23:$X$23,vantHoff_EOS!$O$31:$X$31,vantHoff_EOS!$T$5:$T$14,vantHoff_EOS!$U$5:$U$14,vantHoff_EOS!$E$7,vantHoff_EOS!$O$27,vantHoff_EOS!$P$27,vantHoff_EOS!$Q$27,vantHoff_EOS!$R$27,vantHoff_EOS!$S$27,vantHoff_EOS!$X$5:$X$14,vantHoff_EOS!$Y$5:$Y$14,vantHoff_EOS!$Z$5:$Z$14,vantHoff_EOS!$AE$5:$AN$14,$C$59,B81*1000000)","v":0.99946906042749684},{"$f":"Ky_NS_n0i_vi_X(vantHoff_EOS!$N$19,vantHoff_EOS!$O$31:$X$31,vantHoff_EOS!$O$23:$X$23,G81)","v":464597376799.59399},{"$f":"Kp_NS_vi_PinPa(vantHoff_EOS!$N$19,vantHoff_EOS!$O$23:$X$23,B81*1000000)","v":6.9444444444444634E-5},{"$f":"Kphi_NS_n0i_vi_X_Tci_Pci_wi_kijm_TinC_PinPa(vantHoff_EOS!$N$19,vantHoff_EOS!$O$31:$X$31,vantHoff_EOS!$O$23:$X$23,G81,vantHoff_EOS!$X$5:$X$14,vantHoff_EOS!$Y$5:$Y$14,vantHoff_EOS!$Z$5:$Z$14,vantHoff_EOS!$AE$5:$AN$14,$C$59,B81*1000000)","v":2.6891017910226364E-3},26.864437011118682,-9.5749834855640898,-5.9185480478106731,{"$f":"nT_NS_n0i_vi_X(vantHoff_EOS!$N$19,vantHoff_EOS!$O$31:$X$31,vantHoff_EOS!$O$23:$X$23,G81)","v":8.3410618791450055},{"$f":"IF(O$60<=vantHoff_EOS!$N$19,y_iindex_NS_n0i_vi_X(O$3,vantHoff_EOS!$N$19,vantHoff_EOS!$O$31:$X$31,vantHoff_EOS!$O$23:$X$23,$G81),\"-\")","v":6.3653714622434574E-5},{"$f":"IF(P$60<=vantHoff_EOS!$N$19,y_iindex_NS_n0i_vi_X(P$3,vantHoff_EOS!$N$19,vantHoff_EOS!$O$31:$X$31,vantHoff_EOS!$O$23:$X$23,$G81),\"-\")","v":6.3653714622434574E-5},{"$f":"IF(Q$60<=vantHoff_EOS!$N$19,y_iindex_NS_n0i_vi_X(Q$3,vantHoff_EOS!$N$19,vantHoff_EOS!$O$31:$X$31,vantHoff_EOS!$O$23:$X$23,$G81),\"-\")","v":6.3653714622434574E-5},{"$f":"IF(R$60<=vantHoff_EOS!$N$19,y_iindex_NS_n0i_vi_X(R$3,vantHoff_EOS!$N$19,vantHoff_EOS!$O$31:$X$31,vantHoff_EOS!$O$23:$X$23,$G81),\"-\")","v":0.11982515834422111},{"$f":"IF(S$60<=vantHoff_EOS!$N$19,y_iindex_NS_n0i_vi_X(S$3,vantHoff_EOS!$N$19,vantHoff_EOS!$O$31:$X$31,vantHoff_EOS!$O$23:$X$23,$G81),\"-\")","v":0.87998388051191168},{"$f":"IF(T$60<=vantHoff_EOS!$N$19,y_iindex_NS_n0i_vi_X(T$3,vantHoff_EOS!$N$19,vantHoff_EOS!$O$31:$X$31,vantHoff_EOS!$O$23:$X$23,$G81),\"-\")","v":"-"},{"$f":"IF(U$60<=vantHoff_EOS!$N$19,y_iindex_NS_n0i_vi_X(U$3,vantHoff_EOS!$N$19,vantHoff_EOS!$O$31:$X$31,vantHoff_EOS!$O$23:$X$23,$G81),\"-\")","v":"-"},{"$f":"IF(V$60<=vantHoff_EOS!$N$19,y_iindex_NS_n0i_vi_X(V$3,vantHoff_EOS!$N$19,vantHoff_EOS!$O$31:$X$31,vantHoff_EOS!$O$23:$X$23,$G81),\"-\")","v":"-"},{"$f":"IF(W$60<=vantHoff_EOS!$N$19,y_iindex_NS_n0i_vi_X(W$3,vantHoff_EOS!$N$19,vantHoff_EOS!$O$31:$X$31,vantHoff_EOS!$O$23:$X$23,$G81),\"-\")","v":"-"},{"$f":"IF(X$60<=vantHoff_EOS!$N$19,y_iindex_NS_n0i_vi_X(X$3,vantHoff_EOS!$N$19,vantHoff_EOS!$O$31:$X$31,vantHoff_EOS!$O$23:$X$23,$G81),\"-\")","v":"-"},1,{"$f":"IF(Z$60<=vantHoff_EOS!$N$19,Phi_i_NS_Tci_Pci_wi_kijm_TinC_PinPa_yi(Z$3,vantHoff_EOS!$N$19,vantHoff_EOS!$X$5:$X$14,vantHoff_EOS!$Y$5:$Y$14,vantHoff_EOS!$Z$5:$Z$14,vantHoff_EOS!$AE$5:$AN$14,$C$59,B81*1000000,$O81:$X81),\"-\")","v":3.6392009117913031},{"$f":"IF(AA$60<=vantHoff_EOS!$N$19,Phi_i_NS_Tci_Pci_wi_kijm_TinC_PinPa_yi(AA$3,vantHoff_EOS!$N$19,vantHoff_EOS!$X$5:$X$14,vantHoff_EOS!$Y$5:$Y$14,vantHoff_EOS!$Z$5:$Z$14,vantHoff_EOS!$AE$5:$AN$14,$C$59,B81*1000000,$O81:$X81),\"-\")","v":5.5291182414965885},{"$f":"IF(AB$60<=vantHoff_EOS!$N$19,Phi_i_NS_Tci_Pci_wi_kijm_TinC_PinPa_yi(AB$3,vantHoff_EOS!$N$19,vantHoff_EOS!$X$5:$X$14,vantHoff_EOS!$Y$5:$Y$14,vantHoff_EOS!$Z$5:$Z$14,vantHoff_EOS!$AE$5:$AN$14,$C$59,B81*1000000,$O81:$X81),\"-\")","v":0.21414243920454112},{"$f":"IF(AC$60<=vantHoff_EOS!$N$19,Phi_i_NS_Tci_Pci_wi_kijm_TinC_PinPa_yi(AC$3,vantHoff_EOS!$N$19,vantHoff_EOS!$X$5:$X$14,vantHoff_EOS!$Y$5:$Y$14,vantHoff_EOS!$Z$5:$Z$14,vantHoff_EOS!$AE$5:$AN$14,$C$59,B81*1000000,$O81:$X81),\"-\")","v":1.1587023755469102E-2},{"$f":"IF(AD$60<=vantHoff_EOS!$N$19,Phi_i_NS_Tci_Pci_wi_kijm_TinC_PinPa_yi(AD$3,vantHoff_EOS!$N$19,vantHoff_EOS!$X$5:$X$14,vantHoff_EOS!$Y$5:$Y$14,vantHoff_EOS!$Z$5:$Z$14,vantHoff_EOS!$AE$5:$AN$14,$C$59,B81*1000000,$O81:$X81),\"-\")","v":0.63576232957528056},{"$f":"IF(AE$60<=vantHoff_EOS!$N$19,Phi_i_NS_Tci_Pci_wi_kijm_TinC_PinPa_yi(AE$3,vantHoff_EOS!$N$19,vantHoff_EOS!$X$5:$X$14,vantHoff_EOS!$Y$5:$Y$14,vantHoff_EOS!$Z$5:$Z$14,vantHoff_EOS!$AE$5:$AN$14,$C$59,B81*1000000,$O81:$X81),\"-\")","v":"-"},{"$f":"IF(AF$60<=vantHoff_EOS!$N$19,Phi_i_NS_Tci_Pci_wi_kijm_TinC_PinPa_yi(AF$3,vantHoff_EOS!$N$19,vantHoff_EOS!$X$5:$X$14,vantHoff_EOS!$Y$5:$Y$14,vantHoff_EOS!$Z$5:$Z$14,vantHoff_EOS!$AE$5:$AN$14,$C$59,B81*1000000,$O81:$X81),\"-\")","v":"-"},{"$f":"IF(AG$60<=vantHoff_EOS!$N$19,Phi_i_NS_Tci_Pci_wi_kijm_TinC_PinPa_yi(AG$3,vantHoff_EOS!$N$19,vantHoff_EOS!$X$5:$X$14,vantHoff_EOS!$Y$5:$Y$14,vantHoff_EOS!$Z$5:$Z$14,vantHoff_EOS!$AE$5:$AN$14,$C$59,B81*1000000,$O81:$X81),\"-\")","v":"-"},{"$f":"IF(AH$60<=vantHoff_EOS!$N$19,Phi_i_NS_Tci_Pci_wi_kijm_TinC_PinPa_yi(AH$3,vantHoff_EOS!$N$19,vantHoff_EOS!$X$5:$X$14,vantHoff_EOS!$Y$5:$Y$14,vantHoff_EOS!$Z$5:$Z$14,vantHoff_EOS!$AE$5:$AN$14,$C$59,B81*1000000,$O81:$X81),\"-\")","v":"-"},{"$f":"IF(AI$60<=vantHoff_EOS!$N$19,Phi_i_NS_Tci_Pci_wi_kijm_TinC_PinPa_yi(AI$3,vantHoff_EOS!$N$19,vantHoff_EOS!$X$5:$X$14,vantHoff_EOS!$Y$5:$Y$14,vantHoff_EOS!$Z$5:$Z$14,vantHoff_EOS!$AE$5:$AN$14,$C$59,B81*1000000,$O81:$X81),\"-\")","v":"-"}]
[22,{"$f":"B81+vantHoff_EOS!$E$31","v":12.199999999999985},333.15,3.0016509079993999E-3,{"$f":"lnKaT_Tref_lnKaTref_dHTref_da_db_dc_dd_de_TinC(vantHoff_EOS!$E$7,vantHoff_EOS!$B$9,vantHoff_EOS!$B$6,vantHoff_EOS!$O$27,vantHoff_EOS!$P$27,vantHoff_EOS!$Q$27,vantHoff_EOS!$R$27,vantHoff_EOS!$S$27,$C$59)","v":11.370905491151026},86760.392694887007,{"$f":"MolarExtentX_NS_vi_n0i_dHfi_dGfi_TrefinC_da_db_dc_dd_de_Tci_Pci_wi_kijm_TinC_PinPa(vantHoff_EOS!$N$19,vantHoff_EOS!$O$23:$X$23,vantHoff_EOS!$O$31:$X$31,vantHoff_EOS!$T$5:$T$14,vantHoff_EOS!$U$5:$U$14,vantHoff_EOS!$E$7,vantHoff_EOS!$O$27,vantHoff_EOS!$P$27,vantHoff_EOS!$Q$27,vantHoff_EOS!$R$27,vantHoff_EOS!$S$27,vantHoff_EOS!$X$5:$X$14,vantHoff_EOS!$Y$5:$Y$14,vantHoff_EOS!$Z$5:$Z$14,vantHoff_EOS!$AE$5:$AN$14,$C$59,B82*1000000)","v":0.99947395574782105},{"$f":"Ky_NS_n0i_vi_X(vantHoff_EOS!$N$19,vantHoff_EOS!$O$31:$X$31,vantHoff_EOS!$O$23:$X$23,G82)","v":477690175564.50391},{"$f":"Kp_NS_vi_PinPa(vantHoff_EOS!$N$19,vantHoff_EOS!$O$23:$X$23,B82*1000000)","v":6.7186240257995306E-5},{"$f":"Kphi_NS_n0i_vi_X_Tci_Pci_wi_kijm_TinC_PinPa(vantHoff_EOS!$N$19,vantHoff_EOS!$O$31:$X$31,vantHoff_EOS!$O$23:$X$23,G82,vantHoff_EOS!$X$5:$X$14,vantHoff_EOS!$Y$5:$Y$14,vantHoff_EOS!$Z$5:$Z$14,vantHoff_EOS!$AE$5:$AN$14,$C$59,B82*1000000)","v":2.7033038019830748E-3},26.892228191010901,-9.6080420894665117,-5.9132806236332431,{"$f":"nT_NS_n0i_vi_X(vantHoff_EOS!$N$19,vantHoff_EOS!$O$31:$X$31,vantHoff_EOS!$O$23:$X$23,G82)","v":8.3410520885043571},{"$f":"IF(O$60<=vantHoff_EOS!$N$19,y_iindex_NS_n0i_vi_X(O$3,vantHoff_EOS!$N$19,vantHoff_EOS!$O$31:$X$31,vantHoff_EOS!$O$23:$X$23,$G82),\"-\")","v":6.3066894511298185E-5},{"$f":"IF(P$60<=vantHoff_EOS!$N$19,y_iindex_NS_n0i_vi_X(P$3,vantHoff_EOS!$N$19,vantHoff_EOS!$O$31:$X$31,vantHoff_EOS!$O$23:$X$23,$G82),\"-\")","v":6.3066894511298185E-5},{"$f":"IF(Q$60<=vantHoff_EOS!$N$19,y_iindex_NS_n0i_vi_X(Q$3,vantHoff_EOS!$N$19,vantHoff_EOS!$O$31:$X$31,vantHoff_EOS!$O$23:$X$23,$G82),\"-\")","v":6.3066894511298185E-5},{"$f":"IF(R$60<=vantHoff_EOS!$N$19,y_iindex_NS_n0i_vi_X(R$3,vantHoff_EOS!$N$19,vantHoff_EOS!$O$31:$X$31,vantHoff_EOS!$O$23:$X$23,$G82),\"-\")","v":0.11982588588857952},{"$f":"IF(S$60<=vantHoff_EOS!$N$19,y_iindex_NS_n0i_vi_X(S$3,vantHoff_EOS!$N$19,vantHoff_EOS!$O$31:$X$31,vantHoff_EOS!$O$23:$X$23,$G82),\"-\")","v":0.87998491342788665},{"$f":"IF(T$60<=vantHoff_EOS!$N$19,y_iindex_NS_n0i_vi_X(T$3,vantHoff_EOS!$N$19,vantHoff_EOS!$O$31:$X$31,vantHoff_EOS!$O$23:$X$23,$G82),\"-\")","v":"-"},{"$f":"IF(U$60<=vantHoff_EOS!$N$19,y_iindex_NS_n0i_vi_X(U$3,vantHoff_EOS!$N$19,vantHoff_EOS!$O$31:$X$31,vantHoff_EOS!$O$23:$X$23,$G82),\"-\")","v":"-"},{"$f":"IF(V$60<=vantHoff_EOS!$N$19,y_iindex_NS_n0i_vi_X(V$3,vantHoff_EOS!$N$19,vantHoff_EOS!$O$31:$X$31,vantHoff_EOS!$O$23:$X$23,$G82),\"-\")","v":"-"},{"$f":"IF(W$60<=vantHoff_EOS!$N$19,y_iindex_NS_n0i_vi_X(W$3,vantHoff_EOS!$N$19,vantHoff_EOS!$O$31:$X$31,vantHoff_EOS!$O$23:$X$23,$G82),\"-\")","v":"-"},{"$f":"IF(X$60<=vantHoff_EOS!$N$19,y_iindex_NS_n0i_vi_X(X$3,vantHoff_EOS!$N$19,vantHoff_EOS!$O$31:$X$31,vantHoff_EOS!$O$23:$X$23,$G82),\"-\")","v":"-"},1,{"$f":"IF(Z$60<=vantHoff_EOS!$N$19,Phi_i_NS_Tci_Pci_wi_kijm_TinC_PinPa_yi(Z$3,vantHoff_EOS!$N$19,vantHoff_EOS!$X$5:$X$14,vantHoff_EOS!$Y$5:$Y$14,vantHoff_EOS!$Z$5:$Z$14,vantHoff_EOS!$AE$5:$AN$14,$C$59,B82*1000000,$O82:$X82),\"-\")","v":3.6210147310927026},{"$f":"IF(AA$60<=vantHoff_EOS!$N$19,Phi_i_NS_Tci_Pci_wi_kijm_TinC_PinPa_yi(AA$3,vantHoff_EOS!$N$19,vantHoff_EOS!$X$5:$X$14,vantHoff_EOS!$Y$5:$Y$14,vantHoff_EOS!$Z$5:$Z$14,vantHoff_EOS!$AE$5:$AN$14,$C$59,B82*1000000,$O82:$X82),\"-\")","v":5.5017963923407986},{"$f":"IF(AB$60<=vantHoff_EOS!$N$19,Phi_i_NS_Tci_Pci_wi_kijm_TinC_PinPa_yi(AB$3,vantHoff_EOS!$N$19,vantHoff_EOS!$X$5:$X$14,vantHoff_EOS!$Y$5:$Y$14,vantHoff_EOS!$Z$5:$Z$14,vantHoff_EOS!$AE$5:$AN$14,$C$59,B82*1000000,$O82:$X82),\"-\")","v":0.21186290497435847},{"$f":"IF(AC$60<=vantHoff_EOS!$N$19,Phi_i_NS_Tci_Pci_wi_kijm_TinC_PinPa_yi(AC$3,vantHoff_EOS!$N$19,vantHoff_EOS!$X$5:$X$14,vantHoff_EOS!$Y$5:$Y$14,vantHoff_EOS!$Z$5:$Z$14,vantHoff_EOS!$AE$5:$AN$14,$C$59,B82*1000000,$O82:$X82),\"-\")","v":1.1409972137331279E-2},{"$f":"IF(AD$60<=vantHoff_EOS!$N$19,Phi_i_NS_Tci_Pci_wi_kijm_TinC_PinPa_yi(AD$3,vantHoff_EOS!$N$19,vantHoff_EOS!$X$5:$X$14,vantHoff_EOS!$Y$5:$Y$14,vantHoff_EOS!$Z$5:$Z$14,vantHoff_EOS!$AE$5:$AN$14,$C$59,B82*1000000,$O82:$X82),\"-\")","v":0.6287322130373979},{"$f":"IF(AE$60<=vantHoff_EOS!$N$19,Phi_i_NS_Tci_Pci_wi_kijm_TinC_PinPa_yi(AE$3,vantHoff_EOS!$N$19,vantHoff_EOS!$X$5:$X$14,vantHoff_EOS!$Y$5:$Y$14,vantHoff_EOS!$Z$5:$Z$14,vantHoff_EOS!$AE$5:$AN$14,$C$59,B82*1000000,$O82:$X82),\"-\")","v":"-"},{"$f":"IF(AF$60<=vantHoff_EOS!$N$19,Phi_i_NS_Tci_Pci_wi_kijm_TinC_PinPa_yi(AF$3,vantHoff_EOS!$N$19,vantHoff_EOS!$X$5:$X$14,vantHoff_EOS!$Y$5:$Y$14,vantHoff_EOS!$Z$5:$Z$14,vantHoff_EOS!$AE$5:$AN$14,$C$59,B82*1000000,$O82:$X82),\"-\")","v":"-"},{"$f":"IF(AG$60<=vantHoff_EOS!$N$19,Phi_i_NS_Tci_Pci_wi_kijm_TinC_PinPa_yi(AG$3,vantHoff_EOS!$N$19,vantHoff_EOS!$X$5:$X$14,vantHoff_EOS!$Y$5:$Y$14,vantHoff_EOS!$Z$5:$Z$14,vantHoff_EOS!$AE$5:$AN$14,$C$59,B82*1000000,$O82:$X82),\"-\")","v":"-"},{"$f":"IF(AH$60<=vantHoff_EOS!$N$19,Phi_i_NS_Tci_Pci_wi_kijm_TinC_PinPa_yi(AH$3,vantHoff_EOS!$N$19,vantHoff_EOS!$X$5:$X$14,vantHoff_EOS!$Y$5:$Y$14,vantHoff_EOS!$Z$5:$Z$14,vantHoff_EOS!$AE$5:$AN$14,$C$59,B82*1000000,$O82:$X82),\"-\")","v":"-"},{"$f":"IF(AI$60<=vantHoff_EOS!$N$19,Phi_i_NS_Tci_Pci_wi_kijm_TinC_PinPa_yi(AI$3,vantHoff_EOS!$N$19,vantHoff_EOS!$X$5:$X$14,vantHoff_EOS!$Y$5:$Y$14,vantHoff_EOS!$Z$5:$Z$14,vantHoff_EOS!$AE$5:$AN$14,$C$59,B82*1000000,$O82:$X82),\"-\")","v":"-"}]
[23,{"$f":"B82+vantHoff_EOS!$E$31","v":12.399999999999984},333.15,3.0016509079993999E-3,{"$f":"lnKaT_Tref_lnKaTref_dHTref_da_db_dc_dd_de_TinC(vantHoff_EOS!$E$7,vantHoff_EOS!$B$9,vantHoff_EOS!$B$6,vantHoff_EOS!$O$27,vantHoff_EOS!$P$27,vantHoff_EOS!$Q$27,vantHoff_EOS!$R$27,vantHoff_EOS!$S$27,$C$59)","v":11.370905491151026},86760.392694887007,{"$f":"MolarExtentX_NS_vi_n0i_dHfi_dGfi_TrefinC_da_db_dc_dd_de_Tci_Pci_wi_kijm_TinC_PinPa(vantHoff_EOS!$N$19,vantHoff_EOS!$O$23:$X$23,vantHoff_EOS!$O$31:$X$31,vantHoff_EOS!$T$5:$T$14,vantHoff_EOS!$U$5:$U$14,vantHoff_EOS!$E$7,vantHoff_EOS!$O$27,vantHoff_EOS!$P$27,vantHoff_EOS!$Q$27,vantHoff_EOS!$R$27,vantHoff_EOS!$S$27,vantHoff_EOS!$X$5:$X$14,vantHoff_EOS!$Y$5:$Y$14,vantHoff_EOS!$Z$5:$Z$14,vantHoff_EOS!$AE$5:$AN$14,$C$59,B83*1000000)","v":0.99947868969048914},{"$f":"Ky_NS_n0i_vi_X(vantHoff_EOS!$N$19,vantHoff_EOS!$O$31:$X$31,vantHoff_EOS!$O$23:$X$23,G83)","v":490823421314.6402},{"$f":"Kp_NS_vi_PinPa(vantHoff_EOS!$N$19,vantHoff_EOS!$O$23:$X$23,B83*1000000)","v":6.5036420395421564E-5},{"$f":"Kphi_NS_n0i_vi_X_Tci_Pci_wi_kijm_TinC_PinPa(vantHoff_EOS!$N$19,vantHoff_EOS!$O$31:$X$31,vantHoff_EOS!$O$23:$X$23,G83,vantHoff_EOS!$X$5:$X$14,vantHoff_EOS!$Y$5:$Y$14,vantHoff_EOS!$Z$5:$Z$14,vantHoff_EOS!$AE$5:$AN$14,$C$59,B83*1000000)","v":2.717938310730709E-3},26.919350269334547,-9.6405631312100724,-5.9078816600778241,{"$f":"nT_NS_n0i_vi_X(vantHoff_EOS!$N$19,vantHoff_EOS!$O$31:$X$31,vantHoff_EOS!$O$23:$X$23,G83)","v":8.3410426206190209},{"$f":"IF(O$60<=vantHoff_EOS!$N$19,y_iindex_NS_n0i_vi_X(O$3,vantHoff_EOS!$N$19,vantHoff_EOS!$O$31:$X$31,vantHoff_EOS!$O$23:$X$23,$G83),\"-\")","v":6.2499418025053807E-5},{"$f":"IF(P$60<=vantHoff_EOS!$N$19,y_iindex_NS_n0i_vi_X(P$3,vantHoff_EOS!$N$19,vantHoff_EOS!$O$31:$X$31,vantHoff_EOS!$O$23:$X$23,$G83),\"-\")","v":6.2499418025053807E-5},{"$f":"IF(Q$60<=vantHoff_EOS!$N$19,y_iindex_NS_n0i_vi_X(Q$3,vantHoff_EOS!$N$19,vantHoff_EOS!$O$31:$X$31,vantHoff_EOS!$O$23:$X$23,$G83),\"-\")","v":6.2499418025053807E-5},{"$f":"IF(R$60<=vantHoff_EOS!$N$19,y_iindex_NS_n0i_vi_X(R$3,vantHoff_EOS!$N$19,vantHoff_EOS!$O$31:$X$31,vantHoff_EOS!$O$23:$X$23,$G83),\"-\")","v":0.11982658945055408},{"$f":"IF(S$60<=vantHoff_EOS!$N$19,y_iindex_NS_n0i_vi_X(S$3,vantHoff_EOS!$N$19,vantHoff_EOS!$O$31:$X$31,vantHoff_EOS!$O$23:$X$23,$G83),\"-\")","v":0.87998591229537082},{"$f":"IF(T$60<=vantHoff_EOS!$N$19,y_iindex_NS_n0i_vi_X(T$3,vantHoff_EOS!$N$19,vantHoff_EOS!$O$31:$X$31,vantHoff_EOS!$O$23:$X$23,$G83),\"-\")","v":"-"},{"$f":"IF(U$60<=vantHoff_EOS!$N$19,y_iindex_NS_n0i_vi_X(U$3,vantHoff_EOS!$N$19,vantHoff_EOS!$O$31:$X$31,vantHoff_EOS!$O$23:$X$23,$G83),\"-\")","v":"-"},{"$f":"IF(V$60<=vantHoff_EOS!$N$19,y_iindex_NS_n0i_vi_X(V$3,vantHoff_EOS!$N$19,vantHoff_EOS!$O$31:$X$31,vantHoff_EOS!$O$23:$X$23,$G83),\"-\")","v":"-"},{"$f":"IF(W$60<=vantHoff_EOS!$N$19,y_iindex_NS_n0i_vi_X(W$3,vantHoff_EOS!$N$19,vantHoff_EOS!$O$31:$X$31,vantHoff_EOS!$O$23:$X$23,$G83),\"-\")","v":"-"},{"$f":"IF(X$60<=vantHoff_EOS!$N$19,y_iindex_NS_n0i_vi_X(X$3,vantHoff_EOS!$N$19,vantHoff_EOS!$O$31:$X$31,vantHoff_EOS!$O$23:$X$23,$G83),\"-\")","v":"-"},1,{"$f":"IF(Z$60<=vantHoff_EOS!$N$19,Phi_i_NS_Tci_Pci_wi_kijm_TinC_PinPa_yi(Z$3,vantHoff_EOS!$N$19,vantHoff_EOS!$X$5:$X$14,vantHoff_EOS!$Y$5:$Y$14,vantHoff_EOS!$Z$5:$Z$14,vantHoff_EOS!$AE$5:$AN$14,$C$59,B83*1000000,$O83:$X83),\"-\")","v":3.6031068712433982},{"$f":"IF(AA$60<=vantHoff_EOS!$N$19,Phi_i_NS_Tci_Pci_wi_kijm_TinC_PinPa_yi(AA$3,vantHoff_EOS!$N$19,vantHoff_EOS!$X$5:$X$14,vantHoff_EOS!$Y$5:$Y$14,vantHoff_EOS!$Z$5:$Z$14,vantHoff_EOS!$AE$5:$AN$14,$C$59,B83*1000000,$O83:$X83),\"-\")","v":5.4747642965410099},{"$f":"IF(AB$60<=vantHoff_EOS!$N$19,Phi_i_NS_Tci_Pci_wi_kijm_TinC_PinPa_yi(AB$3,vantHoff_EOS!$N$19,vantHoff_EOS!$X$5:$X$14,vantHoff_EOS!$Y$5:$Y$14,vantHoff_EOS!$Z$5:$Z$14,vantHoff_EOS!$AE$5:$AN$14,$C$59,B83*1000000,$O83:$X83),\"-\")","v":0.2096642142421174},{"$f":"IF(AC$60<=vantHoff_EOS!$N$19,Phi_i_NS_Tci_Pci_wi_kijm_TinC_PinPa_yi(AC$3,vantHoff_EOS!$N$19,vantHoff_EOS!$X$5:$X$14,vantHoff_EOS!$Y$5:$Y$14,vantHoff_EOS!$Z$5:$Z$14,vantHoff_EOS!$AE$5:$AN$14,$C$59,B83*1000000,$O83:$X83),\"-\")","v":1.1241039563985228E-2},{"$f":"IF(AD$60<=vantHoff_EOS!$N$19,Phi_i_NS_Tci_Pci_wi_kijm_TinC_PinPa_yi(AD$3,vantHoff_EOS!$N$19,vantHoff_EOS!$X$5:$X$14,vantHoff_EOS!$Y$5:$Y$14,vantHoff_EOS!$Z$5:$Z$14,vantHoff_EOS!$AE$5:$AN$14,$C$59,B83*1000000,$O83:$X83),\"-\")","v":0.62191298278955409},{"$f":"IF(AE$60<=vantHoff_EOS!$N$19,Phi_i_NS_Tci_Pci_wi_kijm_TinC_PinPa_yi(AE$3,vantHoff_EOS!$N$19,vantHoff_EOS!$X$5:$X$14,vantHoff_EOS!$Y$5:$Y$14,vantHoff_EOS!$Z$5:$Z$14,vantHoff_EOS!$AE$5:$AN$14,$C$59,B83*1000000,$O83:$X83),\"-\")","v":"-"},{"$f":"IF(AF$60<=vantHoff_EOS!$N$19,Phi_i_NS_Tci_Pci_wi_kijm_TinC_PinPa_yi(AF$3,vantHoff_EOS!$N$19,vantHoff_EOS!$X$5:$X$14,vantHoff_EOS!$Y$5:$Y$14,vantHoff_EOS!$Z$5:$Z$14,vantHoff_EOS!$AE$5:$AN$14,$C$59,B83*1000000,$O83:$X83),\"-\")","v":"-"},{"$f":"IF(AG$60<=vantHoff_EOS!$N$19,Phi_i_NS_Tci_Pci_wi_kijm_TinC_PinPa_yi(AG$3,vantHoff_EOS!$N$19,vantHoff_EOS!$X$5:$X$14,vantHoff_EOS!$Y$5:$Y$14,vantHoff_EOS!$Z$5:$Z$14,vantHoff_EOS!$AE$5:$AN$14,$C$59,B83*1000000,$O83:$X83),\"-\")","v":"-"},{"$f":"IF(AH$60<=vantHoff_EOS!$N$19,Phi_i_NS_Tci_Pci_wi_kijm_TinC_PinPa_yi(AH$3,vantHoff_EOS!$N$19,vantHoff_EOS!$X$5:$X$14,vantHoff_EOS!$Y$5:$Y$14,vantHoff_EOS!$Z$5:$Z$14,vantHoff_EOS!$AE$5:$AN$14,$C$59,B83*1000000,$O83:$X83),\"-\")","v":"-"},{"$f":"IF(AI$60<=vantHoff_EOS!$N$19,Phi_i_NS_Tci_Pci_wi_kijm_TinC_PinPa_yi(AI$3,vantHoff_EOS!$N$19,vantHoff_EOS!$X$5:$X$14,vantHoff_EOS!$Y$5:$Y$14,vantHoff_EOS!$Z$5:$Z$14,vantHoff_EOS!$AE$5:$AN$14,$C$59,B83*1000000,$O83:$X83),\"-\")","v":"-"}]
[24,{"$f":"B83+vantHoff_EOS!$E$31","v":12.599999999999984},333.15,3.0016509079993999E-3,{"$f":"lnKaT_Tref_lnKaTref_dHTref_da_db_dc_dd_de_TinC(vantHoff_EOS!$E$7,vantHoff_EOS!$B$9,vantHoff_EOS!$B$6,vantHoff_EOS!$O$27,vantHoff_EOS!$P$27,vantHoff_EOS!$Q$27,vantHoff_EOS!$R$27,vantHoff_EOS!$S$27,$C$59)","v":11.370905491151026},86760.392694887007,{"$f":"MolarExtentX_NS_vi_n0i_dHfi_dGfi_TrefinC_da_db_dc_dd_de_Tci_Pci_wi_kijm_TinC_PinPa(vantHoff_EOS!$N$19,vantHoff_EOS!$O$23:$X$23,vantHoff_EOS!$O$31:$X$31,vantHoff_EOS!$T$5:$T$14,vantHoff_EOS!$U$5:$U$14,vantHoff_EOS!$E$7,vantHoff_EOS!$O$27,vantHoff_EOS!$P$27,vantHoff_EOS!$Q$27,vantHoff_EOS!$R$27,vantHoff_EOS!$S$27,vantHoff_EOS!$X$5:$X$14,vantHoff_EOS!$Y$5:$Y$14,vantHoff_EOS!$Z$5:$Z$14,vantHoff_EOS!$AE$5:$AN$14,$C$59,B84*1000000)","v":0.99948327205687504},{"$f":"Ky_NS_n0i_vi_X(vantHoff_EOS!$N$19,vantHoff_EOS!$O$31:$X$31,vantHoff_EOS!$O$23:$X$23,G84)","v":503998696904.03882},{"$f":"Kp_NS_vi_PinPa(vantHoff_EOS!$N$19,vantHoff_EOS!$O$23:$X$23,B84*1000000)","v":6.298815822625362E-5},{"$f":"Kphi_NS_n0i_vi_X_Tci_Pci_wi_kijm_TinC_PinPa(vantHoff_EOS!$N$19,vantHoff_EOS!$O$31:$X$31,vantHoff_EOS!$O$23:$X$23,G84,vantHoff_EOS!$X$5:$X$14,vantHoff_EOS!$Y$5:$Y$14,vantHoff_EOS!$Z$5:$Z$14,vantHoff_EOS!$AE$5:$AN$14,$C$59,B84*1000000)","v":2.7329594004563639E-3},26.945839519506578,-9.6725638139029542,-5.9023702274497438,{"$f":"nT_NS_n0i_vi_X(vantHoff_EOS!$N$19,vantHoff_EOS!$O$31:$X$31,vantHoff_EOS!$O$23:$X$23,G84)","v":8.3410334558862491},{"$f":"IF(O$60<=vantHoff_EOS!$N$19,y_iindex_NS_n0i_vi_X(O$3,vantHoff_EOS!$N$19,vantHoff_EOS!$O$31:$X$31,vantHoff_EOS!$O$23:$X$23,$G84),\"-\")","v":6.1950110361960945E-5},{"$f":"IF(P$60<=vantHoff_EOS!$N$19,y_iindex_NS_n0i_vi_X(P$3,vantHoff_EOS!$N$19,vantHoff_EOS!$O$31:$X$31,vantHoff_EOS!$O$23:$X$23,$G84),\"-\")","v":6.1950110361960945E-5},{"$f":"IF(Q$60<=vantHoff_EOS!$N$19,y_iindex_NS_n0i_vi_X(Q$3,vantHoff_EOS!$N$19,vantHoff_EOS!$O$31:$X$31,vantHoff_EOS!$O$23:$X$23,$G84),\"-\")","v":6.1950110361960945E-5},{"$f":"IF(R$60<=vantHoff_EOS!$N$19,y_iindex_NS_n0i_vi_X(R$3,vantHoff_EOS!$N$19,vantHoff_EOS!$O$31:$X$31,vantHoff_EOS!$O$23:$X$23,$G84),\"-\")","v":0.11982727048667355},{"$f":"IF(S$60<=vantHoff_EOS!$N$19,y_iindex_NS_n0i_vi_X(S$3,vantHoff_EOS!$N$19,vantHoff_EOS!$O$31:$X$31,vantHoff_EOS!$O$23:$X$23,$G84),\"-\")","v":0.87998687918224061},{"$f":"IF(T$60<=vantHoff_EOS!$N$19,y_iindex_NS_n0i_vi_X(T$3,vantHoff_EOS!$N$19,vantHoff_EOS!$O$31:$X$31,vantHoff_EOS!$O$23:$X$23,$G84),\"-\")","v":"-"},{"$f":"IF(U$60<=vantHoff_EOS!$N$19,y_iindex_NS_n0i_vi_X(U$3,vantHoff_EOS!$N$19,vantHoff_EOS!$O$31:$X$31,vantHoff_EOS!$O$23:$X$23,$G84),\"-\")","v":"-"},{"$f":"IF(V$60<=vantHoff_EOS!$N$19,y_iindex_NS_n0i_vi_X(V$3,vantHoff_EOS!$N$19,vantHoff_EOS!$O$31:$X$31,vantHoff_EOS!$O$23:$X$23,$G84),\"-\")","v":"-"},{"$f":"IF(W$60<=vantHoff_EOS!$N$19,y_iindex_NS_n0i_vi_X(W$3,vantHoff_EOS!$N$19,vantHoff_EOS!$O$31:$X$31,vantHoff_EOS!$O$23:$X$23,$G84),\"-\")","v":"-"},{"$f":"IF(X$60<=vantHoff_EOS!$N$19,y_iindex_NS_n0i_vi_X(X$3,vantHoff_EOS!$N$19,vantHoff_EOS!$O$31:$X$31,vantHoff_EOS!$O$23:$X$23,$G84),\"-\")","v":"-"},1,{"$f":"IF(Z$60<=vantHoff_EOS!$N$19,Phi_i_NS_Tci_Pci_wi_kijm_TinC_PinPa_yi(Z$3,vantHoff_EOS!$N$19,vantHoff_EOS!$X$5:$X$14,vantHoff_EOS!$Y$5:$Y$14,vantHoff_EOS!$Z$5:$Z$14,vantHoff_EOS!$AE$5:$AN$14,$C$59,B84*1000000,$O84:$X84),\"-\")","v":3.5854841442775873},{"$f":"IF(AA$60<=vantHoff_EOS!$N$19,Phi_i_NS_Tci_Pci_wi_kijm_TinC_PinPa_yi(AA$3,vantHoff_EOS!$N$19,vantHoff_EOS!$X$5:$X$14,vantHoff_EOS!$Y$5:$Y$14,vantHoff_EOS!$Z$5:$Z$14,vantHoff_EOS!$AE$5:$AN$14,$C$59,B84*1000000,$O84:$X84),\"-\")","v":5.4480420414037498},{"$f":"IF(AB$60<=vantHoff_EOS!$N$19,Phi_i_NS_Tci_Pci_wi_kijm_TinC_PinPa_yi(AB$3,vantHoff_EOS!$N$19,vantHoff_EOS!$X$5:$X$14,vantHoff_EOS!$Y$5:$Y$14,vantHoff_EOS!$Z$5:$Z$14,vantHoff_EOS!$AE$5:$AN$14,$C$59,B84*1000000,$O84:$X84),\"-\")","v":0.20754238756735993},{"$f":"IF(AC$60<=vantHoff_EOS!$N$19,Phi_i_NS_Tci_Pci_wi_kijm_TinC_PinPa_yi(AC$3,vantHoff_EOS!$N$19,vantHoff_EOS!$X$5:$X$14,vantHoff_EOS!$Y$5:$Y$14,vantHoff_EOS!$Z$5:$Z$14,vantHoff_EOS!$AE$5:$AN$14,$C$59,B84*1000000,$O84:$X84),\"-\")","v":1.1079706220944587E-2},{"$f":"IF(AD$60<=vantHoff_EOS!$N$19,Phi_i_NS_Tci_Pci_wi_kijm_TinC_PinPa_yi(AD$3,vantHoff_EOS!$N$19,vantHoff_EOS!$X$5:$X$14,vantHoff_EOS!$Y$5:$Y$14,vantHoff_EOS!$Z$5:$Z$14,vantHoff_EOS!$AE$5:$AN$14,$C$59,B84*1000000,$O84:$X84),\"-\")","v":0.61529575110912615},{"$f":"IF(AE$60<=vantHoff_EOS!$N$19,Phi_i_NS_Tci_Pci_wi_kijm_TinC_PinPa_yi(AE$3,vantHoff_EOS!$N$19,vantHoff_EOS!$X$5:$X$14,vantHoff_EOS!$Y$5:$Y$14,vantHoff_EOS!$Z$5:$Z$14,vantHoff_EOS!$AE$5:$AN$14,$C$59,B84*1000000,$O84:$X84),\"-\")","v":"-"},{"$f":"IF(AF$60<=vantHoff_EOS!$N$19,Phi_i_NS_Tci_Pci_wi_kijm_TinC_PinPa_yi(AF$3,vantHoff_EOS!$N$19,vantHoff_EOS!$X$5:$X$14,vantHoff_EOS!$Y$5:$Y$14,vantHoff_EOS!$Z$5:$Z$14,vantHoff_EOS!$AE$5:$AN$14,$C$59,B84*1000000,$O84:$X84),\"-\")","v":"-"},{"$f":"IF(AG$60<=vantHoff_EOS!$N$19,Phi_i_NS_Tci_Pci_wi_kijm_TinC_PinPa_yi(AG$3,vantHoff_EOS!$N$19,vantHoff_EOS!$X$5:$X$14,vantHoff_EOS!$Y$5:$Y$14,vantHoff_EOS!$Z$5:$Z$14,vantHoff_EOS!$AE$5:$AN$14,$C$59,B84*1000000,$O84:$X84),\"-\")","v":"-"},{"$f":"IF(AH$60<=vantHoff_EOS!$N$19,Phi_i_NS_Tci_Pci_wi_kijm_TinC_PinPa_yi(AH$3,vantHoff_EOS!$N$19,vantHoff_EOS!$X$5:$X$14,vantHoff_EOS!$Y$5:$Y$14,vantHoff_EOS!$Z$5:$Z$14,vantHoff_EOS!$AE$5:$AN$14,$C$59,B84*1000000,$O84:$X84),\"-\")","v":"-"},{"$f":"IF(AI$60<=vantHoff_EOS!$N$19,Phi_i_NS_Tci_Pci_wi_kijm_TinC_PinPa_yi(AI$3,vantHoff_EOS!$N$19,vantHoff_EOS!$X$5:$X$14,vantHoff_EOS!$Y$5:$Y$14,vantHoff_EOS!$Z$5:$Z$14,vantHoff_EOS!$AE$5:$AN$14,$C$59,B84*1000000,$O84:$X84),\"-\")","v":"-"}]
[25,{"$f":"B84+vantHoff_EOS!$E$31","v":12.799999999999983},333.15,3.0016509079993999E-3,{"$f":"lnKaT_Tref_lnKaTref_dHTref_da_db_dc_dd_de_TinC(vantHoff_EOS!$E$7,vantHoff_EOS!$B$9,vantHoff_EOS!$B$6,vantHoff_EOS!$O$27,vantHoff_EOS!$P$27,vantHoff_EOS!$Q$27,vantHoff_EOS!$R$27,vantHoff_EOS!$S$27,$C$59)","v":11.370905491151026},86760.392694887007,{"$f":"MolarExtentX_NS_vi_n0i_dHfi_dGfi_TrefinC_da_db_dc_dd_de_Tci_Pci_wi_kijm_TinC_PinPa(vantHoff_EOS!$N$19,vantHoff_EOS!$O$23:$X$23,vantHoff_EOS!$O$31:$X$31,vantHoff_EOS!$T$5:$T$14,vantHoff_EOS!$U$5:$U$14,vantHoff_EOS!$E$7,vantHoff_EOS!$O$27,vantHoff_EOS!$P$27,vantHoff_EOS!$Q$27,vantHoff_EOS!$R$27,vantHoff_EOS!$S$27,vantHoff_EOS!$X$5:$X$14,vantHoff_EOS!$Y$5:$Y$14,vantHoff_EOS!$Z$5:$Z$14,vantHoff_EOS!$AE$5:$AN$14,$C$59,B85*1000000)","v":0.99948771178502516},{"$f":"Ky_NS_n0i_vi_X(vantHoff_EOS!$N$19,vantHoff_EOS!$O$31:$X$31,vantHoff_EOS!$O$23:$X$23,G85)","v":517217445659.37366},{"$f":"Kp_NS_vi_PinPa(vantHoff_EOS!$N$19,vantHoff_EOS!$O$23:$X$23,B85*1000000)","v":6.1035156250000163E-5},{"$f":"Kphi_NS_n0i_vi_X_Tci_Pci_wi_kijm_TinC_PinPa(vantHoff_EOS!$N$19,vantHoff_EOS!$O$31:$X$31,vantHoff_EOS!$O$23:$X$23,G85,vantHoff_EOS!$X$5:$X$14,vantHoff_EOS!$Y$5:$Y$14,vantHoff_EOS!$Z$5:$Z$14,vantHoff_EOS!$AE$5:$AN$14,$C$59,B85*1000000)","v":2.7483261971981655E-3},26.971729214248505,-9.704060527839232,-5.8967632081739545,{"$f":"nT_NS_n0i_vi_X(vantHoff_EOS!$N$19,vantHoff_EOS!$O$31:$X$31,vantHoff_EOS!$O$23:$X$23,G85)","v":8.34102457642995},{"$f":"IF(O$60<=vantHoff_EOS!$N$19,y_iindex_NS_n0i_vi_X(O$3,vantHoff_EOS!$N$19,vantHoff_EOS!$O$31:$X$31,vantHoff_EOS!$O$23:$X$23,$G85),\"-\")","v":6.1417900196873422E-5},{"$f":"IF(P$60<=vantHoff_EOS!$N$19,y_iindex_NS_n0i_vi_X(P$3,vantHoff_EOS!$N$19,vantHoff_EOS!$O$31:$X$31,vantHoff_EOS!$O$23:$X$23,$G85),\"-\")","v":6.1417900196873422E-5},{"$f":"IF(Q$60<=vantHoff_EOS!$N$19,y_iindex_NS_n0i_vi_X(Q$3,vantHoff_EOS!$N$19,vantHoff_EOS!$O$31:$X$31,vantHoff_EOS!$O$23:$X$23,$G85),\"-\")","v":6.1417900196873422E-5},{"$f":"IF(R$60<=vantHoff_EOS!$N$19,y_iindex_NS_n0i_vi_X(R$3,vantHoff_EOS!$N$19,vantHoff_EOS!$O$31:$X$31,vantHoff_EOS!$O$23:$X$23,$G85),\"-\")","v":0.11982793032517558},{"$f":"IF(S$60<=vantHoff_EOS!$N$19,y_iindex_NS_n0i_vi_X(S$3,vantHoff_EOS!$N$19,vantHoff_EOS!$O$31:$X$31,vantHoff_EOS!$O$23:$X$23,$G85),\"-\")","v":0.8799878159742337},{"$f":"IF(T$60<=vantHoff_EOS!$N$19,y_iindex_NS_n0i_vi_X(T$3,vantHoff_EOS!$N$19,vantHoff_EOS!$O$31:$X$31,vantHoff_EOS!$O$23:$X$23,$G85),\"-\")","v":"-"},{"$f":"IF(U$60<=vantHoff_EOS!$N$19,y_iindex_NS_n0i_vi_X(U$3,vantHoff_EOS!$N$19,vantHoff_EOS!$O$31:$X$31,vantHoff_EOS!$O$23:$X$23,$G85),\"-\")","v":"-"},{"$f":"IF(V$60<=vantHoff_EOS!$N$19,y_iindex_NS_n0i_vi_X(V$3,vantHoff_EOS!$N$19,vantHoff_EOS!$O$31:$X$31,vantHoff_EOS!$O$23:$X$23,$G85),\"-\")","v":"-"},{"$f":"IF(W$60<=vantHoff_EOS!$N$19,y_iindex_NS_n0i_vi_X(W$3,vantHoff_EOS!$N$19,vantHoff_EOS!$O$31:$X$31,vantHoff_EOS!$O$23:$X$23,$G85),\"-\")","v":"-"},{"$f":"IF(X$60<=vantHoff_EOS!$N$19,y_iindex_NS_n0i_vi_X(X$3,vantHoff_EOS!$N$19,vantHoff_EOS!$O$31:$X$31,vantHoff_EOS!$O$23:$X$23,$G85),\"-\")","v":"-"},0.99999999999999989,{"$f":"IF(Z$60<=vantHoff_EOS!$N$19,Phi_i_NS_Tci_Pci_wi_kijm_TinC_PinPa_yi(Z$3,vantHoff_EOS!$N$19,vantHoff_EOS!$X$5:$X$14,vantHoff_EOS!$Y$5:$Y$14,vantHoff_EOS!$Z$5:$Z$14,vantHoff_EOS!$AE$5:$AN$14,$C$59,B85*1000000,$O85:$X85),\"-\")","v":3.5681513577202639},{"$f":"IF(AA$60<=vantHoff_EOS!$N$19,Phi_i_NS_Tci_Pci_wi_kijm_TinC_PinPa_yi(AA$3,vantHoff_EOS!$N$19,vantHoff_EOS!$X$5:$X$14,vantHoff_EOS!$Y$5:$Y$14,vantHoff_EOS!$Z$5:$Z$14,vantHoff_EOS!$AE$5:$AN$14,$C$59,B85*1000000,$O85:$X85),\"-\")","v":5.4216457968663141},{"$f":"IF(AB$60<=vantHoff_EOS!$N$19,Phi_i_NS_Tci_Pci_wi_kijm_TinC_PinPa_yi(AB$3,vantHoff_EOS!$N$19,vantHoff_EOS!$X$5:$X$14,vantHoff_EOS!$Y$5:$Y$14,vantHoff_EOS!$Z$5:$Z$14,vantHoff_EOS!$AE$5:$AN$14,$C$59,B85*1000000,$O85:$X85),\"-\")","v":0.20549371071130235},{"$f":"IF(AC$60<=vantHoff_EOS!$N$19,Phi_i_NS_Tci_Pci_wi_kijm_TinC_PinPa_yi(AC$3,vantHoff_EOS!$N$19,vantHoff_EOS!$X$5:$X$14,vantHoff_EOS!$Y$5:$Y$14,vantHoff_EOS!$Z$5:$Z$14,vantHoff_EOS!$AE$5:$AN$14,$C$59,B85*1000000,$O85:$X85),\"-\")","v":1.0925497493456648E-2},{"$f":"IF(AD$60<=vantHoff_EOS!$N$19,Phi_i_NS_Tci_Pci_wi_kijm_TinC_PinPa_yi(AD$3,vantHoff_EOS!$N$19,vantHoff_EOS!$X$5:$X$14,vantHoff_EOS!$Y$5:$Y$14,vantHoff_EOS!$Z$5:$Z$14,vantHoff_EOS!$AE$5:$AN$14,$C$59,B85*1000000,$O85:$X85),\"-\")","v":0.60887209583649671},{"$f":"IF(AE$60<=vantHoff_EOS!$N$19,Phi_i_NS_Tci_Pci_wi_kijm_TinC_PinPa_yi(AE$3,vantHoff_EOS!$N$19,vantHoff_EOS!$X$5:$X$14,vantHoff_EOS!$Y$5:$Y$14,vantHoff_EOS!$Z$5:$Z$14,vantHoff_EOS!$AE$5:$AN$14,$C$59,B85*1000000,$O85:$X85),\"-\")","v":"-"},{"$f":"IF(AF$60<=vantHoff_EOS!$N$19,Phi_i_NS_Tci_Pci_wi_kijm_TinC_PinPa_yi(AF$3,vantHoff_EOS!$N$19,vantHoff_EOS!$X$5:$X$14,vantHoff_EOS!$Y$5:$Y$14,vantHoff_EOS!$Z$5:$Z$14,vantHoff_EOS!$AE$5:$AN$14,$C$59,B85*1000000,$O85:$X85),\"-\")","v":"-"},{"$f":"IF(AG$60<=vantHoff_EOS!$N$19,Phi_i_NS_Tci_Pci_wi_kijm_TinC_PinPa_yi(AG$3,vantHoff_EOS!$N$19,vantHoff_EOS!$X$5:$X$14,vantHoff_EOS!$Y$5:$Y$14,vantHoff_EOS!$Z$5:$Z$14,vantHoff_EOS!$AE$5:$AN$14,$C$59,B85*1000000,$O85:$X85),\"-\")","v":"-"},{"$f":"IF(AH$60<=vantHoff_EOS!$N$19,Phi_i_NS_Tci_Pci_wi_kijm_TinC_PinPa_yi(AH$3,vantHoff_EOS!$N$19,vantHoff_EOS!$X$5:$X$14,vantHoff_EOS!$Y$5:$Y$14,vantHoff_EOS!$Z$5:$Z$14,vantHoff_EOS!$AE$5:$AN$14,$C$59,B85*1000000,$O85:$X85),\"-\")","v":"-"},{"$f":"IF(AI$60<=vantHoff_EOS!$N$19,Phi_i_NS_Tci_Pci_wi_kijm_TinC_PinPa_yi(AI$3,vantHoff_EOS!$N$19,vantHoff_EOS!$X$5:$X$14,vantHoff_EOS!$Y$5:$Y$14,vantHoff_EOS!$Z$5:$Z$14,vantHoff_EOS!$AE$5:$AN$14,$C$59,B85*1000000,$O85:$X85),\"-\")","v":"-"}]
[26,{"$f":"B85+vantHoff_EOS!$E$31","v":12.999999999999982},333.15,3.0016509079993999E-3,{"$f":"lnKaT_Tref_lnKaTref_dHTref_da_db_dc_dd_de_TinC(vantHoff_EOS!$E$7,vantHoff_EOS!$B$9,vantHoff_EOS!$B$6,vantHoff_EOS!$O$27,vantHoff_EOS!$P$27,vantHoff_EOS!$Q$27,vantHoff_EOS!$R$27,vantHoff_EOS!$S$27,$C$59)","v":11.370905491151026},86760.392694887007,{"$f":"MolarExtentX_NS_vi_n0i_dHfi_dGfi_TrefinC_da_db_dc_dd_de_Tci_Pci_wi_kijm_TinC_PinPa(vantHoff_EOS!$N$19,vantHoff_EOS!$O$23:$X$23,vantHoff_EOS!$O$31:$X$31,vantHoff_EOS!$T$5:$T$14,vantHoff_EOS!$U$5:$U$14,vantHoff_EOS!$E$7,vantHoff_EOS!$O$27,vantHoff_EOS!$P$27,vantHoff_EOS!$Q$27,vantHoff_EOS!$R$27,vantHoff_EOS!$S$27,vantHoff_EOS!$X$5:$X$14,vantHoff_EOS!$Y$5:$Y$14,vantHoff_EOS!$Z$5:$Z$14,vantHoff_EOS!$AE$5:$AN$14,$C$59,B86*1000000)","v":0.9994920170483389},{"$f":"Ky_NS_n0i_vi_X(vantHoff_EOS!$N$19,vantHoff_EOS!$O$31:$X$31,vantHoff_EOS!$O$23:$X$23,G86)","v":530480987116.95605},{"$f":"Kp_NS_vi_PinPa(vantHoff_EOS!$N$19,vantHoff_EOS!$O$23:$X$23,B86*1000000)","v":5.9171597633136277E-5},{"$f":"Kphi_NS_n0i_vi_X_Tci_Pci_wi_kijm_TinC_PinPa(vantHoff_EOS!$N$19,vantHoff_EOS!$O$31:$X$31,vantHoff_EOS!$O$23:$X$23,G86,vantHoff_EOS!$X$5:$X$14,vantHoff_EOS!$Y$5:$Y$14,vantHoff_EOS!$Z$5:$Z$14,vantHoff_EOS!$AE$5:$AN$14,$C$59,B86*1000000)","v":2.7640022042299791E-3},26.997049954804861,-9.7350689009111626,-5.8910755755987472,{"$f":"nT_NS_n0i_vi_X(vantHoff_EOS!$N$19,vantHoff_EOS!$O$31:$X$31,vantHoff_EOS!$O$23:$X$23,G86)","v":8.3410159659033223},{"$f":"IF(O$60<=vantHoff_EOS!$N$19,y_iindex_NS_n0i_vi_X(O$3,vantHoff_EOS!$N$19,vantHoff_EOS!$O$31:$X$31,vantHoff_EOS!$O$23:$X$23,$G86),\"-\")","v":6.0901807853821468E-5},{"$f":"IF(P$60<=vantHoff_EOS!$N$19,y_iindex_NS_n0i_vi_X(P$3,vantHoff_EOS!$N$19,vantHoff_EOS!$O$31:$X$31,vantHoff_EOS!$O$23:$X$23,$G86),\"-\")","v":6.0901807853821468E-5},{"$f":"IF(Q$60<=vantHoff_EOS!$N$19,y_iindex_NS_n0i_vi_X(Q$3,vantHoff_EOS!$N$19,vantHoff_EOS!$O$31:$X$31,vantHoff_EOS!$O$23:$X$23,$G86),\"-\")","v":6.0901807853821468E-5},{"$f":"IF(R$60<=vantHoff_EOS!$N$19,y_iindex_NS_n0i_vi_X(R$3,vantHoff_EOS!$N$19,vantHoff_EOS!$O$31:$X$31,vantHoff_EOS!$O$23:$X$23,$G86),\"-\")","v":0.11982857018067045},{"$f":"IF(S$60<=vantHoff_EOS!$N$19,y_iindex_NS_n0i_vi_X(S$3,vantHoff_EOS!$N$19,vantHoff_EOS!$O$31:$X$31,vantHoff_EOS!$O$23:$X$23,$G86),\"-\")","v":0.87998872439576803},{"$f":"IF(T$60<=vantHoff_EOS!$N$19,y_iindex_NS_n0i_vi_X(T$3,vantHoff_EOS!$N$19,vantHoff_EOS!$O$31:$X$31,vantHoff_EOS!$O$23:$X$23,$G86),\"-\")","v":"-"},{"$f":"IF(U$60<=vantHoff_EOS!$N$19,y_iindex_NS_n0i_vi_X(U$3,vantHoff_EOS!$N$19,vantHoff_EOS!$O$31:$X$31,vantHoff_EOS!$O$23:$X$23,$G86),\"-\")","v":"-"},{"$f":"IF(V$60<=vantHoff_EOS!$N$19,y_iindex_NS_n0i_vi_X(V$3,vantHoff_EOS!$N$19,vantHoff_EOS!$O$31:$X$31,vantHoff_EOS!$O$23:$X$23,$G86),\"-\")","v":"-"},{"$f":"IF(W$60<=vantHoff_EOS!$N$19,y_iindex_NS_n0i_vi_X(W$3,vantHoff_EOS!$N$19,vantHoff_EOS!$O$31:$X$31,vantHoff_EOS!$O$23:$X$23,$G86),\"-\")","v":"-"},{"$f":"IF(X$60<=vantHoff_EOS!$N$19,y_iindex_NS_n0i_vi_X(X$3,vantHoff_EOS!$N$19,vantHoff_EOS!$O$31:$X$31,vantHoff_EOS!$O$23:$X$23,$G86),\"-\")","v":"-"},1,{"$f":"IF(Z$60<=vantHoff_EOS!$N$19,Phi_i_NS_Tci_Pci_wi_kijm_TinC_PinPa_yi(Z$3,vantHoff_EOS!$N$19,vantHoff_EOS!$X$5:$X$14,vantHoff_EOS!$Y$5:$Y$14,vantHoff_EOS!$Z$5:$Z$14,vantHoff_EOS!$AE$5:$AN$14,$C$59,B86*1000000,$O86:$X86),\"-\")","v":3.5511116360667145},{"$f":"IF(AA$60<=vantHoff_EOS!$N$19,Phi_i_NS_Tci_Pci_wi_kijm_TinC_PinPa_yi(AA$3,vantHoff_EOS!$N$19,vantHoff_EOS!$X$5:$X$14,vantHoff_EOS!$Y$5:$Y$14,vantHoff_EOS!$Z$5:$Z$14,vantHoff_EOS!$AE$5:$AN$14,$C$59,B86*1000000,$O86:$X86),\"-\")","v":5.3955883977152039},{"$f":"IF(AB$60<=vantHoff_EOS!$N$19,Phi_i_NS_Tci_Pci_wi_kijm_TinC_PinPa_yi(AB$3,vantHoff_EOS!$N$19,vantHoff_EOS!$X$5:$X$14,vantHoff_EOS!$Y$5:$Y$14,vantHoff_EOS!$Z$5:$Z$14,vantHoff_EOS!$AE$5:$AN$14,$C$59,B86*1000000,$O86:$X86),\"-\")","v":0.20351471219421266},{"$f":"IF(AC$60<=vantHoff_EOS!$N$19,Phi_i_NS_Tci_Pci_wi_kijm_TinC_PinPa_yi(AC$3,vantHoff_EOS!$N$19,vantHoff_EOS!$X$5:$X$14,vantHoff_EOS!$Y$5:$Y$14,vantHoff_EOS!$Z$5:$Z$14,vantHoff_EOS!$AE$5:$AN$14,$C$59,B86*1000000,$O86:$X86),\"-\")","v":1.077797898973362E-2},{"$f":"IF(AD$60<=vantHoff_EOS!$N$19,Phi_i_NS_Tci_Pci_wi_kijm_TinC_PinPa_yi(AD$3,vantHoff_EOS!$N$19,vantHoff_EOS!$X$5:$X$14,vantHoff_EOS!$Y$5:$Y$14,vantHoff_EOS!$Z$5:$Z$14,vantHoff_EOS!$AE$5:$AN$14,$C$59,B86*1000000,$O86:$X86),\"-\")","v":0.60263403408301752},{"$f":"IF(AE$60<=vantHoff_EOS!$N$19,Phi_i_NS_Tci_Pci_wi_kijm_TinC_PinPa_yi(AE$3,vantHoff_EOS!$N$19,vantHoff_EOS!$X$5:$X$14,vantHoff_EOS!$Y$5:$Y$14,vantHoff_EOS!$Z$5:$Z$14,vantHoff_EOS!$AE$5:$AN$14,$C$59,B86*1000000,$O86:$X86),\"-\")","v":"-"},{"$f":"IF(AF$60<=vantHoff_EOS!$N$19,Phi_i_NS_Tci_Pci_wi_kijm_TinC_PinPa_yi(AF$3,vantHoff_EOS!$N$19,vantHoff_EOS!$X$5:$X$14,vantHoff_EOS!$Y$5:$Y$14,vantHoff_EOS!$Z$5:$Z$14,vantHoff_EOS!$AE$5:$AN$14,$C$59,B86*1000000,$O86:$X86),\"-\")","v":"-"},{"$f":"IF(AG$60<=vantHoff_EOS!$N$19,Phi_i_NS_Tci_Pci_wi_kijm_TinC_PinPa_yi(AG$3,vantHoff_EOS!$N$19,vantHoff_EOS!$X$5:$X$14,vantHoff_EOS!$Y$5:$Y$14,vantHoff_EOS!$Z$5:$Z$14,vantHoff_EOS!$AE$5:$AN$14,$C$59,B86*1000000,$O86:$X86),\"-\")","v":"-"},{"$f":"IF(AH$60<=vantHoff_EOS!$N$19,Phi_i_NS_Tci_Pci_wi_kijm_TinC_PinPa_yi(AH$3,vantHoff_EOS!$N$19,vantHoff_EOS!$X$5:$X$14,vantHoff_EOS!$Y$5:$Y$14,vantHoff_EOS!$Z$5:$Z$14,vantHoff_EOS!$AE$5:$AN$14,$C$59,B86*1000000,$O86:$X86),\"-\")","v":"-"},{"$f":"IF(AI$60<=vantHoff_EOS!$N$19,Phi_i_NS_Tci_Pci_wi_kijm_TinC_PinPa_yi(AI$3,vantHoff_EOS!$N$19,vantHoff_EOS!$X$5:$X$14,vantHoff_EOS!$Y$5:$Y$14,vantHoff_EOS!$Z$5:$Z$14,vantHoff_EOS!$AE$5:$AN$14,$C$59,B86*1000000,$O86:$X86),\"-\")","v":"-"}]
[27,{"$f":"B86+vantHoff_EOS!$E$31","v":13.199999999999982},333.15,3.0016509079993999E-3,{"$f":"lnKaT_Tref_lnKaTref_dHTref_da_db_dc_dd_de_TinC(vantHoff_EOS!$E$7,vantHoff_EOS!$B$9,vantHoff_EOS!$B$6,vantHoff_EOS!$O$27,vantHoff_EOS!$P$27,vantHoff_EOS!$Q$27,vantHoff_EOS!$R$27,vantHoff_EOS!$S$27,$C$59)","v":11.370905491151026},86760.392694887007,{"$f":"MolarExtentX_NS_vi_n0i_dHfi_dGfi_TrefinC_da_db_dc_dd_de_Tci_Pci_wi_kijm_TinC_PinPa(vantHoff_EOS!$N$19,vantHoff_EOS!$O$23:$X$23,vantHoff_EOS!$O$31:$X$31,vantHoff_EOS!$T$5:$T$14,vantHoff_EOS!$U$5:$U$14,vantHoff_EOS!$E$7,vantHoff_EOS!$O$27,vantHoff_EOS!$P$27,vantHoff_EOS!$Q$27,vantHoff_EOS!$R$27,vantHoff_EOS!$S$27,vantHoff_EOS!$X$5:$X$14,vantHoff_EOS!$Y$5:$Y$14,vantHoff_EOS!$Z$5:$Z$14,vantHoff_EOS!$AE$5:$AN$14,$C$59,B87*1000000)","v":0.99949619534050615},{"$f":"Ky_NS_n0i_vi_X(vantHoff_EOS!$N$19,vantHoff_EOS!$O$31:$X$31,vantHoff_EOS!$O$23:$X$23,G87)","v":543790530617.03229},{"$f":"Kp_NS_vi_PinPa(vantHoff_EOS!$N$19,vantHoff_EOS!$O$23:$X$23,B87*1000000)","v":5.7392102846648477E-5},{"$f":"Kphi_NS_n0i_vi_X_Tci_Pci_wi_kijm_TinC_PinPa(vantHoff_EOS!$N$19,vantHoff_EOS!$O$31:$X$31,vantHoff_EOS!$O$23:$X$23,G87,vantHoff_EOS!$X$5:$X$14,vantHoff_EOS!$Y$5:$Y$14,vantHoff_EOS!$Z$5:$Z$14,vantHoff_EOS!$AE$5:$AN$14,$C$59,B87*1000000)","v":2.7799547396051352E-3},27.021829955637212,-9.7656038451727394,-5.8853206321297007,{"$f":"nT_NS_n0i_vi_X(vantHoff_EOS!$N$19,vantHoff_EOS!$O$31:$X$31,vantHoff_EOS!$O$23:$X$23,G87)","v":8.3410076093189875},{"$f":"IF(O$60<=vantHoff_EOS!$N$19,y_iindex_NS_n0i_vi_X(O$3,vantHoff_EOS!$N$19,vantHoff_EOS!$O$31:$X$31,vantHoff_EOS!$O$23:$X$23,$G87),\"-\")","v":6.040093512574781E-5},{"$f":"IF(P$60<=vantHoff_EOS!$N$19,y_iindex_NS_n0i_vi_X(P$3,vantHoff_EOS!$N$19,vantHoff_EOS!$O$31:$X$31,vantHoff_EOS!$O$23:$X$23,$G87),\"-\")","v":6.040093512574781E-5},{"$f":"IF(Q$60<=vantHoff_EOS!$N$19,y_iindex_NS_n0i_vi_X(Q$3,vantHoff_EOS!$N$19,vantHoff_EOS!$O$31:$X$31,vantHoff_EOS!$O$23:$X$23,$G87),\"-\")","v":6.040093512574781E-5},{"$f":"IF(R$60<=vantHoff_EOS!$N$19,y_iindex_NS_n0i_vi_X(R$3,vantHoff_EOS!$N$19,vantHoff_EOS!$O$31:$X$31,vantHoff_EOS!$O$23:$X$23,$G87),\"-\")","v":0.11982919116676256},{"$f":"IF(S$60<=vantHoff_EOS!$N$19,y_iindex_NS_n0i_vi_X(S$3,vantHoff_EOS!$N$19,vantHoff_EOS!$O$31:$X$31,vantHoff_EOS!$O$23:$X$23,$G87),\"-\")","v":0.87998960602786014},{"$f":"IF(T$60<=vantHoff_EOS!$N$19,y_iindex_NS_n0i_vi_X(T$3,vantHoff_EOS!$N$19,vantHoff_EOS!$O$31:$X$31,vantHoff_EOS!$O$23:$X$23,$G87),\"-\")","v":"-"},{"$f":"IF(U$60<=vantHoff_EOS!$N$19,y_iindex_NS_n0i_vi_X(U$3,vantHoff_EOS!$N$19,vantHoff_EOS!$O$31:$X$31,vantHoff_EOS!$O$23:$X$23,$G87),\"-\")","v":"-"},{"$f":"IF(V$60<=vantHoff_EOS!$N$19,y_iindex_NS_n0i_vi_X(V$3,vantHoff_EOS!$N$19,vantHoff_EOS!$O$31:$X$31,vantHoff_EOS!$O$23:$X$23,$G87),\"-\")","v":"-"},{"$f":"IF(W$60<=vantHoff_EOS!$N$19,y_iindex_NS_n0i_vi_X(W$3,vantHoff_EOS!$N$19,vantHoff_EOS!$O$31:$X$31,vantHoff_EOS!$O$23:$X$23,$G87),\"-\")","v":"-"},{"$f":"IF(X$60<=vantHoff_EOS!$N$19,y_iindex_NS_n0i_vi_X(X$3,vantHoff_EOS!$N$19,vantHoff_EOS!$O$31:$X$31,vantHoff_EOS!$O$23:$X$23,$G87),\"-\")","v":"-"},1,{"$f":"IF(Z$60<=vantHoff_EOS!$N$19,Phi_i_NS_Tci_Pci_wi_kijm_TinC_PinPa_yi(Z$3,vantHoff_EOS!$N$19,vantHoff_EOS!$X$5:$X$14,vantHoff_EOS!$Y$5:$Y$14,vantHoff_EOS!$Z$5:$Z$14,vantHoff_EOS!$AE$5:$AN$14,$C$59,B87*1000000,$O87:$X87),\"-\")","v":3.5343666910941351},{"$f":"IF(AA$60<=vantHoff_EOS!$N$19,Phi_i_NS_Tci_Pci_wi_kijm_TinC_PinPa_yi(AA$3,vantHoff_EOS!$N$19,vantHoff_EOS!$X$5:$X$14,vantHoff_EOS!$Y$5:$Y$14,vantHoff_EOS!$Z$5:$Z$14,vantHoff_EOS!$AE$5:$AN$14,$C$59,B87*1000000,$O87:$X87),\"-\")","v":5.369879836126727},{"$f":"IF(AB$60<=vantHoff_EOS!$N$19,Phi_i_NS_Tci_Pci_wi_kijm_TinC_PinPa_yi(AB$3,vantHoff_EOS!$N$19,vantHoff_EOS!$X$5:$X$14,vantHoff_EOS!$Y$5:$Y$14,vantHoff_EOS!$Z$5:$Z$14,vantHoff_EOS!$AE$5:$AN$14,$C$59,B87*1000000,$O87:$X87),\"-\")","v":0.2016021431914454},{"$f":"IF(AC$60<=vantHoff_EOS!$N$19,Phi_i_NS_Tci_Pci_wi_kijm_TinC_PinPa_yi(AC$3,vantHoff_EOS!$N$19,vantHoff_EOS!$X$5:$X$14,vantHoff_EOS!$Y$5:$Y$14,vantHoff_EOS!$Z$5:$Z$14,vantHoff_EOS!$AE$5:$AN$14,$C$59,B87*1000000,$O87:$X87),\"-\")","v":1.0636752229630512E-2},{"$f":"IF(AD$60<=vantHoff_EOS!$N$19,Phi_i_NS_Tci_Pci_wi_kijm_TinC_PinPa_yi(AD$3,vantHoff_EOS!$N$19,vantHoff_EOS!$X$5:$X$14,vantHoff_EOS!$Y$5:$Y$14,vantHoff_EOS!$Z$5:$Z$14,vantHoff_EOS!$AE$5:$AN$14,$C$59,B87*1000000,$O87:$X87),\"-\")","v":0.59657399707923309},{"$f":"IF(AE$60<=vantHoff_EOS!$N$19,Phi_i_NS_Tci_Pci_wi_kijm_TinC_PinPa_yi(AE$3,vantHoff_EOS!$N$19,vantHoff_EOS!$X$5:$X$14,vantHoff_EOS!$Y$5:$Y$14,vantHoff_EOS!$Z$5:$Z$14,vantHoff_EOS!$AE$5:$AN$14,$C$59,B87*1000000,$O87:$X87),\"-\")","v":"-"},{"$f":"IF(AF$60<=vantHoff_EOS!$N$19,Phi_i_NS_Tci_Pci_wi_kijm_TinC_PinPa_yi(AF$3,vantHoff_EOS!$N$19,vantHoff_EOS!$X$5:$X$14,vantHoff_EOS!$Y$5:$Y$14,vantHoff_EOS!$Z$5:$Z$14,vantHoff_EOS!$AE$5:$AN$14,$C$59,B87*1000000,$O87:$X87),\"-\")","v":"-"},{"$f":"IF(AG$60<=vantHoff_EOS!$N$19,Phi_i_NS_Tci_Pci_wi_kijm_TinC_PinPa_yi(AG$3,vantHoff_EOS!$N$19,vantHoff_EOS!$X$5:$X$14,vantHoff_EOS!$Y$5:$Y$14,vantHoff_EOS!$Z$5:$Z$14,vantHoff_EOS!$AE$5:$AN$14,$C$59,B87*1000000,$O87:$X87),\"-\")","v":"-"},{"$f":"IF(AH$60<=vantHoff_EOS!$N$19,Phi_i_NS_Tci_Pci_wi_kijm_TinC_PinPa_yi(AH$3,vantHoff_EOS!$N$19,vantHoff_EOS!$X$5:$X$14,vantHoff_EOS!$Y$5:$Y$14,vantHoff_EOS!$Z$5:$Z$14,vantHoff_EOS!$AE$5:$AN$14,$C$59,B87*1000000,$O87:$X87),\"-\")","v":"-"},{"$f":"IF(AI$60<=vantHoff_EOS!$N$19,Phi_i_NS_Tci_Pci_wi_kijm_TinC_PinPa_yi(AI$3,vantHoff_EOS!$N$19,vantHoff_EOS!$X$5:$X$14,vantHoff_EOS!$Y$5:$Y$14,vantHoff_EOS!$Z$5:$Z$14,vantHoff_EOS!$AE$5:$AN$14,$C$59,B87*1000000,$O87:$X87),\"-\")","v":"-"}]
[28,{"$f":"B87+vantHoff_EOS!$E$31","v":13.399999999999981},333.15,3.0016509079993999E-3,{"$f":"lnKaT_Tref_lnKaTref_dHTref_da_db_dc_dd_de_TinC(vantHoff_EOS!$E$7,vantHoff_EOS!$B$9,vantHoff_EOS!$B$6,vantHoff_EOS!$O$27,vantHoff_EOS!$P$27,vantHoff_EOS!$Q$27,vantHoff_EOS!$R$27,vantHoff_EOS!$S$27,$C$59)","v":11.370905491151026},86760.392694887007,{"$f":"MolarExtentX_NS_vi_n0i_dHfi_dGfi_TrefinC_da_db_dc_dd_de_Tci_Pci_wi_kijm_TinC_PinPa(vantHoff_EOS!$N$19,vantHoff_EOS!$O$23:$X$23,vantHoff_EOS!$O$31:$X$31,vantHoff_EOS!$T$5:$T$14,vantHoff_EOS!$U$5:$U$14,vantHoff_EOS!$E$7,vantHoff_EOS!$O$27,vantHoff_EOS!$P$27,vantHoff_EOS!$Q$27,vantHoff_EOS!$R$27,vantHoff_EOS!$S$27,vantHoff_EOS!$X$5:$X$14,vantHoff_EOS!$Y$5:$Y$14,vantHoff_EOS!$Z$5:$Z$14,vantHoff_EOS!$AE$5:$AN$14,$C$59,B88*1000000)","v":0.99950025354894323},{"$f":"Ky_NS_n0i_vi_X(vantHoff_EOS!$N$19,vantHoff_EOS!$O$31:$X$31,vantHoff_EOS!$O$23:$X$23,G88)","v":557147187101.82251},{"$f":"Kp_NS_vi_PinPa(vantHoff_EOS!$N$19,vantHoff_EOS!$O$23:$X$23,B88*1000000)","v":5.5691690799732845E-5},{"$f":"Kphi_NS_n0i_vi_X_Tci_Pci_wi_kijm_TinC_PinPa(vantHoff_EOS!$N$19,vantHoff_EOS!$O$31:$X$31,vantHoff_EOS!$O$23:$X$23,G88,vantHoff_EOS!$X$5:$X$14,vantHoff_EOS!$Y$5:$Y$14,vantHoff_EOS!$Z$5:$Z$14,vantHoff_EOS!$AE$5:$AN$14,$C$59,B88*1000000)","v":2.7961544585768452E-3},27.046095291699856,-9.7956795999018205,-5.8795102134408133,{"$f":"nT_NS_n0i_vi_X(vantHoff_EOS!$N$19,vantHoff_EOS!$O$31:$X$31,vantHoff_EOS!$O$23:$X$23,G88)","v":8.3409994929021138},{"$f":"IF(O$60<=vantHoff_EOS!$N$19,y_iindex_NS_n0i_vi_X(O$3,vantHoff_EOS!$N$19,vantHoff_EOS!$O$31:$X$31,vantHoff_EOS!$O$23:$X$23,$G88),\"-\")","v":5.9914456472756847E-5},{"$f":"IF(P$60<=vantHoff_EOS!$N$19,y_iindex_NS_n0i_vi_X(P$3,vantHoff_EOS!$N$19,vantHoff_EOS!$O$31:$X$31,vantHoff_EOS!$O$23:$X$23,$G88),\"-\")","v":5.9914456472756847E-5},{"$f":"IF(Q$60<=vantHoff_EOS!$N$19,y_iindex_NS_n0i_vi_X(Q$3,vantHoff_EOS!$N$19,vantHoff_EOS!$O$31:$X$31,vantHoff_EOS!$O$23:$X$23,$G88),\"-\")","v":5.9914456472756847E-5},{"$f":"IF(R$60<=vantHoff_EOS!$N$19,y_iindex_NS_n0i_vi_X(R$3,vantHoff_EOS!$N$19,vantHoff_EOS!$O$31:$X$31,vantHoff_EOS!$O$23:$X$23,$G88),\"-\")","v":0.11982979430696303},{"$f":"IF(S$60<=vantHoff_EOS!$N$19,y_iindex_NS_n0i_vi_X(S$3,vantHoff_EOS!$N$19,vantHoff_EOS!$O$31:$X$31,vantHoff_EOS!$O$23:$X$23,$G88),\"-\")","v":0.87999046232361866},{"$f":"IF(T$60<=vantHoff_EOS!$N$19,y_iindex_NS_n0i_vi_X(T$3,vantHoff_EOS!$N$19,vantHoff_EOS!$O$31:$X$31,vantHoff_EOS!$O$23:$X$23,$G88),\"-\")","v":"-"},{"$f":"IF(U$60<=vantHoff_EOS!$N$19,y_iindex_NS_n0i_vi_X(U$3,vantHoff_EOS!$N$19,vantHoff_EOS!$O$31:$X$31,vantHoff_EOS!$O$23:$X$23,$G88),\"-\")","v":"-"},{"$f":"IF(V$60<=vantHoff_EOS!$N$19,y_iindex_NS_n0i_vi_X(V$3,vantHoff_EOS!$N$19,vantHoff_EOS!$O$31:$X$31,vantHoff_EOS!$O$23:$X$23,$G88),\"-\")","v":"-"},{"$f":"IF(W$60<=vantHoff_EOS!$N$19,y_iindex_NS_n0i_vi_X(W$3,vantHoff_EOS!$N$19,vantHoff_EOS!$O$31:$X$31,vantHoff_EOS!$O$23:$X$23,$G88),\"-\")","v":"-"},{"$f":"IF(X$60<=vantHoff_EOS!$N$19,y_iindex_NS_n0i_vi_X(X$3,vantHoff_EOS!$N$19,vantHoff_EOS!$O$31:$X$31,vantHoff_EOS!$O$23:$X$23,$G88),\"-\")","v":"-"},1,{"$f":"IF(Z$60<=vantHoff_EOS!$N$19,Phi_i_NS_Tci_Pci_wi_kijm_TinC_PinPa_yi(Z$3,vantHoff_EOS!$N$19,vantHoff_EOS!$X$5:$X$14,vantHoff_EOS!$Y$5:$Y$14,vantHoff_EOS!$Z$5:$Z$14,vantHoff_EOS!$AE$5:$AN$14,$C$59,B88*1000000,$O88:$X88),\"-\")","v":3.5179170497541365},{"$f":"IF(AA$60<=vantHoff_EOS!$N$19,Phi_i_NS_Tci_Pci_wi_kijm_TinC_PinPa_yi(AA$3,vantHoff_EOS!$N$19,vantHoff_EOS!$X$5:$X$14,vantHoff_EOS!$Y$5:$Y$14,vantHoff_EOS!$Z$5:$Z$14,vantHoff_EOS!$AE$5:$AN$14,$C$59,B88*1000000,$O88:$X88),\"-\")","v":5.344527679588043},{"$f":"IF(AB$60<=vantHoff_EOS!$N$19,Phi_i_NS_Tci_Pci_wi_kijm_TinC_PinPa_yi(AB$3,vantHoff_EOS!$N$19,vantHoff_EOS!$X$5:$X$14,vantHoff_EOS!$Y$5:$Y$14,vantHoff_EOS!$Z$5:$Z$14,vantHoff_EOS!$AE$5:$AN$14,$C$59,B88*1000000,$O88:$X88),\"-\")","v":0.19975295947381083},{"$f":"IF(AC$60<=vantHoff_EOS!$N$19,Phi_i_NS_Tci_Pci_wi_kijm_TinC_PinPa_yi(AC$3,vantHoff_EOS!$N$19,vantHoff_EOS!$X$5:$X$14,vantHoff_EOS!$Y$5:$Y$14,vantHoff_EOS!$Z$5:$Z$14,vantHoff_EOS!$AE$5:$AN$14,$C$59,B88*1000000,$O88:$X88),\"-\")","v":1.050145089414093E-2},{"$f":"IF(AD$60<=vantHoff_EOS!$N$19,Phi_i_NS_Tci_Pci_wi_kijm_TinC_PinPa_yi(AD$3,vantHoff_EOS!$N$19,vantHoff_EOS!$X$5:$X$14,vantHoff_EOS!$Y$5:$Y$14,vantHoff_EOS!$Z$5:$Z$14,vantHoff_EOS!$AE$5:$AN$14,$C$59,B88*1000000,$O88:$X88),\"-\")","v":0.59068480623839303},{"$f":"IF(AE$60<=vantHoff_EOS!$N$19,Phi_i_NS_Tci_Pci_wi_kijm_TinC_PinPa_yi(AE$3,vantHoff_EOS!$N$19,vantHoff_EOS!$X$5:$X$14,vantHoff_EOS!$Y$5:$Y$14,vantHoff_EOS!$Z$5:$Z$14,vantHoff_EOS!$AE$5:$AN$14,$C$59,B88*1000000,$O88:$X88),\"-\")","v":"-"},{"$f":"IF(AF$60<=vantHoff_EOS!$N$19,Phi_i_NS_Tci_Pci_wi_kijm_TinC_PinPa_yi(AF$3,vantHoff_EOS!$N$19,vantHoff_EOS!$X$5:$X$14,vantHoff_EOS!$Y$5:$Y$14,vantHoff_EOS!$Z$5:$Z$14,vantHoff_EOS!$AE$5:$AN$14,$C$59,B88*1000000,$O88:$X88),\"-\")","v":"-"},{"$f":"IF(AG$60<=vantHoff_EOS!$N$19,Phi_i_NS_Tci_Pci_wi_kijm_TinC_PinPa_yi(AG$3,vantHoff_EOS!$N$19,vantHoff_EOS!$X$5:$X$14,vantHoff_EOS!$Y$5:$Y$14,vantHoff_EOS!$Z$5:$Z$14,vantHoff_EOS!$AE$5:$AN$14,$C$59,B88*1000000,$O88:$X88),\"-\")","v":"-"},{"$f":"IF(AH$60<=vantHoff_EOS!$N$19,Phi_i_NS_Tci_Pci_wi_kijm_TinC_PinPa_yi(AH$3,vantHoff_EOS!$N$19,vantHoff_EOS!$X$5:$X$14,vantHoff_EOS!$Y$5:$Y$14,vantHoff_EOS!$Z$5:$Z$14,vantHoff_EOS!$AE$5:$AN$14,$C$59,B88*1000000,$O88:$X88),\"-\")","v":"-"},{"$f":"IF(AI$60<=vantHoff_EOS!$N$19,Phi_i_NS_Tci_Pci_wi_kijm_TinC_PinPa_yi(AI$3,vantHoff_EOS!$N$19,vantHoff_EOS!$X$5:$X$14,vantHoff_EOS!$Y$5:$Y$14,vantHoff_EOS!$Z$5:$Z$14,vantHoff_EOS!$AE$5:$AN$14,$C$59,B88*1000000,$O88:$X88),\"-\")","v":"-"}]
[29,{"$f":"B88+vantHoff_EOS!$E$31","v":13.59999999999998},333.15,3.0016509079993999E-3,{"$f":"lnKaT_Tref_lnKaTref_dHTref_da_db_dc_dd_de_TinC(vantHoff_EOS!$E$7,vantHoff_EOS!$B$9,vantHoff_EOS!$B$6,vantHoff_EOS!$O$27,vantHoff_EOS!$P$27,vantHoff_EOS!$Q$27,vantHoff_EOS!$R$27,vantHoff_EOS!$S$27,$C$59)","v":11.370905491151026},86760.392694887007,{"$f":"MolarExtentX_NS_vi_n0i_dHfi_dGfi_TrefinC_da_db_dc_dd_de_Tci_Pci_wi_kijm_TinC_PinPa(vantHoff_EOS!$N$19,vantHoff_EOS!$O$23:$X$23,vantHoff_EOS!$O$31:$X$31,vantHoff_EOS!$T$5:$T$14,vantHoff_EOS!$U$5:$U$14,vantHoff_EOS!$E$7,vantHoff_EOS!$O$27,vantHoff_EOS!$P$27,vantHoff_EOS!$Q$27,vantHoff_EOS!$R$27,vantHoff_EOS!$S$27,vantHoff_EOS!$X$5:$X$14,vantHoff_EOS!$Y$5:$Y$14,vantHoff_EOS!$Z$5:$Z$14,vantHoff_EOS!$AE$5:$AN$14,$C$59,B89*1000000)","v":0.99950419801854951},{"$f":"Ky_NS_n0i_vi_X(vantHoff_EOS!$N$19,vantHoff_EOS!$O$31:$X$31,vantHoff_EOS!$O$23:$X$23,G89)","v":570551979390.66541},{"$f":"Kp_NS_vi_PinPa(vantHoff_EOS!$N$19,vantHoff_EOS!$O$23:$X$23,B89*1000000)","v":5.4065743944636842E-5},{"$f":"Kphi_NS_n0i_vi_X_Tci_Pci_wi_kijm_TinC_PinPa(vantHoff_EOS!$N$19,vantHoff_EOS!$O$31:$X$31,vantHoff_EOS!$O$23:$X$23,G89,vantHoff_EOS!$X$5:$X$14,vantHoff_EOS!$Y$5:$Y$14,vantHoff_EOS!$Z$5:$Z$14,vantHoff_EOS!$AE$5:$AN$14,$C$59,B89*1000000)","v":2.8125749462439881E-3},27.069870114088744,-9.8253097714721012,-5.8736548642532203,{"$f":"nT_NS_n0i_vi_X(vantHoff_EOS!$N$19,vantHoff_EOS!$O$31:$X$31,vantHoff_EOS!$O$23:$X$23,G89)","v":8.3409916039629017},{"$f":"IF(O$60<=vantHoff_EOS!$N$19,y_iindex_NS_n0i_vi_X(O$3,vantHoff_EOS!$N$19,vantHoff_EOS!$O$31:$X$31,vantHoff_EOS!$O$23:$X$23,$G89),\"-\")","v":5.9441611380466214E-5},{"$f":"IF(P$60<=vantHoff_EOS!$N$19,y_iindex_NS_n0i_vi_X(P$3,vantHoff_EOS!$N$19,vantHoff_EOS!$O$31:$X$31,vantHoff_EOS!$O$23:$X$23,$G89),\"-\")","v":5.9441611380466214E-5},{"$f":"IF(Q$60<=vantHoff_EOS!$N$19,y_iindex_NS_n0i_vi_X(Q$3,vantHoff_EOS!$N$19,vantHoff_EOS!$O$31:$X$31,vantHoff_EOS!$O$23:$X$23,$G89),\"-\")","v":5.9441611380466214E-5},{"$f":"IF(R$60<=vantHoff_EOS!$N$19,y_iindex_NS_n0i_vi_X(R$3,vantHoff_EOS!$N$19,vantHoff_EOS!$O$31:$X$31,vantHoff_EOS!$O$23:$X$23,$G89),\"-\")","v":0.11983038054416377},{"$f":"IF(S$60<=vantHoff_EOS!$N$19,y_iindex_NS_n0i_vi_X(S$3,vantHoff_EOS!$N$19,vantHoff_EOS!$O$31:$X$31,vantHoff_EOS!$O$23:$X$23,$G89),\"-\")","v":0.87999129462169468},{"$f":"IF(T$60<=vantHoff_EOS!$N$19,y_iindex_NS_n0i_vi_X(T$3,vantHoff_EOS!$N$19,vantHoff_EOS!$O$31:$X$31,vantHoff_EOS!$O$23:$X$23,$G89),\"-\")","v":"-"},{"$f":"IF(U$60<=vantHoff_EOS!$N$19,y_iindex_NS_n0i_vi_X(U$3,vantHoff_EOS!$N$19,vantHoff_EOS!$O$31:$X$31,vantHoff_EOS!$O$23:$X$23,$G89),\"-\")","v":"-"},{"$f":"IF(V$60<=vantHoff_EOS!$N$19,y_iindex_NS_n0i_vi_X(V$3,vantHoff_EOS!$N$19,vantHoff_EOS!$O$31:$X$31,vantHoff_EOS!$O$23:$X$23,$G89),\"-\")","v":"-"},{"$f":"IF(W$60<=vantHoff_EOS!$N$19,y_iindex_NS_n0i_vi_X(W$3,vantHoff_EOS!$N$19,vantHoff_EOS!$O$31:$X$31,vantHoff_EOS!$O$23:$X$23,$G89),\"-\")","v":"-"},{"$f":"IF(X$60<=vantHoff_EOS!$N$19,y_iindex_NS_n0i_vi_X(X$3,vantHoff_EOS!$N$19,vantHoff_EOS!$O$31:$X$31,vantHoff_EOS!$O$23:$X$23,$G89),\"-\")","v":"-"},0.99999999999999989,{"$f":"IF(Z$60<=vantHoff_EOS!$N$19,Phi_i_NS_Tci_Pci_wi_kijm_TinC_PinPa_yi(Z$3,vantHoff_EOS!$N$19,vantHoff_EOS!$X$5:$X$14,vantHoff_EOS!$Y$5:$Y$14,vantHoff_EOS!$Z$5:$Z$14,vantHoff_EOS!$AE$5:$AN$14,$C$59,B89*1000000,$O89:$X89),\"-\")","v":3.5017622467609333},{"$f":"IF(AA$60<=vantHoff_EOS!$N$19,Phi_i_NS_Tci_Pci_wi_kijm_TinC_PinPa_yi(AA$3,vantHoff_EOS!$N$19,vantHoff_EOS!$X$5:$X$14,vantHoff_EOS!$Y$5:$Y$14,vantHoff_EOS!$Z$5:$Z$14,vantHoff_EOS!$AE$5:$AN$14,$C$59,B89*1000000,$O89:$X89),\"-\")","v":5.319537426475506},{"$f":"IF(AB$60<=vantHoff_EOS!$N$19,Phi_i_NS_Tci_Pci_wi_kijm_TinC_PinPa_yi(AB$3,vantHoff_EOS!$N$19,vantHoff_EOS!$X$5:$X$14,vantHoff_EOS!$Y$5:$Y$14,vantHoff_EOS!$Z$5:$Z$14,vantHoff_EOS!$AE$5:$AN$14,$C$59,B89*1000000,$O89:$X89),\"-\")","v":0.19796430514201199},{"$f":"IF(AC$60<=vantHoff_EOS!$N$19,Phi_i_NS_Tci_Pci_wi_kijm_TinC_PinPa_yi(AC$3,vantHoff_EOS!$N$19,vantHoff_EOS!$X$5:$X$14,vantHoff_EOS!$Y$5:$Y$14,vantHoff_EOS!$Z$5:$Z$14,vantHoff_EOS!$AE$5:$AN$14,$C$59,B89*1000000,$O89:$X89),\"-\")","v":1.0371737549940597E-2},{"$f":"IF(AD$60<=vantHoff_EOS!$N$19,Phi_i_NS_Tci_Pci_wi_kijm_TinC_PinPa_yi(AD$3,vantHoff_EOS!$N$19,vantHoff_EOS!$X$5:$X$14,vantHoff_EOS!$Y$5:$Y$14,vantHoff_EOS!$Z$5:$Z$14,vantHoff_EOS!$AE$5:$AN$14,$C$59,B89*1000000,$O89:$X89),\"-\")","v":0.58495965046690235},{"$f":"IF(AE$60<=vantHoff_EOS!$N$19,Phi_i_NS_Tci_Pci_wi_kijm_TinC_PinPa_yi(AE$3,vantHoff_EOS!$N$19,vantHoff_EOS!$X$5:$X$14,vantHoff_EOS!$Y$5:$Y$14,vantHoff_EOS!$Z$5:$Z$14,vantHoff_EOS!$AE$5:$AN$14,$C$59,B89*1000000,$O89:$X89),\"-\")","v":"-"},{"$f":"IF(AF$60<=vantHoff_EOS!$N$19,Phi_i_NS_Tci_Pci_wi_kijm_TinC_PinPa_yi(AF$3,vantHoff_EOS!$N$19,vantHoff_EOS!$X$5:$X$14,vantHoff_EOS!$Y$5:$Y$14,vantHoff_EOS!$Z$5:$Z$14,vantHoff_EOS!$AE$5:$AN$14,$C$59,B89*1000000,$O89:$X89),\"-\")","v":"-"},{"$f":"IF(AG$60<=vantHoff_EOS!$N$19,Phi_i_NS_Tci_Pci_wi_kijm_TinC_PinPa_yi(AG$3,vantHoff_EOS!$N$19,vantHoff_EOS!$X$5:$X$14,vantHoff_EOS!$Y$5:$Y$14,vantHoff_EOS!$Z$5:$Z$14,vantHoff_EOS!$AE$5:$AN$14,$C$59,B89*1000000,$O89:$X89),\"-\")","v":"-"},{"$f":"IF(AH$60<=vantHoff_EOS!$N$19,Phi_i_NS_Tci_Pci_wi_kijm_TinC_PinPa_yi(AH$3,vantHoff_EOS!$N$19,vantHoff_EOS!$X$5:$X$14,vantHoff_EOS!$Y$5:$Y$14,vantHoff_EOS!$Z$5:$Z$14,vantHoff_EOS!$AE$5:$AN$14,$C$59,B89*1000000,$O89:$X89),\"-\")","v":"-"},{"$f":"IF(AI$60<=vantHoff_EOS!$N$19,Phi_i_NS_Tci_Pci_wi_kijm_TinC_PinPa_yi(AI$3,vantHoff_EOS!$N$19,vantHoff_EOS!$X$5:$X$14,vantHoff_EOS!$Y$5:$Y$14,vantHoff_EOS!$Z$5:$Z$14,vantHoff_EOS!$AE$5:$AN$14,$C$59,B89*1000000,$O89:$X89),\"-\")","v":"-"}]
[30,{"$f":"B89+vantHoff_EOS!$E$31","v":13.799999999999979},333.15,3.0016509079993999E-3,{"$f":"lnKaT_Tref_lnKaTref_dHTref_da_db_dc_dd_de_TinC(vantHoff_EOS!$E$7,vantHoff_EOS!$B$9,vantHoff_EOS!$B$6,vantHoff_EOS!$O$27,vantHoff_EOS!$P$27,vantHoff_EOS!$Q$27,vantHoff_EOS!$R$27,vantHoff_EOS!$S$27,$C$59)","v":11.370905491151026},86760.392694887007,{"$f":"MolarExtentX_NS_vi_n0i_dHfi_dGfi_TrefinC_da_db_dc_dd_de_Tci_Pci_wi_kijm_TinC_PinPa(vantHoff_EOS!$N$19,vantHoff_EOS!$O$23:$X$23,vantHoff_EOS!$O$31:$X$31,vantHoff_EOS!$T$5:$T$14,vantHoff_EOS!$U$5:$U$14,vantHoff_EOS!$E$7,vantHoff_EOS!$O$27,vantHoff_EOS!$P$27,vantHoff_EOS!$Q$27,vantHoff_EOS!$R$27,vantHoff_EOS!$S$27,vantHoff_EOS!$X$5:$X$14,vantHoff_EOS!$Y$5:$Y$14,vantHoff_EOS!$Z$5:$Z$14,vantHoff_EOS!$AE$5:$AN$14,$C$59,B90*1000000)","v":0.99950803460728088},{"$f":"Ky_NS_n0i_vi_X(vantHoff_EOS!$N$19,vantHoff_EOS!$O$31:$X$31,vantHoff_EOS!$O$23:$X$23,G90)","v":584005851166.03137},{"$f":"Kp_NS_vi_PinPa(vantHoff_EOS!$N$19,vantHoff_EOS!$O$23:$X$23,B90*1000000)","v":5.2509976895610325E-5},{"$f":"Kphi_NS_n0i_vi_X_Tci_Pci_wi_kijm_TinC_PinPa(vantHoff_EOS!$N$19,vantHoff_EOS!$O$31:$X$31,vantHoff_EOS!$O$23:$X$23,G90,vantHoff_EOS!$X$5:$X$14,vantHoff_EOS!$Y$5:$Y$14,vantHoff_EOS!$Z$5:$Z$14,vantHoff_EOS!$AE$5:$AN$14,$C$59,B90*1000000)","v":2.8291923686045543E-3},27.093176838844364,-9.8545073703144066,-5.8677639901747485,{"$f":"nT_NS_n0i_vi_X(vantHoff_EOS!$N$19,vantHoff_EOS!$O$31:$X$31,vantHoff_EOS!$O$23:$X$23,G90)","v":8.3409839307854377},{"$f":"IF(O$60<=vantHoff_EOS!$N$19,y_iindex_NS_n0i_vi_X(O$3,vantHoff_EOS!$N$19,vantHoff_EOS!$O$31:$X$31,vantHoff_EOS!$O$23:$X$23,$G90),\"-\")","v":5.8981697699157613E-5},{"$f":"IF(P$60<=vantHoff_EOS!$N$19,y_iindex_NS_n0i_vi_X(P$3,vantHoff_EOS!$N$19,vantHoff_EOS!$O$31:$X$31,vantHoff_EOS!$O$23:$X$23,$G90),\"-\")","v":5.8981697699157613E-5},{"$f":"IF(Q$60<=vantHoff_EOS!$N$19,y_iindex_NS_n0i_vi_X(Q$3,vantHoff_EOS!$N$19,vantHoff_EOS!$O$31:$X$31,vantHoff_EOS!$O$23:$X$23,$G90),\"-\")","v":5.8981697699157613E-5},{"$f":"IF(R$60<=vantHoff_EOS!$N$19,y_iindex_NS_n0i_vi_X(R$3,vantHoff_EOS!$N$19,vantHoff_EOS!$O$31:$X$31,vantHoff_EOS!$O$23:$X$23,$G90),\"-\")","v":0.11983095074889577},{"$f":"IF(S$60<=vantHoff_EOS!$N$19,y_iindex_NS_n0i_vi_X(S$3,vantHoff_EOS!$N$19,vantHoff_EOS!$O$31:$X$31,vantHoff_EOS!$O$23:$X$23,$G90),\"-\")","v":0.87999210415800677},{"$f":"IF(T$60<=vantHoff_EOS!$N$19,y_iindex_NS_n0i_vi_X(T$3,vantHoff_EOS!$N$19,vantHoff_EOS!$O$31:$X$31,vantHoff_EOS!$O$23:$X$23,$G90),\"-\")","v":"-"},{"$f":"IF(U$60<=vantHoff_EOS!$N$19,y_iindex_NS_n0i_vi_X(U$3,vantHoff_EOS!$N$19,vantHoff_EOS!$O$31:$X$31,vantHoff_EOS!$O$23:$X$23,$G90),\"-\")","v":"-"},{"$f":"IF(V$60<=vantHoff_EOS!$N$19,y_iindex_NS_n0i_vi_X(V$3,vantHoff_EOS!$N$19,vantHoff_EOS!$O$31:$X$31,vantHoff_EOS!$O$23:$X$23,$G90),\"-\")","v":"-"},{"$f":"IF(W$60<=vantHoff_EOS!$N$19,y_iindex_NS_n0i_vi_X(W$3,vantHoff_EOS!$N$19,vantHoff_EOS!$O$31:$X$31,vantHoff_EOS!$O$23:$X$23,$G90),\"-\")","v":"-"},{"$f":"IF(X$60<=vantHoff_EOS!$N$19,y_iindex_NS_n0i_vi_X(X$3,vantHoff_EOS!$N$19,vantHoff_EOS!$O$31:$X$31,vantHoff_EOS!$O$23:$X$23,$G90),\"-\")","v":"-"},1,{"$f":"IF(Z$60<=vantHoff_EOS!$N$19,Phi_i_NS_Tci_Pci_wi_kijm_TinC_PinPa_yi(Z$3,vantHoff_EOS!$N$19,vantHoff_EOS!$X$5:$X$14,vantHoff_EOS!$Y$5:$Y$14,vantHoff_EOS!$Z$5:$Z$14,vantHoff_EOS!$AE$5:$AN$14,$C$59,B90*1000000,$O90:$X90),\"-\")","v":3.4859009876893783},{"$f":"IF(AA$60<=vantHoff_EOS!$N$19,Phi_i_NS_Tci_Pci_wi_kijm_TinC_PinPa_yi(AA$3,vantHoff_EOS!$N$19,vantHoff_EOS!$X$5:$X$14,vantHoff_EOS!$Y$5:$Y$14,vantHoff_EOS!$Z$5:$Z$14,vantHoff_EOS!$AE$5:$AN$14,$C$59,B90*1000000,$O90:$X90),\"-\")","v":5.2949128093495998},{"$f":"IF(AB$60<=vantHoff_EOS!$N$19,Phi_i_NS_Tci_Pci_wi_kijm_TinC_PinPa_yi(AB$3,vantHoff_EOS!$N$19,vantHoff_EOS!$X$5:$X$14,vantHoff_EOS!$Y$5:$Y$14,vantHoff_EOS!$Z$5:$Z$14,vantHoff_EOS!$AE$5:$AN$14,$C$59,B90*1000000,$O90:$X90),\"-\")","v":0.19623349794119777},{"$f":"IF(AC$60<=vantHoff_EOS!$N$19,Phi_i_NS_Tci_Pci_wi_kijm_TinC_PinPa_yi(AC$3,vantHoff_EOS!$N$19,vantHoff_EOS!$X$5:$X$14,vantHoff_EOS!$Y$5:$Y$14,vantHoff_EOS!$Z$5:$Z$14,vantHoff_EOS!$AE$5:$AN$14,$C$59,B90*1000000,$O90:$X90),\"-\")","v":1.0247300778246848E-2},{"$f":"IF(AD$60<=vantHoff_EOS!$N$19,Phi_i_NS_Tci_Pci_wi_kijm_TinC_PinPa_yi(AD$3,vantHoff_EOS!$N$19,vantHoff_EOS!$X$5:$X$14,vantHoff_EOS!$Y$5:$Y$14,vantHoff_EOS!$Z$5:$Z$14,vantHoff_EOS!$AE$5:$AN$14,$C$59,B90*1000000,$O90:$X90),\"-\")","v":0.57939206472247773},{"$f":"IF(AE$60<=vantHoff_EOS!$N$19,Phi_i_NS_Tci_Pci_wi_kijm_TinC_PinPa_yi(AE$3,vantHoff_EOS!$N$19,vantHoff_EOS!$X$5:$X$14,vantHoff_EOS!$Y$5:$Y$14,vantHoff_EOS!$Z$5:$Z$14,vantHoff_EOS!$AE$5:$AN$14,$C$59,B90*1000000,$O90:$X90),\"-\")","v":"-"},{"$f":"IF(AF$60<=vantHoff_EOS!$N$19,Phi_i_NS_Tci_Pci_wi_kijm_TinC_PinPa_yi(AF$3,vantHoff_EOS!$N$19,vantHoff_EOS!$X$5:$X$14,vantHoff_EOS!$Y$5:$Y$14,vantHoff_EOS!$Z$5:$Z$14,vantHoff_EOS!$AE$5:$AN$14,$C$59,B90*1000000,$O90:$X90),\"-\")","v":"-"},{"$f":"IF(AG$60<=vantHoff_EOS!$N$19,Phi_i_NS_Tci_Pci_wi_kijm_TinC_PinPa_yi(AG$3,vantHoff_EOS!$N$19,vantHoff_EOS!$X$5:$X$14,vantHoff_EOS!$Y$5:$Y$14,vantHoff_EOS!$Z$5:$Z$14,vantHoff_EOS!$AE$5:$AN$14,$C$59,B90*1000000,$O90:$X90),\"-\")","v":"-"},{"$f":"IF(AH$60<=vantHoff_EOS!$N$19,Phi_i_NS_Tci_Pci_wi_kijm_TinC_PinPa_yi(AH$3,vantHoff_EOS!$N$19,vantHoff_EOS!$X$5:$X$14,vantHoff_EOS!$Y$5:$Y$14,vantHoff_EOS!$Z$5:$Z$14,vantHoff_EOS!$AE$5:$AN$14,$C$59,B90*1000000,$O90:$X90),\"-\")","v":"-"},{"$f":"IF(AI$60<=vantHoff_EOS!$N$19,Phi_i_NS_Tci_Pci_wi_kijm_TinC_PinPa_yi(AI$3,vantHoff_EOS!$N$19,vantHoff_EOS!$X$5:$X$14,vantHoff_EOS!$Y$5:$Y$14,vantHoff_EOS!$Z$5:$Z$14,vantHoff_EOS!$AE$5:$AN$14,$C$59,B90*1000000,$O90:$X90),\"-\")","v":"-"}]
[31,{"$f":"B90+vantHoff_EOS!$E$31","v":13.999999999999979},333.15,3.0016509079993999E-3,{"$f":"lnKaT_Tref_lnKaTref_dHTref_da_db_dc_dd_de_TinC(vantHoff_EOS!$E$7,vantHoff_EOS!$B$9,vantHoff_EOS!$B$6,vantHoff_EOS!$O$27,vantHoff_EOS!$P$27,vantHoff_EOS!$Q$27,vantHoff_EOS!$R$27,vantHoff_EOS!$S$27,$C$59)","v":11.370905491151026},86760.392694887007,{"$f":"MolarExtentX_NS_vi_n0i_dHfi_dGfi_TrefinC_da_db_dc_dd_de_Tci_Pci_wi_kijm_TinC_PinPa(vantHoff_EOS!$N$19,vantHoff_EOS!$O$23:$X$23,vantHoff_EOS!$O$31:$X$31,vantHoff_EOS!$T$5:$T$14,vantHoff_EOS!$U$5:$U$14,vantHoff_EOS!$E$7,vantHoff_EOS!$O$27,vantHoff_EOS!$P$27,vantHoff_EOS!$Q$27,vantHoff_EOS!$R$27,vantHoff_EOS!$S$27,vantHoff_EOS!$X$5:$X$14,vantHoff_EOS!$Y$5:$Y$14,vantHoff_EOS!$Z$5:$Z$14,vantHoff_EOS!$AE$5:$AN$14,$C$59,B91*1000000)","v":0.99951176873477032},{"$f":"Ky_NS_n0i_vi_X(vantHoff_EOS!$N$19,vantHoff_EOS!$O$31:$X$31,vantHoff_EOS!$O$23:$X$23,G91)","v":597509674856.15771},{"$f":"Kp_NS_vi_PinPa(vantHoff_EOS!$N$19,vantHoff_EOS!$O$23:$X$23,B91*1000000)","v":5.102040816326545E-5},{"$f":"Kphi_NS_n0i_vi_X_Tci_Pci_wi_kijm_TinC_PinPa(vantHoff_EOS!$N$19,vantHoff_EOS!$O$31:$X$31,vantHoff_EOS!$O$23:$X$23,G91,vantHoff_EOS!$X$5:$X$14,vantHoff_EOS!$Y$5:$Y$14,vantHoff_EOS!$Z$5:$Z$14,vantHoff_EOS!$AE$5:$AN$14,$C$59,B91*1000000)","v":2.8459851724293517E-3},27.116036312848863,-9.883284845218606,-5.8618459892966532,{"$f":"nT_NS_n0i_vi_X(vantHoff_EOS!$N$19,vantHoff_EOS!$O$31:$X$31,vantHoff_EOS!$O$23:$X$23,G91)","v":8.3409764625304597},{"$f":"IF(O$60<=vantHoff_EOS!$N$19,y_iindex_NS_n0i_vi_X(O$3,vantHoff_EOS!$N$19,vantHoff_EOS!$O$31:$X$31,vantHoff_EOS!$O$23:$X$23,$G91),\"-\")","v":5.8534065816265245E-5},{"$f":"IF(P$60<=vantHoff_EOS!$N$19,y_iindex_NS_n0i_vi_X(P$3,vantHoff_EOS!$N$19,vantHoff_EOS!$O$31:$X$31,vantHoff_EOS!$O$23:$X$23,$G91),\"-\")","v":5.8534065816265245E-5},{"$f":"IF(Q$60<=vantHoff_EOS!$N$19,y_iindex_NS_n0i_vi_X(Q$3,vantHoff_EOS!$N$19,vantHoff_EOS!$O$31:$X$31,vantHoff_EOS!$O$23:$X$23,$G91),\"-\")","v":5.8534065816265245E-5},{"$f":"IF(R$60<=vantHoff_EOS!$N$19,y_iindex_NS_n0i_vi_X(R$3,vantHoff_EOS!$N$19,vantHoff_EOS!$O$31:$X$31,vantHoff_EOS!$O$23:$X$23,$G91),\"-\")","v":0.11983150572655393},{"$f":"IF(S$60<=vantHoff_EOS!$N$19,y_iindex_NS_n0i_vi_X(S$3,vantHoff_EOS!$N$19,vantHoff_EOS!$O$31:$X$31,vantHoff_EOS!$O$23:$X$23,$G91),\"-\")","v":0.87999289207599718},{"$f":"IF(T$60<=vantHoff_EOS!$N$19,y_iindex_NS_n0i_vi_X(T$3,vantHoff_EOS!$N$19,vantHoff_EOS!$O$31:$X$31,vantHoff_EOS!$O$23:$X$23,$G91),\"-\")","v":"-"},{"$f":"IF(U$60<=vantHoff_EOS!$N$19,y_iindex_NS_n0i_vi_X(U$3,vantHoff_EOS!$N$19,vantHoff_EOS!$O$31:$X$31,vantHoff_EOS!$O$23:$X$23,$G91),\"-\")","v":"-"},{"$f":"IF(V$60<=vantHoff_EOS!$N$19,y_iindex_NS_n0i_vi_X(V$3,vantHoff_EOS!$N$19,vantHoff_EOS!$O$31:$X$31,vantHoff_EOS!$O$23:$X$23,$G91),\"-\")","v":"-"},{"$f":"IF(W$60<=vantHoff_EOS!$N$19,y_iindex_NS_n0i_vi_X(W$3,vantHoff_EOS!$N$19,vantHoff_EOS!$O$31:$X$31,vantHoff_EOS!$O$23:$X$23,$G91),\"-\")","v":"-"},{"$f":"IF(X$60<=vantHoff_EOS!$N$19,y_iindex_NS_n0i_vi_X(X$3,vantHoff_EOS!$N$19,vantHoff_EOS!$O$31:$X$31,vantHoff_EOS!$O$23:$X$23,$G91),\"-\")","v":"-"},0.99999999999999989,{"$f":"IF(Z$60<=vantHoff_EOS!$N$19,Phi_i_NS_Tci_Pci_wi_kijm_TinC_PinPa_yi(Z$3,vantHoff_EOS!$N$19,vantHoff_EOS!$X$5:$X$14,vantHoff_EOS!$Y$5:$Y$14,vantHoff_EOS!$Z$5:$Z$14,vantHoff_EOS!$AE$5:$AN$14,$C$59,B91*1000000,$O91:$X91),\"-\")","v":3.470331287356013},{"$f":"IF(AA$60<=vantHoff_EOS!$N$19,Phi_i_NS_Tci_Pci_wi_kijm_TinC_PinPa_yi(AA$3,vantHoff_EOS!$N$19,vantHoff_EOS!$X$5:$X$14,vantHoff_EOS!$Y$5:$Y$14,vantHoff_EOS!$Z$5:$Z$14,vantHoff_EOS!$AE$5:$AN$14,$C$59,B91*1000000,$O91:$X91),\"-\")","v":5.2706560542469836},{"$f":"IF(AB$60<=vantHoff_EOS!$N$19,Phi_i_NS_Tci_Pci_wi_kijm_TinC_PinPa_yi(AB$3,vantHoff_EOS!$N$19,vantHoff_EOS!$X$5:$X$14,vantHoff_EOS!$Y$5:$Y$14,vantHoff_EOS!$Z$5:$Z$14,vantHoff_EOS!$AE$5:$AN$14,$C$59,B91*1000000,$O91:$X91),\"-\")","v":0.19455801597186453},{"$f":"IF(AC$60<=vantHoff_EOS!$N$19,Phi_i_NS_Tci_Pci_wi_kijm_TinC_PinPa_yi(AC$3,vantHoff_EOS!$N$19,vantHoff_EOS!$X$5:$X$14,vantHoff_EOS!$Y$5:$Y$14,vantHoff_EOS!$Z$5:$Z$14,vantHoff_EOS!$AE$5:$AN$14,$C$59,B91*1000000,$O91:$X91),\"-\")","v":1.0127852649342581E-2},{"$f":"IF(AD$60<=vantHoff_EOS!$N$19,Phi_i_NS_Tci_Pci_wi_kijm_TinC_PinPa_yi(AD$3,vantHoff_EOS!$N$19,vantHoff_EOS!$X$5:$X$14,vantHoff_EOS!$Y$5:$Y$14,vantHoff_EOS!$Z$5:$Z$14,vantHoff_EOS!$AE$5:$AN$14,$C$59,B91*1000000,$O91:$X91),\"-\")","v":0.57397590979920132},{"$f":"IF(AE$60<=vantHoff_EOS!$N$19,Phi_i_NS_Tci_Pci_wi_kijm_TinC_PinPa_yi(AE$3,vantHoff_EOS!$N$19,vantHoff_EOS!$X$5:$X$14,vantHoff_EOS!$Y$5:$Y$14,vantHoff_EOS!$Z$5:$Z$14,vantHoff_EOS!$AE$5:$AN$14,$C$59,B91*1000000,$O91:$X91),\"-\")","v":"-"},{"$f":"IF(AF$60<=vantHoff_EOS!$N$19,Phi_i_NS_Tci_Pci_wi_kijm_TinC_PinPa_yi(AF$3,vantHoff_EOS!$N$19,vantHoff_EOS!$X$5:$X$14,vantHoff_EOS!$Y$5:$Y$14,vantHoff_EOS!$Z$5:$Z$14,vantHoff_EOS!$AE$5:$AN$14,$C$59,B91*1000000,$O91:$X91),\"-\")","v":"-"},{"$f":"IF(AG$60<=vantHoff_EOS!$N$19,Phi_i_NS_Tci_Pci_wi_kijm_TinC_PinPa_yi(AG$3,vantHoff_EOS!$N$19,vantHoff_EOS!$X$5:$X$14,vantHoff_EOS!$Y$5:$Y$14,vantHoff_EOS!$Z$5:$Z$14,vantHoff_EOS!$AE$5:$AN$14,$C$59,B91*1000000,$O91:$X91),\"-\")","v":"-"},{"$f":"IF(AH$60<=vantHoff_EOS!$N$19,Phi_i_NS_Tci_Pci_wi_kijm_TinC_PinPa_yi(AH$3,vantHoff_EOS!$N$19,vantHoff_EOS!$X$5:$X$14,vantHoff_EOS!$Y$5:$Y$14,vantHoff_EOS!$Z$5:$Z$14,vantHoff_EOS!$AE$5:$AN$14,$C$59,B91*1000000,$O91:$X91),\"-\")","v":"-"},{"$f":"IF(AI$60<=vantHoff_EOS!$N$19,Phi_i_NS_Tci_Pci_wi_kijm_TinC_PinPa_yi(AI$3,vantHoff_EOS!$N$19,vantHoff_EOS!$X$5:$X$14,vantHoff_EOS!$Y$5:$Y$14,vantHoff_EOS!$Z$5:$Z$14,vantHoff_EOS!$AE$5:$AN$14,$C$59,B91*1000000,$O91:$X91),\"-\")","v":"-"}]
[32,{"$f":"B91+vantHoff_EOS!$E$31","v":14.199999999999978},333.15,3.0016509079993999E-3,{"$f":"lnKaT_Tref_lnKaTref_dHTref_da_db_dc_dd_de_TinC(vantHoff_EOS!$E$7,vantHoff_EOS!$B$9,vantHoff_EOS!$B$6,vantHoff_EOS!$O$27,vantHoff_EOS!$P$27,vantHoff_EOS!$Q$27,vantHoff_EOS!$R$27,vantHoff_EOS!$S$27,$C$59)","v":11.370905491151026},86760.392694887007,{"$f":"MolarExtentX_NS_vi_n0i_dHfi_dGfi_TrefinC_da_db_dc_dd_de_Tci_Pci_wi_kijm_TinC_PinPa(vantHoff_EOS!$N$19,vantHoff_EOS!$O$23:$X$23,vantHoff_EOS!$O$31:$X$31,vantHoff_EOS!$T$5:$T$14,vantHoff_EOS!$U$5:$U$14,vantHoff_EOS!$E$7,vantHoff_EOS!$O$27,vantHoff_EOS!$P$27,vantHoff_EOS!$Q$27,vantHoff_EOS!$R$27,vantHoff_EOS!$S$27,vantHoff_EOS!$X$5:$X$14,vantHoff_EOS!$Y$5:$Y$14,vantHoff_EOS!$Z$5:$Z$14,vantHoff_EOS!$AE$5:$AN$14,$C$59,B92*1000000)","v":0.99951540542501693},{"$f":"Ky_NS_n0i_vi_X(vantHoff_EOS!$N$19,vantHoff_EOS!$O$31:$X$31,vantHoff_EOS!$O$23:$X$23,G92)","v":611064258576.10291},{"$f":"Kp_NS_vi_PinPa(vantHoff_EOS!$N$19,vantHoff_EOS!$O$23:$X$23,B92*1000000)","v":4.9593334655822427E-5},{"$f":"Kphi_NS_n0i_vi_X_Tci_Pci_wi_kijm_TinC_PinPa(vantHoff_EOS!$N$19,vantHoff_EOS!$O$31:$X$31,vantHoff_EOS!$O$23:$X$23,G92,vantHoff_EOS!$X$5:$X$14,vantHoff_EOS!$Y$5:$Y$14,vantHoff_EOS!$Z$5:$Z$14,vantHoff_EOS!$AE$5:$AN$14,$C$59,B92*1000000)","v":2.8629338261324422E-3},27.138467960107072,-9.9116541152025182,-5.855908366604309,{"$f":"nT_NS_n0i_vi_X(vantHoff_EOS!$N$19,vantHoff_EOS!$O$31:$X$31,vantHoff_EOS!$O$23:$X$23,G92)","v":8.3409691891499662},{"$f":"IF(O$60<=vantHoff_EOS!$N$19,y_iindex_NS_n0i_vi_X(O$3,vantHoff_EOS!$N$19,vantHoff_EOS!$O$31:$X$31,vantHoff_EOS!$O$23:$X$23,$G92),\"-\")","v":5.8098113539782941E-5},{"$f":"IF(P$60<=vantHoff_EOS!$N$19,y_iindex_NS_n0i_vi_X(P$3,vantHoff_EOS!$N$19,vantHoff_EOS!$O$31:$X$31,vantHoff_EOS!$O$23:$X$23,$G92),\"-\")","v":5.8098113539782941E-5},{"$f":"IF(Q$60<=vantHoff_EOS!$N$19,y_iindex_NS_n0i_vi_X(Q$3,vantHoff_EOS!$N$19,vantHoff_EOS!$O$31:$X$31,vantHoff_EOS!$O$23:$X$23,$G92),\"-\")","v":5.8098113539782941E-5},{"$f":"IF(R$60<=vantHoff_EOS!$N$19,y_iindex_NS_n0i_vi_X(R$3,vantHoff_EOS!$N$19,vantHoff_EOS!$O$31:$X$31,vantHoff_EOS!$O$23:$X$23,$G92),\"-\")","v":0.11983204622374084},{"$f":"IF(S$60<=vantHoff_EOS!$N$19,y_iindex_NS_n0i_vi_X(S$3,vantHoff_EOS!$N$19,vantHoff_EOS!$O$31:$X$31,vantHoff_EOS!$O$23:$X$23,$G92),\"-\")","v":0.87999365943563979},{"$f":"IF(T$60<=vantHoff_EOS!$N$19,y_iindex_NS_n0i_vi_X(T$3,vantHoff_EOS!$N$19,vantHoff_EOS!$O$31:$X$31,vantHoff_EOS!$O$23:$X$23,$G92),\"-\")","v":"-"},{"$f":"IF(U$60<=vantHoff_EOS!$N$19,y_iindex_NS_n0i_vi_X(U$3,vantHoff_EOS!$N$19,vantHoff_EOS!$O$31:$X$31,vantHoff_EOS!$O$23:$X$23,$G92),\"-\")","v":"-"},{"$f":"IF(V$60<=vantHoff_EOS!$N$19,y_iindex_NS_n0i_vi_X(V$3,vantHoff_EOS!$N$19,vantHoff_EOS!$O$31:$X$31,vantHoff_EOS!$O$23:$X$23,$G92),\"-\")","v":"-"},{"$f":"IF(W$60<=vantHoff_EOS!$N$19,y_iindex_NS_n0i_vi_X(W$3,vantHoff_EOS!$N$19,vantHoff_EOS!$O$31:$X$31,vantHoff_EOS!$O$23:$X$23,$G92),\"-\")","v":"-"},{"$f":"IF(X$60<=vantHoff_EOS!$N$19,y_iindex_NS_n0i_vi_X(X$3,vantHoff_EOS!$N$19,vantHoff_EOS!$O$31:$X$31,vantHoff_EOS!$O$23:$X$23,$G92),\"-\")","v":"-"},1,{"$f":"IF(Z$60<=vantHoff_EOS!$N$19,Phi_i_NS_Tci_Pci_wi_kijm_TinC_PinPa_yi(Z$3,vantHoff_EOS!$N$19,vantHoff_EOS!$X$5:$X$14,vantHoff_EOS!$Y$5:$Y$14,vantHoff_EOS!$Z$5:$Z$14,vantHoff_EOS!$AE$5:$AN$14,$C$59,B92*1000000,$O92:$X92),\"-\")","v":3.4550505874188286},{"$f":"IF(AA$60<=vantHoff_EOS!$N$19,Phi_i_NS_Tci_Pci_wi_kijm_TinC_PinPa_yi(AA$3,vantHoff_EOS!$N$19,vantHoff_EOS!$X$5:$X$14,vantHoff_EOS!$Y$5:$Y$14,vantHoff_EOS!$Z$5:$Z$14,vantHoff_EOS!$AE$5:$AN$14,$C$59,B92*1000000,$O92:$X92),\"-\")","v":5.2467681028166551},{"$f":"IF(AB$60<=vantHoff_EOS!$N$19,Phi_i_NS_Tci_Pci_wi_kijm_TinC_PinPa_yi(AB$3,vantHoff_EOS!$N$19,vantHoff_EOS!$X$5:$X$14,vantHoff_EOS!$Y$5:$Y$14,vantHoff_EOS!$Z$5:$Z$14,vantHoff_EOS!$AE$5:$AN$14,$C$59,B92*1000000,$O92:$X92),\"-\")","v":0.19293548563855376},{"$f":"IF(AC$60<=vantHoff_EOS!$N$19,Phi_i_NS_Tci_Pci_wi_kijm_TinC_PinPa_yi(AC$3,vantHoff_EOS!$N$19,vantHoff_EOS!$X$5:$X$14,vantHoff_EOS!$Y$5:$Y$14,vantHoff_EOS!$Z$5:$Z$14,vantHoff_EOS!$AE$5:$AN$14,$C$59,B92*1000000,$O92:$X92),\"-\")","v":1.0013126493869066E-2},{"$f":"IF(AD$60<=vantHoff_EOS!$N$19,Phi_i_NS_Tci_Pci_wi_kijm_TinC_PinPa_yi(AD$3,vantHoff_EOS!$N$19,vantHoff_EOS!$X$5:$X$14,vantHoff_EOS!$Y$5:$Y$14,vantHoff_EOS!$Z$5:$Z$14,vantHoff_EOS!$AE$5:$AN$14,$C$59,B92*1000000,$O92:$X92),\"-\")","v":0.56870535330390615},{"$f":"IF(AE$60<=vantHoff_EOS!$N$19,Phi_i_NS_Tci_Pci_wi_kijm_TinC_PinPa_yi(AE$3,vantHoff_EOS!$N$19,vantHoff_EOS!$X$5:$X$14,vantHoff_EOS!$Y$5:$Y$14,vantHoff_EOS!$Z$5:$Z$14,vantHoff_EOS!$AE$5:$AN$14,$C$59,B92*1000000,$O92:$X92),\"-\")","v":"-"},{"$f":"IF(AF$60<=vantHoff_EOS!$N$19,Phi_i_NS_Tci_Pci_wi_kijm_TinC_PinPa_yi(AF$3,vantHoff_EOS!$N$19,vantHoff_EOS!$X$5:$X$14,vantHoff_EOS!$Y$5:$Y$14,vantHoff_EOS!$Z$5:$Z$14,vantHoff_EOS!$AE$5:$AN$14,$C$59,B92*1000000,$O92:$X92),\"-\")","v":"-"},{"$f":"IF(AG$60<=vantHoff_EOS!$N$19,Phi_i_NS_Tci_Pci_wi_kijm_TinC_PinPa_yi(AG$3,vantHoff_EOS!$N$19,vantHoff_EOS!$X$5:$X$14,vantHoff_EOS!$Y$5:$Y$14,vantHoff_EOS!$Z$5:$Z$14,vantHoff_EOS!$AE$5:$AN$14,$C$59,B92*1000000,$O92:$X92),\"-\")","v":"-"},{"$f":"IF(AH$60<=vantHoff_EOS!$N$19,Phi_i_NS_Tci_Pci_wi_kijm_TinC_PinPa_yi(AH$3,vantHoff_EOS!$N$19,vantHoff_EOS!$X$5:$X$14,vantHoff_EOS!$Y$5:$Y$14,vantHoff_EOS!$Z$5:$Z$14,vantHoff_EOS!$AE$5:$AN$14,$C$59,B92*1000000,$O92:$X92),\"-\")","v":"-"},{"$f":"IF(AI$60<=vantHoff_EOS!$N$19,Phi_i_NS_Tci_Pci_wi_kijm_TinC_PinPa_yi(AI$3,vantHoff_EOS!$N$19,vantHoff_EOS!$X$5:$X$14,vantHoff_EOS!$Y$5:$Y$14,vantHoff_EOS!$Z$5:$Z$14,vantHoff_EOS!$AE$5:$AN$14,$C$59,B92*1000000,$O92:$X92),\"-\")","v":"-"}]
[33,{"$f":"B92+vantHoff_EOS!$E$31","v":14.399999999999977},333.15,3.0016509079993999E-3,{"$f":"lnKaT_Tref_lnKaTref_dHTref_da_db_dc_dd_de_TinC(vantHoff_EOS!$E$7,vantHoff_EOS!$B$9,vantHoff_EOS!$B$6,vantHoff_EOS!$O$27,vantHoff_EOS!$P$27,vantHoff_EOS!$Q$27,vantHoff_EOS!$R$27,vantHoff_EOS!$S$27,$C$59)","v":11.370905491151026},86760.392694887007,{"$f":"MolarExtentX_NS_vi_n0i_dHfi_dGfi_TrefinC_da_db_dc_dd_de_Tci_Pci_wi_kijm_TinC_PinPa(vantHoff_EOS!$N$19,vantHoff_EOS!$O$23:$X$23,vantHoff_EOS!$O$31:$X$31,vantHoff_EOS!$T$5:$T$14,vantHoff_EOS!$U$5:$U$14,vantHoff_EOS!$E$7,vantHoff_EOS!$O$27,vantHoff_EOS!$P$27,vantHoff_EOS!$Q$27,vantHoff_EOS!$R$27,vantHoff_EOS!$S$27,vantHoff_EOS!$X$5:$X$14,vantHoff_EOS!$Y$5:$Y$14,vantHoff_EOS!$Z$5:$Z$14,vantHoff_EOS!$AE$5:$AN$14,$C$59,B93*1000000)","v":0.9995189493439921},{"$f":"Ky_NS_n0i_vi_X(vantHoff_EOS!$N$19,vantHoff_EOS!$O$31:$X$31,vantHoff_EOS!$O$23:$X$23,G93)","v":624670352256.20874},{"$f":"Kp_NS_vi_PinPa(vantHoff_EOS!$N$19,vantHoff_EOS!$O$23:$X$23,B93*1000000)","v":4.8225308641975455E-5},{"$f":"Kphi_NS_n0i_vi_X_Tci_Pci_wi_kijm_TinC_PinPa(vantHoff_EOS!$N$19,vantHoff_EOS!$O$31:$X$31,vantHoff_EOS!$O$23:$X$23,G93,vantHoff_EOS!$X$5:$X$14,vantHoff_EOS!$Y$5:$Y$14,vantHoff_EOS!$Z$5:$Z$14,vantHoff_EOS!$AE$5:$AN$14,$C$59,B93*1000000)","v":2.8800205952227704E-3},27.160489911149245,-9.9396265991519979,-5.8499578337408344,{"$f":"nT_NS_n0i_vi_X(vantHoff_EOS!$N$19,vantHoff_EOS!$O$31:$X$31,vantHoff_EOS!$O$23:$X$23,G93)","v":8.3409621013120159},{"$f":"IF(O$60<=vantHoff_EOS!$N$19,y_iindex_NS_n0i_vi_X(O$3,vantHoff_EOS!$N$19,vantHoff_EOS!$O$31:$X$31,vantHoff_EOS!$O$23:$X$23,$G93),\"-\")","v":5.7673281590888568E-5},{"$f":"IF(P$60<=vantHoff_EOS!$N$19,y_iindex_NS_n0i_vi_X(P$3,vantHoff_EOS!$N$19,vantHoff_EOS!$O$31:$X$31,vantHoff_EOS!$O$23:$X$23,$G93),\"-\")","v":5.7673281590888568E-5},{"$f":"IF(Q$60<=vantHoff_EOS!$N$19,y_iindex_NS_n0i_vi_X(Q$3,vantHoff_EOS!$N$19,vantHoff_EOS!$O$31:$X$31,vantHoff_EOS!$O$23:$X$23,$G93),\"-\")","v":5.7673281590888568E-5},{"$f":"IF(R$60<=vantHoff_EOS!$N$19,y_iindex_NS_n0i_vi_X(R$3,vantHoff_EOS!$N$19,vantHoff_EOS!$O$31:$X$31,vantHoff_EOS!$O$23:$X$23,$G93),\"-\")","v":0.11983257293385494},{"$f":"IF(S$60<=vantHoff_EOS!$N$19,y_iindex_NS_n0i_vi_X(S$3,vantHoff_EOS!$N$19,vantHoff_EOS!$O$31:$X$31,vantHoff_EOS!$O$23:$X$23,$G93),\"-\")","v":0.87999440722137234},{"$f":"IF(T$60<=vantHoff_EOS!$N$19,y_iindex_NS_n0i_vi_X(T$3,vantHoff_EOS!$N$19,vantHoff_EOS!$O$31:$X$31,vantHoff_EOS!$O$23:$X$23,$G93),\"-\")","v":"-"},{"$f":"IF(U$60<=vantHoff_EOS!$N$19,y_iindex_NS_n0i_vi_X(U$3,vantHoff_EOS!$N$19,vantHoff_EOS!$O$31:$X$31,vantHoff_EOS!$O$23:$X$23,$G93),\"-\")","v":"-"},{"$f":"IF(V$60<=vantHoff_EOS!$N$19,y_iindex_NS_n0i_vi_X(V$3,vantHoff_EOS!$N$19,vantHoff_EOS!$O$31:$X$31,vantHoff_EOS!$O$23:$X$23,$G93),\"-\")","v":"-"},{"$f":"IF(W$60<=vantHoff_EOS!$N$19,y_iindex_NS_n0i_vi_X(W$3,vantHoff_EOS!$N$19,vantHoff_EOS!$O$31:$X$31,vantHoff_EOS!$O$23:$X$23,$G93),\"-\")","v":"-"},{"$f":"IF(X$60<=vantHoff_EOS!$N$19,y_iindex_NS_n0i_vi_X(X$3,vantHoff_EOS!$N$19,vantHoff_EOS!$O$31:$X$31,vantHoff_EOS!$O$23:$X$23,$G93),\"-\")","v":"-"},1,{"$f":"IF(Z$60<=vantHoff_EOS!$N$19,Phi_i_NS_Tci_Pci_wi_kijm_TinC_PinPa_yi(Z$3,vantHoff_EOS!$N$19,vantHoff_EOS!$X$5:$X$14,vantHoff_EOS!$Y$5:$Y$14,vantHoff_EOS!$Z$5:$Z$14,vantHoff_EOS!$AE$5:$AN$14,$C$59,B93*1000000,$O93:$X93),\"-\")","v":3.4400558564534984},{"$f":"IF(AA$60<=vantHoff_EOS!$N$19,Phi_i_NS_Tci_Pci_wi_kijm_TinC_PinPa_yi(AA$3,vantHoff_EOS!$N$19,vantHoff_EOS!$X$5:$X$14,vantHoff_EOS!$Y$5:$Y$14,vantHoff_EOS!$Z$5:$Z$14,vantHoff_EOS!$AE$5:$AN$14,$C$59,B93*1000000,$O93:$X93),\"-\")","v":5.2232488029840445},{"$f":"IF(AB$60<=vantHoff_EOS!$N$19,Phi_i_NS_Tci_Pci_wi_kijm_TinC_PinPa_yi(AB$3,vantHoff_EOS!$N$19,vantHoff_EOS!$X$5:$X$14,vantHoff_EOS!$Y$5:$Y$14,vantHoff_EOS!$Z$5:$Z$14,vantHoff_EOS!$AE$5:$AN$14,$C$59,B93*1000000,$O93:$X93),\"-\")","v":0.19136367069897162},{"$f":"IF(AC$60<=vantHoff_EOS!$N$19,Phi_i_NS_Tci_Pci_wi_kijm_TinC_PinPa_yi(AC$3,vantHoff_EOS!$N$19,vantHoff_EOS!$X$5:$X$14,vantHoff_EOS!$Y$5:$Y$14,vantHoff_EOS!$Z$5:$Z$14,vantHoff_EOS!$AE$5:$AN$14,$C$59,B93*1000000,$O93:$X93),\"-\")","v":9.9028749299277848E-3},{"$f":"IF(AD$60<=vantHoff_EOS!$N$19,Phi_i_NS_Tci_Pci_wi_kijm_TinC_PinPa_yi(AD$3,vantHoff_EOS!$N$19,vantHoff_EOS!$X$5:$X$14,vantHoff_EOS!$Y$5:$Y$14,vantHoff_EOS!$Z$5:$Z$14,vantHoff_EOS!$AE$5:$AN$14,$C$59,B93*1000000,$O93:$X93),\"-\")","v":0.56357485177853617},{"$f":"IF(AE$60<=vantHoff_EOS!$N$19,Phi_i_NS_Tci_Pci_wi_kijm_TinC_PinPa_yi(AE$3,vantHoff_EOS!$N$19,vantHoff_EOS!$X$5:$X$14,vantHoff_EOS!$Y$5:$Y$14,vantHoff_EOS!$Z$5:$Z$14,vantHoff_EOS!$AE$5:$AN$14,$C$59,B93*1000000,$O93:$X93),\"-\")","v":"-"},{"$f":"IF(AF$60<=vantHoff_EOS!$N$19,Phi_i_NS_Tci_Pci_wi_kijm_TinC_PinPa_yi(AF$3,vantHoff_EOS!$N$19,vantHoff_EOS!$X$5:$X$14,vantHoff_EOS!$Y$5:$Y$14,vantHoff_EOS!$Z$5:$Z$14,vantHoff_EOS!$AE$5:$AN$14,$C$59,B93*1000000,$O93:$X93),\"-\")","v":"-"},{"$f":"IF(AG$60<=vantHoff_EOS!$N$19,Phi_i_NS_Tci_Pci_wi_kijm_TinC_PinPa_yi(AG$3,vantHoff_EOS!$N$19,vantHoff_EOS!$X$5:$X$14,vantHoff_EOS!$Y$5:$Y$14,vantHoff_EOS!$Z$5:$Z$14,vantHoff_EOS!$AE$5:$AN$14,$C$59,B93*1000000,$O93:$X93),\"-\")","v":"-"},{"$f":"IF(AH$60<=vantHoff_EOS!$N$19,Phi_i_NS_Tci_Pci_wi_kijm_TinC_PinPa_yi(AH$3,vantHoff_EOS!$N$19,vantHoff_EOS!$X$5:$X$14,vantHoff_EOS!$Y$5:$Y$14,vantHoff_EOS!$Z$5:$Z$14,vantHoff_EOS!$AE$5:$AN$14,$C$59,B93*1000000,$O93:$X93),\"-\")","v":"-"},{"$f":"IF(AI$60<=vantHoff_EOS!$N$19,Phi_i_NS_Tci_Pci_wi_kijm_TinC_PinPa_yi(AI$3,vantHoff_EOS!$N$19,vantHoff_EOS!$X$5:$X$14,vantHoff_EOS!$Y$5:$Y$14,vantHoff_EOS!$Z$5:$Z$14,vantHoff_EOS!$AE$5:$AN$14,$C$59,B93*1000000,$O93:$X93),\"-\")","v":"-"}]
[34,{"$f":"B93+vantHoff_EOS!$E$31","v":14.599999999999977},333.15,3.0016509079993999E-3,{"$f":"lnKaT_Tref_lnKaTref_dHTref_da_db_dc_dd_de_TinC(vantHoff_EOS!$E$7,vantHoff_EOS!$B$9,vantHoff_EOS!$B$6,vantHoff_EOS!$O$27,vantHoff_EOS!$P$27,vantHoff_EOS!$Q$27,vantHoff_EOS!$R$27,vantHoff_EOS!$S$27,$C$59)","v":11.370905491151026},86760.392694887007,{"$f":"MolarExtentX_NS_vi_n0i_dHfi_dGfi_TrefinC_da_db_dc_dd_de_Tci_Pci_wi_kijm_TinC_PinPa(vantHoff_EOS!$N$19,vantHoff_EOS!$O$23:$X$23,vantHoff_EOS!$O$31:$X$31,vantHoff_EOS!$T$5:$T$14,vantHoff_EOS!$U$5:$U$14,vantHoff_EOS!$E$7,vantHoff_EOS!$O$27,vantHoff_EOS!$P$27,vantHoff_EOS!$Q$27,vantHoff_EOS!$R$27,vantHoff_EOS!$S$27,vantHoff_EOS!$X$5:$X$14,vantHoff_EOS!$Y$5:$Y$14,vantHoff_EOS!$Z$5:$Z$14,vantHoff_EOS!$AE$5:$AN$14,$C$59,B94*1000000)","v":0.99952240483287369},{"$f":"Ky_NS_n0i_vi_X(vantHoff_EOS!$N$19,vantHoff_EOS!$O$31:$X$31,vantHoff_EOS!$O$23:$X$23,G94)","v":638328653070.16272},{"$f":"Kp_NS_vi_PinPa(vantHoff_EOS!$N$19,vantHoff_EOS!$O$23:$X$23,B94*1000000)","v":4.6913116907487491E-5},{"$f":"Kphi_NS_n0i_vi_X_Tci_Pci_wi_kijm_TinC_PinPa(vantHoff_EOS!$N$19,vantHoff_EOS!$O$31:$X$31,vantHoff_EOS!$O$23:$X$23,G94,vantHoff_EOS!$X$5:$X$14,vantHoff_EOS!$Y$5:$Y$14,vantHoff_EOS!$Z$5:$Z$14,vantHoff_EOS!$AE$5:$AN$14,$C$59,B94*1000000)","v":2.8972293470478257E-3},27.182119117861202,-9.9672132434166691,-5.8440003962425813,{"$f":"nT_NS_n0i_vi_X(vantHoff_EOS!$N$19,vantHoff_EOS!$O$31:$X$31,vantHoff_EOS!$O$23:$X$23,G94)","v":8.3409551903342525},{"$f":"IF(O$60<=vantHoff_EOS!$N$19,y_iindex_NS_n0i_vi_X(O$3,vantHoff_EOS!$N$19,vantHoff_EOS!$O$31:$X$31,vantHoff_EOS!$O$23:$X$23,$G94),\"-\")","v":5.7259049620571231E-5},{"$f":"IF(P$60<=vantHoff_EOS!$N$19,y_iindex_NS_n0i_vi_X(P$3,vantHoff_EOS!$N$19,vantHoff_EOS!$O$31:$X$31,vantHoff_EOS!$O$23:$X$23,$G94),\"-\")","v":5.7259049620571231E-5},{"$f":"IF(Q$60<=vantHoff_EOS!$N$19,y_iindex_NS_n0i_vi_X(Q$3,vantHoff_EOS!$N$19,vantHoff_EOS!$O$31:$X$31,vantHoff_EOS!$O$23:$X$23,$G94),\"-\")","v":5.7259049620571231E-5},{"$f":"IF(R$60<=vantHoff_EOS!$N$19,y_iindex_NS_n0i_vi_X(R$3,vantHoff_EOS!$N$19,vantHoff_EOS!$O$31:$X$31,vantHoff_EOS!$O$23:$X$23,$G94),\"-\")","v":0.11983308650202917},{"$f":"IF(S$60<=vantHoff_EOS!$N$19,y_iindex_NS_n0i_vi_X(S$3,vantHoff_EOS!$N$19,vantHoff_EOS!$O$31:$X$31,vantHoff_EOS!$O$23:$X$23,$G94),\"-\")","v":0.87999513634910909},{"$f":"IF(T$60<=vantHoff_EOS!$N$19,y_iindex_NS_n0i_vi_X(T$3,vantHoff_EOS!$N$19,vantHoff_EOS!$O$31:$X$31,vantHoff_EOS!$O$23:$X$23,$G94),\"-\")","v":"-"},{"$f":"IF(U$60<=vantHoff_EOS!$N$19,y_iindex_NS_n0i_vi_X(U$3,vantHoff_EOS!$N$19,vantHoff_EOS!$O$31:$X$31,vantHoff_EOS!$O$23:$X$23,$G94),\"-\")","v":"-"},{"$f":"IF(V$60<=vantHoff_EOS!$N$19,y_iindex_NS_n0i_vi_X(V$3,vantHoff_EOS!$N$19,vantHoff_EOS!$O$31:$X$31,vantHoff_EOS!$O$23:$X$23,$G94),\"-\")","v":"-"},{"$f":"IF(W$60<=vantHoff_EOS!$N$19,y_iindex_NS_n0i_vi_X(W$3,vantHoff_EOS!$N$19,vantHoff_EOS!$O$31:$X$31,vantHoff_EOS!$O$23:$X$23,$G94),\"-\")","v":"-"},{"$f":"IF(X$60<=vantHoff_EOS!$N$19,y_iindex_NS_n0i_vi_X(X$3,vantHoff_EOS!$N$19,vantHoff_EOS!$O$31:$X$31,vantHoff_EOS!$O$23:$X$23,$G94),\"-\")","v":"-"},1,{"$f":"IF(Z$60<=vantHoff_EOS!$N$19,Phi_i_NS_Tci_Pci_wi_kijm_TinC_PinPa_yi(Z$3,vantHoff_EOS!$N$19,vantHoff_EOS!$X$5:$X$14,vantHoff_EOS!$Y$5:$Y$14,vantHoff_EOS!$Z$5:$Z$14,vantHoff_EOS!$AE$5:$AN$14,$C$59,B94*1000000,$O94:$X94),\"-\")","v":3.4253436752131603},{"$f":"IF(AA$60<=vantHoff_EOS!$N$19,Phi_i_NS_Tci_Pci_wi_kijm_TinC_PinPa_yi(AA$3,vantHoff_EOS!$N$19,vantHoff_EOS!$X$5:$X$14,vantHoff_EOS!$Y$5:$Y$14,vantHoff_EOS!$Z$5:$Z$14,vantHoff_EOS!$AE$5:$AN$14,$C$59,B94*1000000,$O94:$X94),\"-\")","v":5.2000970728805651},{"$f":"IF(AB$60<=vantHoff_EOS!$N$19,Phi_i_NS_Tci_Pci_wi_kijm_TinC_PinPa_yi(AB$3,vantHoff_EOS!$N$19,vantHoff_EOS!$X$5:$X$14,vantHoff_EOS!$Y$5:$Y$14,vantHoff_EOS!$Z$5:$Z$14,vantHoff_EOS!$AE$5:$AN$14,$C$59,B94*1000000,$O94:$X94),\"-\")","v":0.18984046229405657},{"$f":"IF(AC$60<=vantHoff_EOS!$N$19,Phi_i_NS_Tci_Pci_wi_kijm_TinC_PinPa_yi(AC$3,vantHoff_EOS!$N$19,vantHoff_EOS!$X$5:$X$14,vantHoff_EOS!$Y$5:$Y$14,vantHoff_EOS!$Z$5:$Z$14,vantHoff_EOS!$AE$5:$AN$14,$C$59,B94*1000000,$O94:$X94),\"-\")","v":9.7968681115146554E-3},{"$f":"IF(AD$60<=vantHoff_EOS!$N$19,Phi_i_NS_Tci_Pci_wi_kijm_TinC_PinPa_yi(AD$3,vantHoff_EOS!$N$19,vantHoff_EOS!$X$5:$X$14,vantHoff_EOS!$Y$5:$Y$14,vantHoff_EOS!$Z$5:$Z$14,vantHoff_EOS!$AE$5:$AN$14,$C$59,B94*1000000,$O94:$X94),\"-\")","v":0.55857913391704617},{"$f":"IF(AE$60<=vantHoff_EOS!$N$19,Phi_i_NS_Tci_Pci_wi_kijm_TinC_PinPa_yi(AE$3,vantHoff_EOS!$N$19,vantHoff_EOS!$X$5:$X$14,vantHoff_EOS!$Y$5:$Y$14,vantHoff_EOS!$Z$5:$Z$14,vantHoff_EOS!$AE$5:$AN$14,$C$59,B94*1000000,$O94:$X94),\"-\")","v":"-"},{"$f":"IF(AF$60<=vantHoff_EOS!$N$19,Phi_i_NS_Tci_Pci_wi_kijm_TinC_PinPa_yi(AF$3,vantHoff_EOS!$N$19,vantHoff_EOS!$X$5:$X$14,vantHoff_EOS!$Y$5:$Y$14,vantHoff_EOS!$Z$5:$Z$14,vantHoff_EOS!$AE$5:$AN$14,$C$59,B94*1000000,$O94:$X94),\"-\")","v":"-"},{"$f":"IF(AG$60<=vantHoff_EOS!$N$19,Phi_i_NS_Tci_Pci_wi_kijm_TinC_PinPa_yi(AG$3,vantHoff_EOS!$N$19,vantHoff_EOS!$X$5:$X$14,vantHoff_EOS!$Y$5:$Y$14,vantHoff_EOS!$Z$5:$Z$14,vantHoff_EOS!$AE$5:$AN$14,$C$59,B94*1000000,$O94:$X94),\"-\")","v":"-"},{"$f":"IF(AH$60<=vantHoff_EOS!$N$19,Phi_i_NS_Tci_Pci_wi_kijm_TinC_PinPa_yi(AH$3,vantHoff_EOS!$N$19,vantHoff_EOS!$X$5:$X$14,vantHoff_EOS!$Y$5:$Y$14,vantHoff_EOS!$Z$5:$Z$14,vantHoff_EOS!$AE$5:$AN$14,$C$59,B94*1000000,$O94:$X94),\"-\")","v":"-"},{"$f":"IF(AI$60<=vantHoff_EOS!$N$19,Phi_i_NS_Tci_Pci_wi_kijm_TinC_PinPa_yi(AI$3,vantHoff_EOS!$N$19,vantHoff_EOS!$X$5:$X$14,vantHoff_EOS!$Y$5:$Y$14,vantHoff_EOS!$Z$5:$Z$14,vantHoff_EOS!$AE$5:$AN$14,$C$59,B94*1000000,$O94:$X94),\"-\")","v":"-"}]
[35,{"$f":"B94+vantHoff_EOS!$E$31","v":14.799999999999976},333.15,3.0016509079993999E-3,{"$f":"lnKaT_Tref_lnKaTref_dHTref_da_db_dc_dd_de_TinC(vantHoff_EOS!$E$7,vantHoff_EOS!$B$9,vantHoff_EOS!$B$6,vantHoff_EOS!$O$27,vantHoff_EOS!$P$27,vantHoff_EOS!$Q$27,vantHoff_EOS!$R$27,vantHoff_EOS!$S$27,$C$59)","v":11.370905491151026},86760.392694887007,{"$f":"MolarExtentX_NS_vi_n0i_dHfi_dGfi_TrefinC_da_db_dc_dd_de_Tci_Pci_wi_kijm_TinC_PinPa(vantHoff_EOS!$N$19,vantHoff_EOS!$O$23:$X$23,vantHoff_EOS!$O$31:$X$31,vantHoff_EOS!$T$5:$T$14,vantHoff_EOS!$U$5:$U$14,vantHoff_EOS!$E$7,vantHoff_EOS!$O$27,vantHoff_EOS!$P$27,vantHoff_EOS!$Q$27,vantHoff_EOS!$R$27,vantHoff_EOS!$S$27,vantHoff_EOS!$X$5:$X$14,vantHoff_EOS!$Y$5:$Y$14,vantHoff_EOS!$Z$5:$Z$14,vantHoff_EOS!$AE$5:$AN$14,$C$59,B95*1000000)","v":0.99952577593750613},{"$f":"Ky_NS_n0i_vi_X(vantHoff_EOS!$N$19,vantHoff_EOS!$O$31:$X$31,vantHoff_EOS!$O$23:$X$23,G95)","v":652039810259.2323},{"$f":"Kp_NS_vi_PinPa(vantHoff_EOS!$N$19,vantHoff_EOS!$O$23:$X$23,B95*1000000)","v":4.5653761869978236E-5},{"$f":"Kphi_NS_n0i_vi_X_Tci_Pci_wi_kijm_TinC_PinPa(vantHoff_EOS!$N$19,vantHoff_EOS!$O$31:$X$31,vantHoff_EOS!$O$23:$X$23,G95,vantHoff_EOS!$X$5:$X$14,vantHoff_EOS!$Y$5:$Y$14,vantHoff_EOS!$Z$5:$Z$14,vantHoff_EOS!$AE$5:$AN$14,$C$59,B95*1000000)","v":2.9145453804485105E-3},27.203371455688863,-9.9944245475282276,-5.8380414300222574,{"$f":"nT_NS_n0i_vi_X(vantHoff_EOS!$N$19,vantHoff_EOS!$O$31:$X$31,vantHoff_EOS!$O$23:$X$23,G95)","v":8.3409484481249869},{"$f":"IF(O$60<=vantHoff_EOS!$N$19,y_iindex_NS_n0i_vi_X(O$3,vantHoff_EOS!$N$19,vantHoff_EOS!$O$31:$X$31,vantHoff_EOS!$O$23:$X$23,$G95),\"-\")","v":5.6854932678605661E-5},{"$f":"IF(P$60<=vantHoff_EOS!$N$19,y_iindex_NS_n0i_vi_X(P$3,vantHoff_EOS!$N$19,vantHoff_EOS!$O$31:$X$31,vantHoff_EOS!$O$23:$X$23,$G95),\"-\")","v":5.6854932678605661E-5},{"$f":"IF(Q$60<=vantHoff_EOS!$N$19,y_iindex_NS_n0i_vi_X(Q$3,vantHoff_EOS!$N$19,vantHoff_EOS!$O$31:$X$31,vantHoff_EOS!$O$23:$X$23,$G95),\"-\")","v":5.6854932678605661E-5},{"$f":"IF(R$60<=vantHoff_EOS!$N$19,y_iindex_NS_n0i_vi_X(R$3,vantHoff_EOS!$N$19,vantHoff_EOS!$O$31:$X$31,vantHoff_EOS!$O$23:$X$23,$G95),\"-\")","v":0.11983358752950879},{"$f":"IF(S$60<=vantHoff_EOS!$N$19,y_iindex_NS_n0i_vi_X(S$3,vantHoff_EOS!$N$19,vantHoff_EOS!$O$31:$X$31,vantHoff_EOS!$O$23:$X$23,$G95),\"-\")","v":0.87999584767245542},{"$f":"IF(T$60<=vantHoff_EOS!$N$19,y_iindex_NS_n0i_vi_X(T$3,vantHoff_EOS!$N$19,vantHoff_EOS!$O$31:$X$31,vantHoff_EOS!$O$23:$X$23,$G95),\"-\")","v":"-"},{"$f":"IF(U$60<=vantHoff_EOS!$N$19,y_iindex_NS_n0i_vi_X(U$3,vantHoff_EOS!$N$19,vantHoff_EOS!$O$31:$X$31,vantHoff_EOS!$O$23:$X$23,$G95),\"-\")","v":"-"},{"$f":"IF(V$60<=vantHoff_EOS!$N$19,y_iindex_NS_n0i_vi_X(V$3,vantHoff_EOS!$N$19,vantHoff_EOS!$O$31:$X$31,vantHoff_EOS!$O$23:$X$23,$G95),\"-\")","v":"-"},{"$f":"IF(W$60<=vantHoff_EOS!$N$19,y_iindex_NS_n0i_vi_X(W$3,vantHoff_EOS!$N$19,vantHoff_EOS!$O$31:$X$31,vantHoff_EOS!$O$23:$X$23,$G95),\"-\")","v":"-"},{"$f":"IF(X$60<=vantHoff_EOS!$N$19,y_iindex_NS_n0i_vi_X(X$3,vantHoff_EOS!$N$19,vantHoff_EOS!$O$31:$X$31,vantHoff_EOS!$O$23:$X$23,$G95),\"-\")","v":"-"},1,{"$f":"IF(Z$60<=vantHoff_EOS!$N$19,Phi_i_NS_Tci_Pci_wi_kijm_TinC_PinPa_yi(Z$3,vantHoff_EOS!$N$19,vantHoff_EOS!$X$5:$X$14,vantHoff_EOS!$Y$5:$Y$14,vantHoff_EOS!$Z$5:$Z$14,vantHoff_EOS!$AE$5:$AN$14,$C$59,B95*1000000,$O95:$X95),\"-\")","v":3.4109103093292621},{"$f":"IF(AA$60<=vantHoff_EOS!$N$19,Phi_i_NS_Tci_Pci_wi_kijm_TinC_PinPa_yi(AA$3,vantHoff_EOS!$N$19,vantHoff_EOS!$X$5:$X$14,vantHoff_EOS!$Y$5:$Y$14,vantHoff_EOS!$Z$5:$Z$14,vantHoff_EOS!$AE$5:$AN$14,$C$59,B95*1000000,$O95:$X95),\"-\")","v":5.1773110420011985},{"$f":"IF(AB$60<=vantHoff_EOS!$N$19,Phi_i_NS_Tci_Pci_wi_kijm_TinC_PinPa_yi(AB$3,vantHoff_EOS!$N$19,vantHoff_EOS!$X$5:$X$14,vantHoff_EOS!$Y$5:$Y$14,vantHoff_EOS!$Z$5:$Z$14,vantHoff_EOS!$AE$5:$AN$14,$C$59,B95*1000000,$O95:$X95),\"-\")","v":0.18836386985472739},{"$f":"IF(AC$60<=vantHoff_EOS!$N$19,Phi_i_NS_Tci_Pci_wi_kijm_TinC_PinPa_yi(AC$3,vantHoff_EOS!$N$19,vantHoff_EOS!$X$5:$X$14,vantHoff_EOS!$Y$5:$Y$14,vantHoff_EOS!$Z$5:$Z$14,vantHoff_EOS!$AE$5:$AN$14,$C$59,B95*1000000,$O95:$X95),\"-\")","v":9.6948921691401967E-3},{"$f":"IF(AD$60<=vantHoff_EOS!$N$19,Phi_i_NS_Tci_Pci_wi_kijm_TinC_PinPa_yi(AD$3,vantHoff_EOS!$N$19,vantHoff_EOS!$X$5:$X$14,vantHoff_EOS!$Y$5:$Y$14,vantHoff_EOS!$Z$5:$Z$14,vantHoff_EOS!$AE$5:$AN$14,$C$59,B95*1000000,$O95:$X95),\"-\")","v":0.55371318482203979},{"$f":"IF(AE$60<=vantHoff_EOS!$N$19,Phi_i_NS_Tci_Pci_wi_kijm_TinC_PinPa_yi(AE$3,vantHoff_EOS!$N$19,vantHoff_EOS!$X$5:$X$14,vantHoff_EOS!$Y$5:$Y$14,vantHoff_EOS!$Z$5:$Z$14,vantHoff_EOS!$AE$5:$AN$14,$C$59,B95*1000000,$O95:$X95),\"-\")","v":"-"},{"$f":"IF(AF$60<=vantHoff_EOS!$N$19,Phi_i_NS_Tci_Pci_wi_kijm_TinC_PinPa_yi(AF$3,vantHoff_EOS!$N$19,vantHoff_EOS!$X$5:$X$14,vantHoff_EOS!$Y$5:$Y$14,vantHoff_EOS!$Z$5:$Z$14,vantHoff_EOS!$AE$5:$AN$14,$C$59,B95*1000000,$O95:$X95),\"-\")","v":"-"},{"$f":"IF(AG$60<=vantHoff_EOS!$N$19,Phi_i_NS_Tci_Pci_wi_kijm_TinC_PinPa_yi(AG$3,vantHoff_EOS!$N$19,vantHoff_EOS!$X$5:$X$14,vantHoff_EOS!$Y$5:$Y$14,vantHoff_EOS!$Z$5:$Z$14,vantHoff_EOS!$AE$5:$AN$14,$C$59,B95*1000000,$O95:$X95),\"-\")","v":"-"},{"$f":"IF(AH$60<=vantHoff_EOS!$N$19,Phi_i_NS_Tci_Pci_wi_kijm_TinC_PinPa_yi(AH$3,vantHoff_EOS!$N$19,vantHoff_EOS!$X$5:$X$14,vantHoff_EOS!$Y$5:$Y$14,vantHoff_EOS!$Z$5:$Z$14,vantHoff_EOS!$AE$5:$AN$14,$C$59,B95*1000000,$O95:$X95),\"-\")","v":"-"},{"$f":"IF(AI$60<=vantHoff_EOS!$N$19,Phi_i_NS_Tci_Pci_wi_kijm_TinC_PinPa_yi(AI$3,vantHoff_EOS!$N$19,vantHoff_EOS!$X$5:$X$14,vantHoff_EOS!$Y$5:$Y$14,vantHoff_EOS!$Z$5:$Z$14,vantHoff_EOS!$AE$5:$AN$14,$C$59,B95*1000000,$O95:$X95),\"-\")","v":"-"}]
[36,{"$f":"B95+vantHoff_EOS!$E$31","v":14.999999999999975},333.15,3.0016509079993999E-3,{"$f":"lnKaT_Tref_lnKaTref_dHTref_da_db_dc_dd_de_TinC(vantHoff_EOS!$E$7,vantHoff_EOS!$B$9,vantHoff_EOS!$B$6,vantHoff_EOS!$O$27,vantHoff_EOS!$P$27,vantHoff_EOS!$Q$27,vantHoff_EOS!$R$27,vantHoff_EOS!$S$27,$C$59)","v":11.370905491151026},86760.392694887007,{"$f":"MolarExtentX_NS_vi_n0i_dHfi_dGfi_TrefinC_da_db_dc_dd_de_Tci_Pci_wi_kijm_TinC_PinPa(vantHoff_EOS!$N$19,vantHoff_EOS!$O$23:$X$23,vantHoff_EOS!$O$31:$X$31,vantHoff_EOS!$T$5:$T$14,vantHoff_EOS!$U$5:$U$14,vantHoff_EOS!$E$7,vantHoff_EOS!$O$27,vantHoff_EOS!$P$27,vantHoff_EOS!$Q$27,vantHoff_EOS!$R$27,vantHoff_EOS!$S$27,vantHoff_EOS!$X$5:$X$14,vantHoff_EOS!$Y$5:$Y$14,vantHoff_EOS!$Z$5:$Z$14,vantHoff_EOS!$AE$5:$AN$14,$C$59,B96*1000000)","v":0.99952906643458883},{"$f":"Ky_NS_n0i_vi_X(vantHoff_EOS!$N$19,vantHoff_EOS!$O$31:$X$31,vantHoff_EOS!$O$23:$X$23,G96)","v":665804429425.8855},{"$f":"Kp_NS_vi_PinPa(vantHoff_EOS!$N$19,vantHoff_EOS!$O$23:$X$23,B96*1000000)","v":4.4444444444444609E-5},{"$f":"Kphi_NS_n0i_vi_X_Tci_Pci_wi_kijm_TinC_PinPa(vantHoff_EOS!$N$19,vantHoff_EOS!$O$31:$X$31,vantHoff_EOS!$O$23:$X$23,G96,vantHoff_EOS!$X$5:$X$14,vantHoff_EOS!$Y$5:$Y$14,vantHoff_EOS!$Z$5:$Z$14,vantHoff_EOS!$AE$5:$AN$14,$C$59,B96*1000000)","v":2.9319552766812178E-3},27.224261814852657,-10.021270588192507,-5.8320857485934345,{"$f":"nT_NS_n0i_vi_X(vantHoff_EOS!$N$19,vantHoff_EOS!$O$31:$X$31,vantHoff_EOS!$O$23:$X$23,G96)","v":8.3409418671308231},{"$f":"IF(O$60<=vantHoff_EOS!$N$19,y_iindex_NS_n0i_vi_X(O$3,vantHoff_EOS!$N$19,vantHoff_EOS!$O$31:$X$31,vantHoff_EOS!$O$23:$X$23,$G96),\"-\")","v":5.6460478074661867E-5},{"$f":"IF(P$60<=vantHoff_EOS!$N$19,y_iindex_NS_n0i_vi_X(P$3,vantHoff_EOS!$N$19,vantHoff_EOS!$O$31:$X$31,vantHoff_EOS!$O$23:$X$23,$G96),\"-\")","v":5.6460478074661867E-5},{"$f":"IF(Q$60<=vantHoff_EOS!$N$19,y_iindex_NS_n0i_vi_X(Q$3,vantHoff_EOS!$N$19,vantHoff_EOS!$O$31:$X$31,vantHoff_EOS!$O$23:$X$23,$G96),\"-\")","v":5.6460478074661867E-5},{"$f":"IF(R$60<=vantHoff_EOS!$N$19,y_iindex_NS_n0i_vi_X(R$3,vantHoff_EOS!$N$19,vantHoff_EOS!$O$31:$X$31,vantHoff_EOS!$O$23:$X$23,$G96),\"-\")","v":0.11983407657754291},{"$f":"IF(S$60<=vantHoff_EOS!$N$19,y_iindex_NS_n0i_vi_X(S$3,vantHoff_EOS!$N$19,vantHoff_EOS!$O$31:$X$31,vantHoff_EOS!$O$23:$X$23,$G96),\"-\")","v":0.87999654198823296},{"$f":"IF(T$60<=vantHoff_EOS!$N$19,y_iindex_NS_n0i_vi_X(T$3,vantHoff_EOS!$N$19,vantHoff_EOS!$O$31:$X$31,vantHoff_EOS!$O$23:$X$23,$G96),\"-\")","v":"-"},{"$f":"IF(U$60<=vantHoff_EOS!$N$19,y_iindex_NS_n0i_vi_X(U$3,vantHoff_EOS!$N$19,vantHoff_EOS!$O$31:$X$31,vantHoff_EOS!$O$23:$X$23,$G96),\"-\")","v":"-"},{"$f":"IF(V$60<=vantHoff_EOS!$N$19,y_iindex_NS_n0i_vi_X(V$3,vantHoff_EOS!$N$19,vantHoff_EOS!$O$31:$X$31,vantHoff_EOS!$O$23:$X$23,$G96),\"-\")","v":"-"},{"$f":"IF(W$60<=vantHoff_EOS!$N$19,y_iindex_NS_n0i_vi_X(W$3,vantHoff_EOS!$N$19,vantHoff_EOS!$O$31:$X$31,vantHoff_EOS!$O$23:$X$23,$G96),\"-\")","v":"-"},{"$f":"IF(X$60<=vantHoff_EOS!$N$19,y_iindex_NS_n0i_vi_X(X$3,vantHoff_EOS!$N$19,vantHoff_EOS!$O$31:$X$31,vantHoff_EOS!$O$23:$X$23,$G96),\"-\")","v":"-"},0.99999999999999989,{"$f":"IF(Z$60<=vantHoff_EOS!$N$19,Phi_i_NS_Tci_Pci_wi_kijm_TinC_PinPa_yi(Z$3,vantHoff_EOS!$N$19,vantHoff_EOS!$X$5:$X$14,vantHoff_EOS!$Y$5:$Y$14,vantHoff_EOS!$Z$5:$Z$14,vantHoff_EOS!$AE$5:$AN$14,$C$59,B96*1000000,$O96:$X96),\"-\")","v":3.3967517713420228},{"$f":"IF(AA$60<=vantHoff_EOS!$N$19,Phi_i_NS_Tci_Pci_wi_kijm_TinC_PinPa_yi(AA$3,vantHoff_EOS!$N$19,vantHoff_EOS!$X$5:$X$14,vantHoff_EOS!$Y$5:$Y$14,vantHoff_EOS!$Z$5:$Z$14,vantHoff_EOS!$AE$5:$AN$14,$C$59,B96*1000000,$O96:$X96),\"-\")","v":5.1548881729160696},{"$f":"IF(AB$60<=vantHoff_EOS!$N$19,Phi_i_NS_Tci_Pci_wi_kijm_TinC_PinPa_yi(AB$3,vantHoff_EOS!$N$19,vantHoff_EOS!$X$5:$X$14,vantHoff_EOS!$Y$5:$Y$14,vantHoff_EOS!$Z$5:$Z$14,vantHoff_EOS!$AE$5:$AN$14,$C$59,B96*1000000,$O96:$X96),\"-\")","v":0.18693201279398652},{"$f":"IF(AC$60<=vantHoff_EOS!$N$19,Phi_i_NS_Tci_Pci_wi_kijm_TinC_PinPa_yi(AC$3,vantHoff_EOS!$N$19,vantHoff_EOS!$X$5:$X$14,vantHoff_EOS!$Y$5:$Y$14,vantHoff_EOS!$Z$5:$Z$14,vantHoff_EOS!$AE$5:$AN$14,$C$59,B96*1000000,$O96:$X96),\"-\")","v":9.5967478178929956E-3},{"$f":"IF(AD$60<=vantHoff_EOS!$N$19,Phi_i_NS_Tci_Pci_wi_kijm_TinC_PinPa_yi(AD$3,vantHoff_EOS!$N$19,vantHoff_EOS!$X$5:$X$14,vantHoff_EOS!$Y$5:$Y$14,vantHoff_EOS!$Z$5:$Z$14,vantHoff_EOS!$AE$5:$AN$14,$C$59,B96*1000000,$O96:$X96),\"-\")","v":0.54897223124485783},{"$f":"IF(AE$60<=vantHoff_EOS!$N$19,Phi_i_NS_Tci_Pci_wi_kijm_TinC_PinPa_yi(AE$3,vantHoff_EOS!$N$19,vantHoff_EOS!$X$5:$X$14,vantHoff_EOS!$Y$5:$Y$14,vantHoff_EOS!$Z$5:$Z$14,vantHoff_EOS!$AE$5:$AN$14,$C$59,B96*1000000,$O96:$X96),\"-\")","v":"-"},{"$f":"IF(AF$60<=vantHoff_EOS!$N$19,Phi_i_NS_Tci_Pci_wi_kijm_TinC_PinPa_yi(AF$3,vantHoff_EOS!$N$19,vantHoff_EOS!$X$5:$X$14,vantHoff_EOS!$Y$5:$Y$14,vantHoff_EOS!$Z$5:$Z$14,vantHoff_EOS!$AE$5:$AN$14,$C$59,B96*1000000,$O96:$X96),\"-\")","v":"-"},{"$f":"IF(AG$60<=vantHoff_EOS!$N$19,Phi_i_NS_Tci_Pci_wi_kijm_TinC_PinPa_yi(AG$3,vantHoff_EOS!$N$19,vantHoff_EOS!$X$5:$X$14,vantHoff_EOS!$Y$5:$Y$14,vantHoff_EOS!$Z$5:$Z$14,vantHoff_EOS!$AE$5:$AN$14,$C$59,B96*1000000,$O96:$X96),\"-\")","v":"-"},{"$f":"IF(AH$60<=vantHoff_EOS!$N$19,Phi_i_NS_Tci_Pci_wi_kijm_TinC_PinPa_yi(AH$3,vantHoff_EOS!$N$19,vantHoff_EOS!$X$5:$X$14,vantHoff_EOS!$Y$5:$Y$14,vantHoff_EOS!$Z$5:$Z$14,vantHoff_EOS!$AE$5:$AN$14,$C$59,B96*1000000,$O96:$X96),\"-\")","v":"-"},{"$f":"IF(AI$60<=vantHoff_EOS!$N$19,Phi_i_NS_Tci_Pci_wi_kijm_TinC_PinPa_yi(AI$3,vantHoff_EOS!$N$19,vantHoff_EOS!$X$5:$X$14,vantHoff_EOS!$Y$5:$Y$14,vantHoff_EOS!$Z$5:$Z$14,vantHoff_EOS!$AE$5:$AN$14,$C$59,B96*1000000,$O96:$X96),\"-\")","v":"-"}]
[37,{"$f":"B96+vantHoff_EOS!$E$31","v":15.199999999999974},333.15,3.0016509079993999E-3,{"$f":"lnKaT_Tref_lnKaTref_dHTref_da_db_dc_dd_de_TinC(vantHoff_EOS!$E$7,vantHoff_EOS!$B$9,vantHoff_EOS!$B$6,vantHoff_EOS!$O$27,vantHoff_EOS!$P$27,vantHoff_EOS!$Q$27,vantHoff_EOS!$R$27,vantHoff_EOS!$S$27,$C$59)","v":11.370905491151026},86760.392694887007,{"$f":"MolarExtentX_NS_vi_n0i_dHfi_dGfi_TrefinC_da_db_dc_dd_de_Tci_Pci_wi_kijm_TinC_PinPa(vantHoff_EOS!$N$19,vantHoff_EOS!$O$23:$X$23,vantHoff_EOS!$O$31:$X$31,vantHoff_EOS!$T$5:$T$14,vantHoff_EOS!$U$5:$U$14,vantHoff_EOS!$E$7,vantHoff_EOS!$O$27,vantHoff_EOS!$P$27,vantHoff_EOS!$Q$27,vantHoff_EOS!$R$27,vantHoff_EOS!$S$27,vantHoff_EOS!$X$5:$X$14,vantHoff_EOS!$Y$5:$Y$14,vantHoff_EOS!$Z$5:$Z$14,vantHoff_EOS!$AE$5:$AN$14,$C$59,B97*1000000)","v":0.99953227985502091},{"$f":"Ky_NS_n0i_vi_X(vantHoff_EOS!$N$19,vantHoff_EOS!$O$31:$X$31,vantHoff_EOS!$O$23:$X$23,G97)","v":679623076368.18164},{"$f":"Kp_NS_vi_PinPa(vantHoff_EOS!$N$19,vantHoff_EOS!$O$23:$X$23,B97*1000000)","v":4.3282548476454436E-5},{"$f":"Kphi_NS_n0i_vi_X_Tci_Pci_wi_kijm_TinC_PinPa(vantHoff_EOS!$N$19,vantHoff_EOS!$O$31:$X$31,vantHoff_EOS!$O$23:$X$23,G97,vantHoff_EOS!$X$5:$X$14,vantHoff_EOS!$Y$5:$Y$14,vantHoff_EOS!$Z$5:$Z$14,vantHoff_EOS!$AE$5:$AN$14,$C$59,B97*1000000)","v":2.9494467685613193E-3},27.244804181977269,-10.047761041692549,-5.8261376622984073,{"$f":"nT_NS_n0i_vi_X(vantHoff_EOS!$N$19,vantHoff_EOS!$O$31:$X$31,vantHoff_EOS!$O$23:$X$23,G97)","v":8.3409354402899574},{"$f":"IF(O$60<=vantHoff_EOS!$N$19,y_iindex_NS_n0i_vi_X(O$3,vantHoff_EOS!$N$19,vantHoff_EOS!$O$31:$X$31,vantHoff_EOS!$O$23:$X$23,$G97),\"-\")","v":5.6075262580240003E-5},{"$f":"IF(P$60<=vantHoff_EOS!$N$19,y_iindex_NS_n0i_vi_X(P$3,vantHoff_EOS!$N$19,vantHoff_EOS!$O$31:$X$31,vantHoff_EOS!$O$23:$X$23,$G97),\"-\")","v":5.6075262580240003E-5},{"$f":"IF(Q$60<=vantHoff_EOS!$N$19,y_iindex_NS_n0i_vi_X(Q$3,vantHoff_EOS!$N$19,vantHoff_EOS!$O$31:$X$31,vantHoff_EOS!$O$23:$X$23,$G97),\"-\")","v":5.6075262580240003E-5},{"$f":"IF(R$60<=vantHoff_EOS!$N$19,y_iindex_NS_n0i_vi_X(R$3,vantHoff_EOS!$N$19,vantHoff_EOS!$O$31:$X$31,vantHoff_EOS!$O$23:$X$23,$G97),\"-\")","v":0.11983455417085377},{"$f":"IF(S$60<=vantHoff_EOS!$N$19,y_iindex_NS_n0i_vi_X(S$3,vantHoff_EOS!$N$19,vantHoff_EOS!$O$31:$X$31,vantHoff_EOS!$O$23:$X$23,$G97),\"-\")","v":0.87999722004140557},{"$f":"IF(T$60<=vantHoff_EOS!$N$19,y_iindex_NS_n0i_vi_X(T$3,vantHoff_EOS!$N$19,vantHoff_EOS!$O$31:$X$31,vantHoff_EOS!$O$23:$X$23,$G97),\"-\")","v":"-"},{"$f":"IF(U$60<=vantHoff_EOS!$N$19,y_iindex_NS_n0i_vi_X(U$3,vantHoff_EOS!$N$19,vantHoff_EOS!$O$31:$X$31,vantHoff_EOS!$O$23:$X$23,$G97),\"-\")","v":"-"},{"$f":"IF(V$60<=vantHoff_EOS!$N$19,y_iindex_NS_n0i_vi_X(V$3,vantHoff_EOS!$N$19,vantHoff_EOS!$O$31:$X$31,vantHoff_EOS!$O$23:$X$23,$G97),\"-\")","v":"-"},{"$f":"IF(W$60<=vantHoff_EOS!$N$19,y_iindex_NS_n0i_vi_X(W$3,vantHoff_EOS!$N$19,vantHoff_EOS!$O$31:$X$31,vantHoff_EOS!$O$23:$X$23,$G97),\"-\")","v":"-"},{"$f":"IF(X$60<=vantHoff_EOS!$N$19,y_iindex_NS_n0i_vi_X(X$3,vantHoff_EOS!$N$19,vantHoff_EOS!$O$31:$X$31,vantHoff_EOS!$O$23:$X$23,$G97),\"-\")","v":"-"},1,{"$f":"IF(Z$60<=vantHoff_EOS!$N$19,Phi_i_NS_Tci_Pci_wi_kijm_TinC_PinPa_yi(Z$3,vantHoff_EOS!$N$19,vantHoff_EOS!$X$5:$X$14,vantHoff_EOS!$Y$5:$Y$14,vantHoff_EOS!$Z$5:$Z$14,vantHoff_EOS!$AE$5:$AN$14,$C$59,B97*1000000,$O97:$X97),\"-\")","v":3.3828638736457775},{"$f":"IF(AA$60<=vantHoff_EOS!$N$19,Phi_i_NS_Tci_Pci_wi_kijm_TinC_PinPa_yi(AA$3,vantHoff_EOS!$N$19,vantHoff_EOS!$X$5:$X$14,vantHoff_EOS!$Y$5:$Y$14,vantHoff_EOS!$Z$5:$Z$14,vantHoff_EOS!$AE$5:$AN$14,$C$59,B97*1000000,$O97:$X97),\"-\")","v":5.1328253663367125},{"$f":"IF(AB$60<=vantHoff_EOS!$N$19,Phi_i_NS_Tci_Pci_wi_kijm_TinC_PinPa_yi(AB$3,vantHoff_EOS!$N$19,vantHoff_EOS!$X$5:$X$14,vantHoff_EOS!$Y$5:$Y$14,vantHoff_EOS!$Z$5:$Z$14,vantHoff_EOS!$AE$5:$AN$14,$C$59,B97*1000000,$O97:$X97),\"-\")","v":0.18554311290416101},{"$f":"IF(AC$60<=vantHoff_EOS!$N$19,Phi_i_NS_Tci_Pci_wi_kijm_TinC_PinPa_yi(AC$3,vantHoff_EOS!$N$19,vantHoff_EOS!$X$5:$X$14,vantHoff_EOS!$Y$5:$Y$14,vantHoff_EOS!$Z$5:$Z$14,vantHoff_EOS!$AE$5:$AN$14,$C$59,B97*1000000,$O97:$X97),\"-\")","v":9.5022491118552394E-3},{"$f":"IF(AD$60<=vantHoff_EOS!$N$19,Phi_i_NS_Tci_Pci_wi_kijm_TinC_PinPa_yi(AD$3,vantHoff_EOS!$N$19,vantHoff_EOS!$X$5:$X$14,vantHoff_EOS!$Y$5:$Y$14,vantHoff_EOS!$Z$5:$Z$14,vantHoff_EOS!$AE$5:$AN$14,$C$59,B97*1000000,$O97:$X97),\"-\")","v":0.5443517277528187},{"$f":"IF(AE$60<=vantHoff_EOS!$N$19,Phi_i_NS_Tci_Pci_wi_kijm_TinC_PinPa_yi(AE$3,vantHoff_EOS!$N$19,vantHoff_EOS!$X$5:$X$14,vantHoff_EOS!$Y$5:$Y$14,vantHoff_EOS!$Z$5:$Z$14,vantHoff_EOS!$AE$5:$AN$14,$C$59,B97*1000000,$O97:$X97),\"-\")","v":"-"},{"$f":"IF(AF$60<=vantHoff_EOS!$N$19,Phi_i_NS_Tci_Pci_wi_kijm_TinC_PinPa_yi(AF$3,vantHoff_EOS!$N$19,vantHoff_EOS!$X$5:$X$14,vantHoff_EOS!$Y$5:$Y$14,vantHoff_EOS!$Z$5:$Z$14,vantHoff_EOS!$AE$5:$AN$14,$C$59,B97*1000000,$O97:$X97),\"-\")","v":"-"},{"$f":"IF(AG$60<=vantHoff_EOS!$N$19,Phi_i_NS_Tci_Pci_wi_kijm_TinC_PinPa_yi(AG$3,vantHoff_EOS!$N$19,vantHoff_EOS!$X$5:$X$14,vantHoff_EOS!$Y$5:$Y$14,vantHoff_EOS!$Z$5:$Z$14,vantHoff_EOS!$AE$5:$AN$14,$C$59,B97*1000000,$O97:$X97),\"-\")","v":"-"},{"$f":"IF(AH$60<=vantHoff_EOS!$N$19,Phi_i_NS_Tci_Pci_wi_kijm_TinC_PinPa_yi(AH$3,vantHoff_EOS!$N$19,vantHoff_EOS!$X$5:$X$14,vantHoff_EOS!$Y$5:$Y$14,vantHoff_EOS!$Z$5:$Z$14,vantHoff_EOS!$AE$5:$AN$14,$C$59,B97*1000000,$O97:$X97),\"-\")","v":"-"},{"$f":"IF(AI$60<=vantHoff_EOS!$N$19,Phi_i_NS_Tci_Pci_wi_kijm_TinC_PinPa_yi(AI$3,vantHoff_EOS!$N$19,vantHoff_EOS!$X$5:$X$14,vantHoff_EOS!$Y$5:$Y$14,vantHoff_EOS!$Z$5:$Z$14,vantHoff_EOS!$AE$5:$AN$14,$C$59,B97*1000000,$O97:$X97),\"-\")","v":"-"}]
[38,{"$f":"B97+vantHoff_EOS!$E$31","v":15.399999999999974},333.15,3.0016509079993999E-3,{"$f":"lnKaT_Tref_lnKaTref_dHTref_da_db_dc_dd_de_TinC(vantHoff_EOS!$E$7,vantHoff_EOS!$B$9,vantHoff_EOS!$B$6,vantHoff_EOS!$O$27,vantHoff_EOS!$P$27,vantHoff_EOS!$Q$27,vantHoff_EOS!$R$27,vantHoff_EOS!$S$27,$C$59)","v":11.370905491151026},86760.392694887007,{"$f":"MolarExtentX_NS_vi_n0i_dHfi_dGfi_TrefinC_da_db_dc_dd_de_Tci_Pci_wi_kijm_TinC_PinPa(vantHoff_EOS!$N$19,vantHoff_EOS!$O$23:$X$23,vantHoff_EOS!$O$31:$X$31,vantHoff_EOS!$T$5:$T$14,vantHoff_EOS!$U$5:$U$14,vantHoff_EOS!$E$7,vantHoff_EOS!$O$27,vantHoff_EOS!$P$27,vantHoff_EOS!$Q$27,vantHoff_EOS!$R$27,vantHoff_EOS!$S$27,vantHoff_EOS!$X$5:$X$14,vantHoff_EOS!$Y$5:$Y$14,vantHoff_EOS!$Z$5:$Z$14,vantHoff_EOS!$AE$5:$AN$14,$C$59,B98*1000000)","v":0.99953541950476621},{"$f":"Ky_NS_n0i_vi_X(vantHoff_EOS!$N$19,vantHoff_EOS!$O$31:$X$31,vantHoff_EOS!$O$23:$X$23,G98)","v":693496280515.10486},{"$f":"Kp_NS_vi_PinPa(vantHoff_EOS!$N$19,vantHoff_EOS!$O$23:$X$23,B98*1000000)","v":4.2165626581211138E-5},{"$f":"Kphi_NS_n0i_vi_X_Tci_Pci_wi_kijm_TinC_PinPa(vantHoff_EOS!$N$19,vantHoff_EOS!$O$31:$X$31,vantHoff_EOS!$O$23:$X$23,G98,vantHoff_EOS!$X$5:$X$14,vantHoff_EOS!$Y$5:$Y$14,vantHoff_EOS!$Z$5:$Z$14,vantHoff_EOS!$AE$5:$AN$14,$C$59,B98*1000000)","v":2.9670086252729664E-3},27.265011713334506,-10.073905204827255,-5.8202010306089331,{"$f":"nT_NS_n0i_vi_X(vantHoff_EOS!$N$19,vantHoff_EOS!$O$31:$X$31,vantHoff_EOS!$O$23:$X$23,G98)","v":8.3409291609904681},{"$f":"IF(O$60<=vantHoff_EOS!$N$19,y_iindex_NS_n0i_vi_X(O$3,vantHoff_EOS!$N$19,vantHoff_EOS!$O$31:$X$31,vantHoff_EOS!$O$23:$X$23,$G98),\"-\")","v":5.5698889927824616E-5},{"$f":"IF(P$60<=vantHoff_EOS!$N$19,y_iindex_NS_n0i_vi_X(P$3,vantHoff_EOS!$N$19,vantHoff_EOS!$O$31:$X$31,vantHoff_EOS!$O$23:$X$23,$G98),\"-\")","v":5.5698889927824616E-5},{"$f":"IF(Q$60<=vantHoff_EOS!$N$19,y_iindex_NS_n0i_vi_X(Q$3,vantHoff_EOS!$N$19,vantHoff_EOS!$O$31:$X$31,vantHoff_EOS!$O$23:$X$23,$G98),\"-\")","v":5.5698889927824616E-5},{"$f":"IF(R$60<=vantHoff_EOS!$N$19,y_iindex_NS_n0i_vi_X(R$3,vantHoff_EOS!$N$19,vantHoff_EOS!$O$31:$X$31,vantHoff_EOS!$O$23:$X$23,$G98),\"-\")","v":0.11983502080073696},{"$f":"IF(S$60<=vantHoff_EOS!$N$19,y_iindex_NS_n0i_vi_X(S$3,vantHoff_EOS!$N$19,vantHoff_EOS!$O$31:$X$31,vantHoff_EOS!$O$23:$X$23,$G98),\"-\")","v":0.87999788252947952},{"$f":"IF(T$60<=vantHoff_EOS!$N$19,y_iindex_NS_n0i_vi_X(T$3,vantHoff_EOS!$N$19,vantHoff_EOS!$O$31:$X$31,vantHoff_EOS!$O$23:$X$23,$G98),\"-\")","v":"-"},{"$f":"IF(U$60<=vantHoff_EOS!$N$19,y_iindex_NS_n0i_vi_X(U$3,vantHoff_EOS!$N$19,vantHoff_EOS!$O$31:$X$31,vantHoff_EOS!$O$23:$X$23,$G98),\"-\")","v":"-"},{"$f":"IF(V$60<=vantHoff_EOS!$N$19,y_iindex_NS_n0i_vi_X(V$3,vantHoff_EOS!$N$19,vantHoff_EOS!$O$31:$X$31,vantHoff_EOS!$O$23:$X$23,$G98),\"-\")","v":"-"},{"$f":"IF(W$60<=vantHoff_EOS!$N$19,y_iindex_NS_n0i_vi_X(W$3,vantHoff_EOS!$N$19,vantHoff_EOS!$O$31:$X$31,vantHoff_EOS!$O$23:$X$23,$G98),\"-\")","v":"-"},{"$f":"IF(X$60<=vantHoff_EOS!$N$19,y_iindex_NS_n0i_vi_X(X$3,vantHoff_EOS!$N$19,vantHoff_EOS!$O$31:$X$31,vantHoff_EOS!$O$23:$X$23,$G98),\"-\")","v":"-"},1,{"$f":"IF(Z$60<=vantHoff_EOS!$N$19,Phi_i_NS_Tci_Pci_wi_kijm_TinC_PinPa_yi(Z$3,vantHoff_EOS!$N$19,vantHoff_EOS!$X$5:$X$14,vantHoff_EOS!$Y$5:$Y$14,vantHoff_EOS!$Z$5:$Z$14,vantHoff_EOS!$AE$5:$AN$14,$C$59,B98*1000000,$O98:$X98),\"-\")","v":3.3692422736835419},{"$f":"IF(AA$60<=vantHoff_EOS!$N$19,Phi_i_NS_Tci_Pci_wi_kijm_TinC_PinPa_yi(AA$3,vantHoff_EOS!$N$19,vantHoff_EOS!$X$5:$X$14,vantHoff_EOS!$Y$5:$Y$14,vantHoff_EOS!$Z$5:$Z$14,vantHoff_EOS!$AE$5:$AN$14,$C$59,B98*1000000,$O98:$X98),\"-\")","v":5.1111190519027057},{"$f":"IF(AB$60<=vantHoff_EOS!$N$19,Phi_i_NS_Tci_Pci_wi_kijm_TinC_PinPa_yi(AB$3,vantHoff_EOS!$N$19,vantHoff_EOS!$X$5:$X$14,vantHoff_EOS!$Y$5:$Y$14,vantHoff_EOS!$Z$5:$Z$14,vantHoff_EOS!$AE$5:$AN$14,$C$59,B98*1000000,$O98:$X98),\"-\")","v":0.18419548738861335},{"$f":"IF(AC$60<=vantHoff_EOS!$N$19,Phi_i_NS_Tci_Pci_wi_kijm_TinC_PinPa_yi(AC$3,vantHoff_EOS!$N$19,vantHoff_EOS!$X$5:$X$14,vantHoff_EOS!$Y$5:$Y$14,vantHoff_EOS!$Z$5:$Z$14,vantHoff_EOS!$AE$5:$AN$14,$C$59,B98*1000000,$O98:$X98),\"-\")","v":9.4112223268274092E-3},{"$f":"IF(AD$60<=vantHoff_EOS!$N$19,Phi_i_NS_Tci_Pci_wi_kijm_TinC_PinPa_yi(AD$3,vantHoff_EOS!$N$19,vantHoff_EOS!$X$5:$X$14,vantHoff_EOS!$Y$5:$Y$14,vantHoff_EOS!$Z$5:$Z$14,vantHoff_EOS!$AE$5:$AN$14,$C$59,B98*1000000,$O98:$X98),\"-\")","v":0.53984734376825139},{"$f":"IF(AE$60<=vantHoff_EOS!$N$19,Phi_i_NS_Tci_Pci_wi_kijm_TinC_PinPa_yi(AE$3,vantHoff_EOS!$N$19,vantHoff_EOS!$X$5:$X$14,vantHoff_EOS!$Y$5:$Y$14,vantHoff_EOS!$Z$5:$Z$14,vantHoff_EOS!$AE$5:$AN$14,$C$59,B98*1000000,$O98:$X98),\"-\")","v":"-"},{"$f":"IF(AF$60<=vantHoff_EOS!$N$19,Phi_i_NS_Tci_Pci_wi_kijm_TinC_PinPa_yi(AF$3,vantHoff_EOS!$N$19,vantHoff_EOS!$X$5:$X$14,vantHoff_EOS!$Y$5:$Y$14,vantHoff_EOS!$Z$5:$Z$14,vantHoff_EOS!$AE$5:$AN$14,$C$59,B98*1000000,$O98:$X98),\"-\")","v":"-"},{"$f":"IF(AG$60<=vantHoff_EOS!$N$19,Phi_i_NS_Tci_Pci_wi_kijm_TinC_PinPa_yi(AG$3,vantHoff_EOS!$N$19,vantHoff_EOS!$X$5:$X$14,vantHoff_EOS!$Y$5:$Y$14,vantHoff_EOS!$Z$5:$Z$14,vantHoff_EOS!$AE$5:$AN$14,$C$59,B98*1000000,$O98:$X98),\"-\")","v":"-"},{"$f":"IF(AH$60<=vantHoff_EOS!$N$19,Phi_i_NS_Tci_Pci_wi_kijm_TinC_PinPa_yi(AH$3,vantHoff_EOS!$N$19,vantHoff_EOS!$X$5:$X$14,vantHoff_EOS!$Y$5:$Y$14,vantHoff_EOS!$Z$5:$Z$14,vantHoff_EOS!$AE$5:$AN$14,$C$59,B98*1000000,$O98:$X98),\"-\")","v":"-"},{"$f":"IF(AI$60<=vantHoff_EOS!$N$19,Phi_i_NS_Tci_Pci_wi_kijm_TinC_PinPa_yi(AI$3,vantHoff_EOS!$N$19,vantHoff_EOS!$X$5:$X$14,vantHoff_EOS!$Y$5:$Y$14,vantHoff_EOS!$Z$5:$Z$14,vantHoff_EOS!$AE$5:$AN$14,$C$59,B98*1000000,$O98:$X98),\"-\")","v":"-"}]
[39,{"$f":"B98+vantHoff_EOS!$E$31","v":15.599999999999973},333.15,3.0016509079993999E-3,{"$f":"lnKaT_Tref_lnKaTref_dHTref_da_db_dc_dd_de_TinC(vantHoff_EOS!$E$7,vantHoff_EOS!$B$9,vantHoff_EOS!$B$6,vantHoff_EOS!$O$27,vantHoff_EOS!$P$27,vantHoff_EOS!$Q$27,vantHoff_EOS!$R$27,vantHoff_EOS!$S$27,$C$59)","v":11.370905491151026},86760.392694887007,{"$f":"MolarExtentX_NS_vi_n0i_dHfi_dGfi_TrefinC_da_db_dc_dd_de_Tci_Pci_wi_kijm_TinC_PinPa(vantHoff_EOS!$N$19,vantHoff_EOS!$O$23:$X$23,vantHoff_EOS!$O$31:$X$31,vantHoff_EOS!$T$5:$T$14,vantHoff_EOS!$U$5:$U$14,vantHoff_EOS!$E$7,vantHoff_EOS!$O$27,vantHoff_EOS!$P$27,vantHoff_EOS!$Q$27,vantHoff_EOS!$R$27,vantHoff_EOS!$S$27,vantHoff_EOS!$X$5:$X$14,vantHoff_EOS!$Y$5:$Y$14,vantHoff_EOS!$Z$5:$Z$14,vantHoff_EOS!$AE$5:$AN$14,$C$59,B99*1000000)","v":0.99953848848354709},{"$f":"Ky_NS_n0i_vi_X(vantHoff_EOS!$N$19,vantHoff_EOS!$O$31:$X$31,vantHoff_EOS!$O$23:$X$23,G99)","v":707424538005.68542},{"$f":"Kp_NS_vi_PinPa(vantHoff_EOS!$N$19,vantHoff_EOS!$O$23:$X$23,B99*1000000)","v":4.1091387245233523E-5},{"$f":"Kphi_NS_n0i_vi_X_Tci_Pci_wi_kijm_TinC_PinPa(vantHoff_EOS!$N$19,vantHoff_EOS!$O$31:$X$31,vantHoff_EOS!$O$23:$X$23,G99,vantHoff_EOS!$X$5:$X$14,vantHoff_EOS!$Y$5:$Y$14,vantHoff_EOS!$Z$5:$Z$14,vantHoff_EOS!$AE$5:$AN$14,$C$59,B99*1000000)","v":2.9846305506934022E-3},27.284896800712581,-10.099712014499071,-5.8142793084094642,{"$f":"nT_NS_n0i_vi_X(vantHoff_EOS!$N$19,vantHoff_EOS!$O$31:$X$31,vantHoff_EOS!$O$23:$X$23,G99)","v":8.3409230230329054},{"$f":"IF(O$60<=vantHoff_EOS!$N$19,y_iindex_NS_n0i_vi_X(O$3,vantHoff_EOS!$N$19,vantHoff_EOS!$O$31:$X$31,vantHoff_EOS!$O$23:$X$23,$G99),\"-\")","v":5.5330988570266453E-5},{"$f":"IF(P$60<=vantHoff_EOS!$N$19,y_iindex_NS_n0i_vi_X(P$3,vantHoff_EOS!$N$19,vantHoff_EOS!$O$31:$X$31,vantHoff_EOS!$O$23:$X$23,$G99),\"-\")","v":5.5330988570266453E-5},{"$f":"IF(Q$60<=vantHoff_EOS!$N$19,y_iindex_NS_n0i_vi_X(Q$3,vantHoff_EOS!$N$19,vantHoff_EOS!$O$31:$X$31,vantHoff_EOS!$O$23:$X$23,$G99),\"-\")","v":5.5330988570266453E-5},{"$f":"IF(R$60<=vantHoff_EOS!$N$19,y_iindex_NS_n0i_vi_X(R$3,vantHoff_EOS!$N$19,vantHoff_EOS!$O$31:$X$31,vantHoff_EOS!$O$23:$X$23,$G99),\"-\")","v":0.11983547692783975},{"$f":"IF(S$60<=vantHoff_EOS!$N$19,y_iindex_NS_n0i_vi_X(S$3,vantHoff_EOS!$N$19,vantHoff_EOS!$O$31:$X$31,vantHoff_EOS!$O$23:$X$23,$G99),\"-\")","v":0.87999853010644946},{"$f":"IF(T$60<=vantHoff_EOS!$N$19,y_iindex_NS_n0i_vi_X(T$3,vantHoff_EOS!$N$19,vantHoff_EOS!$O$31:$X$31,vantHoff_EOS!$O$23:$X$23,$G99),\"-\")","v":"-"},{"$f":"IF(U$60<=vantHoff_EOS!$N$19,y_iindex_NS_n0i_vi_X(U$3,vantHoff_EOS!$N$19,vantHoff_EOS!$O$31:$X$31,vantHoff_EOS!$O$23:$X$23,$G99),\"-\")","v":"-"},{"$f":"IF(V$60<=vantHoff_EOS!$N$19,y_iindex_NS_n0i_vi_X(V$3,vantHoff_EOS!$N$19,vantHoff_EOS!$O$31:$X$31,vantHoff_EOS!$O$23:$X$23,$G99),\"-\")","v":"-"},{"$f":"IF(W$60<=vantHoff_EOS!$N$19,y_iindex_NS_n0i_vi_X(W$3,vantHoff_EOS!$N$19,vantHoff_EOS!$O$31:$X$31,vantHoff_EOS!$O$23:$X$23,$G99),\"-\")","v":"-"},{"$f":"IF(X$60<=vantHoff_EOS!$N$19,y_iindex_NS_n0i_vi_X(X$3,vantHoff_EOS!$N$19,vantHoff_EOS!$O$31:$X$31,vantHoff_EOS!$O$23:$X$23,$G99),\"-\")","v":"-"},1,{"$f":"IF(Z$60<=vantHoff_EOS!$N$19,Phi_i_NS_Tci_Pci_wi_kijm_TinC_PinPa_yi(Z$3,vantHoff_EOS!$N$19,vantHoff_EOS!$X$5:$X$14,vantHoff_EOS!$Y$5:$Y$14,vantHoff_EOS!$Z$5:$Z$14,vantHoff_EOS!$AE$5:$AN$14,$C$59,B99*1000000,$O99:$X99),\"-\")","v":3.3558825125171601},{"$f":"IF(AA$60<=vantHoff_EOS!$N$19,Phi_i_NS_Tci_Pci_wi_kijm_TinC_PinPa_yi(AA$3,vantHoff_EOS!$N$19,vantHoff_EOS!$X$5:$X$14,vantHoff_EOS!$Y$5:$Y$14,vantHoff_EOS!$Z$5:$Z$14,vantHoff_EOS!$AE$5:$AN$14,$C$59,B99*1000000,$O99:$X99),\"-\")","v":5.0897652666925355},{"$f":"IF(AB$60<=vantHoff_EOS!$N$19,Phi_i_NS_Tci_Pci_wi_kijm_TinC_PinPa_yi(AB$3,vantHoff_EOS!$N$19,vantHoff_EOS!$X$5:$X$14,vantHoff_EOS!$Y$5:$Y$14,vantHoff_EOS!$Z$5:$Z$14,vantHoff_EOS!$AE$5:$AN$14,$C$59,B99*1000000,$O99:$X99),\"-\")","v":0.18288754246546804},{"$f":"IF(AC$60<=vantHoff_EOS!$N$19,Phi_i_NS_Tci_Pci_wi_kijm_TinC_PinPa_yi(AC$3,vantHoff_EOS!$N$19,vantHoff_EOS!$X$5:$X$14,vantHoff_EOS!$Y$5:$Y$14,vantHoff_EOS!$Z$5:$Z$14,vantHoff_EOS!$AE$5:$AN$14,$C$59,B99*1000000,$O99:$X99),\"-\")","v":9.3235049558697929E-3},{"$f":"IF(AD$60<=vantHoff_EOS!$N$19,Phi_i_NS_Tci_Pci_wi_kijm_TinC_PinPa_yi(AD$3,vantHoff_EOS!$N$19,vantHoff_EOS!$X$5:$X$14,vantHoff_EOS!$Y$5:$Y$14,vantHoff_EOS!$Z$5:$Z$14,vantHoff_EOS!$AE$5:$AN$14,$C$59,B99*1000000,$O99:$X99),\"-\")","v":0.53545495142556565},{"$f":"IF(AE$60<=vantHoff_EOS!$N$19,Phi_i_NS_Tci_Pci_wi_kijm_TinC_PinPa_yi(AE$3,vantHoff_EOS!$N$19,vantHoff_EOS!$X$5:$X$14,vantHoff_EOS!$Y$5:$Y$14,vantHoff_EOS!$Z$5:$Z$14,vantHoff_EOS!$AE$5:$AN$14,$C$59,B99*1000000,$O99:$X99),\"-\")","v":"-"},{"$f":"IF(AF$60<=vantHoff_EOS!$N$19,Phi_i_NS_Tci_Pci_wi_kijm_TinC_PinPa_yi(AF$3,vantHoff_EOS!$N$19,vantHoff_EOS!$X$5:$X$14,vantHoff_EOS!$Y$5:$Y$14,vantHoff_EOS!$Z$5:$Z$14,vantHoff_EOS!$AE$5:$AN$14,$C$59,B99*1000000,$O99:$X99),\"-\")","v":"-"},{"$f":"IF(AG$60<=vantHoff_EOS!$N$19,Phi_i_NS_Tci_Pci_wi_kijm_TinC_PinPa_yi(AG$3,vantHoff_EOS!$N$19,vantHoff_EOS!$X$5:$X$14,vantHoff_EOS!$Y$5:$Y$14,vantHoff_EOS!$Z$5:$Z$14,vantHoff_EOS!$AE$5:$AN$14,$C$59,B99*1000000,$O99:$X99),\"-\")","v":"-"},{"$f":"IF(AH$60<=vantHoff_EOS!$N$19,Phi_i_NS_Tci_Pci_wi_kijm_TinC_PinPa_yi(AH$3,vantHoff_EOS!$N$19,vantHoff_EOS!$X$5:$X$14,vantHoff_EOS!$Y$5:$Y$14,vantHoff_EOS!$Z$5:$Z$14,vantHoff_EOS!$AE$5:$AN$14,$C$59,B99*1000000,$O99:$X99),\"-\")","v":"-"},{"$f":"IF(AI$60<=vantHoff_EOS!$N$19,Phi_i_NS_Tci_Pci_wi_kijm_TinC_PinPa_yi(AI$3,vantHoff_EOS!$N$19,vantHoff_EOS!$X$5:$X$14,vantHoff_EOS!$Y$5:$Y$14,vantHoff_EOS!$Z$5:$Z$14,vantHoff_EOS!$AE$5:$AN$14,$C$59,B99*1000000,$O99:$X99),\"-\")","v":"-"}]
[40,{"$f":"B99+vantHoff_EOS!$E$31","v":15.799999999999972},333.15,3.0016509079993999E-3,{"$f":"lnKaT_Tref_lnKaTref_dHTref_da_db_dc_dd_de_TinC(vantHoff_EOS!$E$7,vantHoff_EOS!$B$9,vantHoff_EOS!$B$6,vantHoff_EOS!$O$27,vantHoff_EOS!$P$27,vantHoff_EOS!$Q$27,vantHoff_EOS!$R$27,vantHoff_EOS!$S$27,$C$59)","v":11.370905491151026},86760.392694887007,{"$f":"MolarExtentX_NS_vi_n0i_dHfi_dGfi_TrefinC_da_db_dc_dd_de_Tci_Pci_wi_kijm_TinC_PinPa(vantHoff_EOS!$N$19,vantHoff_EOS!$O$23:$X$23,vantHoff_EOS!$O$31:$X$31,vantHoff_EOS!$T$5:$T$14,vantHoff_EOS!$U$5:$U$14,vantHoff_EOS!$E$7,vantHoff_EOS!$O$27,vantHoff_EOS!$P$27,vantHoff_EOS!$Q$27,vantHoff_EOS!$R$27,vantHoff_EOS!$S$27,vantHoff_EOS!$X$5:$X$14,vantHoff_EOS!$Y$5:$Y$14,vantHoff_EOS!$Z$5:$Z$14,vantHoff_EOS!$AE$5:$AN$14,$C$59,B100*1000000)","v":0.99954148970163359},{"$f":"Ky_NS_n0i_vi_X(vantHoff_EOS!$N$19,vantHoff_EOS!$O$31:$X$31,vantHoff_EOS!$O$23:$X$23,G100)","v":721408314456.80823},{"$f":"Kp_NS_vi_PinPa(vantHoff_EOS!$N$19,vantHoff_EOS!$O$23:$X$23,B100*1000000)","v":4.0057683063611735E-5},{"$f":"Kphi_NS_n0i_vi_X_Tci_Pci_wi_kijm_TinC_PinPa(vantHoff_EOS!$N$19,vantHoff_EOS!$O$31:$X$31,vantHoff_EOS!$O$23:$X$23,G100,vantHoff_EOS!$X$5:$X$14,vantHoff_EOS!$Y$5:$Y$14,vantHoff_EOS!$Z$5:$Z$14,vantHoff_EOS!$AE$5:$AN$14,$C$59,B100*1000000)","v":3.0023030934115862E-3},27.30447113079552,-10.12519006605393,-5.8083755870393947,{"$f":"nT_NS_n0i_vi_X(vantHoff_EOS!$N$19,vantHoff_EOS!$O$31:$X$31,vantHoff_EOS!$O$23:$X$23,G100)","v":8.3409170205967325},{"$f":"IF(O$60<=vantHoff_EOS!$N$19,y_iindex_NS_n0i_vi_X(O$3,vantHoff_EOS!$N$19,vantHoff_EOS!$O$31:$X$31,vantHoff_EOS!$O$23:$X$23,$G100),\"-\")","v":5.4971209668455272E-5},{"$f":"IF(P$60<=vantHoff_EOS!$N$19,y_iindex_NS_n0i_vi_X(P$3,vantHoff_EOS!$N$19,vantHoff_EOS!$O$31:$X$31,vantHoff_EOS!$O$23:$X$23,$G100),\"-\")","v":5.4971209668455272E-5},{"$f":"IF(Q$60<=vantHoff_EOS!$N$19,y_iindex_NS_n0i_vi_X(Q$3,vantHoff_EOS!$N$19,vantHoff_EOS!$O$31:$X$31,vantHoff_EOS!$O$23:$X$23,$G100),\"-\")","v":5.4971209668455272E-5},{"$f":"IF(R$60<=vantHoff_EOS!$N$19,y_iindex_NS_n0i_vi_X(R$3,vantHoff_EOS!$N$19,vantHoff_EOS!$O$31:$X$31,vantHoff_EOS!$O$23:$X$23,$G100),\"-\")","v":0.11983592298465566},{"$f":"IF(S$60<=vantHoff_EOS!$N$19,y_iindex_NS_n0i_vi_X(S$3,vantHoff_EOS!$N$19,vantHoff_EOS!$O$31:$X$31,vantHoff_EOS!$O$23:$X$23,$G100),\"-\")","v":0.87999916338633899},{"$f":"IF(T$60<=vantHoff_EOS!$N$19,y_iindex_NS_n0i_vi_X(T$3,vantHoff_EOS!$N$19,vantHoff_EOS!$O$31:$X$31,vantHoff_EOS!$O$23:$X$23,$G100),\"-\")","v":"-"},{"$f":"IF(U$60<=vantHoff_EOS!$N$19,y_iindex_NS_n0i_vi_X(U$3,vantHoff_EOS!$N$19,vantHoff_EOS!$O$31:$X$31,vantHoff_EOS!$O$23:$X$23,$G100),\"-\")","v":"-"},{"$f":"IF(V$60<=vantHoff_EOS!$N$19,y_iindex_NS_n0i_vi_X(V$3,vantHoff_EOS!$N$19,vantHoff_EOS!$O$31:$X$31,vantHoff_EOS!$O$23:$X$23,$G100),\"-\")","v":"-"},{"$f":"IF(W$60<=vantHoff_EOS!$N$19,y_iindex_NS_n0i_vi_X(W$3,vantHoff_EOS!$N$19,vantHoff_EOS!$O$31:$X$31,vantHoff_EOS!$O$23:$X$23,$G100),\"-\")","v":"-"},{"$f":"IF(X$60<=vantHoff_EOS!$N$19,y_iindex_NS_n0i_vi_X(X$3,vantHoff_EOS!$N$19,vantHoff_EOS!$O$31:$X$31,vantHoff_EOS!$O$23:$X$23,$G100),\"-\")","v":"-"},1,{"$f":"IF(Z$60<=vantHoff_EOS!$N$19,Phi_i_NS_Tci_Pci_wi_kijm_TinC_PinPa_yi(Z$3,vantHoff_EOS!$N$19,vantHoff_EOS!$X$5:$X$14,vantHoff_EOS!$Y$5:$Y$14,vantHoff_EOS!$Z$5:$Z$14,vantHoff_EOS!$AE$5:$AN$14,$C$59,B100*1000000,$O100:$X100),\"-\")","v":3.342780047726261},{"$f":"IF(AA$60<=vantHoff_EOS!$N$19,Phi_i_NS_Tci_Pci_wi_kijm_TinC_PinPa_yi(AA$3,vantHoff_EOS!$N$19,vantHoff_EOS!$X$5:$X$14,vantHoff_EOS!$Y$5:$Y$14,vantHoff_EOS!$Z$5:$Z$14,vantHoff_EOS!$AE$5:$AN$14,$C$59,B100*1000000,$O100:$X100),\"-\")","v":5.0687597231607775},{"$f":"IF(AB$60<=vantHoff_EOS!$N$19,Phi_i_NS_Tci_Pci_wi_kijm_TinC_PinPa_yi(AB$3,vantHoff_EOS!$N$19,vantHoff_EOS!$X$5:$X$14,vantHoff_EOS!$Y$5:$Y$14,vantHoff_EOS!$Z$5:$Z$14,vantHoff_EOS!$AE$5:$AN$14,$C$59,B100*1000000,$O100:$X100),\"-\")","v":0.18161776748806382},{"$f":"IF(AC$60<=vantHoff_EOS!$N$19,Phi_i_NS_Tci_Pci_wi_kijm_TinC_PinPa_yi(AC$3,vantHoff_EOS!$N$19,vantHoff_EOS!$X$5:$X$14,vantHoff_EOS!$Y$5:$Y$14,vantHoff_EOS!$Z$5:$Z$14,vantHoff_EOS!$AE$5:$AN$14,$C$59,B100*1000000,$O100:$X100),\"-\")","v":9.2389448043116735E-3},{"$f":"IF(AD$60<=vantHoff_EOS!$N$19,Phi_i_NS_Tci_Pci_wi_kijm_TinC_PinPa_yi(AD$3,vantHoff_EOS!$N$19,vantHoff_EOS!$X$5:$X$14,vantHoff_EOS!$Y$5:$Y$14,vantHoff_EOS!$Z$5:$Z$14,vantHoff_EOS!$AE$5:$AN$14,$C$59,B100*1000000,$O100:$X100),\"-\")","v":0.53117061419472122},{"$f":"IF(AE$60<=vantHoff_EOS!$N$19,Phi_i_NS_Tci_Pci_wi_kijm_TinC_PinPa_yi(AE$3,vantHoff_EOS!$N$19,vantHoff_EOS!$X$5:$X$14,vantHoff_EOS!$Y$5:$Y$14,vantHoff_EOS!$Z$5:$Z$14,vantHoff_EOS!$AE$5:$AN$14,$C$59,B100*1000000,$O100:$X100),\"-\")","v":"-"},{"$f":"IF(AF$60<=vantHoff_EOS!$N$19,Phi_i_NS_Tci_Pci_wi_kijm_TinC_PinPa_yi(AF$3,vantHoff_EOS!$N$19,vantHoff_EOS!$X$5:$X$14,vantHoff_EOS!$Y$5:$Y$14,vantHoff_EOS!$Z$5:$Z$14,vantHoff_EOS!$AE$5:$AN$14,$C$59,B100*1000000,$O100:$X100),\"-\")","v":"-"},{"$f":"IF(AG$60<=vantHoff_EOS!$N$19,Phi_i_NS_Tci_Pci_wi_kijm_TinC_PinPa_yi(AG$3,vantHoff_EOS!$N$19,vantHoff_EOS!$X$5:$X$14,vantHoff_EOS!$Y$5:$Y$14,vantHoff_EOS!$Z$5:$Z$14,vantHoff_EOS!$AE$5:$AN$14,$C$59,B100*1000000,$O100:$X100),\"-\")","v":"-"},{"$f":"IF(AH$60<=vantHoff_EOS!$N$19,Phi_i_NS_Tci_Pci_wi_kijm_TinC_PinPa_yi(AH$3,vantHoff_EOS!$N$19,vantHoff_EOS!$X$5:$X$14,vantHoff_EOS!$Y$5:$Y$14,vantHoff_EOS!$Z$5:$Z$14,vantHoff_EOS!$AE$5:$AN$14,$C$59,B100*1000000,$O100:$X100),\"-\")","v":"-"},{"$f":"IF(AI$60<=vantHoff_EOS!$N$19,Phi_i_NS_Tci_Pci_wi_kijm_TinC_PinPa_yi(AI$3,vantHoff_EOS!$N$19,vantHoff_EOS!$X$5:$X$14,vantHoff_EOS!$Y$5:$Y$14,vantHoff_EOS!$Z$5:$Z$14,vantHoff_EOS!$AE$5:$AN$14,$C$59,B100*1000000,$O100:$X100),\"-\")","v":"-"}]
[41,{"$f":"B100+vantHoff_EOS!$E$31","v":15.999999999999972},333.15,3.0016509079993999E-3,{"$f":"lnKaT_Tref_lnKaTref_dHTref_da_db_dc_dd_de_TinC(vantHoff_EOS!$E$7,vantHoff_EOS!$B$9,vantHoff_EOS!$B$6,vantHoff_EOS!$O$27,vantHoff_EOS!$P$27,vantHoff_EOS!$Q$27,vantHoff_EOS!$R$27,vantHoff_EOS!$S$27,$C$59)","v":11.370905491151026},86760.392694887007,{"$f":"MolarExtentX_NS_vi_n0i_dHfi_dGfi_TrefinC_da_db_dc_dd_de_Tci_Pci_wi_kijm_TinC_PinPa(vantHoff_EOS!$N$19,vantHoff_EOS!$O$23:$X$23,vantHoff_EOS!$O$31:$X$31,vantHoff_EOS!$T$5:$T$14,vantHoff_EOS!$U$5:$U$14,vantHoff_EOS!$E$7,vantHoff_EOS!$O$27,vantHoff_EOS!$P$27,vantHoff_EOS!$Q$27,vantHoff_EOS!$R$27,vantHoff_EOS!$S$27,vantHoff_EOS!$X$5:$X$14,vantHoff_EOS!$Y$5:$Y$14,vantHoff_EOS!$Z$5:$Z$14,vantHoff_EOS!$AE$5:$AN$14,$C$59,B101*1000000)","v":0.99954442589495784},{"$f":"Ky_NS_n0i_vi_X(vantHoff_EOS!$N$19,vantHoff_EOS!$O$31:$X$31,vantHoff_EOS!$O$23:$X$23,G101)","v":735448047463.48926},{"$f":"Kp_NS_vi_PinPa(vantHoff_EOS!$N$19,vantHoff_EOS!$O$23:$X$23,B101*1000000)","v":3.9062500000000136E-5},{"$f":"Kphi_NS_n0i_vi_X_Tci_Pci_wi_kijm_TinC_PinPa(vantHoff_EOS!$N$19,vantHoff_EOS!$O$31:$X$31,vantHoff_EOS!$O$23:$X$23,G101,vantHoff_EOS!$X$5:$X$14,vantHoff_EOS!$Y$5:$Y$14,vantHoff_EOS!$Z$5:$Z$14,vantHoff_EOS!$AE$5:$AN$14,$C$59,B101*1000000)","v":3.0200175668979477E-3},27.323745738821419,-10.15034763046765,-5.8024926307586515,{"$f":"nT_NS_n0i_vi_X(vantHoff_EOS!$N$19,vantHoff_EOS!$O$31:$X$31,vantHoff_EOS!$O$23:$X$23,G101)","v":8.3409111482100844},{"$f":"IF(O$60<=vantHoff_EOS!$N$19,y_iindex_NS_n0i_vi_X(O$3,vantHoff_EOS!$N$19,vantHoff_EOS!$O$31:$X$31,vantHoff_EOS!$O$23:$X$23,$G101),\"-\")","v":5.4619225279712948E-5},{"$f":"IF(P$60<=vantHoff_EOS!$N$19,y_iindex_NS_n0i_vi_X(P$3,vantHoff_EOS!$N$19,vantHoff_EOS!$O$31:$X$31,vantHoff_EOS!$O$23:$X$23,$G101),\"-\")","v":5.4619225279712948E-5},{"$f":"IF(Q$60<=vantHoff_EOS!$N$19,y_iindex_NS_n0i_vi_X(Q$3,vantHoff_EOS!$N$19,vantHoff_EOS!$O$31:$X$31,vantHoff_EOS!$O$23:$X$23,$G101),\"-\")","v":5.4619225279712948E-5},{"$f":"IF(R$60<=vantHoff_EOS!$N$19,y_iindex_NS_n0i_vi_X(R$3,vantHoff_EOS!$N$19,vantHoff_EOS!$O$31:$X$31,vantHoff_EOS!$O$23:$X$23,$G101),\"-\")","v":0.11983635937777072},{"$f":"IF(S$60<=vantHoff_EOS!$N$19,y_iindex_NS_n0i_vi_X(S$3,vantHoff_EOS!$N$19,vantHoff_EOS!$O$31:$X$31,vantHoff_EOS!$O$23:$X$23,$G101),\"-\")","v":0.87999978294639014},{"$f":"IF(T$60<=vantHoff_EOS!$N$19,y_iindex_NS_n0i_vi_X(T$3,vantHoff_EOS!$N$19,vantHoff_EOS!$O$31:$X$31,vantHoff_EOS!$O$23:$X$23,$G101),\"-\")","v":"-"},{"$f":"IF(U$60<=vantHoff_EOS!$N$19,y_iindex_NS_n0i_vi_X(U$3,vantHoff_EOS!$N$19,vantHoff_EOS!$O$31:$X$31,vantHoff_EOS!$O$23:$X$23,$G101),\"-\")","v":"-"},{"$f":"IF(V$60<=vantHoff_EOS!$N$19,y_iindex_NS_n0i_vi_X(V$3,vantHoff_EOS!$N$19,vantHoff_EOS!$O$31:$X$31,vantHoff_EOS!$O$23:$X$23,$G101),\"-\")","v":"-"},{"$f":"IF(W$60<=vantHoff_EOS!$N$19,y_iindex_NS_n0i_vi_X(W$3,vantHoff_EOS!$N$19,vantHoff_EOS!$O$31:$X$31,vantHoff_EOS!$O$23:$X$23,$G101),\"-\")","v":"-"},{"$f":"IF(X$60<=vantHoff_EOS!$N$19,y_iindex_NS_n0i_vi_X(X$3,vantHoff_EOS!$N$19,vantHoff_EOS!$O$31:$X$31,vantHoff_EOS!$O$23:$X$23,$G101),\"-\")","v":"-"},1,{"$f":"IF(Z$60<=vantHoff_EOS!$N$19,Phi_i_NS_Tci_Pci_wi_kijm_TinC_PinPa_yi(Z$3,vantHoff_EOS!$N$19,vantHoff_EOS!$X$5:$X$14,vantHoff_EOS!$Y$5:$Y$14,vantHoff_EOS!$Z$5:$Z$14,vantHoff_EOS!$AE$5:$AN$14,$C$59,B101*1000000,$O101:$X101),\"-\")","v":3.3299302814448053},{"$f":"IF(AA$60<=vantHoff_EOS!$N$19,Phi_i_NS_Tci_Pci_wi_kijm_TinC_PinPa_yi(AA$3,vantHoff_EOS!$N$19,vantHoff_EOS!$X$5:$X$14,vantHoff_EOS!$Y$5:$Y$14,vantHoff_EOS!$Z$5:$Z$14,vantHoff_EOS!$AE$5:$AN$14,$C$59,B101*1000000,$O101:$X101),\"-\")","v":5.0480978679512267},{"$f":"IF(AB$60<=vantHoff_EOS!$N$19,Phi_i_NS_Tci_Pci_wi_kijm_TinC_PinPa_yi(AB$3,vantHoff_EOS!$N$19,vantHoff_EOS!$X$5:$X$14,vantHoff_EOS!$Y$5:$Y$14,vantHoff_EOS!$Z$5:$Z$14,vantHoff_EOS!$AE$5:$AN$14,$C$59,B101*1000000,$O101:$X101),\"-\")","v":0.1803847295330096},{"$f":"IF(AC$60<=vantHoff_EOS!$N$19,Phi_i_NS_Tci_Pci_wi_kijm_TinC_PinPa_yi(AC$3,vantHoff_EOS!$N$19,vantHoff_EOS!$X$5:$X$14,vantHoff_EOS!$Y$5:$Y$14,vantHoff_EOS!$Z$5:$Z$14,vantHoff_EOS!$AE$5:$AN$14,$C$59,B101*1000000,$O101:$X101),\"-\")","v":9.1573991726923588E-3},{"$f":"IF(AD$60<=vantHoff_EOS!$N$19,Phi_i_NS_Tci_Pci_wi_kijm_TinC_PinPa_yi(AD$3,vantHoff_EOS!$N$19,vantHoff_EOS!$X$5:$X$14,vantHoff_EOS!$Y$5:$Y$14,vantHoff_EOS!$Z$5:$Z$14,vantHoff_EOS!$AE$5:$AN$14,$C$59,B101*1000000,$O101:$X101),\"-\")","v":0.52699057622179246},{"$f":"IF(AE$60<=vantHoff_EOS!$N$19,Phi_i_NS_Tci_Pci_wi_kijm_TinC_PinPa_yi(AE$3,vantHoff_EOS!$N$19,vantHoff_EOS!$X$5:$X$14,vantHoff_EOS!$Y$5:$Y$14,vantHoff_EOS!$Z$5:$Z$14,vantHoff_EOS!$AE$5:$AN$14,$C$59,B101*1000000,$O101:$X101),\"-\")","v":"-"},{"$f":"IF(AF$60<=vantHoff_EOS!$N$19,Phi_i_NS_Tci_Pci_wi_kijm_TinC_PinPa_yi(AF$3,vantHoff_EOS!$N$19,vantHoff_EOS!$X$5:$X$14,vantHoff_EOS!$Y$5:$Y$14,vantHoff_EOS!$Z$5:$Z$14,vantHoff_EOS!$AE$5:$AN$14,$C$59,B101*1000000,$O101:$X101),\"-\")","v":"-"},{"$f":"IF(AG$60<=vantHoff_EOS!$N$19,Phi_i_NS_Tci_Pci_wi_kijm_TinC_PinPa_yi(AG$3,vantHoff_EOS!$N$19,vantHoff_EOS!$X$5:$X$14,vantHoff_EOS!$Y$5:$Y$14,vantHoff_EOS!$Z$5:$Z$14,vantHoff_EOS!$AE$5:$AN$14,$C$59,B101*1000000,$O101:$X101),\"-\")","v":"-"},{"$f":"IF(AH$60<=vantHoff_EOS!$N$19,Phi_i_NS_Tci_Pci_wi_kijm_TinC_PinPa_yi(AH$3,vantHoff_EOS!$N$19,vantHoff_EOS!$X$5:$X$14,vantHoff_EOS!$Y$5:$Y$14,vantHoff_EOS!$Z$5:$Z$14,vantHoff_EOS!$AE$5:$AN$14,$C$59,B101*1000000,$O101:$X101),\"-\")","v":"-"},{"$f":"IF(AI$60<=vantHoff_EOS!$N$19,Phi_i_NS_Tci_Pci_wi_kijm_TinC_PinPa_yi(AI$3,vantHoff_EOS!$N$19,vantHoff_EOS!$X$5:$X$14,vantHoff_EOS!$Y$5:$Y$14,vantHoff_EOS!$Z$5:$Z$14,vantHoff_EOS!$AE$5:$AN$14,$C$59,B101*1000000,$O101:$X101),\"-\")","v":"-"}]
[42,{"$f":"B101+vantHoff_EOS!$E$31","v":16.199999999999971},333.15,3.0016509079993999E-3,{"$f":"lnKaT_Tref_lnKaTref_dHTref_da_db_dc_dd_de_TinC(vantHoff_EOS!$E$7,vantHoff_EOS!$B$9,vantHoff_EOS!$B$6,vantHoff_EOS!$O$27,vantHoff_EOS!$P$27,vantHoff_EOS!$Q$27,vantHoff_EOS!$R$27,vantHoff_EOS!$S$27,$C$59)","v":11.370905491151026},86760.392694887007,{"$f":"MolarExtentX_NS_vi_n0i_dHfi_dGfi_TrefinC_da_db_dc_dd_de_Tci_Pci_wi_kijm_TinC_PinPa(vantHoff_EOS!$N$19,vantHoff_EOS!$O$23:$X$23,vantHoff_EOS!$O$31:$X$31,vantHoff_EOS!$T$5:$T$14,vantHoff_EOS!$U$5:$U$14,vantHoff_EOS!$E$7,vantHoff_EOS!$O$27,vantHoff_EOS!$P$27,vantHoff_EOS!$Q$27,vantHoff_EOS!$R$27,vantHoff_EOS!$S$27,vantHoff_EOS!$X$5:$X$14,vantHoff_EOS!$Y$5:$Y$14,vantHoff_EOS!$Z$5:$Z$14,vantHoff_EOS!$AE$5:$AN$14,$C$59,B102*1000000)","v":0.99954729963874756},{"$f":"Ky_NS_n0i_vi_X(vantHoff_EOS!$N$19,vantHoff_EOS!$O$31:$X$31,vantHoff_EOS!$O$23:$X$23,G102)","v":749544148847.12402},{"$f":"Kp_NS_vi_PinPa(vantHoff_EOS!$N$19,vantHoff_EOS!$O$23:$X$23,B102*1000000)","v":3.8103947568968282E-5},{"$f":"Kphi_NS_n0i_vi_X_Tci_Pci_wi_kijm_TinC_PinPa(vantHoff_EOS!$N$19,vantHoff_EOS!$O$31:$X$31,vantHoff_EOS!$O$23:$X$23,G102,vantHoff_EOS!$X$5:$X$14,vantHoff_EOS!$Y$5:$Y$14,vantHoff_EOS!$Z$5:$Z$14,vantHoff_EOS!$AE$5:$AN$14,$C$59,B102*1000000)","v":3.0377659785098664E-3},27.342731057153365,-10.175192670464764,-5.7966329092075357,{"$f":"nT_NS_n0i_vi_X(vantHoff_EOS!$N$19,vantHoff_EOS!$O$31:$X$31,vantHoff_EOS!$O$23:$X$23,G102)","v":8.3409054007225052},{"$f":"IF(O$60<=vantHoff_EOS!$N$19,y_iindex_NS_n0i_vi_X(O$3,vantHoff_EOS!$N$19,vantHoff_EOS!$O$31:$X$31,vantHoff_EOS!$O$23:$X$23,$G102),\"-\")","v":5.4274726723699707E-5},{"$f":"IF(P$60<=vantHoff_EOS!$N$19,y_iindex_NS_n0i_vi_X(P$3,vantHoff_EOS!$N$19,vantHoff_EOS!$O$31:$X$31,vantHoff_EOS!$O$23:$X$23,$G102),\"-\")","v":5.4274726723699707E-5},{"$f":"IF(Q$60<=vantHoff_EOS!$N$19,y_iindex_NS_n0i_vi_X(Q$3,vantHoff_EOS!$N$19,vantHoff_EOS!$O$31:$X$31,vantHoff_EOS!$O$23:$X$23,$G102),\"-\")","v":5.4274726723699707E-5},{"$f":"IF(R$60<=vantHoff_EOS!$N$19,y_iindex_NS_n0i_vi_X(R$3,vantHoff_EOS!$N$19,vantHoff_EOS!$O$31:$X$31,vantHoff_EOS!$O$23:$X$23,$G102),\"-\")","v":0.11983678648988932},{"$f":"IF(S$60<=vantHoff_EOS!$N$19,y_iindex_NS_n0i_vi_X(S$3,vantHoff_EOS!$N$19,vantHoff_EOS!$O$31:$X$31,vantHoff_EOS!$O$23:$X$23,$G102),\"-\")","v":0.88000038932993951},{"$f":"IF(T$60<=vantHoff_EOS!$N$19,y_iindex_NS_n0i_vi_X(T$3,vantHoff_EOS!$N$19,vantHoff_EOS!$O$31:$X$31,vantHoff_EOS!$O$23:$X$23,$G102),\"-\")","v":"-"},{"$f":"IF(U$60<=vantHoff_EOS!$N$19,y_iindex_NS_n0i_vi_X(U$3,vantHoff_EOS!$N$19,vantHoff_EOS!$O$31:$X$31,vantHoff_EOS!$O$23:$X$23,$G102),\"-\")","v":"-"},{"$f":"IF(V$60<=vantHoff_EOS!$N$19,y_iindex_NS_n0i_vi_X(V$3,vantHoff_EOS!$N$19,vantHoff_EOS!$O$31:$X$31,vantHoff_EOS!$O$23:$X$23,$G102),\"-\")","v":"-"},{"$f":"IF(W$60<=vantHoff_EOS!$N$19,y_iindex_NS_n0i_vi_X(W$3,vantHoff_EOS!$N$19,vantHoff_EOS!$O$31:$X$31,vantHoff_EOS!$O$23:$X$23,$G102),\"-\")","v":"-"},{"$f":"IF(X$60<=vantHoff_EOS!$N$19,y_iindex_NS_n0i_vi_X(X$3,vantHoff_EOS!$N$19,vantHoff_EOS!$O$31:$X$31,vantHoff_EOS!$O$23:$X$23,$G102),\"-\")","v":"-"},0.99999999999999989,{"$f":"IF(Z$60<=vantHoff_EOS!$N$19,Phi_i_NS_Tci_Pci_wi_kijm_TinC_PinPa_yi(Z$3,vantHoff_EOS!$N$19,vantHoff_EOS!$X$5:$X$14,vantHoff_EOS!$Y$5:$Y$14,vantHoff_EOS!$Z$5:$Z$14,vantHoff_EOS!$AE$5:$AN$14,$C$59,B102*1000000,$O102:$X102),\"-\")","v":3.3173285842230835},{"$f":"IF(AA$60<=vantHoff_EOS!$N$19,Phi_i_NS_Tci_Pci_wi_kijm_TinC_PinPa_yi(AA$3,vantHoff_EOS!$N$19,vantHoff_EOS!$X$5:$X$14,vantHoff_EOS!$Y$5:$Y$14,vantHoff_EOS!$Z$5:$Z$14,vantHoff_EOS!$AE$5:$AN$14,$C$59,B102*1000000,$O102:$X102),\"-\")","v":5.027774932823629},{"$f":"IF(AB$60<=vantHoff_EOS!$N$19,Phi_i_NS_Tci_Pci_wi_kijm_TinC_PinPa_yi(AB$3,vantHoff_EOS!$N$19,vantHoff_EOS!$X$5:$X$14,vantHoff_EOS!$Y$5:$Y$14,vantHoff_EOS!$Z$5:$Z$14,vantHoff_EOS!$AE$5:$AN$14,$C$59,B102*1000000,$O102:$X102),\"-\")","v":0.17918706841215146},{"$f":"IF(AC$60<=vantHoff_EOS!$N$19,Phi_i_NS_Tci_Pci_wi_kijm_TinC_PinPa_yi(AC$3,vantHoff_EOS!$N$19,vantHoff_EOS!$X$5:$X$14,vantHoff_EOS!$Y$5:$Y$14,vantHoff_EOS!$Z$5:$Z$14,vantHoff_EOS!$AE$5:$AN$14,$C$59,B102*1000000,$O102:$X102),\"-\")","v":9.0787341176286809E-3},{"$f":"IF(AD$60<=vantHoff_EOS!$N$19,Phi_i_NS_Tci_Pci_wi_kijm_TinC_PinPa_yi(AD$3,vantHoff_EOS!$N$19,vantHoff_EOS!$X$5:$X$14,vantHoff_EOS!$Y$5:$Y$14,vantHoff_EOS!$Z$5:$Z$14,vantHoff_EOS!$AE$5:$AN$14,$C$59,B102*1000000,$O102:$X102),\"-\")","v":0.5229112523398769},{"$f":"IF(AE$60<=vantHoff_EOS!$N$19,Phi_i_NS_Tci_Pci_wi_kijm_TinC_PinPa_yi(AE$3,vantHoff_EOS!$N$19,vantHoff_EOS!$X$5:$X$14,vantHoff_EOS!$Y$5:$Y$14,vantHoff_EOS!$Z$5:$Z$14,vantHoff_EOS!$AE$5:$AN$14,$C$59,B102*1000000,$O102:$X102),\"-\")","v":"-"},{"$f":"IF(AF$60<=vantHoff_EOS!$N$19,Phi_i_NS_Tci_Pci_wi_kijm_TinC_PinPa_yi(AF$3,vantHoff_EOS!$N$19,vantHoff_EOS!$X$5:$X$14,vantHoff_EOS!$Y$5:$Y$14,vantHoff_EOS!$Z$5:$Z$14,vantHoff_EOS!$AE$5:$AN$14,$C$59,B102*1000000,$O102:$X102),\"-\")","v":"-"},{"$f":"IF(AG$60<=vantHoff_EOS!$N$19,Phi_i_NS_Tci_Pci_wi_kijm_TinC_PinPa_yi(AG$3,vantHoff_EOS!$N$19,vantHoff_EOS!$X$5:$X$14,vantHoff_EOS!$Y$5:$Y$14,vantHoff_EOS!$Z$5:$Z$14,vantHoff_EOS!$AE$5:$AN$14,$C$59,B102*1000000,$O102:$X102),\"-\")","v":"-"},{"$f":"IF(AH$60<=vantHoff_EOS!$N$19,Phi_i_NS_Tci_Pci_wi_kijm_TinC_PinPa_yi(AH$3,vantHoff_EOS!$N$19,vantHoff_EOS!$X$5:$X$14,vantHoff_EOS!$Y$5:$Y$14,vantHoff_EOS!$Z$5:$Z$14,vantHoff_EOS!$AE$5:$AN$14,$C$59,B102*1000000,$O102:$X102),\"-\")","v":"-"},{"$f":"IF(AI$60<=vantHoff_EOS!$N$19,Phi_i_NS_Tci_Pci_wi_kijm_TinC_PinPa_yi(AI$3,vantHoff_EOS!$N$19,vantHoff_EOS!$X$5:$X$14,vantHoff_EOS!$Y$5:$Y$14,vantHoff_EOS!$Z$5:$Z$14,vantHoff_EOS!$AE$5:$AN$14,$C$59,B102*1000000,$O102:$X102),\"-\")","v":"-"}]
[43,{"$f":"B102+vantHoff_EOS!$E$31","v":16.39999999999997},333.15,3.0016509079993999E-3,{"$f":"lnKaT_Tref_lnKaTref_dHTref_da_db_dc_dd_de_TinC(vantHoff_EOS!$E$7,vantHoff_EOS!$B$9,vantHoff_EOS!$B$6,vantHoff_EOS!$O$27,vantHoff_EOS!$P$27,vantHoff_EOS!$Q$27,vantHoff_EOS!$R$27,vantHoff_EOS!$S$27,$C$59)","v":11.370905491151026},86760.392694887007,{"$f":"MolarExtentX_NS_vi_n0i_dHfi_dGfi_TrefinC_da_db_dc_dd_de_Tci_Pci_wi_kijm_TinC_PinPa(vantHoff_EOS!$N$19,vantHoff_EOS!$O$23:$X$23,vantHoff_EOS!$O$31:$X$31,vantHoff_EOS!$T$5:$T$14,vantHoff_EOS!$U$5:$U$14,vantHoff_EOS!$E$7,vantHoff_EOS!$O$27,vantHoff_EOS!$P$27,vantHoff_EOS!$Q$27,vantHoff_EOS!$R$27,vantHoff_EOS!$S$27,vantHoff_EOS!$X$5:$X$14,vantHoff_EOS!$Y$5:$Y$14,vantHoff_EOS!$Z$5:$Z$14,vantHoff_EOS!$AE$5:$AN$14,$C$59,B103*1000000)","v":0.99955011335985333},{"$f":"Ky_NS_n0i_vi_X(vantHoff_EOS!$N$19,vantHoff_EOS!$O$31:$X$31,vantHoff_EOS!$O$23:$X$23,G103)","v":763697006699.84656},{"$f":"Kp_NS_vi_PinPa(vantHoff_EOS!$N$19,vantHoff_EOS!$O$23:$X$23,B103*1000000)","v":3.7180249851279131E-5},{"$f":"Kphi_NS_n0i_vi_X_Tci_Pci_wi_kijm_TinC_PinPa(vantHoff_EOS!$N$19,vantHoff_EOS!$O$31:$X$31,vantHoff_EOS!$O$23:$X$23,G103,vantHoff_EOS!$X$5:$X$14,vantHoff_EOS!$Y$5:$Y$14,vantHoff_EOS!$Z$5:$Z$14,vantHoff_EOS!$AE$5:$AN$14,$C$59,B103*1000000)","v":3.0555409662109149E-3},27.361436959361871,-10.199732855648394,-5.7907986263518394,{"$f":"nT_NS_n0i_vi_X(vantHoff_EOS!$N$19,vantHoff_EOS!$O$31:$X$31,vantHoff_EOS!$O$23:$X$23,G103)","v":8.3408997732802934},{"$f":"IF(O$60<=vantHoff_EOS!$N$19,y_iindex_NS_n0i_vi_X(O$3,vantHoff_EOS!$N$19,vantHoff_EOS!$O$31:$X$31,vantHoff_EOS!$O$23:$X$23,$G103),\"-\")","v":5.3937423104862197E-5},{"$f":"IF(P$60<=vantHoff_EOS!$N$19,y_iindex_NS_n0i_vi_X(P$3,vantHoff_EOS!$N$19,vantHoff_EOS!$O$31:$X$31,vantHoff_EOS!$O$23:$X$23,$G103),\"-\")","v":5.3937423104862197E-5},{"$f":"IF(Q$60<=vantHoff_EOS!$N$19,y_iindex_NS_n0i_vi_X(Q$3,vantHoff_EOS!$N$19,vantHoff_EOS!$O$31:$X$31,vantHoff_EOS!$O$23:$X$23,$G103),\"-\")","v":5.3937423104862197E-5},{"$f":"IF(R$60<=vantHoff_EOS!$N$19,y_iindex_NS_n0i_vi_X(R$3,vantHoff_EOS!$N$19,vantHoff_EOS!$O$31:$X$31,vantHoff_EOS!$O$23:$X$23,$G103),\"-\")","v":0.11983720468166616},{"$f":"IF(S$60<=vantHoff_EOS!$N$19,y_iindex_NS_n0i_vi_X(S$3,vantHoff_EOS!$N$19,vantHoff_EOS!$O$31:$X$31,vantHoff_EOS!$O$23:$X$23,$G103),\"-\")","v":0.88000098304901919},{"$f":"IF(T$60<=vantHoff_EOS!$N$19,y_iindex_NS_n0i_vi_X(T$3,vantHoff_EOS!$N$19,vantHoff_EOS!$O$31:$X$31,vantHoff_EOS!$O$23:$X$23,$G103),\"-\")","v":"-"},{"$f":"IF(U$60<=vantHoff_EOS!$N$19,y_iindex_NS_n0i_vi_X(U$3,vantHoff_EOS!$N$19,vantHoff_EOS!$O$31:$X$31,vantHoff_EOS!$O$23:$X$23,$G103),\"-\")","v":"-"},{"$f":"IF(V$60<=vantHoff_EOS!$N$19,y_iindex_NS_n0i_vi_X(V$3,vantHoff_EOS!$N$19,vantHoff_EOS!$O$31:$X$31,vantHoff_EOS!$O$23:$X$23,$G103),\"-\")","v":"-"},{"$f":"IF(W$60<=vantHoff_EOS!$N$19,y_iindex_NS_n0i_vi_X(W$3,vantHoff_EOS!$N$19,vantHoff_EOS!$O$31:$X$31,vantHoff_EOS!$O$23:$X$23,$G103),\"-\")","v":"-"},{"$f":"IF(X$60<=vantHoff_EOS!$N$19,y_iindex_NS_n0i_vi_X(X$3,vantHoff_EOS!$N$19,vantHoff_EOS!$O$31:$X$31,vantHoff_EOS!$O$23:$X$23,$G103),\"-\")","v":"-"},0.99999999999999989,{"$f":"IF(Z$60<=vantHoff_EOS!$N$19,Phi_i_NS_Tci_Pci_wi_kijm_TinC_PinPa_yi(Z$3,vantHoff_EOS!$N$19,vantHoff_EOS!$X$5:$X$14,vantHoff_EOS!$Y$5:$Y$14,vantHoff_EOS!$Z$5:$Z$14,vantHoff_EOS!$AE$5:$AN$14,$C$59,B103*1000000,$O103:$X103),\"-\")","v":3.3049703153011625},{"$f":"IF(AA$60<=vantHoff_EOS!$N$19,Phi_i_NS_Tci_Pci_wi_kijm_TinC_PinPa_yi(AA$3,vantHoff_EOS!$N$19,vantHoff_EOS!$X$5:$X$14,vantHoff_EOS!$Y$5:$Y$14,vantHoff_EOS!$Z$5:$Z$14,vantHoff_EOS!$AE$5:$AN$14,$C$59,B103*1000000,$O103:$X103),\"-\")","v":5.0077859787528203},{"$f":"IF(AB$60<=vantHoff_EOS!$N$19,Phi_i_NS_Tci_Pci_wi_kijm_TinC_PinPa_yi(AB$3,vantHoff_EOS!$N$19,vantHoff_EOS!$X$5:$X$14,vantHoff_EOS!$Y$5:$Y$14,vantHoff_EOS!$Z$5:$Z$14,vantHoff_EOS!$AE$5:$AN$14,$C$59,B103*1000000,$O103:$X103),\"-\")","v":0.17802349206945561},{"$f":"IF(AC$60<=vantHoff_EOS!$N$19,Phi_i_NS_Tci_Pci_wi_kijm_TinC_PinPa_yi(AC$3,vantHoff_EOS!$N$19,vantHoff_EOS!$X$5:$X$14,vantHoff_EOS!$Y$5:$Y$14,vantHoff_EOS!$Z$5:$Z$14,vantHoff_EOS!$AE$5:$AN$14,$C$59,B103*1000000,$O103:$X103),\"-\")","v":9.0028237819108452E-3},{"$f":"IF(AD$60<=vantHoff_EOS!$N$19,Phi_i_NS_Tci_Pci_wi_kijm_TinC_PinPa_yi(AD$3,vantHoff_EOS!$N$19,vantHoff_EOS!$X$5:$X$14,vantHoff_EOS!$Y$5:$Y$14,vantHoff_EOS!$Z$5:$Z$14,vantHoff_EOS!$AE$5:$AN$14,$C$59,B103*1000000,$O103:$X103),\"-\")","v":0.51892921870617881},{"$f":"IF(AE$60<=vantHoff_EOS!$N$19,Phi_i_NS_Tci_Pci_wi_kijm_TinC_PinPa_yi(AE$3,vantHoff_EOS!$N$19,vantHoff_EOS!$X$5:$X$14,vantHoff_EOS!$Y$5:$Y$14,vantHoff_EOS!$Z$5:$Z$14,vantHoff_EOS!$AE$5:$AN$14,$C$59,B103*1000000,$O103:$X103),\"-\")","v":"-"},{"$f":"IF(AF$60<=vantHoff_EOS!$N$19,Phi_i_NS_Tci_Pci_wi_kijm_TinC_PinPa_yi(AF$3,vantHoff_EOS!$N$19,vantHoff_EOS!$X$5:$X$14,vantHoff_EOS!$Y$5:$Y$14,vantHoff_EOS!$Z$5:$Z$14,vantHoff_EOS!$AE$5:$AN$14,$C$59,B103*1000000,$O103:$X103),\"-\")","v":"-"},{"$f":"IF(AG$60<=vantHoff_EOS!$N$19,Phi_i_NS_Tci_Pci_wi_kijm_TinC_PinPa_yi(AG$3,vantHoff_EOS!$N$19,vantHoff_EOS!$X$5:$X$14,vantHoff_EOS!$Y$5:$Y$14,vantHoff_EOS!$Z$5:$Z$14,vantHoff_EOS!$AE$5:$AN$14,$C$59,B103*1000000,$O103:$X103),\"-\")","v":"-"},{"$f":"IF(AH$60<=vantHoff_EOS!$N$19,Phi_i_NS_Tci_Pci_wi_kijm_TinC_PinPa_yi(AH$3,vantHoff_EOS!$N$19,vantHoff_EOS!$X$5:$X$14,vantHoff_EOS!$Y$5:$Y$14,vantHoff_EOS!$Z$5:$Z$14,vantHoff_EOS!$AE$5:$AN$14,$C$59,B103*1000000,$O103:$X103),\"-\")","v":"-"},{"$f":"IF(AI$60<=vantHoff_EOS!$N$19,Phi_i_NS_Tci_Pci_wi_kijm_TinC_PinPa_yi(AI$3,vantHoff_EOS!$N$19,vantHoff_EOS!$X$5:$X$14,vantHoff_EOS!$Y$5:$Y$14,vantHoff_EOS!$Z$5:$Z$14,vantHoff_EOS!$AE$5:$AN$14,$C$59,B103*1000000,$O103:$X103),\"-\")","v":"-"}]
[44,{"$f":"B103+vantHoff_EOS!$E$31","v":16.599999999999969},333.15,3.0016509079993999E-3,{"$f":"lnKaT_Tref_lnKaTref_dHTref_da_db_dc_dd_de_TinC(vantHoff_EOS!$E$7,vantHoff_EOS!$B$9,vantHoff_EOS!$B$6,vantHoff_EOS!$O$27,vantHoff_EOS!$P$27,vantHoff_EOS!$Q$27,vantHoff_EOS!$R$27,vantHoff_EOS!$S$27,$C$59)","v":11.370905491151026},86760.392694887007,{"$f":"MolarExtentX_NS_vi_n0i_dHfi_dGfi_TrefinC_da_db_dc_dd_de_Tci_Pci_wi_kijm_TinC_PinPa(vantHoff_EOS!$N$19,vantHoff_EOS!$O$23:$X$23,vantHoff_EOS!$O$31:$X$31,vantHoff_EOS!$T$5:$T$14,vantHoff_EOS!$U$5:$U$14,vantHoff_EOS!$E$7,vantHoff_EOS!$O$27,vantHoff_EOS!$P$27,vantHoff_EOS!$Q$27,vantHoff_EOS!$R$27,vantHoff_EOS!$S$27,vantHoff_EOS!$X$5:$X$14,vantHoff_EOS!$Y$5:$Y$14,vantHoff_EOS!$Z$5:$Z$14,vantHoff_EOS!$AE$5:$AN$14,$C$59,B104*1000000)","v":0.99955286934791387},{"$f":"Ky_NS_n0i_vi_X(vantHoff_EOS!$N$19,vantHoff_EOS!$O$31:$X$31,vantHoff_EOS!$O$23:$X$23,G104)","v":777906987229.38086},{"$f":"Kp_NS_vi_PinPa(vantHoff_EOS!$N$19,vantHoff_EOS!$O$23:$X$23,B104*1000000)","v":3.628973726230236E-5},{"$f":"Kphi_NS_n0i_vi_X_Tci_Pci_wi_kijm_TinC_PinPa(vantHoff_EOS!$N$19,vantHoff_EOS!$O$31:$X$31,vantHoff_EOS!$O$23:$X$23,G104,vantHoff_EOS!$X$5:$X$14,vantHoff_EOS!$Y$5:$Y$14,vantHoff_EOS!$Z$5:$Z$14,vantHoff_EOS!$AE$5:$AN$14,$C$59,B104*1000000)","v":3.0733357420408957E-3},27.379872800287949,-10.223975576713082,-5.7849917463377256,{"$f":"nT_NS_n0i_vi_X(vantHoff_EOS!$N$19,vantHoff_EOS!$O$31:$X$31,vantHoff_EOS!$O$23:$X$23,G104)","v":8.3408942613041717},{"$f":"IF(O$60<=vantHoff_EOS!$N$19,y_iindex_NS_n0i_vi_X(O$3,vantHoff_EOS!$N$19,vantHoff_EOS!$O$31:$X$31,vantHoff_EOS!$O$23:$X$23,$G104),\"-\")","v":5.3607039974178065E-5},{"$f":"IF(P$60<=vantHoff_EOS!$N$19,y_iindex_NS_n0i_vi_X(P$3,vantHoff_EOS!$N$19,vantHoff_EOS!$O$31:$X$31,vantHoff_EOS!$O$23:$X$23,$G104),\"-\")","v":5.3607039974178065E-5},{"$f":"IF(Q$60<=vantHoff_EOS!$N$19,y_iindex_NS_n0i_vi_X(Q$3,vantHoff_EOS!$N$19,vantHoff_EOS!$O$31:$X$31,vantHoff_EOS!$O$23:$X$23,$G104),\"-\")","v":5.3607039974178065E-5},{"$f":"IF(R$60<=vantHoff_EOS!$N$19,y_iindex_NS_n0i_vi_X(R$3,vantHoff_EOS!$N$19,vantHoff_EOS!$O$31:$X$31,vantHoff_EOS!$O$23:$X$23,$G104),\"-\")","v":0.11983761429336535},{"$f":"IF(S$60<=vantHoff_EOS!$N$19,y_iindex_NS_n0i_vi_X(S$3,vantHoff_EOS!$N$19,vantHoff_EOS!$O$31:$X$31,vantHoff_EOS!$O$23:$X$23,$G104),\"-\")","v":0.88000156458671219},{"$f":"IF(T$60<=vantHoff_EOS!$N$19,y_iindex_NS_n0i_vi_X(T$3,vantHoff_EOS!$N$19,vantHoff_EOS!$O$31:$X$31,vantHoff_EOS!$O$23:$X$23,$G104),\"-\")","v":"-"},{"$f":"IF(U$60<=vantHoff_EOS!$N$19,y_iindex_NS_n0i_vi_X(U$3,vantHoff_EOS!$N$19,vantHoff_EOS!$O$31:$X$31,vantHoff_EOS!$O$23:$X$23,$G104),\"-\")","v":"-"},{"$f":"IF(V$60<=vantHoff_EOS!$N$19,y_iindex_NS_n0i_vi_X(V$3,vantHoff_EOS!$N$19,vantHoff_EOS!$O$31:$X$31,vantHoff_EOS!$O$23:$X$23,$G104),\"-\")","v":"-"},{"$f":"IF(W$60<=vantHoff_EOS!$N$19,y_iindex_NS_n0i_vi_X(W$3,vantHoff_EOS!$N$19,vantHoff_EOS!$O$31:$X$31,vantHoff_EOS!$O$23:$X$23,$G104),\"-\")","v":"-"},{"$f":"IF(X$60<=vantHoff_EOS!$N$19,y_iindex_NS_n0i_vi_X(X$3,vantHoff_EOS!$N$19,vantHoff_EOS!$O$31:$X$31,vantHoff_EOS!$O$23:$X$23,$G104),\"-\")","v":"-"},1,{"$f":"IF(Z$60<=vantHoff_EOS!$N$19,Phi_i_NS_Tci_Pci_wi_kijm_TinC_PinPa_yi(Z$3,vantHoff_EOS!$N$19,vantHoff_EOS!$X$5:$X$14,vantHoff_EOS!$Y$5:$Y$14,vantHoff_EOS!$Z$5:$Z$14,vantHoff_EOS!$AE$5:$AN$14,$C$59,B104*1000000,$O104:$X104),\"-\")","v":3.2928508397945757},{"$f":"IF(AA$60<=vantHoff_EOS!$N$19,Phi_i_NS_Tci_Pci_wi_kijm_TinC_PinPa_yi(AA$3,vantHoff_EOS!$N$19,vantHoff_EOS!$X$5:$X$14,vantHoff_EOS!$Y$5:$Y$14,vantHoff_EOS!$Z$5:$Z$14,vantHoff_EOS!$AE$5:$AN$14,$C$59,B104*1000000,$O104:$X104),\"-\")","v":4.9881259341086936},{"$f":"IF(AB$60<=vantHoff_EOS!$N$19,Phi_i_NS_Tci_Pci_wi_kijm_TinC_PinPa_yi(AB$3,vantHoff_EOS!$N$19,vantHoff_EOS!$X$5:$X$14,vantHoff_EOS!$Y$5:$Y$14,vantHoff_EOS!$Z$5:$Z$14,vantHoff_EOS!$AE$5:$AN$14,$C$59,B104*1000000,$O104:$X104),\"-\")","v":0.17689277232797537},{"$f":"IF(AC$60<=vantHoff_EOS!$N$19,Phi_i_NS_Tci_Pci_wi_kijm_TinC_PinPa_yi(AC$3,vantHoff_EOS!$N$19,vantHoff_EOS!$X$5:$X$14,vantHoff_EOS!$Y$5:$Y$14,vantHoff_EOS!$Z$5:$Z$14,vantHoff_EOS!$AE$5:$AN$14,$C$59,B104*1000000,$O104:$X104),\"-\")","v":8.9295497862390116E-3},{"$f":"IF(AD$60<=vantHoff_EOS!$N$19,Phi_i_NS_Tci_Pci_wi_kijm_TinC_PinPa_yi(AD$3,vantHoff_EOS!$N$19,vantHoff_EOS!$X$5:$X$14,vantHoff_EOS!$Y$5:$Y$14,vantHoff_EOS!$Z$5:$Z$14,vantHoff_EOS!$AE$5:$AN$14,$C$59,B104*1000000,$O104:$X104),\"-\")","v":0.51504120402371245},{"$f":"IF(AE$60<=vantHoff_EOS!$N$19,Phi_i_NS_Tci_Pci_wi_kijm_TinC_PinPa_yi(AE$3,vantHoff_EOS!$N$19,vantHoff_EOS!$X$5:$X$14,vantHoff_EOS!$Y$5:$Y$14,vantHoff_EOS!$Z$5:$Z$14,vantHoff_EOS!$AE$5:$AN$14,$C$59,B104*1000000,$O104:$X104),\"-\")","v":"-"},{"$f":"IF(AF$60<=vantHoff_EOS!$N$19,Phi_i_NS_Tci_Pci_wi_kijm_TinC_PinPa_yi(AF$3,vantHoff_EOS!$N$19,vantHoff_EOS!$X$5:$X$14,vantHoff_EOS!$Y$5:$Y$14,vantHoff_EOS!$Z$5:$Z$14,vantHoff_EOS!$AE$5:$AN$14,$C$59,B104*1000000,$O104:$X104),\"-\")","v":"-"},{"$f":"IF(AG$60<=vantHoff_EOS!$N$19,Phi_i_NS_Tci_Pci_wi_kijm_TinC_PinPa_yi(AG$3,vantHoff_EOS!$N$19,vantHoff_EOS!$X$5:$X$14,vantHoff_EOS!$Y$5:$Y$14,vantHoff_EOS!$Z$5:$Z$14,vantHoff_EOS!$AE$5:$AN$14,$C$59,B104*1000000,$O104:$X104),\"-\")","v":"-"},{"$f":"IF(AH$60<=vantHoff_EOS!$N$19,Phi_i_NS_Tci_Pci_wi_kijm_TinC_PinPa_yi(AH$3,vantHoff_EOS!$N$19,vantHoff_EOS!$X$5:$X$14,vantHoff_EOS!$Y$5:$Y$14,vantHoff_EOS!$Z$5:$Z$14,vantHoff_EOS!$AE$5:$AN$14,$C$59,B104*1000000,$O104:$X104),\"-\")","v":"-"},{"$f":"IF(AI$60<=vantHoff_EOS!$N$19,Phi_i_NS_Tci_Pci_wi_kijm_TinC_PinPa_yi(AI$3,vantHoff_EOS!$N$19,vantHoff_EOS!$X$5:$X$14,vantHoff_EOS!$Y$5:$Y$14,vantHoff_EOS!$Z$5:$Z$14,vantHoff_EOS!$AE$5:$AN$14,$C$59,B104*1000000,$O104:$X104),\"-\")","v":"-"}]
[45,{"$f":"B104+vantHoff_EOS!$E$31","v":16.799999999999969},333.15,3.0016509079993999E-3,{"$f":"lnKaT_Tref_lnKaTref_dHTref_da_db_dc_dd_de_TinC(vantHoff_EOS!$E$7,vantHoff_EOS!$B$9,vantHoff_EOS!$B$6,vantHoff_EOS!$O$27,vantHoff_EOS!$P$27,vantHoff_EOS!$Q$27,vantHoff_EOS!$R$27,vantHoff_EOS!$S$27,$C$59)","v":11.370905491151026},86760.392694887007,{"$f":"MolarExtentX_NS_vi_n0i_dHfi_dGfi_TrefinC_da_db_dc_dd_de_Tci_Pci_wi_kijm_TinC_PinPa(vantHoff_EOS!$N$19,vantHoff_EOS!$O$23:$X$23,vantHoff_EOS!$O$31:$X$31,vantHoff_EOS!$T$5:$T$14,vantHoff_EOS!$U$5:$U$14,vantHoff_EOS!$E$7,vantHoff_EOS!$O$27,vantHoff_EOS!$P$27,vantHoff_EOS!$Q$27,vantHoff_EOS!$R$27,vantHoff_EOS!$S$27,vantHoff_EOS!$X$5:$X$14,vantHoff_EOS!$Y$5:$Y$14,vantHoff_EOS!$Z$5:$Z$14,vantHoff_EOS!$AE$5:$AN$14,$C$59,B105*1000000)","v":0.99955556976549043},{"$f":"Ky_NS_n0i_vi_X(vantHoff_EOS!$N$19,vantHoff_EOS!$O$31:$X$31,vantHoff_EOS!$O$23:$X$23,G105)","v":792174436437.76221},{"$f":"Kp_NS_vi_PinPa(vantHoff_EOS!$N$19,vantHoff_EOS!$O$23:$X$23,B105*1000000)","v":3.5430839002267697E-5},{"$f":"Kphi_NS_n0i_vi_X_Tci_Pci_wi_kijm_TinC_PinPa(vantHoff_EOS!$N$19,vantHoff_EOS!$O$31:$X$31,vantHoff_EOS!$O$23:$X$23,G105,vantHoff_EOS!$X$5:$X$14,vantHoff_EOS!$Y$5:$Y$14,vantHoff_EOS!$Z$5:$Z$14,vantHoff_EOS!$AE$5:$AN$14,$C$59,B105*1000000)","v":3.091144041510248E-3},27.398047452537277,-10.247927958806514,-5.7792140166234347,{"$f":"nT_NS_n0i_vi_X(vantHoff_EOS!$N$19,vantHoff_EOS!$O$31:$X$31,vantHoff_EOS!$O$23:$X$23,G105)","v":8.3408888604690183},{"$f":"IF(O$60<=vantHoff_EOS!$N$19,y_iindex_NS_n0i_vi_X(O$3,vantHoff_EOS!$N$19,vantHoff_EOS!$O$31:$X$31,vantHoff_EOS!$O$23:$X$23,$G105),\"-\")","v":5.3283318114441728E-5},{"$f":"IF(P$60<=vantHoff_EOS!$N$19,y_iindex_NS_n0i_vi_X(P$3,vantHoff_EOS!$N$19,vantHoff_EOS!$O$31:$X$31,vantHoff_EOS!$O$23:$X$23,$G105),\"-\")","v":5.3283318114441728E-5},{"$f":"IF(Q$60<=vantHoff_EOS!$N$19,y_iindex_NS_n0i_vi_X(Q$3,vantHoff_EOS!$N$19,vantHoff_EOS!$O$31:$X$31,vantHoff_EOS!$O$23:$X$23,$G105),\"-\")","v":5.3283318114441728E-5},{"$f":"IF(R$60<=vantHoff_EOS!$N$19,y_iindex_NS_n0i_vi_X(R$3,vantHoff_EOS!$N$19,vantHoff_EOS!$O$31:$X$31,vantHoff_EOS!$O$23:$X$23,$G105),\"-\")","v":0.11983801564636652},{"$f":"IF(S$60<=vantHoff_EOS!$N$19,y_iindex_NS_n0i_vi_X(S$3,vantHoff_EOS!$N$19,vantHoff_EOS!$O$31:$X$31,vantHoff_EOS!$O$23:$X$23,$G105),\"-\")","v":0.8800021343992902},{"$f":"IF(T$60<=vantHoff_EOS!$N$19,y_iindex_NS_n0i_vi_X(T$3,vantHoff_EOS!$N$19,vantHoff_EOS!$O$31:$X$31,vantHoff_EOS!$O$23:$X$23,$G105),\"-\")","v":"-"},{"$f":"IF(U$60<=vantHoff_EOS!$N$19,y_iindex_NS_n0i_vi_X(U$3,vantHoff_EOS!$N$19,vantHoff_EOS!$O$31:$X$31,vantHoff_EOS!$O$23:$X$23,$G105),\"-\")","v":"-"},{"$f":"IF(V$60<=vantHoff_EOS!$N$19,y_iindex_NS_n0i_vi_X(V$3,vantHoff_EOS!$N$19,vantHoff_EOS!$O$31:$X$31,vantHoff_EOS!$O$23:$X$23,$G105),\"-\")","v":"-"},{"$f":"IF(W$60<=vantHoff_EOS!$N$19,y_iindex_NS_n0i_vi_X(W$3,vantHoff_EOS!$N$19,vantHoff_EOS!$O$31:$X$31,vantHoff_EOS!$O$23:$X$23,$G105),\"-\")","v":"-"},{"$f":"IF(X$60<=vantHoff_EOS!$N$19,y_iindex_NS_n0i_vi_X(X$3,vantHoff_EOS!$N$19,vantHoff_EOS!$O$31:$X$31,vantHoff_EOS!$O$23:$X$23,$G105),\"-\")","v":"-"},1,{"$f":"IF(Z$60<=vantHoff_EOS!$N$19,Phi_i_NS_Tci_Pci_wi_kijm_TinC_PinPa_yi(Z$3,vantHoff_EOS!$N$19,vantHoff_EOS!$X$5:$X$14,vantHoff_EOS!$Y$5:$Y$14,vantHoff_EOS!$Z$5:$Z$14,vantHoff_EOS!$AE$5:$AN$14,$C$59,B105*1000000,$O105:$X105),\"-\")","v":3.280965543220415},{"$f":"IF(AA$60<=vantHoff_EOS!$N$19,Phi_i_NS_Tci_Pci_wi_kijm_TinC_PinPa_yi(AA$3,vantHoff_EOS!$N$19,vantHoff_EOS!$X$5:$X$14,vantHoff_EOS!$Y$5:$Y$14,vantHoff_EOS!$Z$5:$Z$14,vantHoff_EOS!$AE$5:$AN$14,$C$59,B105*1000000,$O105:$X105),\"-\")","v":4.9687896276973129},{"$f":"IF(AB$60<=vantHoff_EOS!$N$19,Phi_i_NS_Tci_Pci_wi_kijm_TinC_PinPa_yi(AB$3,vantHoff_EOS!$N$19,vantHoff_EOS!$X$5:$X$14,vantHoff_EOS!$Y$5:$Y$14,vantHoff_EOS!$Z$5:$Z$14,vantHoff_EOS!$AE$5:$AN$14,$C$59,B105*1000000,$O105:$X105),\"-\")","v":0.17579374095568848},{"$f":"IF(AC$60<=vantHoff_EOS!$N$19,Phi_i_NS_Tci_Pci_wi_kijm_TinC_PinPa_yi(AC$3,vantHoff_EOS!$N$19,vantHoff_EOS!$X$5:$X$14,vantHoff_EOS!$Y$5:$Y$14,vantHoff_EOS!$Z$5:$Z$14,vantHoff_EOS!$AE$5:$AN$14,$C$59,B105*1000000,$O105:$X105),\"-\")","v":8.858800675966649E-3},{"$f":"IF(AD$60<=vantHoff_EOS!$N$19,Phi_i_NS_Tci_Pci_wi_kijm_TinC_PinPa_yi(AD$3,vantHoff_EOS!$N$19,vantHoff_EOS!$X$5:$X$14,vantHoff_EOS!$Y$5:$Y$14,vantHoff_EOS!$Z$5:$Z$14,vantHoff_EOS!$AE$5:$AN$14,$C$59,B105*1000000,$O105:$X105),\"-\")","v":0.51124408130862309},{"$f":"IF(AE$60<=vantHoff_EOS!$N$19,Phi_i_NS_Tci_Pci_wi_kijm_TinC_PinPa_yi(AE$3,vantHoff_EOS!$N$19,vantHoff_EOS!$X$5:$X$14,vantHoff_EOS!$Y$5:$Y$14,vantHoff_EOS!$Z$5:$Z$14,vantHoff_EOS!$AE$5:$AN$14,$C$59,B105*1000000,$O105:$X105),\"-\")","v":"-"},{"$f":"IF(AF$60<=vantHoff_EOS!$N$19,Phi_i_NS_Tci_Pci_wi_kijm_TinC_PinPa_yi(AF$3,vantHoff_EOS!$N$19,vantHoff_EOS!$X$5:$X$14,vantHoff_EOS!$Y$5:$Y$14,vantHoff_EOS!$Z$5:$Z$14,vantHoff_EOS!$AE$5:$AN$14,$C$59,B105*1000000,$O105:$X105),\"-\")","v":"-"},{"$f":"IF(AG$60<=vantHoff_EOS!$N$19,Phi_i_NS_Tci_Pci_wi_kijm_TinC_PinPa_yi(AG$3,vantHoff_EOS!$N$19,vantHoff_EOS!$X$5:$X$14,vantHoff_EOS!$Y$5:$Y$14,vantHoff_EOS!$Z$5:$Z$14,vantHoff_EOS!$AE$5:$AN$14,$C$59,B105*1000000,$O105:$X105),\"-\")","v":"-"},{"$f":"IF(AH$60<=vantHoff_EOS!$N$19,Phi_i_NS_Tci_Pci_wi_kijm_TinC_PinPa_yi(AH$3,vantHoff_EOS!$N$19,vantHoff_EOS!$X$5:$X$14,vantHoff_EOS!$Y$5:$Y$14,vantHoff_EOS!$Z$5:$Z$14,vantHoff_EOS!$AE$5:$AN$14,$C$59,B105*1000000,$O105:$X105),\"-\")","v":"-"},{"$f":"IF(AI$60<=vantHoff_EOS!$N$19,Phi_i_NS_Tci_Pci_wi_kijm_TinC_PinPa_yi(AI$3,vantHoff_EOS!$N$19,vantHoff_EOS!$X$5:$X$14,vantHoff_EOS!$Y$5:$Y$14,vantHoff_EOS!$Z$5:$Z$14,vantHoff_EOS!$AE$5:$AN$14,$C$59,B105*1000000,$O105:$X105),\"-\")","v":"-"}]
[46,{"$f":"B105+vantHoff_EOS!$E$31","v":16.999999999999968},333.15,3.0016509079993999E-3,{"$f":"lnKaT_Tref_lnKaTref_dHTref_da_db_dc_dd_de_TinC(vantHoff_EOS!$E$7,vantHoff_EOS!$B$9,vantHoff_EOS!$B$6,vantHoff_EOS!$O$27,vantHoff_EOS!$P$27,vantHoff_EOS!$Q$27,vantHoff_EOS!$R$27,vantHoff_EOS!$S$27,$C$59)","v":11.370905491151026},86760.392694887007,{"$f":"MolarExtentX_NS_vi_n0i_dHfi_dGfi_TrefinC_da_db_dc_dd_de_Tci_Pci_wi_kijm_TinC_PinPa(vantHoff_EOS!$N$19,vantHoff_EOS!$O$23:$X$23,vantHoff_EOS!$O$31:$X$31,vantHoff_EOS!$T$5:$T$14,vantHoff_EOS!$U$5:$U$14,vantHoff_EOS!$E$7,vantHoff_EOS!$O$27,vantHoff_EOS!$P$27,vantHoff_EOS!$Q$27,vantHoff_EOS!$R$27,vantHoff_EOS!$S$27,vantHoff_EOS!$X$5:$X$14,vantHoff_EOS!$Y$5:$Y$14,vantHoff_EOS!$Z$5:$Z$14,vantHoff_EOS!$AE$5:$AN$14,$C$59,B106*1000000)","v":0.99955821665728217},{"$f":"Ky_NS_n0i_vi_X(vantHoff_EOS!$N$19,vantHoff_EOS!$O$31:$X$31,vantHoff_EOS!$O$23:$X$23,G106)","v":806499681648.93469},{"$f":"Kp_NS_vi_PinPa(vantHoff_EOS!$N$19,vantHoff_EOS!$O$23:$X$23,B106*1000000)","v":3.4602076124567619E-5},{"$f":"Kphi_NS_n0i_vi_X_Tci_Pci_wi_kijm_TinC_PinPa(vantHoff_EOS!$N$19,vantHoff_EOS!$O$31:$X$31,vantHoff_EOS!$O$23:$X$23,G106,vantHoff_EOS!$X$5:$X$14,vantHoff_EOS!$Y$5:$Y$14,vantHoff_EOS!$Z$5:$Z$14,vantHoff_EOS!$AE$5:$AN$14,$C$59,B106*1000000)","v":3.1089600782054994E-3},27.415969339779959,-10.271596874100519,-5.7734669887066827,{"$f":"nT_NS_n0i_vi_X(vantHoff_EOS!$N$19,vantHoff_EOS!$O$31:$X$31,vantHoff_EOS!$O$23:$X$23,G106)","v":8.3408835666854362},{"$f":"IF(O$60<=vantHoff_EOS!$N$19,y_iindex_NS_n0i_vi_X(O$3,vantHoff_EOS!$N$19,vantHoff_EOS!$O$31:$X$31,vantHoff_EOS!$O$23:$X$23,$G106),\"-\")","v":5.2966012435704905E-5},{"$f":"IF(P$60<=vantHoff_EOS!$N$19,y_iindex_NS_n0i_vi_X(P$3,vantHoff_EOS!$N$19,vantHoff_EOS!$O$31:$X$31,vantHoff_EOS!$O$23:$X$23,$G106),\"-\")","v":5.2966012435704905E-5},{"$f":"IF(Q$60<=vantHoff_EOS!$N$19,y_iindex_NS_n0i_vi_X(Q$3,vantHoff_EOS!$N$19,vantHoff_EOS!$O$31:$X$31,vantHoff_EOS!$O$23:$X$23,$G106),\"-\")","v":5.2966012435704905E-5},{"$f":"IF(R$60<=vantHoff_EOS!$N$19,y_iindex_NS_n0i_vi_X(R$3,vantHoff_EOS!$N$19,vantHoff_EOS!$O$31:$X$31,vantHoff_EOS!$O$23:$X$23,$G106),\"-\")","v":0.11983840904453415},{"$f":"IF(S$60<=vantHoff_EOS!$N$19,y_iindex_NS_n0i_vi_X(S$3,vantHoff_EOS!$N$19,vantHoff_EOS!$O$31:$X$31,vantHoff_EOS!$O$23:$X$23,$G106),\"-\")","v":0.88000269291815869},{"$f":"IF(T$60<=vantHoff_EOS!$N$19,y_iindex_NS_n0i_vi_X(T$3,vantHoff_EOS!$N$19,vantHoff_EOS!$O$31:$X$31,vantHoff_EOS!$O$23:$X$23,$G106),\"-\")","v":"-"},{"$f":"IF(U$60<=vantHoff_EOS!$N$19,y_iindex_NS_n0i_vi_X(U$3,vantHoff_EOS!$N$19,vantHoff_EOS!$O$31:$X$31,vantHoff_EOS!$O$23:$X$23,$G106),\"-\")","v":"-"},{"$f":"IF(V$60<=vantHoff_EOS!$N$19,y_iindex_NS_n0i_vi_X(V$3,vantHoff_EOS!$N$19,vantHoff_EOS!$O$31:$X$31,vantHoff_EOS!$O$23:$X$23,$G106),\"-\")","v":"-"},{"$f":"IF(W$60<=vantHoff_EOS!$N$19,y_iindex_NS_n0i_vi_X(W$3,vantHoff_EOS!$N$19,vantHoff_EOS!$O$31:$X$31,vantHoff_EOS!$O$23:$X$23,$G106),\"-\")","v":"-"},{"$f":"IF(X$60<=vantHoff_EOS!$N$19,y_iindex_NS_n0i_vi_X(X$3,vantHoff_EOS!$N$19,vantHoff_EOS!$O$31:$X$31,vantHoff_EOS!$O$23:$X$23,$G106),\"-\")","v":"-"},1,{"$f":"IF(Z$60<=vantHoff_EOS!$N$19,Phi_i_NS_Tci_Pci_wi_kijm_TinC_PinPa_yi(Z$3,vantHoff_EOS!$N$19,vantHoff_EOS!$X$5:$X$14,vantHoff_EOS!$Y$5:$Y$14,vantHoff_EOS!$Z$5:$Z$14,vantHoff_EOS!$AE$5:$AN$14,$C$59,B106*1000000,$O106:$X106),\"-\")","v":3.2693098437311594},{"$f":"IF(AA$60<=vantHoff_EOS!$N$19,Phi_i_NS_Tci_Pci_wi_kijm_TinC_PinPa_yi(AA$3,vantHoff_EOS!$N$19,vantHoff_EOS!$X$5:$X$14,vantHoff_EOS!$Y$5:$Y$14,vantHoff_EOS!$Z$5:$Z$14,vantHoff_EOS!$AE$5:$AN$14,$C$59,B106*1000000,$O106:$X106),\"-\")","v":4.9497718173354839},{"$f":"IF(AB$60<=vantHoff_EOS!$N$19,Phi_i_NS_Tci_Pci_wi_kijm_TinC_PinPa_yi(AB$3,vantHoff_EOS!$N$19,vantHoff_EOS!$X$5:$X$14,vantHoff_EOS!$Y$5:$Y$14,vantHoff_EOS!$Z$5:$Z$14,vantHoff_EOS!$AE$5:$AN$14,$C$59,B106*1000000,$O106:$X106),\"-\")","v":0.17472528602220883},{"$f":"IF(AC$60<=vantHoff_EOS!$N$19,Phi_i_NS_Tci_Pci_wi_kijm_TinC_PinPa_yi(AC$3,vantHoff_EOS!$N$19,vantHoff_EOS!$X$5:$X$14,vantHoff_EOS!$Y$5:$Y$14,vantHoff_EOS!$Z$5:$Z$14,vantHoff_EOS!$AE$5:$AN$14,$C$59,B106*1000000,$O106:$X106),\"-\")","v":8.7904714170337211E-3},{"$f":"IF(AD$60<=vantHoff_EOS!$N$19,Phi_i_NS_Tci_Pci_wi_kijm_TinC_PinPa_yi(AD$3,vantHoff_EOS!$N$19,vantHoff_EOS!$X$5:$X$14,vantHoff_EOS!$Y$5:$Y$14,vantHoff_EOS!$Z$5:$Z$14,vantHoff_EOS!$AE$5:$AN$14,$C$59,B106*1000000,$O106:$X106),\"-\")","v":0.5075348601666122},{"$f":"IF(AE$60<=vantHoff_EOS!$N$19,Phi_i_NS_Tci_Pci_wi_kijm_TinC_PinPa_yi(AE$3,vantHoff_EOS!$N$19,vantHoff_EOS!$X$5:$X$14,vantHoff_EOS!$Y$5:$Y$14,vantHoff_EOS!$Z$5:$Z$14,vantHoff_EOS!$AE$5:$AN$14,$C$59,B106*1000000,$O106:$X106),\"-\")","v":"-"},{"$f":"IF(AF$60<=vantHoff_EOS!$N$19,Phi_i_NS_Tci_Pci_wi_kijm_TinC_PinPa_yi(AF$3,vantHoff_EOS!$N$19,vantHoff_EOS!$X$5:$X$14,vantHoff_EOS!$Y$5:$Y$14,vantHoff_EOS!$Z$5:$Z$14,vantHoff_EOS!$AE$5:$AN$14,$C$59,B106*1000000,$O106:$X106),\"-\")","v":"-"},{"$f":"IF(AG$60<=vantHoff_EOS!$N$19,Phi_i_NS_Tci_Pci_wi_kijm_TinC_PinPa_yi(AG$3,vantHoff_EOS!$N$19,vantHoff_EOS!$X$5:$X$14,vantHoff_EOS!$Y$5:$Y$14,vantHoff_EOS!$Z$5:$Z$14,vantHoff_EOS!$AE$5:$AN$14,$C$59,B106*1000000,$O106:$X106),\"-\")","v":"-"},{"$f":"IF(AH$60<=vantHoff_EOS!$N$19,Phi_i_NS_Tci_Pci_wi_kijm_TinC_PinPa_yi(AH$3,vantHoff_EOS!$N$19,vantHoff_EOS!$X$5:$X$14,vantHoff_EOS!$Y$5:$Y$14,vantHoff_EOS!$Z$5:$Z$14,vantHoff_EOS!$AE$5:$AN$14,$C$59,B106*1000000,$O106:$X106),\"-\")","v":"-"},{"$f":"IF(AI$60<=vantHoff_EOS!$N$19,Phi_i_NS_Tci_Pci_wi_kijm_TinC_PinPa_yi(AI$3,vantHoff_EOS!$N$19,vantHoff_EOS!$X$5:$X$14,vantHoff_EOS!$Y$5:$Y$14,vantHoff_EOS!$Z$5:$Z$14,vantHoff_EOS!$AE$5:$AN$14,$C$59,B106*1000000,$O106:$X106),\"-\")","v":"-"}]
[47,{"$f":"B106+vantHoff_EOS!$E$31","v":17.199999999999967},333.15,3.0016509079993999E-3,{"$f":"lnKaT_Tref_lnKaTref_dHTref_da_db_dc_dd_de_TinC(vantHoff_EOS!$E$7,vantHoff_EOS!$B$9,vantHoff_EOS!$B$6,vantHoff_EOS!$O$27,vantHoff_EOS!$P$27,vantHoff_EOS!$Q$27,vantHoff_EOS!$R$27,vantHoff_EOS!$S$27,$C$59)","v":11.370905491151026},86760.392694887007,{"$f":"MolarExtentX_NS_vi_n0i_dHfi_dGfi_TrefinC_da_db_dc_dd_de_Tci_Pci_wi_kijm_TinC_PinPa(vantHoff_EOS!$N$19,vantHoff_EOS!$O$23:$X$23,vantHoff_EOS!$O$31:$X$31,vantHoff_EOS!$T$5:$T$14,vantHoff_EOS!$U$5:$U$14,vantHoff_EOS!$E$7,vantHoff_EOS!$O$27,vantHoff_EOS!$P$27,vantHoff_EOS!$Q$27,vantHoff_EOS!$R$27,vantHoff_EOS!$S$27,vantHoff_EOS!$X$5:$X$14,vantHoff_EOS!$Y$5:$Y$14,vantHoff_EOS!$Z$5:$Z$14,vantHoff_EOS!$AE$5:$AN$14,$C$59,B107*1000000)","v":0.99956081195852053},{"$f":"Ky_NS_n0i_vi_X(vantHoff_EOS!$N$19,vantHoff_EOS!$O$31:$X$31,vantHoff_EOS!$O$23:$X$23,G107)","v":820883032898.88013},{"$f":"Kp_NS_vi_PinPa(vantHoff_EOS!$N$19,vantHoff_EOS!$O$23:$X$23,B107*1000000)","v":3.380205516495416E-5},{"$f":"Kphi_NS_n0i_vi_X_Tci_Pci_wi_kijm_TinC_PinPa(vantHoff_EOS!$N$19,vantHoff_EOS!$O$31:$X$31,vantHoff_EOS!$O$23:$X$23,G107,vantHoff_EOS!$X$5:$X$14,vantHoff_EOS!$Y$5:$Y$14,vantHoff_EOS!$Z$5:$Z$14,vantHoff_EOS!$AE$5:$AN$14,$C$59,B107*1000000)","v":3.1267785029898965E-3},27.433646467185675,-10.294988953626902,-5.7677520367249171,{"$f":"nT_NS_n0i_vi_X(vantHoff_EOS!$N$19,vantHoff_EOS!$O$31:$X$31,vantHoff_EOS!$O$23:$X$23,G107)","v":8.3408783760829586},{"$f":"IF(O$60<=vantHoff_EOS!$N$19,y_iindex_NS_n0i_vi_X(O$3,vantHoff_EOS!$N$19,vantHoff_EOS!$O$31:$X$31,vantHoff_EOS!$O$23:$X$23,$G107),\"-\")","v":5.2654890969135215E-5},{"$f":"IF(P$60<=vantHoff_EOS!$N$19,y_iindex_NS_n0i_vi_X(P$3,vantHoff_EOS!$N$19,vantHoff_EOS!$O$31:$X$31,vantHoff_EOS!$O$23:$X$23,$G107),\"-\")","v":5.2654890969135215E-5},{"$f":"IF(Q$60<=vantHoff_EOS!$N$19,y_iindex_NS_n0i_vi_X(Q$3,vantHoff_EOS!$N$19,vantHoff_EOS!$O$31:$X$31,vantHoff_EOS!$O$23:$X$23,$G107),\"-\")","v":5.2654890969135215E-5},{"$f":"IF(R$60<=vantHoff_EOS!$N$19,y_iindex_NS_n0i_vi_X(R$3,vantHoff_EOS!$N$19,vantHoff_EOS!$O$31:$X$31,vantHoff_EOS!$O$23:$X$23,$G107),\"-\")","v":0.11983879477546514},{"$f":"IF(S$60<=vantHoff_EOS!$N$19,y_iindex_NS_n0i_vi_X(S$3,vantHoff_EOS!$N$19,vantHoff_EOS!$O$31:$X$31,vantHoff_EOS!$O$23:$X$23,$G107),\"-\")","v":0.88000324055162749},{"$f":"IF(T$60<=vantHoff_EOS!$N$19,y_iindex_NS_n0i_vi_X(T$3,vantHoff_EOS!$N$19,vantHoff_EOS!$O$31:$X$31,vantHoff_EOS!$O$23:$X$23,$G107),\"-\")","v":"-"},{"$f":"IF(U$60<=vantHoff_EOS!$N$19,y_iindex_NS_n0i_vi_X(U$3,vantHoff_EOS!$N$19,vantHoff_EOS!$O$31:$X$31,vantHoff_EOS!$O$23:$X$23,$G107),\"-\")","v":"-"},{"$f":"IF(V$60<=vantHoff_EOS!$N$19,y_iindex_NS_n0i_vi_X(V$3,vantHoff_EOS!$N$19,vantHoff_EOS!$O$31:$X$31,vantHoff_EOS!$O$23:$X$23,$G107),\"-\")","v":"-"},{"$f":"IF(W$60<=vantHoff_EOS!$N$19,y_iindex_NS_n0i_vi_X(W$3,vantHoff_EOS!$N$19,vantHoff_EOS!$O$31:$X$31,vantHoff_EOS!$O$23:$X$23,$G107),\"-\")","v":"-"},{"$f":"IF(X$60<=vantHoff_EOS!$N$19,y_iindex_NS_n0i_vi_X(X$3,vantHoff_EOS!$N$19,vantHoff_EOS!$O$31:$X$31,vantHoff_EOS!$O$23:$X$23,$G107),\"-\")","v":"-"},1,{"$f":"IF(Z$60<=vantHoff_EOS!$N$19,Phi_i_NS_Tci_Pci_wi_kijm_TinC_PinPa_yi(Z$3,vantHoff_EOS!$N$19,vantHoff_EOS!$X$5:$X$14,vantHoff_EOS!$Y$5:$Y$14,vantHoff_EOS!$Z$5:$Z$14,vantHoff_EOS!$AE$5:$AN$14,$C$59,B107*1000000,$O107:$X107),\"-\")","v":3.2578792023715315},{"$f":"IF(AA$60<=vantHoff_EOS!$N$19,Phi_i_NS_Tci_Pci_wi_kijm_TinC_PinPa_yi(AA$3,vantHoff_EOS!$N$19,vantHoff_EOS!$X$5:$X$14,vantHoff_EOS!$Y$5:$Y$14,vantHoff_EOS!$Z$5:$Z$14,vantHoff_EOS!$AE$5:$AN$14,$C$59,B107*1000000,$O107:$X107),\"-\")","v":4.9310672145386292},{"$f":"IF(AB$60<=vantHoff_EOS!$N$19,Phi_i_NS_Tci_Pci_wi_kijm_TinC_PinPa_yi(AB$3,vantHoff_EOS!$N$19,vantHoff_EOS!$X$5:$X$14,vantHoff_EOS!$Y$5:$Y$14,vantHoff_EOS!$Z$5:$Z$14,vantHoff_EOS!$AE$5:$AN$14,$C$59,B107*1000000,$O107:$X107),\"-\")","v":0.17368634852120599},{"$f":"IF(AC$60<=vantHoff_EOS!$N$19,Phi_i_NS_Tci_Pci_wi_kijm_TinC_PinPa_yi(AC$3,vantHoff_EOS!$N$19,vantHoff_EOS!$X$5:$X$14,vantHoff_EOS!$Y$5:$Y$14,vantHoff_EOS!$Z$5:$Z$14,vantHoff_EOS!$AE$5:$AN$14,$C$59,B107*1000000,$O107:$X107),\"-\")","v":8.7244629359784463E-3},{"$f":"IF(AD$60<=vantHoff_EOS!$N$19,Phi_i_NS_Tci_Pci_wi_kijm_TinC_PinPa_yi(AD$3,vantHoff_EOS!$N$19,vantHoff_EOS!$X$5:$X$14,vantHoff_EOS!$Y$5:$Y$14,vantHoff_EOS!$Z$5:$Z$14,vantHoff_EOS!$AE$5:$AN$14,$C$59,B107*1000000,$O107:$X107),\"-\")","v":0.50391067954435476},{"$f":"IF(AE$60<=vantHoff_EOS!$N$19,Phi_i_NS_Tci_Pci_wi_kijm_TinC_PinPa_yi(AE$3,vantHoff_EOS!$N$19,vantHoff_EOS!$X$5:$X$14,vantHoff_EOS!$Y$5:$Y$14,vantHoff_EOS!$Z$5:$Z$14,vantHoff_EOS!$AE$5:$AN$14,$C$59,B107*1000000,$O107:$X107),\"-\")","v":"-"},{"$f":"IF(AF$60<=vantHoff_EOS!$N$19,Phi_i_NS_Tci_Pci_wi_kijm_TinC_PinPa_yi(AF$3,vantHoff_EOS!$N$19,vantHoff_EOS!$X$5:$X$14,vantHoff_EOS!$Y$5:$Y$14,vantHoff_EOS!$Z$5:$Z$14,vantHoff_EOS!$AE$5:$AN$14,$C$59,B107*1000000,$O107:$X107),\"-\")","v":"-"},{"$f":"IF(AG$60<=vantHoff_EOS!$N$19,Phi_i_NS_Tci_Pci_wi_kijm_TinC_PinPa_yi(AG$3,vantHoff_EOS!$N$19,vantHoff_EOS!$X$5:$X$14,vantHoff_EOS!$Y$5:$Y$14,vantHoff_EOS!$Z$5:$Z$14,vantHoff_EOS!$AE$5:$AN$14,$C$59,B107*1000000,$O107:$X107),\"-\")","v":"-"},{"$f":"IF(AH$60<=vantHoff_EOS!$N$19,Phi_i_NS_Tci_Pci_wi_kijm_TinC_PinPa_yi(AH$3,vantHoff_EOS!$N$19,vantHoff_EOS!$X$5:$X$14,vantHoff_EOS!$Y$5:$Y$14,vantHoff_EOS!$Z$5:$Z$14,vantHoff_EOS!$AE$5:$AN$14,$C$59,B107*1000000,$O107:$X107),\"-\")","v":"-"},{"$f":"IF(AI$60<=vantHoff_EOS!$N$19,Phi_i_NS_Tci_Pci_wi_kijm_TinC_PinPa_yi(AI$3,vantHoff_EOS!$N$19,vantHoff_EOS!$X$5:$X$14,vantHoff_EOS!$Y$5:$Y$14,vantHoff_EOS!$Z$5:$Z$14,vantHoff_EOS!$AE$5:$AN$14,$C$59,B107*1000000,$O107:$X107),\"-\")","v":"-"}]
[48,{"$f":"B107+vantHoff_EOS!$E$31","v":17.399999999999967},333.15,3.0016509079993999E-3,{"$f":"lnKaT_Tref_lnKaTref_dHTref_da_db_dc_dd_de_TinC(vantHoff_EOS!$E$7,vantHoff_EOS!$B$9,vantHoff_EOS!$B$6,vantHoff_EOS!$O$27,vantHoff_EOS!$P$27,vantHoff_EOS!$Q$27,vantHoff_EOS!$R$27,vantHoff_EOS!$S$27,$C$59)","v":11.370905491151026},86760.392694887007,{"$f":"MolarExtentX_NS_vi_n0i_dHfi_dGfi_TrefinC_da_db_dc_dd_de_Tci_Pci_wi_kijm_TinC_PinPa(vantHoff_EOS!$N$19,vantHoff_EOS!$O$23:$X$23,vantHoff_EOS!$O$31:$X$31,vantHoff_EOS!$T$5:$T$14,vantHoff_EOS!$U$5:$U$14,vantHoff_EOS!$E$7,vantHoff_EOS!$O$27,vantHoff_EOS!$P$27,vantHoff_EOS!$Q$27,vantHoff_EOS!$R$27,vantHoff_EOS!$S$27,vantHoff_EOS!$X$5:$X$14,vantHoff_EOS!$Y$5:$Y$14,vantHoff_EOS!$Z$5:$Z$14,vantHoff_EOS!$AE$5:$AN$14,$C$59,B108*1000000)","v":0.99956335750262892},{"$f":"Ky_NS_n0i_vi_X(vantHoff_EOS!$N$19,vantHoff_EOS!$O$31:$X$31,vantHoff_EOS!$O$23:$X$23,G108)","v":835324784203.87207},{"$f":"Kp_NS_vi_PinPa(vantHoff_EOS!$N$19,vantHoff_EOS!$O$23:$X$23,B108*1000000)","v":3.3029462280354206E-5},{"$f":"Kphi_NS_n0i_vi_X_Tci_Pci_wi_kijm_TinC_PinPa(vantHoff_EOS!$N$19,vantHoff_EOS!$O$31:$X$31,vantHoff_EOS!$O$23:$X$23,G108,vantHoff_EOS!$X$5:$X$14,vantHoff_EOS!$Y$5:$Y$14,vantHoff_EOS!$Z$5:$Z$14,vantHoff_EOS!$AE$5:$AN$14,$C$59,B108*1000000)","v":3.1445943672649139E-3},27.451086449289132,-10.318110598429055,-5.7620703741702695,{"$f":"nT_NS_n0i_vi_X(vantHoff_EOS!$N$19,vantHoff_EOS!$O$31:$X$31,vantHoff_EOS!$O$23:$X$23,G108)","v":8.3408732849947427},{"$f":"IF(O$60<=vantHoff_EOS!$N$19,y_iindex_NS_n0i_vi_X(O$3,vantHoff_EOS!$N$19,vantHoff_EOS!$O$31:$X$31,vantHoff_EOS!$O$23:$X$23,$G108),\"-\")","v":5.2349733948913611E-5},{"$f":"IF(P$60<=vantHoff_EOS!$N$19,y_iindex_NS_n0i_vi_X(P$3,vantHoff_EOS!$N$19,vantHoff_EOS!$O$31:$X$31,vantHoff_EOS!$O$23:$X$23,$G108),\"-\")","v":5.2349733948913611E-5},{"$f":"IF(Q$60<=vantHoff_EOS!$N$19,y_iindex_NS_n0i_vi_X(Q$3,vantHoff_EOS!$N$19,vantHoff_EOS!$O$31:$X$31,vantHoff_EOS!$O$23:$X$23,$G108),\"-\")","v":5.2349733948913611E-5},{"$f":"IF(R$60<=vantHoff_EOS!$N$19,y_iindex_NS_n0i_vi_X(R$3,vantHoff_EOS!$N$19,vantHoff_EOS!$O$31:$X$31,vantHoff_EOS!$O$23:$X$23,$G108),\"-\")","v":0.11983917311162688},{"$f":"IF(S$60<=vantHoff_EOS!$N$19,y_iindex_NS_n0i_vi_X(S$3,vantHoff_EOS!$N$19,vantHoff_EOS!$O$31:$X$31,vantHoff_EOS!$O$23:$X$23,$G108),\"-\")","v":0.88000377768652627},{"$f":"IF(T$60<=vantHoff_EOS!$N$19,y_iindex_NS_n0i_vi_X(T$3,vantHoff_EOS!$N$19,vantHoff_EOS!$O$31:$X$31,vantHoff_EOS!$O$23:$X$23,$G108),\"-\")","v":"-"},{"$f":"IF(U$60<=vantHoff_EOS!$N$19,y_iindex_NS_n0i_vi_X(U$3,vantHoff_EOS!$N$19,vantHoff_EOS!$O$31:$X$31,vantHoff_EOS!$O$23:$X$23,$G108),\"-\")","v":"-"},{"$f":"IF(V$60<=vantHoff_EOS!$N$19,y_iindex_NS_n0i_vi_X(V$3,vantHoff_EOS!$N$19,vantHoff_EOS!$O$31:$X$31,vantHoff_EOS!$O$23:$X$23,$G108),\"-\")","v":"-"},{"$f":"IF(W$60<=vantHoff_EOS!$N$19,y_iindex_NS_n0i_vi_X(W$3,vantHoff_EOS!$N$19,vantHoff_EOS!$O$31:$X$31,vantHoff_EOS!$O$23:$X$23,$G108),\"-\")","v":"-"},{"$f":"IF(X$60<=vantHoff_EOS!$N$19,y_iindex_NS_n0i_vi_X(X$3,vantHoff_EOS!$N$19,vantHoff_EOS!$O$31:$X$31,vantHoff_EOS!$O$23:$X$23,$G108),\"-\")","v":"-"},0.99999999999999989,{"$f":"IF(Z$60<=vantHoff_EOS!$N$19,Phi_i_NS_Tci_Pci_wi_kijm_TinC_PinPa_yi(Z$3,vantHoff_EOS!$N$19,vantHoff_EOS!$X$5:$X$14,vantHoff_EOS!$Y$5:$Y$14,vantHoff_EOS!$Z$5:$Z$14,vantHoff_EOS!$AE$5:$AN$14,$C$59,B108*1000000,$O108:$X108),\"-\")","v":3.2466691316294591},{"$f":"IF(AA$60<=vantHoff_EOS!$N$19,Phi_i_NS_Tci_Pci_wi_kijm_TinC_PinPa_yi(AA$3,vantHoff_EOS!$N$19,vantHoff_EOS!$X$5:$X$14,vantHoff_EOS!$Y$5:$Y$14,vantHoff_EOS!$Z$5:$Z$14,vantHoff_EOS!$AE$5:$AN$14,$C$59,B108*1000000,$O108:$X108),\"-\")","v":4.9126705058229847},{"$f":"IF(AB$60<=vantHoff_EOS!$N$19,Phi_i_NS_Tci_Pci_wi_kijm_TinC_PinPa_yi(AB$3,vantHoff_EOS!$N$19,vantHoff_EOS!$X$5:$X$14,vantHoff_EOS!$Y$5:$Y$14,vantHoff_EOS!$Z$5:$Z$14,vantHoff_EOS!$AE$5:$AN$14,$C$59,B108*1000000,$O108:$X108),\"-\")","v":0.17267591923585821},{"$f":"IF(AC$60<=vantHoff_EOS!$N$19,Phi_i_NS_Tci_Pci_wi_kijm_TinC_PinPa_yi(AC$3,vantHoff_EOS!$N$19,vantHoff_EOS!$X$5:$X$14,vantHoff_EOS!$Y$5:$Y$14,vantHoff_EOS!$Z$5:$Z$14,vantHoff_EOS!$AE$5:$AN$14,$C$59,B108*1000000,$O108:$X108),\"-\")","v":8.6606816995219091E-3},{"$f":"IF(AD$60<=vantHoff_EOS!$N$19,Phi_i_NS_Tci_Pci_wi_kijm_TinC_PinPa_yi(AD$3,vantHoff_EOS!$N$19,vantHoff_EOS!$X$5:$X$14,vantHoff_EOS!$Y$5:$Y$14,vantHoff_EOS!$Z$5:$Z$14,vantHoff_EOS!$AE$5:$AN$14,$C$59,B108*1000000,$O108:$X108),\"-\")","v":0.50036880092403802},{"$f":"IF(AE$60<=vantHoff_EOS!$N$19,Phi_i_NS_Tci_Pci_wi_kijm_TinC_PinPa_yi(AE$3,vantHoff_EOS!$N$19,vantHoff_EOS!$X$5:$X$14,vantHoff_EOS!$Y$5:$Y$14,vantHoff_EOS!$Z$5:$Z$14,vantHoff_EOS!$AE$5:$AN$14,$C$59,B108*1000000,$O108:$X108),\"-\")","v":"-"},{"$f":"IF(AF$60<=vantHoff_EOS!$N$19,Phi_i_NS_Tci_Pci_wi_kijm_TinC_PinPa_yi(AF$3,vantHoff_EOS!$N$19,vantHoff_EOS!$X$5:$X$14,vantHoff_EOS!$Y$5:$Y$14,vantHoff_EOS!$Z$5:$Z$14,vantHoff_EOS!$AE$5:$AN$14,$C$59,B108*1000000,$O108:$X108),\"-\")","v":"-"},{"$f":"IF(AG$60<=vantHoff_EOS!$N$19,Phi_i_NS_Tci_Pci_wi_kijm_TinC_PinPa_yi(AG$3,vantHoff_EOS!$N$19,vantHoff_EOS!$X$5:$X$14,vantHoff_EOS!$Y$5:$Y$14,vantHoff_EOS!$Z$5:$Z$14,vantHoff_EOS!$AE$5:$AN$14,$C$59,B108*1000000,$O108:$X108),\"-\")","v":"-"},{"$f":"IF(AH$60<=vantHoff_EOS!$N$19,Phi_i_NS_Tci_Pci_wi_kijm_TinC_PinPa_yi(AH$3,vantHoff_EOS!$N$19,vantHoff_EOS!$X$5:$X$14,vantHoff_EOS!$Y$5:$Y$14,vantHoff_EOS!$Z$5:$Z$14,vantHoff_EOS!$AE$5:$AN$14,$C$59,B108*1000000,$O108:$X108),\"-\")","v":"-"},{"$f":"IF(AI$60<=vantHoff_EOS!$N$19,Phi_i_NS_Tci_Pci_wi_kijm_TinC_PinPa_yi(AI$3,vantHoff_EOS!$N$19,vantHoff_EOS!$X$5:$X$14,vantHoff_EOS!$Y$5:$Y$14,vantHoff_EOS!$Z$5:$Z$14,vantHoff_EOS!$AE$5:$AN$14,$C$59,B108*1000000,$O108:$X108),\"-\")","v":"-"}]
[49,{"$f":"B108+vantHoff_EOS!$E$31","v":17.599999999999966},333.15,3.0016509079993999E-3,{"$f":"lnKaT_Tref_lnKaTref_dHTref_da_db_dc_dd_de_TinC(vantHoff_EOS!$E$7,vantHoff_EOS!$B$9,vantHoff_EOS!$B$6,vantHoff_EOS!$O$27,vantHoff_EOS!$P$27,vantHoff_EOS!$Q$27,vantHoff_EOS!$R$27,vantHoff_EOS!$S$27,$C$59)","v":11.370905491151026},86760.392694887007,{"$f":"MolarExtentX_NS_vi_n0i_dHfi_dGfi_TrefinC_da_db_dc_dd_de_Tci_Pci_wi_kijm_TinC_PinPa(vantHoff_EOS!$N$19,vantHoff_EOS!$O$23:$X$23,vantHoff_EOS!$O$31:$X$31,vantHoff_EOS!$T$5:$T$14,vantHoff_EOS!$U$5:$U$14,vantHoff_EOS!$E$7,vantHoff_EOS!$O$27,vantHoff_EOS!$P$27,vantHoff_EOS!$Q$27,vantHoff_EOS!$R$27,vantHoff_EOS!$S$27,vantHoff_EOS!$X$5:$X$14,vantHoff_EOS!$Y$5:$Y$14,vantHoff_EOS!$Z$5:$Z$14,vantHoff_EOS!$AE$5:$AN$14,$C$59,B109*1000000)","v":0.99956585502822448},{"$f":"Ky_NS_n0i_vi_X(vantHoff_EOS!$N$19,vantHoff_EOS!$O$31:$X$31,vantHoff_EOS!$O$23:$X$23,G109)","v":849825214722.90417},{"$f":"Kp_NS_vi_PinPa(vantHoff_EOS!$N$19,vantHoff_EOS!$O$23:$X$23,B109*1000000)","v":3.2283057851239799E-5},{"$f":"Kphi_NS_n0i_vi_X_Tci_Pci_wi_kijm_TinC_PinPa(vantHoff_EOS!$N$19,vantHoff_EOS!$O$31:$X$31,vantHoff_EOS!$O$23:$X$23,G109,vantHoff_EOS!$X$5:$X$14,vantHoff_EOS!$Y$5:$Y$14,vantHoff_EOS!$Z$5:$Z$14,vantHoff_EOS!$AE$5:$AN$14,$C$59,B109*1000000)","v":3.1624030898284379E-3},27.468296535548319,-10.340967990076299,-5.7564230689305305,{"$f":"nT_NS_n0i_vi_X(vantHoff_EOS!$N$19,vantHoff_EOS!$O$31:$X$31,vantHoff_EOS!$O$23:$X$23,G109)","v":8.3408682899435505},{"$f":"IF(O$60<=vantHoff_EOS!$N$19,y_iindex_NS_n0i_vi_X(O$3,vantHoff_EOS!$N$19,vantHoff_EOS!$O$31:$X$31,vantHoff_EOS!$O$23:$X$23,$G109),\"-\")","v":5.2050332973002359E-5},{"$f":"IF(P$60<=vantHoff_EOS!$N$19,y_iindex_NS_n0i_vi_X(P$3,vantHoff_EOS!$N$19,vantHoff_EOS!$O$31:$X$31,vantHoff_EOS!$O$23:$X$23,$G109),\"-\")","v":5.2050332973002359E-5},{"$f":"IF(Q$60<=vantHoff_EOS!$N$19,y_iindex_NS_n0i_vi_X(Q$3,vantHoff_EOS!$N$19,vantHoff_EOS!$O$31:$X$31,vantHoff_EOS!$O$23:$X$23,$G109),\"-\")","v":5.2050332973002359E-5},{"$f":"IF(R$60<=vantHoff_EOS!$N$19,y_iindex_NS_n0i_vi_X(R$3,vantHoff_EOS!$N$19,vantHoff_EOS!$O$31:$X$31,vantHoff_EOS!$O$23:$X$23,$G109),\"-\")","v":0.11983954431139798},{"$f":"IF(S$60<=vantHoff_EOS!$N$19,y_iindex_NS_n0i_vi_X(S$3,vantHoff_EOS!$N$19,vantHoff_EOS!$O$31:$X$31,vantHoff_EOS!$O$23:$X$23,$G109),\"-\")","v":0.88000430468968305},{"$f":"IF(T$60<=vantHoff_EOS!$N$19,y_iindex_NS_n0i_vi_X(T$3,vantHoff_EOS!$N$19,vantHoff_EOS!$O$31:$X$31,vantHoff_EOS!$O$23:$X$23,$G109),\"-\")","v":"-"},{"$f":"IF(U$60<=vantHoff_EOS!$N$19,y_iindex_NS_n0i_vi_X(U$3,vantHoff_EOS!$N$19,vantHoff_EOS!$O$31:$X$31,vantHoff_EOS!$O$23:$X$23,$G109),\"-\")","v":"-"},{"$f":"IF(V$60<=vantHoff_EOS!$N$19,y_iindex_NS_n0i_vi_X(V$3,vantHoff_EOS!$N$19,vantHoff_EOS!$O$31:$X$31,vantHoff_EOS!$O$23:$X$23,$G109),\"-\")","v":"-"},{"$f":"IF(W$60<=vantHoff_EOS!$N$19,y_iindex_NS_n0i_vi_X(W$3,vantHoff_EOS!$N$19,vantHoff_EOS!$O$31:$X$31,vantHoff_EOS!$O$23:$X$23,$G109),\"-\")","v":"-"},{"$f":"IF(X$60<=vantHoff_EOS!$N$19,y_iindex_NS_n0i_vi_X(X$3,vantHoff_EOS!$N$19,vantHoff_EOS!$O$31:$X$31,vantHoff_EOS!$O$23:$X$23,$G109),\"-\")","v":"-"},1,{"$f":"IF(Z$60<=vantHoff_EOS!$N$19,Phi_i_NS_Tci_Pci_wi_kijm_TinC_PinPa_yi(Z$3,vantHoff_EOS!$N$19,vantHoff_EOS!$X$5:$X$14,vantHoff_EOS!$Y$5:$Y$14,vantHoff_EOS!$Z$5:$Z$14,vantHoff_EOS!$AE$5:$AN$14,$C$59,B109*1000000,$O109:$X109),\"-\")","v":3.2356752025149405},{"$f":"IF(AA$60<=vantHoff_EOS!$N$19,Phi_i_NS_Tci_Pci_wi_kijm_TinC_PinPa_yi(AA$3,vantHoff_EOS!$N$19,vantHoff_EOS!$X$5:$X$14,vantHoff_EOS!$Y$5:$Y$14,vantHoff_EOS!$Z$5:$Z$14,vantHoff_EOS!$AE$5:$AN$14,$C$59,B109*1000000,$O109:$X109),\"-\")","v":4.8945763710563357},{"$f":"IF(AB$60<=vantHoff_EOS!$N$19,Phi_i_NS_Tci_Pci_wi_kijm_TinC_PinPa_yi(AB$3,vantHoff_EOS!$N$19,vantHoff_EOS!$X$5:$X$14,vantHoff_EOS!$Y$5:$Y$14,vantHoff_EOS!$Z$5:$Z$14,vantHoff_EOS!$AE$5:$AN$14,$C$59,B109*1000000,$O109:$X109),\"-\")","v":0.17169303582690809},{"$f":"IF(AC$60<=vantHoff_EOS!$N$19,Phi_i_NS_Tci_Pci_wi_kijm_TinC_PinPa_yi(AC$3,vantHoff_EOS!$N$19,vantHoff_EOS!$X$5:$X$14,vantHoff_EOS!$Y$5:$Y$14,vantHoff_EOS!$Z$5:$Z$14,vantHoff_EOS!$AE$5:$AN$14,$C$59,B109*1000000,$O109:$X109),\"-\")","v":8.5990393297497771E-3},{"$f":"IF(AD$60<=vantHoff_EOS!$N$19,Phi_i_NS_Tci_Pci_wi_kijm_TinC_PinPa_yi(AD$3,vantHoff_EOS!$N$19,vantHoff_EOS!$X$5:$X$14,vantHoff_EOS!$Y$5:$Y$14,vantHoff_EOS!$Z$5:$Z$14,vantHoff_EOS!$AE$5:$AN$14,$C$59,B109*1000000,$O109:$X109),\"-\")","v":0.49690660193136038},{"$f":"IF(AE$60<=vantHoff_EOS!$N$19,Phi_i_NS_Tci_Pci_wi_kijm_TinC_PinPa_yi(AE$3,vantHoff_EOS!$N$19,vantHoff_EOS!$X$5:$X$14,vantHoff_EOS!$Y$5:$Y$14,vantHoff_EOS!$Z$5:$Z$14,vantHoff_EOS!$AE$5:$AN$14,$C$59,B109*1000000,$O109:$X109),\"-\")","v":"-"},{"$f":"IF(AF$60<=vantHoff_EOS!$N$19,Phi_i_NS_Tci_Pci_wi_kijm_TinC_PinPa_yi(AF$3,vantHoff_EOS!$N$19,vantHoff_EOS!$X$5:$X$14,vantHoff_EOS!$Y$5:$Y$14,vantHoff_EOS!$Z$5:$Z$14,vantHoff_EOS!$AE$5:$AN$14,$C$59,B109*1000000,$O109:$X109),\"-\")","v":"-"},{"$f":"IF(AG$60<=vantHoff_EOS!$N$19,Phi_i_NS_Tci_Pci_wi_kijm_TinC_PinPa_yi(AG$3,vantHoff_EOS!$N$19,vantHoff_EOS!$X$5:$X$14,vantHoff_EOS!$Y$5:$Y$14,vantHoff_EOS!$Z$5:$Z$14,vantHoff_EOS!$AE$5:$AN$14,$C$59,B109*1000000,$O109:$X109),\"-\")","v":"-"},{"$f":"IF(AH$60<=vantHoff_EOS!$N$19,Phi_i_NS_Tci_Pci_wi_kijm_TinC_PinPa_yi(AH$3,vantHoff_EOS!$N$19,vantHoff_EOS!$X$5:$X$14,vantHoff_EOS!$Y$5:$Y$14,vantHoff_EOS!$Z$5:$Z$14,vantHoff_EOS!$AE$5:$AN$14,$C$59,B109*1000000,$O109:$X109),\"-\")","v":"-"},{"$f":"IF(AI$60<=vantHoff_EOS!$N$19,Phi_i_NS_Tci_Pci_wi_kijm_TinC_PinPa_yi(AI$3,vantHoff_EOS!$N$19,vantHoff_EOS!$X$5:$X$14,vantHoff_EOS!$Y$5:$Y$14,vantHoff_EOS!$Z$5:$Z$14,vantHoff_EOS!$AE$5:$AN$14,$C$59,B109*1000000,$O109:$X109),\"-\")","v":"-"}]
[50,{"$f":"B109+vantHoff_EOS!$E$31","v":17.799999999999965},333.15,3.0016509079993999E-3,{"$f":"lnKaT_Tref_lnKaTref_dHTref_da_db_dc_dd_de_TinC(vantHoff_EOS!$E$7,vantHoff_EOS!$B$9,vantHoff_EOS!$B$6,vantHoff_EOS!$O$27,vantHoff_EOS!$P$27,vantHoff_EOS!$Q$27,vantHoff_EOS!$R$27,vantHoff_EOS!$S$27,$C$59)","v":11.370905491151026},86760.392694887007,{"$f":"MolarExtentX_NS_vi_n0i_dHfi_dGfi_TrefinC_da_db_dc_dd_de_Tci_Pci_wi_kijm_TinC_PinPa(vantHoff_EOS!$N$19,vantHoff_EOS!$O$23:$X$23,vantHoff_EOS!$O$31:$X$31,vantHoff_EOS!$T$5:$T$14,vantHoff_EOS!$U$5:$U$14,vantHoff_EOS!$E$7,vantHoff_EOS!$O$27,vantHoff_EOS!$P$27,vantHoff_EOS!$Q$27,vantHoff_EOS!$R$27,vantHoff_EOS!$S$27,vantHoff_EOS!$X$5:$X$14,vantHoff_EOS!$Y$5:$Y$14,vantHoff_EOS!$Z$5:$Z$14,vantHoff_EOS!$AE$5:$AN$14,$C$59,B110*1000000)","v":0.99956830618552728},{"$f":"Ky_NS_n0i_vi_X(vantHoff_EOS!$N$19,vantHoff_EOS!$O$31:$X$31,vantHoff_EOS!$O$23:$X$23,G110)","v":864384589817.60803},{"$f":"Kp_NS_vi_PinPa(vantHoff_EOS!$N$19,vantHoff_EOS!$O$23:$X$23,B110*1000000)","v":3.1561671506123091E-5},{"$f":"Kphi_NS_n0i_vi_X_Tci_Pci_wi_kijm_TinC_PinPa(vantHoff_EOS!$N$19,vantHoff_EOS!$O$31:$X$31,vantHoff_EOS!$O$23:$X$23,G110,vantHoff_EOS!$X$5:$X$14,vantHoff_EOS!$Y$5:$Y$14,vantHoff_EOS!$Z$5:$Z$14,vantHoff_EOS!$AE$5:$AN$14,$C$59,B110*1000000)","v":3.1802004269257671E-3},27.4852836338145,-10.363567100584167,-5.7508110568410435,{"$f":"nT_NS_n0i_vi_X(vantHoff_EOS!$N$19,vantHoff_EOS!$O$31:$X$31,vantHoff_EOS!$O$23:$X$23,G110)","v":8.3408633876289446},{"$f":"IF(O$60<=vantHoff_EOS!$N$19,y_iindex_NS_n0i_vi_X(O$3,vantHoff_EOS!$N$19,vantHoff_EOS!$O$31:$X$31,vantHoff_EOS!$O$23:$X$23,$G110),\"-\")","v":5.1756490234932351E-5},{"$f":"IF(P$60<=vantHoff_EOS!$N$19,y_iindex_NS_n0i_vi_X(P$3,vantHoff_EOS!$N$19,vantHoff_EOS!$O$31:$X$31,vantHoff_EOS!$O$23:$X$23,$G110),\"-\")","v":5.1756490234932351E-5},{"$f":"IF(Q$60<=vantHoff_EOS!$N$19,y_iindex_NS_n0i_vi_X(Q$3,vantHoff_EOS!$N$19,vantHoff_EOS!$O$31:$X$31,vantHoff_EOS!$O$23:$X$23,$G110),\"-\")","v":5.1756490234932351E-5},{"$f":"IF(R$60<=vantHoff_EOS!$N$19,y_iindex_NS_n0i_vi_X(R$3,vantHoff_EOS!$N$19,vantHoff_EOS!$O$31:$X$31,vantHoff_EOS!$O$23:$X$23,$G110),\"-\")","v":0.11983990862002049},{"$f":"IF(S$60<=vantHoff_EOS!$N$19,y_iindex_NS_n0i_vi_X(S$3,vantHoff_EOS!$N$19,vantHoff_EOS!$O$31:$X$31,vantHoff_EOS!$O$23:$X$23,$G110),\"-\")","v":0.88000482190927476},{"$f":"IF(T$60<=vantHoff_EOS!$N$19,y_iindex_NS_n0i_vi_X(T$3,vantHoff_EOS!$N$19,vantHoff_EOS!$O$31:$X$31,vantHoff_EOS!$O$23:$X$23,$G110),\"-\")","v":"-"},{"$f":"IF(U$60<=vantHoff_EOS!$N$19,y_iindex_NS_n0i_vi_X(U$3,vantHoff_EOS!$N$19,vantHoff_EOS!$O$31:$X$31,vantHoff_EOS!$O$23:$X$23,$G110),\"-\")","v":"-"},{"$f":"IF(V$60<=vantHoff_EOS!$N$19,y_iindex_NS_n0i_vi_X(V$3,vantHoff_EOS!$N$19,vantHoff_EOS!$O$31:$X$31,vantHoff_EOS!$O$23:$X$23,$G110),\"-\")","v":"-"},{"$f":"IF(W$60<=vantHoff_EOS!$N$19,y_iindex_NS_n0i_vi_X(W$3,vantHoff_EOS!$N$19,vantHoff_EOS!$O$31:$X$31,vantHoff_EOS!$O$23:$X$23,$G110),\"-\")","v":"-"},{"$f":"IF(X$60<=vantHoff_EOS!$N$19,y_iindex_NS_n0i_vi_X(X$3,vantHoff_EOS!$N$19,vantHoff_EOS!$O$31:$X$31,vantHoff_EOS!$O$23:$X$23,$G110),\"-\")","v":"-"},1,{"$f":"IF(Z$60<=vantHoff_EOS!$N$19,Phi_i_NS_Tci_Pci_wi_kijm_TinC_PinPa_yi(Z$3,vantHoff_EOS!$N$19,vantHoff_EOS!$X$5:$X$14,vantHoff_EOS!$Y$5:$Y$14,vantHoff_EOS!$Z$5:$Z$14,vantHoff_EOS!$AE$5:$AN$14,$C$59,B110*1000000,$O110:$X110),\"-\")","v":3.2248930503680686},{"$f":"IF(AA$60<=vantHoff_EOS!$N$19,Phi_i_NS_Tci_Pci_wi_kijm_TinC_PinPa_yi(AA$3,vantHoff_EOS!$N$19,vantHoff_EOS!$X$5:$X$14,vantHoff_EOS!$Y$5:$Y$14,vantHoff_EOS!$Z$5:$Z$14,vantHoff_EOS!$AE$5:$AN$14,$C$59,B110*1000000,$O110:$X110),\"-\")","v":4.8767794992332343},{"$f":"IF(AB$60<=vantHoff_EOS!$N$19,Phi_i_NS_Tci_Pci_wi_kijm_TinC_PinPa_yi(AB$3,vantHoff_EOS!$N$19,vantHoff_EOS!$X$5:$X$14,vantHoff_EOS!$Y$5:$Y$14,vantHoff_EOS!$Z$5:$Z$14,vantHoff_EOS!$AE$5:$AN$14,$C$59,B110*1000000,$O110:$X110),\"-\")","v":0.17073678012484478},{"$f":"IF(AC$60<=vantHoff_EOS!$N$19,Phi_i_NS_Tci_Pci_wi_kijm_TinC_PinPa_yi(AC$3,vantHoff_EOS!$N$19,vantHoff_EOS!$X$5:$X$14,vantHoff_EOS!$Y$5:$Y$14,vantHoff_EOS!$Z$5:$Z$14,vantHoff_EOS!$AE$5:$AN$14,$C$59,B110*1000000,$O110:$X110),\"-\")","v":8.5394522513708992E-3},{"$f":"IF(AD$60<=vantHoff_EOS!$N$19,Phi_i_NS_Tci_Pci_wi_kijm_TinC_PinPa_yi(AD$3,vantHoff_EOS!$N$19,vantHoff_EOS!$X$5:$X$14,vantHoff_EOS!$Y$5:$Y$14,vantHoff_EOS!$Z$5:$Z$14,vantHoff_EOS!$AE$5:$AN$14,$C$59,B110*1000000,$O110:$X110),\"-\")","v":0.49352157032932237},{"$f":"IF(AE$60<=vantHoff_EOS!$N$19,Phi_i_NS_Tci_Pci_wi_kijm_TinC_PinPa_yi(AE$3,vantHoff_EOS!$N$19,vantHoff_EOS!$X$5:$X$14,vantHoff_EOS!$Y$5:$Y$14,vantHoff_EOS!$Z$5:$Z$14,vantHoff_EOS!$AE$5:$AN$14,$C$59,B110*1000000,$O110:$X110),\"-\")","v":"-"},{"$f":"IF(AF$60<=vantHoff_EOS!$N$19,Phi_i_NS_Tci_Pci_wi_kijm_TinC_PinPa_yi(AF$3,vantHoff_EOS!$N$19,vantHoff_EOS!$X$5:$X$14,vantHoff_EOS!$Y$5:$Y$14,vantHoff_EOS!$Z$5:$Z$14,vantHoff_EOS!$AE$5:$AN$14,$C$59,B110*1000000,$O110:$X110),\"-\")","v":"-"},{"$f":"IF(AG$60<=vantHoff_EOS!$N$19,Phi_i_NS_Tci_Pci_wi_kijm_TinC_PinPa_yi(AG$3,vantHoff_EOS!$N$19,vantHoff_EOS!$X$5:$X$14,vantHoff_EOS!$Y$5:$Y$14,vantHoff_EOS!$Z$5:$Z$14,vantHoff_EOS!$AE$5:$AN$14,$C$59,B110*1000000,$O110:$X110),\"-\")","v":"-"},{"$f":"IF(AH$60<=vantHoff_EOS!$N$19,Phi_i_NS_Tci_Pci_wi_kijm_TinC_PinPa_yi(AH$3,vantHoff_EOS!$N$19,vantHoff_EOS!$X$5:$X$14,vantHoff_EOS!$Y$5:$Y$14,vantHoff_EOS!$Z$5:$Z$14,vantHoff_EOS!$AE$5:$AN$14,$C$59,B110*1000000,$O110:$X110),\"-\")","v":"-"},{"$f":"IF(AI$60<=vantHoff_EOS!$N$19,Phi_i_NS_Tci_Pci_wi_kijm_TinC_PinPa_yi(AI$3,vantHoff_EOS!$N$19,vantHoff_EOS!$X$5:$X$14,vantHoff_EOS!$Y$5:$Y$14,vantHoff_EOS!$Z$5:$Z$14,vantHoff_EOS!$AE$5:$AN$14,$C$59,B110*1000000,$O110:$X110),\"-\")","v":"-"}]

{"sheet":"Adiabatic Plug Flow Reactor","index":3,"n_rows":81,"n_cols":12,"rows_kept":81,"cut":false,"hidden":false,"merged":[]}
[]
[]
[null,null,null,null,null,"P [MPa]",20]
[]
[]
[]
[]
[null,null,"Tin [C]",80,null,null,null,null,"Tout [C]",{"$f":"Tadiabatic_NS_vi_n0i_dHfi_dGfi_TrefinC_da_db_dc_dd_de_Cpai_Cpbi_Cpci_Cpdi_Cpei_Tci_Pci_wi_kijm_ReactorInletTinC_PinPa_Tguesslow_Tguesshigh(vantHoff_EOS!$N$19,vantHoff_EOS!$O$23:$X$23,$D$11:$D$20,vantHoff_EOS!$T$5:$T$14,vantHoff_EOS!$U$5:$U$14,vantHoff_EOS!$E$7,vantHoff_EOS!$O$27,vantHoff_EOS!$P$27,vantHoff_EOS!$Q$27,vantHoff_EOS!$R$27,vantHoff_EOS!$S$27,vantHoff_EOS!$O$5:$O$14,vantHoff_EOS!$P$5:$P$14,vantHoff_EOS!$Q$5:$Q$14,vantHoff_EOS!$R$5:$R$14,vantHoff_EOS!$S$5:$S$14,vantHoff_EOS!$X$5:$X$14,vantHoff_EOS!$Y$5:$Y$14,vantHoff_EOS!$Z$5:$Z$14,vantHoff_EOS!$AE$5:$AN$14,$D$8,$G$3*1000000,0,1000)","v":232.88131966656638}]
[]
[null,null,null,"nin, i [mol/s]",null,"X",null,null,null,"nout, i [mol/s]",null,"yi [-]"]
[null,null,1,1,null,{"$f":"MolarExtentX_NS_vi_n0i_dHfi_dGfi_TrefinC_da_db_dc_dd_de_Tci_Pci_wi_kijm_TinC_PinPa(vantHoff_EOS!$N$19,vantHoff_EOS!$O$23:$X$23,$D$11:$D$20,vantHoff_EOS!$T$5:$T$14,vantHoff_EOS!$U$5:$U$14,vantHoff_EOS!$E$7,vantHoff_EOS!$O$27,vantHoff_EOS!$P$27,vantHoff_EOS!$Q$27,vantHoff_EOS!$R$27,vantHoff_EOS!$S$27,vantHoff_EOS!$X$5:$X$14,vantHoff_EOS!$Y$5:$Y$14,vantHoff_EOS!$Z$5:$Z$14,vantHoff_EOS!$AE$5:$AN$14,$J$8,$G$3*1000000)","v":0.73664340984830745},null,null,1,{"$f":"IF(D11<>\"\",nouti_i_n0i_vi_X(I11,$D$11:$D$20,vantHoff_EOS!$O$23:$X$23,$F$11),\"-\")","v":0.26335659015169255},null,{"$f":"IF(J11<>\"-\",J11/$J$21,\"-\")","v":2.2847500933892498E-2}]
[null,null,2,1,null,null,null,null,2,{"$f":"IF(D12<>\"\",nouti_i_n0i_vi_X(I12,$D$11:$D$20,vantHoff_EOS!$O$23:$X$23,$F$11),\"-\")","v":0.26335659015169255},null,2.2847500933892498E-2]
[null,null,3,1,null,null,null,null,3,{"$f":"IF(D13<>\"\",nouti_i_n0i_vi_X(I13,$D$11:$D$20,vantHoff_EOS!$O$23:$X$23,$F$11),\"-\")","v":0.26335659015169255},null,2.2847500933892498E-2]
[null,null,4,0,null,null,null,null,4,{"$f":"IF(D14<>\"\",nouti_i_n0i_vi_X(I14,$D$11:$D$20,vantHoff_EOS!$O$23:$X$23,$F$11),\"-\")","v":0.73664340984830745},null,6.3907498896308867E-2]
[null,null,5,10,null,null,null,null,5,{"$f":"IF(D15<>\"\",nouti_i_n0i_vi_X(I15,$D$11:$D$20,vantHoff_EOS!$O$23:$X$23,$F$11),\"-\")","v":10},null,0.86754999830201363]
[null,null,6,null,null,null,null,null,6,{"$f":"IF(D16<>\"\",nouti_i_n0i_vi_X(I16,$D$11:$D$20,vantHoff_EOS!$O$23:$X$23,$F$11),\"-\")","v":"-"},null,"-"]
[null,null,7,null,null,null,null,null,7,{"$f":"IF(D17<>\"\",nouti_i_n0i_vi_X(I17,$D$11:$D$20,vantHoff_EOS!$O$23:$X$23,$F$11),\"-\")","v":"-"},null,"-"]
[null,null,8,null,null,null,null,null,8,{"$f":"IF(D18<>\"\",nouti_i_n0i_vi_X(I18,$D$11:$D$20,vantHoff_EOS!$O$23:$X$23,$F$11),\"-\")","v":"-"},null,"-"]
[null,null,9,null,null,null,null,null,9,{"$f":"IF(D19<>\"\",nouti_i_n0i_vi_X(I19,$D$11:$D$20,vantHoff_EOS!$O$23:$X$23,$F$11),\"-\")","v":"-"},null,"-"]
[null,null,10,null,null,null,null,null,10,{"$f":"IF(D20<>\"\",nouti_i_n0i_vi_X(I20,$D$11:$D$20,vantHoff_EOS!$O$23:$X$23,$F$11),\"-\")","v":"-"},null,"-"]
[null,null,"nT",{"$f":"SUM(D11:D20)","v":13},null,null,null,null,"nT",{"$f":"SUM(J11:J20)","v":11.526713180303386}]
[]
[]
[]
[]
[]
[null,null,"P [Pa]",{"$f":"G3*1000000","v":20000000}]
[null,null,"Tstart [C]",25]
[null,null,"dT [C]",8]
[]
[null,null,null,"T [C]","X","HrxnTout [J/mol]","IntniCpidT","Xcalc"]
[null,null,1,{"$f":"D28","v":25},{"$f":"MolarExtentX_NS_vi_n0i_dHfi_dGfi_TrefinC_da_db_dc_dd_de_Tci_Pci_wi_kijm_TinC_PinPa(vantHoff_EOS!$N$19,vantHoff_EOS!$O$23:$X$23,$D$11:$D$20,vantHoff_EOS!$T$5:$T$14,vantHoff_EOS!$U$5:$U$14,vantHoff_EOS!$E$7,vantHoff_EOS!$O$27,vantHoff_EOS!$P$27,vantHoff_EOS!$Q$27,vantHoff_EOS!$R$27,vantHoff_EOS!$S$27,vantHoff_EOS!$X$5:$X$14,vantHoff_EOS!$Y$5:$Y$14,vantHoff_EOS!$Z$5:$Z$14,vantHoff_EOS!$AE$5:$AN$14,D32,$D$27)","v":0.9999385962032723},{"$f":"dHrxnT_Tref_dHrxnref_TinC_da_db_dc_dd_de(vantHoff_EOS!$E$7,vantHoff_EOS!$B$6,D32,vantHoff_EOS!$O$27,vantHoff_EOS!$P$27,vantHoff_EOS!$Q$27,vantHoff_EOS!$R$27,vantHoff_EOS!$S$27)","v":-114940},{"$f":"IntniCpi_NS_n0i_vi_Cpai_Cpbi_Cpci_Cpdi_Cpei_X_TINinC_TOUTinC(vantHoff_EOS!$N$19,$D$11:$D$20,vantHoff_EOS!$O$23:$X$23,vantHoff_EOS!$O$5:$O$14,vantHoff_EOS!$P$5:$P$14,vantHoff_EOS!$Q$5:$Q$14,vantHoff_EOS!$R$5:$R$14,vantHoff_EOS!$S$5:$S$14,0,$D$8,D32)","v":-28577.097636854516},{"$f":"-G32/F32","v":-0.24862621921745706}]
[null,null,2,{"$f":"D32+$D$29","v":33},{"$f":"MolarExtentX_NS_vi_n0i_dHfi_dGfi_TrefinC_da_db_dc_dd_de_Tci_Pci_wi_kijm_TinC_PinPa(vantHoff_EOS!$N$19,vantHoff_EOS!$O$23:$X$23,$D$11:$D$20,vantHoff_EOS!$T$5:$T$14,vantHoff_EOS!$U$5:$U$14,vantHoff_EOS!$E$7,vantHoff_EOS!$O$27,vantHoff_EOS!$P$27,vantHoff_EOS!$Q$27,vantHoff_EOS!$R$27,vantHoff_EOS!$S$27,vantHoff_EOS!$X$5:$X$14,vantHoff_EOS!$Y$5:$Y$14,vantHoff_EOS!$Z$5:$Z$14,vantHoff_EOS!$AE$5:$AN$14,D33,$D$27)","v":0.99989637159566203},{"$f":"dHrxnT_Tref_dHrxnref_TinC_da_db_dc_dd_de(vantHoff_EOS!$E$7,vantHoff_EOS!$B$6,D33,vantHoff_EOS!$O$27,vantHoff_EOS!$P$27,vantHoff_EOS!$Q$27,vantHoff_EOS!$R$27,vantHoff_EOS!$S$27)","v":-115070.41270125176},{"$f":"IntniCpi_NS_n0i_vi_Cpai_Cpbi_Cpci_Cpdi_Cpei_X_TINinC_TOUTinC(vantHoff_EOS!$N$19,$D$11:$D$20,vantHoff_EOS!$O$23:$X$23,vantHoff_EOS!$O$5:$O$14,vantHoff_EOS!$P$5:$P$14,vantHoff_EOS!$Q$5:$Q$14,vantHoff_EOS!$R$5:$R$14,vantHoff_EOS!$S$5:$S$14,0,$D$8,D33)","v":-24506.185853094205},-0.21296687200312459]
[null,null,3,{"$f":"D33+$D$29","v":41},{"$f":"MolarExtentX_NS_vi_n0i_dHfi_dGfi_TrefinC_da_db_dc_dd_de_Tci_Pci_wi_kijm_TinC_PinPa(vantHoff_EOS!$N$19,vantHoff_EOS!$O$23:$X$23,$D$11:$D$20,vantHoff_EOS!$T$5:$T$14,vantHoff_EOS!$U$5:$U$14,vantHoff_EOS!$E$7,vantHoff_EOS!$O$27,vantHoff_EOS!$P$27,vantHoff_EOS!$Q$27,vantHoff_EOS!$R$27,vantHoff_EOS!$S$27,vantHoff_EOS!$X$5:$X$14,vantHoff_EOS!$Y$5:$Y$14,vantHoff_EOS!$Z$5:$Z$14,vantHoff_EOS!$AE$5:$AN$14,D34,$D$27)","v":0.99982878226792715},{"$f":"dHrxnT_Tref_dHrxnref_TinC_da_db_dc_dd_de(vantHoff_EOS!$E$7,vantHoff_EOS!$B$6,D34,vantHoff_EOS!$O$27,vantHoff_EOS!$P$27,vantHoff_EOS!$Q$27,vantHoff_EOS!$R$27,vantHoff_EOS!$S$27)","v":-115197.83699192625},{"$f":"IntniCpi_NS_n0i_vi_Cpai_Cpbi_Cpci_Cpdi_Cpei_X_TINinC_TOUTinC(vantHoff_EOS!$N$19,$D$11:$D$20,vantHoff_EOS!$O$23:$X$23,vantHoff_EOS!$O$5:$O$14,vantHoff_EOS!$P$5:$P$14,vantHoff_EOS!$Q$5:$Q$14,vantHoff_EOS!$R$5:$R$14,vantHoff_EOS!$S$5:$S$14,0,$D$8,D34)","v":-20405.854466184064},-0.177137479305399]
[null,null,4,49,{"$f":"MolarExtentX_NS_vi_n0i_dHfi_dGfi_TrefinC_da_db_dc_dd_de_Tci_Pci_wi_kijm_TinC_PinPa(vantHoff_EOS!$N$19,vantHoff_EOS!$O$23:$X$23,$D$11:$D$20,vantHoff_EOS!$T$5:$T$14,vantHoff_EOS!$U$5:$U$14,vantHoff_EOS!$E$7,vantHoff_EOS!$O$27,vantHoff_EOS!$P$27,vantHoff_EOS!$Q$27,vantHoff_EOS!$R$27,vantHoff_EOS!$S$27,vantHoff_EOS!$X$5:$X$14,vantHoff_EOS!$Y$5:$Y$14,vantHoff_EOS!$Z$5:$Z$14,vantHoff_EOS!$AE$5:$AN$14,D35,$D$27)","v":0.99972250379134775},{"$f":"dHrxnT_Tref_dHrxnref_TinC_da_db_dc_dd_de(vantHoff_EOS!$E$7,vantHoff_EOS!$B$6,D35,vantHoff_EOS!$O$27,vantHoff_EOS!$P$27,vantHoff_EOS!$Q$27,vantHoff_EOS!$R$27,vantHoff_EOS!$S$27)","v":-115322.21752463891},{"$f":"IntniCpi_NS_n0i_vi_Cpai_Cpbi_Cpci_Cpdi_Cpei_X_TINinC_TOUTinC(vantHoff_EOS!$N$19,$D$11:$D$20,vantHoff_EOS!$O$23:$X$23,vantHoff_EOS!$O$5:$O$14,vantHoff_EOS!$P$5:$P$14,vantHoff_EOS!$Q$5:$Q$14,vantHoff_EOS!$R$5:$R$14,vantHoff_EOS!$S$5:$S$14,0,$D$8,D35)","v":-16276.240299968831},-0.14113707357813657]
[null,null,5,57,{"$f":"MolarExtentX_NS_vi_n0i_dHfi_dGfi_TrefinC_da_db_dc_dd_de_Tci_Pci_wi_kijm_TinC_PinPa(vantHoff_EOS!$N$19,vantHoff_EOS!$O$23:$X$23,$D$11:$D$20,vantHoff_EOS!$T$5:$T$14,vantHoff_EOS!$U$5:$U$14,vantHoff_EOS!$E$7,vantHoff_EOS!$O$27,vantHoff_EOS!$P$27,vantHoff_EOS!$Q$27,vantHoff_EOS!$R$27,vantHoff_EOS!$S$27,vantHoff_EOS!$X$5:$X$14,vantHoff_EOS!$Y$5:$Y$14,vantHoff_EOS!$Z$5:$Z$14,vantHoff_EOS!$AE$5:$AN$14,D36,$D$27)","v":0.99955807528667728},{"$f":"dHrxnT_Tref_dHrxnref_TinC_da_db_dc_dd_de(vantHoff_EOS!$E$7,vantHoff_EOS!$B$6,D36,vantHoff_EOS!$O$27,vantHoff_EOS!$P$27,vantHoff_EOS!$Q$27,vantHoff_EOS!$R$27,vantHoff_EOS!$S$27)","v":-115443.50145437846},{"$f":"IntniCpi_NS_n0i_vi_Cpai_Cpbi_Cpci_Cpdi_Cpei_X_TINinC_TOUTinC(vantHoff_EOS!$N$19,$D$11:$D$20,vantHoff_EOS!$O$23:$X$23,vantHoff_EOS!$O$5:$O$14,vantHoff_EOS!$P$5:$P$14,vantHoff_EOS!$Q$5:$Q$14,vantHoff_EOS!$R$5:$R$14,vantHoff_EOS!$S$5:$S$14,0,$D$8,D36)","v":-12117.482365150881},-0.10496461223449229]
[null,null,6,65,{"$f":"MolarExtentX_NS_vi_n0i_dHfi_dGfi_TrefinC_da_db_dc_dd_de_Tci_Pci_wi_kijm_TinC_PinPa(vantHoff_EOS!$N$19,vantHoff_EOS!$O$23:$X$23,$D$11:$D$20,vantHoff_EOS!$T$5:$T$14,vantHoff_EOS!$U$5:$U$14,vantHoff_EOS!$E$7,vantHoff_EOS!$O$27,vantHoff_EOS!$P$27,vantHoff_EOS!$Q$27,vantHoff_EOS!$R$27,vantHoff_EOS!$S$27,vantHoff_EOS!$X$5:$X$14,vantHoff_EOS!$Y$5:$Y$14,vantHoff_EOS!$Z$5:$Z$14,vantHoff_EOS!$AE$5:$AN$14,D37,$D$27)","v":0.9993074680569709},{"$f":"dHrxnT_Tref_dHrxnref_TinC_da_db_dc_dd_de(vantHoff_EOS!$E$7,vantHoff_EOS!$B$6,D37,vantHoff_EOS!$O$27,vantHoff_EOS!$P$27,vantHoff_EOS!$Q$27,vantHoff_EOS!$R$27,vantHoff_EOS!$S$27)","v":-115561.63840363479},{"$f":"IntniCpi_NS_n0i_vi_Cpai_Cpbi_Cpci_Cpdi_Cpei_X_TINinC_TOUTinC(vantHoff_EOS!$N$19,$D$11:$D$20,vantHoff_EOS!$O$23:$X$23,vantHoff_EOS!$O$5:$O$14,vantHoff_EOS!$P$5:$P$14,vantHoff_EOS!$Q$5:$Q$14,vantHoff_EOS!$R$5:$R$14,vantHoff_EOS!$S$5:$S$14,0,$D$8,D37)","v":-7929.7218172240337},-6.8618980543759908E-2]
[null,null,7,73,{"$f":"MolarExtentX_NS_vi_n0i_dHfi_dGfi_TrefinC_da_db_dc_dd_de_Tci_Pci_wi_kijm_TinC_PinPa(vantHoff_EOS!$N$19,vantHoff_EOS!$O$23:$X$23,$D$11:$D$20,vantHoff_EOS!$T$5:$T$14,vantHoff_EOS!$U$5:$U$14,vantHoff_EOS!$E$7,vantHoff_EOS!$O$27,vantHoff_EOS!$P$27,vantHoff_EOS!$Q$27,vantHoff_EOS!$R$27,vantHoff_EOS!$S$27,vantHoff_EOS!$X$5:$X$14,vantHoff_EOS!$Y$5:$Y$14,vantHoff_EOS!$Z$5:$Z$14,vantHoff_EOS!$AE$5:$AN$14,D38,$D$27)","v":0.99893097571546818},{"$f":"dHrxnT_Tref_dHrxnref_TinC_da_db_dc_dd_de(vantHoff_EOS!$E$7,vantHoff_EOS!$B$6,D38,vantHoff_EOS!$O$27,vantHoff_EOS!$P$27,vantHoff_EOS!$Q$27,vantHoff_EOS!$R$27,vantHoff_EOS!$S$27)","v":-115676.58042752577},{"$f":"IntniCpi_NS_n0i_vi_Cpai_Cpbi_Cpci_Cpdi_Cpei_X_TINinC_TOUTinC(vantHoff_EOS!$N$19,$D$11:$D$20,vantHoff_EOS!$O$23:$X$23,vantHoff_EOS!$O$5:$O$14,vantHoff_EOS!$P$5:$P$14,vantHoff_EOS!$Q$5:$Q$14,vantHoff_EOS!$R$5:$R$14,vantHoff_EOS!$S$5:$S$14,0,$D$8,D38)","v":-3713.1019144072443},-3.2098994460971246E-2]
[null,null,8,81,{"$f":"MolarExtentX_NS_vi_n0i_dHfi_dGfi_TrefinC_da_db_dc_dd_de_Tci_Pci_wi_kijm_TinC_PinPa(vantHoff_EOS!$N$19,vantHoff_EOS!$O$23:$X$23,$D$11:$D$20,vantHoff_EOS!$T$5:$T$14,vantHoff_EOS!$U$5:$U$14,vantHoff_EOS!$E$7,vantHoff_EOS!$O$27,vantHoff_EOS!$P$27,vantHoff_EOS!$Q$27,vantHoff_EOS!$R$27,vantHoff_EOS!$S$27,vantHoff_EOS!$X$5:$X$14,vantHoff_EOS!$Y$5:$Y$14,vantHoff_EOS!$Z$5:$Z$14,vantHoff_EOS!$AE$5:$AN$14,D39,$D$27)","v":0.99837355211082923},{"$f":"dHrxnT_Tref_dHrxnref_TinC_da_db_dc_dd_de(vantHoff_EOS!$E$7,vantHoff_EOS!$B$6,D39,vantHoff_EOS!$O$27,vantHoff_EOS!$P$27,vantHoff_EOS!$Q$27,vantHoff_EOS!$R$27,vantHoff_EOS!$S$27)","v":-115788.28197892514},{"$f":"IntniCpi_NS_n0i_vi_Cpai_Cpbi_Cpci_Cpdi_Cpei_X_TINinC_TOUTinC(vantHoff_EOS!$N$19,$D$11:$D$20,vantHoff_EOS!$O$23:$X$23,vantHoff_EOS!$O$5:$O$14,vantHoff_EOS!$P$5:$P$14,vantHoff_EOS!$Q$5:$Q$14,vantHoff_EOS!$R$5:$R$14,vantHoff_EOS!$S$5:$S$14,0,$D$8,D39)","v":532.23202442159982},4.5965966099961002E-3]
[null,null,9,89,{"$f":"MolarExtentX_NS_vi_n0i_dHfi_dGfi_TrefinC_da_db_dc_dd_de_Tci_Pci_wi_kijm_TinC_PinPa(vantHoff_EOS!$N$19,vantHoff_EOS!$O$23:$X$23,$D$11:$D$20,vantHoff_EOS!$T$5:$T$14,vantHoff_EOS!$U$5:$U$14,vantHoff_EOS!$E$7,vantHoff_EOS!$O$27,vantHoff_EOS!$P$27,vantHoff_EOS!$Q$27,vantHoff_EOS!$R$27,vantHoff_EOS!$S$27,vantHoff_EOS!$X$5:$X$14,vantHoff_EOS!$Y$5:$Y$14,vantHoff_EOS!$Z$5:$Z$14,vantHoff_EOS!$AE$5:$AN$14,D40,$D$27)","v":0.99756109131813775},{"$f":"dHrxnT_Tref_dHrxnref_TinC_da_db_dc_dd_de(vantHoff_EOS!$E$7,vantHoff_EOS!$B$6,D40,vantHoff_EOS!$O$27,vantHoff_EOS!$P$27,vantHoff_EOS!$Q$27,vantHoff_EOS!$R$27,vantHoff_EOS!$S$27)","v":-115896.69987358972},{"$f":"IntniCpi_NS_n0i_vi_Cpai_Cpbi_Cpci_Cpdi_Cpei_X_TINinC_TOUTinC(vantHoff_EOS!$N$19,$D$11:$D$20,vantHoff_EOS!$O$23:$X$23,vantHoff_EOS!$O$5:$O$14,vantHoff_EOS!$P$5:$P$14,vantHoff_EOS!$Q$5:$Q$14,vantHoff_EOS!$R$5:$R$14,vantHoff_EOS!$S$5:$S$14,0,$D$8,D40)","v":4806.1326617919422},4.1469107118960798E-2]
[null,null,10,97,{"$f":"MolarExtentX_NS_vi_n0i_dHfi_dGfi_TrefinC_da_db_dc_dd_de_Tci_Pci_wi_kijm_TinC_PinPa(vantHoff_EOS!$N$19,vantHoff_EOS!$O$23:$X$23,$D$11:$D$20,vantHoff_EOS!$T$5:$T$14,vantHoff_EOS!$U$5:$U$14,vantHoff_EOS!$E$7,vantHoff_EOS!$O$27,vantHoff_EOS!$P$27,vantHoff_EOS!$Q$27,vantHoff_EOS!$R$27,vantHoff_EOS!$S$27,vantHoff_EOS!$X$5:$X$14,vantHoff_EOS!$Y$5:$Y$14,vantHoff_EOS!$Z$5:$Z$14,vantHoff_EOS!$AE$5:$AN$14,D41,$D$27)","v":0.99639759160131958},{"$f":"dHrxnT_Tref_dHrxnref_TinC_da_db_dc_dd_de(vantHoff_EOS!$E$7,vantHoff_EOS!$B$6,D41,vantHoff_EOS!$O$27,vantHoff_EOS!$P$27,vantHoff_EOS!$Q$27,vantHoff_EOS!$R$27,vantHoff_EOS!$S$27)","v":-116001.7932552868},{"$f":"IntniCpi_NS_n0i_vi_Cpai_Cpbi_Cpci_Cpdi_Cpei_X_TINinC_TOUTinC(vantHoff_EOS!$N$19,$D$11:$D$20,vantHoff_EOS!$O$23:$X$23,vantHoff_EOS!$O$5:$O$14,vantHoff_EOS!$P$5:$P$14,vantHoff_EOS!$Q$5:$Q$14,vantHoff_EOS!$R$5:$R$14,vantHoff_EOS!$S$5:$S$14,0,$D$8,D41)","v":9108.450683706802},7.8519912736708344E-2]
[null,null,11,105,{"$f":"MolarExtentX_NS_vi_n0i_dHfi_dGfi_TrefinC_da_db_dc_dd_de_Tci_Pci_wi_kijm_TinC_PinPa(vantHoff_EOS!$N$19,vantHoff_EOS!$O$23:$X$23,$D$11:$D$20,vantHoff_EOS!$T$5:$T$14,vantHoff_EOS!$U$5:$U$14,vantHoff_EOS!$E$7,vantHoff_EOS!$O$27,vantHoff_EOS!$P$27,vantHoff_EOS!$Q$27,vantHoff_EOS!$R$27,vantHoff_EOS!$S$27,vantHoff_EOS!$X$5:$X$14,vantHoff_EOS!$Y$5:$Y$14,vantHoff_EOS!$Z$5:$Z$14,vantHoff_EOS!$AE$5:$AN$14,D42,$D$27)","v":0.99476423673807923},{"$f":"dHrxnT_Tref_dHrxnref_TinC_da_db_dc_dd_de(vantHoff_EOS!$E$7,vantHoff_EOS!$B$6,D42,vantHoff_EOS!$O$27,vantHoff_EOS!$P$27,vantHoff_EOS!$Q$27,vantHoff_EOS!$R$27,vantHoff_EOS!$S$27)","v":-116103.52356092152},{"$f":"IntniCpi_NS_n0i_vi_Cpai_Cpbi_Cpci_Cpdi_Cpei_X_TINinC_TOUTinC(vantHoff_EOS!$N$19,$D$11:$D$20,vantHoff_EOS!$O$23:$X$23,vantHoff_EOS!$O$5:$O$14,vantHoff_EOS!$P$5:$P$14,vantHoff_EOS!$Q$5:$Q$14,vantHoff_EOS!$R$5:$R$14,vantHoff_EOS!$S$5:$S$14,0,$D$8,D42)","v":13439.034841709028},0.11575044778599966]
[null,null,12,113,{"$f":"MolarExtentX_NS_vi_n0i_dHfi_dGfi_TrefinC_da_db_dc_dd_de_Tci_Pci_wi_kijm_TinC_PinPa(vantHoff_EOS!$N$19,vantHoff_EOS!$O$23:$X$23,$D$11:$D$20,vantHoff_EOS!$T$5:$T$14,vantHoff_EOS!$U$5:$U$14,vantHoff_EOS!$E$7,vantHoff_EOS!$O$27,vantHoff_EOS!$P$27,vantHoff_EOS!$Q$27,vantHoff_EOS!$R$27,vantHoff_EOS!$S$27,vantHoff_EOS!$X$5:$X$14,vantHoff_EOS!$Y$5:$Y$14,vantHoff_EOS!$Z$5:$Z$14,vantHoff_EOS!$AE$5:$AN$14,D43,$D$27)","v":0.99252061819764092},{"$f":"dHrxnT_Tref_dHrxnref_TinC_da_db_dc_dd_de(vantHoff_EOS!$E$7,vantHoff_EOS!$B$6,D43,vantHoff_EOS!$O$27,vantHoff_EOS!$P$27,vantHoff_EOS!$Q$27,vantHoff_EOS!$R$27,vantHoff_EOS!$S$27)","v":-116201.85448566437},{"$f":"IntniCpi_NS_n0i_vi_Cpai_Cpbi_Cpci_Cpdi_Cpei_X_TINinC_TOUTinC(vantHoff_EOS!$N$19,$D$11:$D$20,vantHoff_EOS!$O$23:$X$23,vantHoff_EOS!$O$5:$O$14,vantHoff_EOS!$P$5:$P$14,vantHoff_EOS!$Q$5:$Q$14,vantHoff_EOS!$R$5:$R$14,vantHoff_EOS!$S$5:$S$14,0,$D$8,D43)","v":17797.73199494755},0.15316220273526895]
[null,null,13,121,{"$f":"MolarExtentX_NS_vi_n0i_dHfi_dGfi_TrefinC_da_db_dc_dd_de_Tci_Pci_wi_kijm_TinC_PinPa(vantHoff_EOS!$N$19,vantHoff_EOS!$O$23:$X$23,$D$11:$D$20,vantHoff_EOS!$T$5:$T$14,vantHoff_EOS!$U$5:$U$14,vantHoff_EOS!$E$7,vantHoff_EOS!$O$27,vantHoff_EOS!$P$27,vantHoff_EOS!$Q$27,vantHoff_EOS!$R$27,vantHoff_EOS!$S$27,vantHoff_EOS!$X$5:$X$14,vantHoff_EOS!$Y$5:$Y$14,vantHoff_EOS!$Z$5:$Z$14,vantHoff_EOS!$AE$5:$AN$14,D44,$D$27)","v":0.9895068968255718},{"$f":"dHrxnT_Tref_dHrxnref_TinC_da_db_dc_dd_de(vantHoff_EOS!$E$7,vantHoff_EOS!$B$6,D44,vantHoff_EOS!$O$27,vantHoff_EOS!$P$27,vantHoff_EOS!$Q$27,vantHoff_EOS!$R$27,vantHoff_EOS!$S$27)","v":-116296.75194807858},{"$f":"IntniCpi_NS_n0i_vi_Cpai_Cpbi_Cpci_Cpdi_Cpei_X_TINinC_TOUTinC(vantHoff_EOS!$N$19,$D$11:$D$20,vantHoff_EOS!$O$23:$X$23,vantHoff_EOS!$O$5:$O$14,vantHoff_EOS!$P$5:$P$14,vantHoff_EOS!$Q$5:$Q$14,vantHoff_EOS!$R$5:$R$14,vantHoff_EOS!$S$5:$S$14,0,$D$8,D44)","v":22184.387152243609},0.19075672175391423]
[null,null,14,129,{"$f":"MolarExtentX_NS_vi_n0i_dHfi_dGfi_TrefinC_da_db_dc_dd_de_Tci_Pci_wi_kijm_TinC_PinPa(vantHoff_EOS!$N$19,vantHoff_EOS!$O$23:$X$23,$D$11:$D$20,vantHoff_EOS!$T$5:$T$14,vantHoff_EOS!$U$5:$U$14,vantHoff_EOS!$E$7,vantHoff_EOS!$O$27,vantHoff_EOS!$P$27,vantHoff_EOS!$Q$27,vantHoff_EOS!$R$27,vantHoff_EOS!$S$27,vantHoff_EOS!$X$5:$X$14,vantHoff_EOS!$Y$5:$Y$14,vantHoff_EOS!$Z$5:$Z$14,vantHoff_EOS!$AE$5:$AN$14,D45,$D$27)","v":0.98554511295327929},{"$f":"dHrxnT_Tref_dHrxnref_TinC_da_db_dc_dd_de(vantHoff_EOS!$E$7,vantHoff_EOS!$B$6,D45,vantHoff_EOS!$O$27,vantHoff_EOS!$P$27,vantHoff_EOS!$Q$27,vantHoff_EOS!$R$27,vantHoff_EOS!$S$27)","v":-116388.1840552474},{"$f":"IntniCpi_NS_n0i_vi_Cpai_Cpbi_Cpci_Cpdi_Cpei_X_TINinC_TOUTinC(vantHoff_EOS!$N$19,$D$11:$D$20,vantHoff_EOS!$O$23:$X$23,vantHoff_EOS!$O$5:$O$14,vantHoff_EOS!$P$5:$P$14,vantHoff_EOS!$Q$5:$Q$14,vantHoff_EOS!$R$5:$R$14,vantHoff_EOS!$S$5:$S$14,0,$D$8,D45)","v":26598.843514157004},0.22853560032804537]
[null,null,15,137,{"$f":"MolarExtentX_NS_vi_n0i_dHfi_dGfi_TrefinC_da_db_dc_dd_de_Tci_Pci_wi_kijm_TinC_PinPa(vantHoff_EOS!$N$19,vantHoff_EOS!$O$23:$X$23,$D$11:$D$20,vantHoff_EOS!$T$5:$T$14,vantHoff_EOS!$U$5:$U$14,vantHoff_EOS!$E$7,vantHoff_EOS!$O$27,vantHoff_EOS!$P$27,vantHoff_EOS!$Q$27,vantHoff_EOS!$R$27,vantHoff_EOS!$S$27,vantHoff_EOS!$X$5:$X$14,vantHoff_EOS!$Y$5:$Y$14,vantHoff_EOS!$Z$5:$Z$14,vantHoff_EOS!$AE$5:$AN$14,D46,$D$27)","v":0.98043888552987923},{"$f":"dHrxnT_Tref_dHrxnref_TinC_da_db_dc_dd_de(vantHoff_EOS!$E$7,vantHoff_EOS!$B$6,D46,vantHoff_EOS!$O$27,vantHoff_EOS!$P$27,vantHoff_EOS!$Q$27,vantHoff_EOS!$R$27,vantHoff_EOS!$S$27)","v":-116476.12106790165},{"$f":"IntniCpi_NS_n0i_vi_Cpai_Cpbi_Cpci_Cpdi_Cpei_X_TINinC_TOUTinC(vantHoff_EOS!$N$19,$D$11:$D$20,vantHoff_EOS!$O$23:$X$23,vantHoff_EOS!$O$5:$O$14,vantHoff_EOS!$P$5:$P$14,vantHoff_EOS!$Q$5:$Q$14,vantHoff_EOS!$R$5:$R$14,vantHoff_EOS!$S$5:$S$14,0,$D$8,D46)","v":31040.942515052393},0.26650048293552436]
[null,null,16,145,{"$f":"MolarExtentX_NS_vi_n0i_dHfi_dGfi_TrefinC_da_db_dc_dd_de_Tci_Pci_wi_kijm_TinC_PinPa(vantHoff_EOS!$N$19,vantHoff_EOS!$O$23:$X$23,$D$11:$D$20,vantHoff_EOS!$T$5:$T$14,vantHoff_EOS!$U$5:$U$14,vantHoff_EOS!$E$7,vantHoff_EOS!$O$27,vantHoff_EOS!$P$27,vantHoff_EOS!$Q$27,vantHoff_EOS!$R$27,vantHoff_EOS!$S$27,vantHoff_EOS!$X$5:$X$14,vantHoff_EOS!$Y$5:$Y$14,vantHoff_EOS!$Z$5:$Z$14,vantHoff_EOS!$AE$5:$AN$14,D47,$D$27)","v":0.97397218362822113},{"$f":"dHrxnT_Tref_dHrxnref_TinC_da_db_dc_dd_de(vantHoff_EOS!$E$7,vantHoff_EOS!$B$6,D47,vantHoff_EOS!$O$27,vantHoff_EOS!$P$27,vantHoff_EOS!$Q$27,vantHoff_EOS!$R$27,vantHoff_EOS!$S$27)","v":-116560.53536554704},{"$f":"IntniCpi_NS_n0i_vi_Cpai_Cpbi_Cpci_Cpdi_Cpei_X_TINinC_TOUTinC(vantHoff_EOS!$N$19,$D$11:$D$20,vantHoff_EOS!$O$23:$X$23,vantHoff_EOS!$O$5:$O$14,vantHoff_EOS!$P$5:$P$14,vantHoff_EOS!$Q$5:$Q$14,vantHoff_EOS!$R$5:$R$14,vantHoff_EOS!$S$5:$S$14,0,$D$8,D47)","v":35510.523865165429},0.30465306077910853]
[null,null,17,153,{"$f":"MolarExtentX_NS_vi_n0i_dHfi_dGfi_TrefinC_da_db_dc_dd_de_Tci_Pci_wi_kijm_TinC_PinPa(vantHoff_EOS!$N$19,vantHoff_EOS!$O$23:$X$23,$D$11:$D$20,vantHoff_EOS!$T$5:$T$14,vantHoff_EOS!$U$5:$U$14,vantHoff_EOS!$E$7,vantHoff_EOS!$O$27,vantHoff_EOS!$P$27,vantHoff_EOS!$Q$27,vantHoff_EOS!$R$27,vantHoff_EOS!$S$27,vantHoff_EOS!$X$5:$X$14,vantHoff_EOS!$Y$5:$Y$14,vantHoff_EOS!$Z$5:$Z$14,vantHoff_EOS!$AE$5:$AN$14,D48,$D$27)","v":0.96590833566589218},{"$f":"dHrxnT_Tref_dHrxnref_TinC_da_db_dc_dd_de(vantHoff_EOS!$E$7,vantHoff_EOS!$B$6,D48,vantHoff_EOS!$O$27,vantHoff_EOS!$P$27,vantHoff_EOS!$Q$27,vantHoff_EOS!$R$27,vantHoff_EOS!$S$27)","v":-116641.40141159162},{"$f":"IntniCpi_NS_n0i_vi_Cpai_Cpbi_Cpci_Cpdi_Cpei_X_TINinC_TOUTinC(vantHoff_EOS!$N$19,$D$11:$D$20,vantHoff_EOS!$O$23:$X$23,vantHoff_EOS!$O$5:$O$14,vantHoff_EOS!$P$5:$P$14,vantHoff_EOS!$Q$5:$Q$14,vantHoff_EOS!$R$5:$R$14,vantHoff_EOS!$S$5:$S$14,0,$D$8,D48)","v":40007.42559266914},0.34299506957649833]
[null,null,18,161,{"$f":"MolarExtentX_NS_vi_n0i_dHfi_dGfi_TrefinC_da_db_dc_dd_de_Tci_Pci_wi_kijm_TinC_PinPa(vantHoff_EOS!$N$19,vantHoff_EOS!$O$23:$X$23,$D$11:$D$20,vantHoff_EOS!$T$5:$T$14,vantHoff_EOS!$U$5:$U$14,vantHoff_EOS!$E$7,vantHoff_EOS!$O$27,vantHoff_EOS!$P$27,vantHoff_EOS!$Q$27,vantHoff_EOS!$R$27,vantHoff_EOS!$S$27,vantHoff_EOS!$X$5:$X$14,vantHoff_EOS!$Y$5:$Y$14,vantHoff_EOS!$Z$5:$Z$14,vantHoff_EOS!$AE$5:$AN$14,D49,$D$27)","v":0.95599008923444595},{"$f":"dHrxnT_Tref_dHrxnref_TinC_da_db_dc_dd_de(vantHoff_EOS!$E$7,vantHoff_EOS!$B$6,D49,vantHoff_EOS!$O$27,vantHoff_EOS!$P$27,vantHoff_EOS!$Q$27,vantHoff_EOS!$R$27,vantHoff_EOS!$S$27)","v":-116718.69571847311},{"$f":"IntniCpi_NS_n0i_vi_Cpai_Cpbi_Cpci_Cpdi_Cpei_X_TINinC_TOUTinC(vantHoff_EOS!$N$19,$D$11:$D$20,vantHoff_EOS!$O$23:$X$23,vantHoff_EOS!$O$5:$O$14,vantHoff_EOS!$P$5:$P$14,vantHoff_EOS!$Q$5:$Q$14,vantHoff_EOS!$R$5:$R$14,vantHoff_EOS!$S$5:$S$14,0,$D$8,D49)","v":44531.484085740092},0.3815282874060773]
[null,null,19,169,{"$f":"MolarExtentX_NS_vi_n0i_dHfi_dGfi_TrefinC_da_db_dc_dd_de_Tci_Pci_wi_kijm_TinC_PinPa(vantHoff_EOS!$N$19,vantHoff_EOS!$O$23:$X$23,$D$11:$D$20,vantHoff_EOS!$T$5:$T$14,vantHoff_EOS!$U$5:$U$14,vantHoff_EOS!$E$7,vantHoff_EOS!$O$27,vantHoff_EOS!$P$27,vantHoff_EOS!$Q$27,vantHoff_EOS!$R$27,vantHoff_EOS!$S$27,vantHoff_EOS!$X$5:$X$14,vantHoff_EOS!$Y$5:$Y$14,vantHoff_EOS!$Z$5:$Z$14,vantHoff_EOS!$AE$5:$AN$14,D50,$D$27)","v":0.94394110813136856},{"$f":"dHrxnT_Tref_dHrxnref_TinC_da_db_dc_dd_de(vantHoff_EOS!$E$7,vantHoff_EOS!$B$6,D50,vantHoff_EOS!$O$27,vantHoff_EOS!$P$27,vantHoff_EOS!$Q$27,vantHoff_EOS!$R$27,vantHoff_EOS!$S$27)","v":-116792.39681278644},{"$f":"IntniCpi_NS_n0i_vi_Cpai_Cpbi_Cpci_Cpdi_Cpei_X_TINinC_TOUTinC(vantHoff_EOS!$N$19,$D$11:$D$20,vantHoff_EOS!$O$23:$X$23,vantHoff_EOS!$O$5:$O$14,vantHoff_EOS!$P$5:$P$14,vantHoff_EOS!$Q$5:$Q$14,vantHoff_EOS!$R$5:$R$14,vantHoff_EOS!$S$5:$S$14,0,$D$8,D50)","v":49082.534134624642},0.4202545326071353]
[null,null,20,177,{"$f":"MolarExtentX_NS_vi_n0i_dHfi_dGfi_TrefinC_da_db_dc_dd_de_Tci_Pci_wi_kijm_TinC_PinPa(vantHoff_EOS!$N$19,vantHoff_EOS!$O$23:$X$23,$D$11:$D$20,vantHoff_EOS!$T$5:$T$14,vantHoff_EOS!$U$5:$U$14,vantHoff_EOS!$E$7,vantHoff_EOS!$O$27,vantHoff_EOS!$P$27,vantHoff_EOS!$Q$27,vantHoff_EOS!$R$27,vantHoff_EOS!$S$27,vantHoff_EOS!$X$5:$X$14,vantHoff_EOS!$Y$5:$Y$14,vantHoff_EOS!$Z$5:$Z$14,vantHoff_EOS!$AE$5:$AN$14,D51,$D$27)","v":0.92946913001123488},{"$f":"dHrxnT_Tref_dHrxnref_TinC_da_db_dc_dd_de(vantHoff_EOS!$E$7,vantHoff_EOS!$B$6,D51,vantHoff_EOS!$O$27,vantHoff_EOS!$P$27,vantHoff_EOS!$Q$27,vantHoff_EOS!$R$27,vantHoff_EOS!$S$27)","v":-116862.48520041096},{"$f":"IntniCpi_NS_n0i_vi_Cpai_Cpbi_Cpci_Cpdi_Cpei_X_TINinC_TOUTinC(vantHoff_EOS!$N$19,$D$11:$D$20,vantHoff_EOS!$O$23:$X$23,vantHoff_EOS!$O$5:$O$14,vantHoff_EOS!$P$5:$P$14,vantHoff_EOS!$Q$5:$Q$14,vantHoff_EOS!$R$5:$R$14,vantHoff_EOS!$S$5:$S$14,0,$D$8,D51)","v":53660.408973705227},0.45917566173337315]
[null,null,21,185,{"$f":"MolarExtentX_NS_vi_n0i_dHfi_dGfi_TrefinC_da_db_dc_dd_de_Tci_Pci_wi_kijm_TinC_PinPa(vantHoff_EOS!$N$19,vantHoff_EOS!$O$23:$X$23,$D$11:$D$20,vantHoff_EOS!$T$5:$T$14,vantHoff_EOS!$U$5:$U$14,vantHoff_EOS!$E$7,vantHoff_EOS!$O$27,vantHoff_EOS!$P$27,vantHoff_EOS!$Q$27,vantHoff_EOS!$R$27,vantHoff_EOS!$S$27,vantHoff_EOS!$X$5:$X$14,vantHoff_EOS!$Y$5:$Y$14,vantHoff_EOS!$Z$5:$Z$14,vantHoff_EOS!$AE$5:$AN$14,D52,$D$27)","v":0.91227105044238188},{"$f":"dHrxnT_Tref_dHrxnref_TinC_da_db_dc_dd_de(vantHoff_EOS!$E$7,vantHoff_EOS!$B$6,D52,vantHoff_EOS!$O$27,vantHoff_EOS!$P$27,vantHoff_EOS!$Q$27,vantHoff_EOS!$R$27,vantHoff_EOS!$S$27)","v":-116928.94333163802},{"$f":"IntniCpi_NS_n0i_vi_Cpai_Cpbi_Cpci_Cpdi_Cpei_X_TINinC_TOUTinC(vantHoff_EOS!$N$19,$D$11:$D$20,vantHoff_EOS!$O$23:$X$23,vantHoff_EOS!$O$5:$O$14,vantHoff_EOS!$P$5:$P$14,vantHoff_EOS!$Q$5:$Q$14,vantHoff_EOS!$R$5:$R$14,vantHoff_EOS!$S$5:$S$14,0,$D$8,D52)","v":58264.940323566567},0.4982935675584913]
[null,null,22,193,{"$f":"MolarExtentX_NS_vi_n0i_dHfi_dGfi_TrefinC_da_db_dc_dd_de_Tci_Pci_wi_kijm_TinC_PinPa(vantHoff_EOS!$N$19,vantHoff_EOS!$O$23:$X$23,$D$11:$D$20,vantHoff_EOS!$T$5:$T$14,vantHoff_EOS!$U$5:$U$14,vantHoff_EOS!$E$7,vantHoff_EOS!$O$27,vantHoff_EOS!$P$27,vantHoff_EOS!$Q$27,vantHoff_EOS!$R$27,vantHoff_EOS!$S$27,vantHoff_EOS!$X$5:$X$14,vantHoff_EOS!$Y$5:$Y$14,vantHoff_EOS!$Z$5:$Z$14,vantHoff_EOS!$AE$5:$AN$14,D53,$D$27)","v":0.89204032246825637},{"$f":"dHrxnT_Tref_dHrxnref_TinC_da_db_dc_dd_de(vantHoff_EOS!$E$7,vantHoff_EOS!$B$6,D53,vantHoff_EOS!$O$27,vantHoff_EOS!$P$27,vantHoff_EOS!$Q$27,vantHoff_EOS!$R$27,vantHoff_EOS!$S$27)","v":-116991.75556629826},{"$f":"IntniCpi_NS_n0i_vi_Cpai_Cpbi_Cpci_Cpdi_Cpei_X_TINinC_TOUTinC(vantHoff_EOS!$N$19,$D$11:$D$20,vantHoff_EOS!$O$23:$X$23,vantHoff_EOS!$O$5:$O$14,vantHoff_EOS!$P$5:$P$14,vantHoff_EOS!$Q$5:$Q$14,vantHoff_EOS!$R$5:$R$14,vantHoff_EOS!$S$5:$S$14,0,$D$8,D53)","v":62895.958433061933},0.53761017713268955]
[null,null,23,201,{"$f":"MolarExtentX_NS_vi_n0i_dHfi_dGfi_TrefinC_da_db_dc_dd_de_Tci_Pci_wi_kijm_TinC_PinPa(vantHoff_EOS!$N$19,vantHoff_EOS!$O$23:$X$23,$D$11:$D$20,vantHoff_EOS!$T$5:$T$14,vantHoff_EOS!$U$5:$U$14,vantHoff_EOS!$E$7,vantHoff_EOS!$O$27,vantHoff_EOS!$P$27,vantHoff_EOS!$Q$27,vantHoff_EOS!$R$27,vantHoff_EOS!$S$27,vantHoff_EOS!$X$5:$X$14,vantHoff_EOS!$Y$5:$Y$14,vantHoff_EOS!$Z$5:$Z$14,vantHoff_EOS!$AE$5:$AN$14,D54,$D$27)","v":0.86847719372637389},{"$f":"dHrxnT_Tref_dHrxnref_TinC_da_db_dc_dd_de(vantHoff_EOS!$E$7,vantHoff_EOS!$B$6,D54,vantHoff_EOS!$O$27,vantHoff_EOS!$P$27,vantHoff_EOS!$Q$27,vantHoff_EOS!$R$27,vantHoff_EOS!$S$27)","v":-117050.90813888911},{"$f":"IntniCpi_NS_n0i_vi_Cpai_Cpbi_Cpci_Cpdi_Cpei_X_TINinC_TOUTinC(vantHoff_EOS!$N$19,$D$11:$D$20,vantHoff_EOS!$O$23:$X$23,vantHoff_EOS!$O$5:$O$14,vantHoff_EOS!$P$5:$P$14,vantHoff_EOS!$Q$5:$Q$14,vantHoff_EOS!$R$5:$R$14,vantHoff_EOS!$S$5:$S$14,0,$D$8,D54)","v":67553.292121379433},0.57712744988892117]
[null,null,24,209,{"$f":"MolarExtentX_NS_vi_n0i_dHfi_dGfi_TrefinC_da_db_dc_dd_de_Tci_Pci_wi_kijm_TinC_PinPa(vantHoff_EOS!$N$19,vantHoff_EOS!$O$23:$X$23,$D$11:$D$20,vantHoff_EOS!$T$5:$T$14,vantHoff_EOS!$U$5:$U$14,vantHoff_EOS!$E$7,vantHoff_EOS!$O$27,vantHoff_EOS!$P$27,vantHoff_EOS!$Q$27,vantHoff_EOS!$R$27,vantHoff_EOS!$S$27,vantHoff_EOS!$X$5:$X$14,vantHoff_EOS!$Y$5:$Y$14,vantHoff_EOS!$Z$5:$Z$14,vantHoff_EOS!$AE$5:$AN$14,D55,$D$27)","v":0.84130241196160316},{"$f":"dHrxnT_Tref_dHrxnref_TinC_da_db_dc_dd_de(vantHoff_EOS!$E$7,vantHoff_EOS!$B$6,D55,vantHoff_EOS!$O$27,vantHoff_EOS!$P$27,vantHoff_EOS!$Q$27,vantHoff_EOS!$R$27,vantHoff_EOS!$S$27)","v":-117106.3891237021},{"$f":"IntniCpi_NS_n0i_vi_Cpai_Cpbi_Cpci_Cpdi_Cpei_X_TINinC_TOUTinC(vantHoff_EOS!$N$19,$D$11:$D$20,vantHoff_EOS!$O$23:$X$23,vantHoff_EOS!$O$5:$O$14,vantHoff_EOS!$P$5:$P$14,vantHoff_EOS!$Q$5:$Q$14,vantHoff_EOS!$R$5:$R$14,vantHoff_EOS!$S$5:$S$14,0,$D$8,D55)","v":72236.768820108147},0.61684737579776994]
[null,null,25,217,{"$f":"MolarExtentX_NS_vi_n0i_dHfi_dGfi_TrefinC_da_db_dc_dd_de_Tci_Pci_wi_kijm_TinC_PinPa(vantHoff_EOS!$N$19,vantHoff_EOS!$O$23:$X$23,$D$11:$D$20,vantHoff_EOS!$T$5:$T$14,vantHoff_EOS!$U$5:$U$14,vantHoff_EOS!$E$7,vantHoff_EOS!$O$27,vantHoff_EOS!$P$27,vantHoff_EOS!$Q$27,vantHoff_EOS!$R$27,vantHoff_EOS!$S$27,vantHoff_EOS!$X$5:$X$14,vantHoff_EOS!$Y$5:$Y$14,vantHoff_EOS!$Z$5:$Z$14,vantHoff_EOS!$AE$5:$AN$14,D56,$D$27)","v":0.81027507932357701},{"$f":"dHrxnT_Tref_dHrxnref_TinC_da_db_dc_dd_de(vantHoff_EOS!$E$7,vantHoff_EOS!$B$6,D56,vantHoff_EOS!$O$27,vantHoff_EOS!$P$27,vantHoff_EOS!$Q$27,vantHoff_EOS!$R$27,vantHoff_EOS!$S$27)","v":-117158.18839995026},{"$f":"IntniCpi_NS_n0i_vi_Cpai_Cpbi_Cpci_Cpdi_Cpei_X_TINinC_TOUTinC(vantHoff_EOS!$N$19,$D$11:$D$20,vantHoff_EOS!$O$23:$X$23,vantHoff_EOS!$O$5:$O$14,vantHoff_EOS!$P$5:$P$14,vantHoff_EOS!$Q$5:$Q$14,vantHoff_EOS!$R$5:$R$14,vantHoff_EOS!$S$5:$S$14,0,$D$8,D56)","v":76946.214615304518},0.6567719735698575]
[null,null,26,225,{"$f":"MolarExtentX_NS_vi_n0i_dHfi_dGfi_TrefinC_da_db_dc_dd_de_Tci_Pci_wi_kijm_TinC_PinPa(vantHoff_EOS!$N$19,vantHoff_EOS!$O$23:$X$23,$D$11:$D$20,vantHoff_EOS!$T$5:$T$14,vantHoff_EOS!$U$5:$U$14,vantHoff_EOS!$E$7,vantHoff_EOS!$O$27,vantHoff_EOS!$P$27,vantHoff_EOS!$Q$27,vantHoff_EOS!$R$27,vantHoff_EOS!$S$27,vantHoff_EOS!$X$5:$X$14,vantHoff_EOS!$Y$5:$Y$14,vantHoff_EOS!$Z$5:$Z$14,vantHoff_EOS!$AE$5:$AN$14,D57,$D$27)","v":0.7752153148855756},{"$f":"dHrxnT_Tref_dHrxnref_TinC_da_db_dc_dd_de(vantHoff_EOS!$E$7,vantHoff_EOS!$B$6,D57,vantHoff_EOS!$O$27,vantHoff_EOS!$P$27,vantHoff_EOS!$Q$27,vantHoff_EOS!$R$27,vantHoff_EOS!$S$27)","v":-117206.29761689568},{"$f":"IntniCpi_NS_n0i_vi_Cpai_Cpbi_Cpci_Cpdi_Cpei_X_TINinC_TOUTinC(vantHoff_EOS!$N$19,$D$11:$D$20,vantHoff_EOS!$O$23:$X$23,vantHoff_EOS!$O$5:$O$14,vantHoff_EOS!$P$5:$P$14,vantHoff_EOS!$Q$5:$Q$14,vantHoff_EOS!$R$5:$R$14,vantHoff_EOS!$S$5:$S$14,0,$D$8,D57)","v":81681.45428955846},0.69690328890470643]
[null,null,27,233,{"$f":"MolarExtentX_NS_vi_n0i_dHfi_dGfi_TrefinC_da_db_dc_dd_de_Tci_Pci_wi_kijm_TinC_PinPa(vantHoff_EOS!$N$19,vantHoff_EOS!$O$23:$X$23,$D$11:$D$20,vantHoff_EOS!$T$5:$T$14,vantHoff_EOS!$U$5:$U$14,vantHoff_EOS!$E$7,vantHoff_EOS!$O$27,vantHoff_EOS!$P$27,vantHoff_EOS!$Q$27,vantHoff_EOS!$R$27,vantHoff_EOS!$S$27,vantHoff_EOS!$X$5:$X$14,vantHoff_EOS!$Y$5:$Y$14,vantHoff_EOS!$Z$5:$Z$14,vantHoff_EOS!$AE$5:$AN$14,D58,$D$27)","v":0.73603196481911537},{"$f":"dHrxnT_Tref_dHrxnref_TinC_da_db_dc_dd_de(vantHoff_EOS!$E$7,vantHoff_EOS!$B$6,D58,vantHoff_EOS!$O$27,vantHoff_EOS!$P$27,vantHoff_EOS!$Q$27,vantHoff_EOS!$R$27,vantHoff_EOS!$S$27)","v":-117250.71015897665},{"$f":"IntniCpi_NS_n0i_vi_Cpai_Cpbi_Cpci_Cpdi_Cpei_X_TINinC_TOUTinC(vantHoff_EOS!$N$19,$D$11:$D$20,vantHoff_EOS!$O$23:$X$23,vantHoff_EOS!$O$5:$O$14,vantHoff_EOS!$P$5:$P$14,vantHoff_EOS!$Q$5:$Q$14,vantHoff_EOS!$R$5:$R$14,vantHoff_EOS!$S$5:$S$14,0,$D$8,D58)","v":86442.311364059788},0.73724339278504414]
[null,null,28,241,{"$f":"MolarExtentX_NS_vi_n0i_dHfi_dGfi_TrefinC_da_db_dc_dd_de_Tci_Pci_wi_kijm_TinC_PinPa(vantHoff_EOS!$N$19,vantHoff_EOS!$O$23:$X$23,$D$11:$D$20,vantHoff_EOS!$T$5:$T$14,vantHoff_EOS!$U$5:$U$14,vantHoff_EOS!$E$7,vantHoff_EOS!$O$27,vantHoff_EOS!$P$27,vantHoff_EOS!$Q$27,vantHoff_EOS!$R$27,vantHoff_EOS!$S$27,vantHoff_EOS!$X$5:$X$14,vantHoff_EOS!$Y$5:$Y$14,vantHoff_EOS!$Z$5:$Z$14,vantHoff_EOS!$AE$5:$AN$14,D59,$D$27)","v":0.69275576415165652},{"$f":"dHrxnT_Tref_dHrxnref_TinC_da_db_dc_dd_de(vantHoff_EOS!$E$7,vantHoff_EOS!$B$6,D59,vantHoff_EOS!$O$27,vantHoff_EOS!$P$27,vantHoff_EOS!$Q$27,vantHoff_EOS!$R$27,vantHoff_EOS!$S$27)","v":-117291.42111093538},{"$f":"IntniCpi_NS_n0i_vi_Cpai_Cpbi_Cpci_Cpdi_Cpei_X_TINinC_TOUTinC(vantHoff_EOS!$N$19,$D$11:$D$20,vantHoff_EOS!$O$23:$X$23,vantHoff_EOS!$O$5:$O$14,vantHoff_EOS!$P$5:$P$14,vantHoff_EOS!$Q$5:$Q$14,vantHoff_EOS!$R$5:$R$14,vantHoff_EOS!$S$5:$S$14,0,$D$8,D59)","v":91228.608140664219},0.77779437981554767]
[null,null,29,249,{"$f":"MolarExtentX_NS_vi_n0i_dHfi_dGfi_TrefinC_da_db_dc_dd_de_Tci_Pci_wi_kijm_TinC_PinPa(vantHoff_EOS!$N$19,vantHoff_EOS!$O$23:$X$23,$D$11:$D$20,vantHoff_EOS!$T$5:$T$14,vantHoff_EOS!$U$5:$U$14,vantHoff_EOS!$E$7,vantHoff_EOS!$O$27,vantHoff_EOS!$P$27,vantHoff_EOS!$Q$27,vantHoff_EOS!$R$27,vantHoff_EOS!$S$27,vantHoff_EOS!$X$5:$X$14,vantHoff_EOS!$Y$5:$Y$14,vantHoff_EOS!$Z$5:$Z$14,vantHoff_EOS!$AE$5:$AN$14,D60,$D$27)","v":0.64557535696249591},{"$f":"dHrxnT_Tref_dHrxnref_TinC_da_db_dc_dd_de(vantHoff_EOS!$E$7,vantHoff_EOS!$B$6,D60,vantHoff_EOS!$O$27,vantHoff_EOS!$P$27,vantHoff_EOS!$Q$27,vantHoff_EOS!$R$27,vantHoff_EOS!$S$27)","v":-117328.42722294506},{"$f":"IntniCpi_NS_n0i_vi_Cpai_Cpbi_Cpci_Cpdi_Cpei_X_TINinC_TOUTinC(vantHoff_EOS!$N$19,$D$11:$D$20,vantHoff_EOS!$O$23:$X$23,vantHoff_EOS!$O$5:$O$14,vantHoff_EOS!$P$5:$P$14,vantHoff_EOS!$Q$5:$Q$14,vantHoff_EOS!$R$5:$R$14,vantHoff_EOS!$S$5:$S$14,0,$D$8,D60)","v":96040.165743959849},0.81855836660510506]
[null,null,30,257,{"$f":"MolarExtentX_NS_vi_n0i_dHfi_dGfi_TrefinC_da_db_dc_dd_de_Tci_Pci_wi_kijm_TinC_PinPa(vantHoff_EOS!$N$19,vantHoff_EOS!$O$23:$X$23,$D$11:$D$20,vantHoff_EOS!$T$5:$T$14,vantHoff_EOS!$U$5:$U$14,vantHoff_EOS!$E$7,vantHoff_EOS!$O$27,vantHoff_EOS!$P$27,vantHoff_EOS!$Q$27,vantHoff_EOS!$R$27,vantHoff_EOS!$S$27,vantHoff_EOS!$X$5:$X$14,vantHoff_EOS!$Y$5:$Y$14,vantHoff_EOS!$Z$5:$Z$14,vantHoff_EOS!$AE$5:$AN$14,D61,$D$27)","v":0.594875095339779},{"$f":"dHrxnT_Tref_dHrxnref_TinC_da_db_dc_dd_de(vantHoff_EOS!$E$7,vantHoff_EOS!$B$6,D61,vantHoff_EOS!$O$27,vantHoff_EOS!$P$27,vantHoff_EOS!$Q$27,vantHoff_EOS!$R$27,vantHoff_EOS!$S$27)","v":-117361.72687573751},{"$f":"IntniCpi_NS_n0i_vi_Cpai_Cpbi_Cpci_Cpdi_Cpei_X_TINinC_TOUTinC(vantHoff_EOS!$N$19,$D$11:$D$20,vantHoff_EOS!$O$23:$X$23,vantHoff_EOS!$O$5:$O$14,vantHoff_EOS!$P$5:$P$14,vantHoff_EOS!$Q$5:$Q$14,vantHoff_EOS!$R$5:$R$14,vantHoff_EOS!$S$5:$S$14,0,$D$8,D61)","v":100876.80416333325},0.85953749019168335]
[null,null,31,265,{"$f":"MolarExtentX_NS_vi_n0i_dHfi_dGfi_TrefinC_da_db_dc_dd_de_Tci_Pci_wi_kijm_TinC_PinPa(vantHoff_EOS!$N$19,vantHoff_EOS!$O$23:$X$23,$D$11:$D$20,vantHoff_EOS!$T$5:$T$14,vantHoff_EOS!$U$5:$U$14,vantHoff_EOS!$E$7,vantHoff_EOS!$O$27,vantHoff_EOS!$P$27,vantHoff_EOS!$Q$27,vantHoff_EOS!$R$27,vantHoff_EOS!$S$27,vantHoff_EOS!$X$5:$X$14,vantHoff_EOS!$Y$5:$Y$14,vantHoff_EOS!$Z$5:$Z$14,vantHoff_EOS!$AE$5:$AN$14,D62,$D$27)","v":0.54126762227190317},{"$f":"dHrxnT_Tref_dHrxnref_TinC_da_db_dc_dd_de(vantHoff_EOS!$E$7,vantHoff_EOS!$B$6,D62,vantHoff_EOS!$O$27,vantHoff_EOS!$P$27,vantHoff_EOS!$Q$27,vantHoff_EOS!$R$27,vantHoff_EOS!$S$27)","v":-117391.32004573061},{"$f":"IntniCpi_NS_n0i_vi_Cpai_Cpbi_Cpci_Cpdi_Cpei_X_TINinC_TOUTinC(vantHoff_EOS!$N$19,$D$11:$D$20,vantHoff_EOS!$O$23:$X$23,vantHoff_EOS!$O$5:$O$14,vantHoff_EOS!$P$5:$P$14,vantHoff_EOS!$Q$5:$Q$14,vantHoff_EOS!$R$5:$R$14,vantHoff_EOS!$S$5:$S$14,0,$D$8,D62)","v":105738.34229503582},0.90073390650897112]
[null,null,32,273,{"$f":"MolarExtentX_NS_vi_n0i_dHfi_dGfi_TrefinC_da_db_dc_dd_de_Tci_Pci_wi_kijm_TinC_PinPa(vantHoff_EOS!$N$19,vantHoff_EOS!$O$23:$X$23,$D$11:$D$20,vantHoff_EOS!$T$5:$T$14,vantHoff_EOS!$U$5:$U$14,vantHoff_EOS!$E$7,vantHoff_EOS!$O$27,vantHoff_EOS!$P$27,vantHoff_EOS!$Q$27,vantHoff_EOS!$R$27,vantHoff_EOS!$S$27,vantHoff_EOS!$X$5:$X$14,vantHoff_EOS!$Y$5:$Y$14,vantHoff_EOS!$Z$5:$Z$14,vantHoff_EOS!$AE$5:$AN$14,D63,$D$27)","v":0.48561337979714808},{"$f":"dHrxnT_Tref_dHrxnref_TinC_da_db_dc_dd_de(vantHoff_EOS!$E$7,vantHoff_EOS!$B$6,D63,vantHoff_EOS!$O$27,vantHoff_EOS!$P$27,vantHoff_EOS!$Q$27,vantHoff_EOS!$R$27,vantHoff_EOS!$S$27)","v":-117417.20827015542},{"$f":"IntniCpi_NS_n0i_vi_Cpai_Cpbi_Cpci_Cpdi_Cpei_X_TINinC_TOUTinC(vantHoff_EOS!$N$19,$D$11:$D$20,vantHoff_EOS!$O$23:$X$23,vantHoff_EOS!$O$5:$O$14,vantHoff_EOS!$P$5:$P$14,vantHoff_EOS!$Q$5:$Q$14,vantHoff_EOS!$R$5:$R$14,vantHoff_EOS!$S$5:$S$14,0,$D$8,D63)","v":110624.59798424995},0.94214978889400169]
[null,null,33,281,{"$f":"MolarExtentX_NS_vi_n0i_dHfi_dGfi_TrefinC_da_db_dc_dd_de_Tci_Pci_wi_kijm_TinC_PinPa(vantHoff_EOS!$N$19,vantHoff_EOS!$O$23:$X$23,$D$11:$D$20,vantHoff_EOS!$T$5:$T$14,vantHoff_EOS!$U$5:$U$14,vantHoff_EOS!$E$7,vantHoff_EOS!$O$27,vantHoff_EOS!$P$27,vantHoff_EOS!$Q$27,vantHoff_EOS!$R$27,vantHoff_EOS!$S$27,vantHoff_EOS!$X$5:$X$14,vantHoff_EOS!$Y$5:$Y$14,vantHoff_EOS!$Z$5:$Z$14,vantHoff_EOS!$AE$5:$AN$14,D64,$D$27)","v":0.42901549661699095},{"$f":"dHrxnT_Tref_dHrxnref_TinC_da_db_dc_dd_de(vantHoff_EOS!$E$7,vantHoff_EOS!$B$6,D64,vantHoff_EOS!$O$27,vantHoff_EOS!$P$27,vantHoff_EOS!$Q$27,vantHoff_EOS!$R$27,vantHoff_EOS!$S$27)","v":-117439.39461218388},{"$f":"IntniCpi_NS_n0i_vi_Cpai_Cpbi_Cpci_Cpdi_Cpei_X_TINinC_TOUTinC(vantHoff_EOS!$N$19,$D$11:$D$20,vantHoff_EOS!$O$23:$X$23,vantHoff_EOS!$O$5:$O$14,vantHoff_EOS!$P$5:$P$14,vantHoff_EOS!$Q$5:$Q$14,vantHoff_EOS!$R$5:$R$14,vantHoff_EOS!$S$5:$S$14,0,$D$8,D64)","v":115535.38806715529},{"$f":"-G64/F64","v":0.98378732663501778}]
[null,null,34,289,{"$f":"MolarExtentX_NS_vi_n0i_dHfi_dGfi_TrefinC_da_db_dc_dd_de_Tci_Pci_wi_kijm_TinC_PinPa(vantHoff_EOS!$N$19,vantHoff_EOS!$O$23:$X$23,$D$11:$D$20,vantHoff_EOS!$T$5:$T$14,vantHoff_EOS!$U$5:$U$14,vantHoff_EOS!$E$7,vantHoff_EOS!$O$27,vantHoff_EOS!$P$27,vantHoff_EOS!$Q$27,vantHoff_EOS!$R$27,vantHoff_EOS!$S$27,vantHoff_EOS!$X$5:$X$14,vantHoff_EOS!$Y$5:$Y$14,vantHoff_EOS!$Z$5:$Z$14,vantHoff_EOS!$AE$5:$AN$14,D65,$D$27)","v":0.3727777302456734},{"$f":"dHrxnT_Tref_dHrxnref_TinC_da_db_dc_dd_de(vantHoff_EOS!$E$7,vantHoff_EOS!$B$6,D65,vantHoff_EOS!$O$27,vantHoff_EOS!$P$27,vantHoff_EOS!$Q$27,vantHoff_EOS!$R$27,vantHoff_EOS!$S$27)","v":-117457.88362605606},{"$f":"IntniCpi_NS_n0i_vi_Cpai_Cpbi_Cpci_Cpdi_Cpei_X_TINinC_TOUTinC(vantHoff_EOS!$N$19,$D$11:$D$20,vantHoff_EOS!$O$23:$X$23,vantHoff_EOS!$O$5:$O$14,vantHoff_EOS!$P$5:$P$14,vantHoff_EOS!$Q$5:$Q$14,vantHoff_EOS!$R$5:$R$14,vantHoff_EOS!$S$5:$S$14,0,$D$8,D65)","v":120470.52841299513},1.0256487235589078]
[null,null,35,297,{"$f":"MolarExtentX_NS_vi_n0i_dHfi_dGfi_TrefinC_da_db_dc_dd_de_Tci_Pci_wi_kijm_TinC_PinPa(vantHoff_EOS!$N$19,vantHoff_EOS!$O$23:$X$23,$D$11:$D$20,vantHoff_EOS!$T$5:$T$14,vantHoff_EOS!$U$5:$U$14,vantHoff_EOS!$E$7,vantHoff_EOS!$O$27,vantHoff_EOS!$P$27,vantHoff_EOS!$Q$27,vantHoff_EOS!$R$27,vantHoff_EOS!$S$27,vantHoff_EOS!$X$5:$X$14,vantHoff_EOS!$Y$5:$Y$14,vantHoff_EOS!$Z$5:$Z$14,vantHoff_EOS!$AE$5:$AN$14,D66,$D$27)","v":0.31831658245392497},{"$f":"dHrxnT_Tref_dHrxnref_TinC_da_db_dc_dd_de(vantHoff_EOS!$E$7,vantHoff_EOS!$B$6,D66,vantHoff_EOS!$O$27,vantHoff_EOS!$P$27,vantHoff_EOS!$Q$27,vantHoff_EOS!$R$27,vantHoff_EOS!$S$27)","v":-117472.6813222077},{"$f":"IntniCpi_NS_n0i_vi_Cpai_Cpbi_Cpci_Cpdi_Cpei_X_TINinC_TOUTinC(vantHoff_EOS!$N$19,$D$11:$D$20,vantHoff_EOS!$O$23:$X$23,vantHoff_EOS!$O$5:$O$14,vantHoff_EOS!$P$5:$P$14,vantHoff_EOS!$Q$5:$Q$14,vantHoff_EOS!$R$5:$R$14,vantHoff_EOS!$S$5:$S$14,0,$D$8,D66)","v":125429.83396614232},1.0677361966575829]
[null,null,36,305,{"$f":"MolarExtentX_NS_vi_n0i_dHfi_dGfi_TrefinC_da_db_dc_dd_de_Tci_Pci_wi_kijm_TinC_PinPa(vantHoff_EOS!$N$19,vantHoff_EOS!$O$23:$X$23,$D$11:$D$20,vantHoff_EOS!$T$5:$T$14,vantHoff_EOS!$U$5:$U$14,vantHoff_EOS!$E$7,vantHoff_EOS!$O$27,vantHoff_EOS!$P$27,vantHoff_EOS!$Q$27,vantHoff_EOS!$R$27,vantHoff_EOS!$S$27,vantHoff_EOS!$X$5:$X$14,vantHoff_EOS!$Y$5:$Y$14,vantHoff_EOS!$Z$5:$Z$14,vantHoff_EOS!$AE$5:$AN$14,D67,$D$27)","v":0.2670294345900262},{"$f":"dHrxnT_Tref_dHrxnref_TinC_da_db_dc_dd_de(vantHoff_EOS!$E$7,vantHoff_EOS!$B$6,D67,vantHoff_EOS!$O$27,vantHoff_EOS!$P$27,vantHoff_EOS!$Q$27,vantHoff_EOS!$R$27,vantHoff_EOS!$S$27)","v":-117483.79513239732},{"$f":"IntniCpi_NS_n0i_vi_Cpai_Cpbi_Cpci_Cpdi_Cpei_X_TINinC_TOUTinC(vantHoff_EOS!$N$19,$D$11:$D$20,vantHoff_EOS!$O$23:$X$23,vantHoff_EOS!$O$5:$O$14,vantHoff_EOS!$P$5:$P$14,vantHoff_EOS!$Q$5:$Q$14,vantHoff_EOS!$R$5:$R$14,vantHoff_EOS!$S$5:$S$14,0,$D$8,D67)","v":130413.11878816594},1.1100519747527566]
[null,null,37,313,{"$f":"MolarExtentX_NS_vi_n0i_dHfi_dGfi_TrefinC_da_db_dc_dd_de_Tci_Pci_wi_kijm_TinC_PinPa(vantHoff_EOS!$N$19,vantHoff_EOS!$O$23:$X$23,$D$11:$D$20,vantHoff_EOS!$T$5:$T$14,vantHoff_EOS!$U$5:$U$14,vantHoff_EOS!$E$7,vantHoff_EOS!$O$27,vantHoff_EOS!$P$27,vantHoff_EOS!$Q$27,vantHoff_EOS!$R$27,vantHoff_EOS!$S$27,vantHoff_EOS!$X$5:$X$14,vantHoff_EOS!$Y$5:$Y$14,vantHoff_EOS!$Z$5:$Z$14,vantHoff_EOS!$AE$5:$AN$14,D68,$D$27)","v":0.22013695284845095},{"$f":"dHrxnT_Tref_dHrxnref_TinC_da_db_dc_dd_de(vantHoff_EOS!$E$7,vantHoff_EOS!$B$6,D68,vantHoff_EOS!$O$27,vantHoff_EOS!$P$27,vantHoff_EOS!$Q$27,vantHoff_EOS!$R$27,vantHoff_EOS!$S$27)","v":-117491.233874834},{"$f":"IntniCpi_NS_n0i_vi_Cpai_Cpbi_Cpci_Cpdi_Cpei_X_TINinC_TOUTinC(vantHoff_EOS!$N$19,$D$11:$D$20,vantHoff_EOS!$O$23:$X$23,vantHoff_EOS!$O$5:$O$14,vantHoff_EOS!$P$5:$P$14,vantHoff_EOS!$Q$5:$Q$14,vantHoff_EOS!$R$5:$R$14,vantHoff_EOS!$S$5:$S$14,0,$D$8,D68)","v":135420.19609989718},1.1525982971986088]
[null,null,38,321,{"$f":"MolarExtentX_NS_vi_n0i_dHfi_dGfi_TrefinC_da_db_dc_dd_de_Tci_Pci_wi_kijm_TinC_PinPa(vantHoff_EOS!$N$19,vantHoff_EOS!$O$23:$X$23,$D$11:$D$20,vantHoff_EOS!$T$5:$T$14,vantHoff_EOS!$U$5:$U$14,vantHoff_EOS!$E$7,vantHoff_EOS!$O$27,vantHoff_EOS!$P$27,vantHoff_EOS!$Q$27,vantHoff_EOS!$R$27,vantHoff_EOS!$S$27,vantHoff_EOS!$X$5:$X$14,vantHoff_EOS!$Y$5:$Y$14,vantHoff_EOS!$Z$5:$Z$14,vantHoff_EOS!$AE$5:$AN$14,D69,$D$27)","v":0.17853531573897505},{"$f":"dHrxnT_Tref_dHrxnref_TinC_da_db_dc_dd_de(vantHoff_EOS!$E$7,vantHoff_EOS!$B$6,D69,vantHoff_EOS!$O$27,vantHoff_EOS!$P$27,vantHoff_EOS!$Q$27,vantHoff_EOS!$R$27,vantHoff_EOS!$S$27)","v":-117495.00771930451},{"$f":"IntniCpi_NS_n0i_vi_Cpai_Cpbi_Cpci_Cpdi_Cpei_X_TINinC_TOUTinC(vantHoff_EOS!$N$19,$D$11:$D$20,vantHoff_EOS!$O$23:$X$23,vantHoff_EOS!$O$5:$O$14,vantHoff_EOS!$P$5:$P$14,vantHoff_EOS!$Q$5:$Q$14,vantHoff_EOS!$R$5:$R$14,vantHoff_EOS!$S$5:$S$14,0,$D$8,D69)","v":140450.87832349582},1.1953774126219292]
[null,null,39,329,{"$f":"MolarExtentX_NS_vi_n0i_dHfi_dGfi_TrefinC_da_db_dc_dd_de_Tci_Pci_wi_kijm_TinC_PinPa(vantHoff_EOS!$N$19,vantHoff_EOS!$O$23:$X$23,$D$11:$D$20,vantHoff_EOS!$T$5:$T$14,vantHoff_EOS!$U$5:$U$14,vantHoff_EOS!$E$7,vantHoff_EOS!$O$27,vantHoff_EOS!$P$27,vantHoff_EOS!$Q$27,vantHoff_EOS!$R$27,vantHoff_EOS!$S$27,vantHoff_EOS!$X$5:$X$14,vantHoff_EOS!$Y$5:$Y$14,vantHoff_EOS!$Z$5:$Z$14,vantHoff_EOS!$AE$5:$AN$14,D70,$D$27)","v":0.1427000243683757},{"$f":"dHrxnT_Tref_dHrxnref_TinC_da_db_dc_dd_de(vantHoff_EOS!$E$7,vantHoff_EOS!$B$6,D70,vantHoff_EOS!$O$27,vantHoff_EOS!$P$27,vantHoff_EOS!$Q$27,vantHoff_EOS!$R$27,vantHoff_EOS!$S$27)","v":-117495.12815230084},{"$f":"IntniCpi_NS_n0i_vi_Cpai_Cpbi_Cpci_Cpdi_Cpei_X_TINinC_TOUTinC(vantHoff_EOS!$N$19,$D$11:$D$20,vantHoff_EOS!$O$23:$X$23,vantHoff_EOS!$O$5:$O$14,vantHoff_EOS!$P$5:$P$14,vantHoff_EOS!$Q$5:$Q$14,vantHoff_EOS!$R$5:$R$14,vantHoff_EOS!$S$5:$S$14,0,$D$8,D70)","v":145504.97712451644},1.238391577699361]
[null,null,40,337,{"$f":"MolarExtentX_NS_vi_n0i_dHfi_dGfi_TrefinC_da_db_dc_dd_de_Tci_Pci_wi_kijm_TinC_PinPa(vantHoff_EOS!$N$19,vantHoff_EOS!$O$23:$X$23,$D$11:$D$20,vantHoff_EOS!$T$5:$T$14,vantHoff_EOS!$U$5:$U$14,vantHoff_EOS!$E$7,vantHoff_EOS!$O$27,vantHoff_EOS!$P$27,vantHoff_EOS!$Q$27,vantHoff_EOS!$R$27,vantHoff_EOS!$S$27,vantHoff_EOS!$X$5:$X$14,vantHoff_EOS!$Y$5:$Y$14,vantHoff_EOS!$Z$5:$Z$14,vantHoff_EOS!$AE$5:$AN$14,D71,$D$27)","v":0.11266991836473281},{"$f":"dHrxnT_Tref_dHrxnref_TinC_da_db_dc_dd_de(vantHoff_EOS!$E$7,vantHoff_EOS!$B$6,D71,vantHoff_EOS!$O$27,vantHoff_EOS!$P$27,vantHoff_EOS!$Q$27,vantHoff_EOS!$R$27,vantHoff_EOS!$S$27)","v":-117491.60794214754},{"$f":"IntniCpi_NS_n0i_vi_Cpai_Cpbi_Cpci_Cpdi_Cpei_X_TINinC_TOUTinC(vantHoff_EOS!$N$19,$D$11:$D$20,vantHoff_EOS!$O$23:$X$23,vantHoff_EOS!$O$5:$O$14,vantHoff_EOS!$P$5:$P$14,vantHoff_EOS!$Q$5:$Q$14,vantHoff_EOS!$R$5:$R$14,vantHoff_EOS!$S$5:$S$14,0,$D$8,D71)","v":150582.30345397445},1.2816430559714584]
[null,null,41,345,{"$f":"MolarExtentX_NS_vi_n0i_dHfi_dGfi_TrefinC_da_db_dc_dd_de_Tci_Pci_wi_kijm_TinC_PinPa(vantHoff_EOS!$N$19,vantHoff_EOS!$O$23:$X$23,$D$11:$D$20,vantHoff_EOS!$T$5:$T$14,vantHoff_EOS!$U$5:$U$14,vantHoff_EOS!$E$7,vantHoff_EOS!$O$27,vantHoff_EOS!$P$27,vantHoff_EOS!$Q$27,vantHoff_EOS!$R$27,vantHoff_EOS!$S$27,vantHoff_EOS!$X$5:$X$14,vantHoff_EOS!$Y$5:$Y$14,vantHoff_EOS!$Z$5:$Z$14,vantHoff_EOS!$AE$5:$AN$14,D72,$D$27)","v":8.8111623590530014E-2},{"$f":"dHrxnT_Tref_dHrxnref_TinC_da_db_dc_dd_de(vantHoff_EOS!$E$7,vantHoff_EOS!$B$6,D72,vantHoff_EOS!$O$27,vantHoff_EOS!$P$27,vantHoff_EOS!$Q$27,vantHoff_EOS!$R$27,vantHoff_EOS!$S$27)","v":-117484.46110412918},{"$f":"IntniCpi_NS_n0i_vi_Cpai_Cpbi_Cpci_Cpdi_Cpei_X_TINinC_TOUTinC(vantHoff_EOS!$N$19,$D$11:$D$20,vantHoff_EOS!$O$23:$X$23,vantHoff_EOS!$O$5:$O$14,vantHoff_EOS!$P$5:$P$14,vantHoff_EOS!$Q$5:$Q$14,vantHoff_EOS!$R$5:$R$14,vantHoff_EOS!$S$5:$S$14,0,$D$8,D72)","v":155682.66759041275},1.3251341166933355]
[null,null,42,353,{"$f":"MolarExtentX_NS_vi_n0i_dHfi_dGfi_TrefinC_da_db_dc_dd_de_Tci_Pci_wi_kijm_TinC_PinPa(vantHoff_EOS!$N$19,vantHoff_EOS!$O$23:$X$23,$D$11:$D$20,vantHoff_EOS!$T$5:$T$14,vantHoff_EOS!$U$5:$U$14,vantHoff_EOS!$E$7,vantHoff_EOS!$O$27,vantHoff_EOS!$P$27,vantHoff_EOS!$Q$27,vantHoff_EOS!$R$27,vantHoff_EOS!$S$27,vantHoff_EOS!$X$5:$X$14,vantHoff_EOS!$Y$5:$Y$14,vantHoff_EOS!$Z$5:$Z$14,vantHoff_EOS!$AE$5:$AN$14,D73,$D$27)","v":6.8436116787128673E-2},{"$f":"dHrxnT_Tref_dHrxnref_TinC_da_db_dc_dd_de(vantHoff_EOS!$E$7,vantHoff_EOS!$B$6,D73,vantHoff_EOS!$O$27,vantHoff_EOS!$P$27,vantHoff_EOS!$Q$27,vantHoff_EOS!$R$27,vantHoff_EOS!$S$27)","v":-117473.70286561768},{"$f":"IntniCpi_NS_n0i_vi_Cpai_Cpbi_Cpci_Cpdi_Cpei_X_TINinC_TOUTinC(vantHoff_EOS!$N$19,$D$11:$D$20,vantHoff_EOS!$O$23:$X$23,vantHoff_EOS!$O$5:$O$14,vantHoff_EOS!$P$5:$P$14,vantHoff_EOS!$Q$5:$Q$14,vantHoff_EOS!$R$5:$R$14,vantHoff_EOS!$S$5:$S$14,0,$D$8,D73)","v":160805.87918196761},1.3688670337217439]
[null,null,43,361,{"$f":"MolarExtentX_NS_vi_n0i_dHfi_dGfi_TrefinC_da_db_dc_dd_de_Tci_Pci_wi_kijm_TinC_PinPa(vantHoff_EOS!$N$19,vantHoff_EOS!$O$23:$X$23,$D$11:$D$20,vantHoff_EOS!$T$5:$T$14,vantHoff_EOS!$U$5:$U$14,vantHoff_EOS!$E$7,vantHoff_EOS!$O$27,vantHoff_EOS!$P$27,vantHoff_EOS!$Q$27,vantHoff_EOS!$R$27,vantHoff_EOS!$S$27,vantHoff_EOS!$X$5:$X$14,vantHoff_EOS!$Y$5:$Y$14,vantHoff_EOS!$Z$5:$Z$14,vantHoff_EOS!$AE$5:$AN$14,D74,$D$27)","v":5.2927422834539356E-2},{"$f":"dHrxnT_Tref_dHrxnref_TinC_da_db_dc_dd_de(vantHoff_EOS!$E$7,vantHoff_EOS!$B$6,D74,vantHoff_EOS!$O$27,vantHoff_EOS!$P$27,vantHoff_EOS!$Q$27,vantHoff_EOS!$R$27,vantHoff_EOS!$S$27)","v":-117459.34963119982},{"$f":"IntniCpi_NS_n0i_vi_Cpai_Cpbi_Cpci_Cpdi_Cpei_X_TINinC_TOUTinC(vantHoff_EOS!$N$19,$D$11:$D$20,vantHoff_EOS!$O$23:$X$23,vantHoff_EOS!$O$5:$O$14,vantHoff_EOS!$P$5:$P$14,vantHoff_EOS!$Q$5:$Q$14,vantHoff_EOS!$R$5:$R$14,vantHoff_EOS!$S$5:$S$14,0,$D$8,D74)","v":165951.74728843506},1.4128440844385075]
[null,null,44,369,{"$f":"MolarExtentX_NS_vi_n0i_dHfi_dGfi_TrefinC_da_db_dc_dd_de_Tci_Pci_wi_kijm_TinC_PinPa(vantHoff_EOS!$N$19,vantHoff_EOS!$O$23:$X$23,$D$11:$D$20,vantHoff_EOS!$T$5:$T$14,vantHoff_EOS!$U$5:$U$14,vantHoff_EOS!$E$7,vantHoff_EOS!$O$27,vantHoff_EOS!$P$27,vantHoff_EOS!$Q$27,vantHoff_EOS!$R$27,vantHoff_EOS!$S$27,vantHoff_EOS!$X$5:$X$14,vantHoff_EOS!$Y$5:$Y$14,vantHoff_EOS!$Z$5:$Z$14,vantHoff_EOS!$AE$5:$AN$14,D75,$D$27)","v":4.0850784001198071E-2},{"$f":"dHrxnT_Tref_dHrxnref_TinC_da_db_dc_dd_de(vantHoff_EOS!$E$7,vantHoff_EOS!$B$6,D75,vantHoff_EOS!$O$27,vantHoff_EOS!$P$27,vantHoff_EOS!$Q$27,vantHoff_EOS!$R$27,vantHoff_EOS!$S$27)","v":-117441.41894780453},{"$f":"IntniCpi_NS_n0i_vi_Cpai_Cpbi_Cpci_Cpdi_Cpei_X_TINinC_TOUTinC(vantHoff_EOS!$N$19,$D$11:$D$20,vantHoff_EOS!$O$23:$X$23,vantHoff_EOS!$O$5:$O$14,vantHoff_EOS!$P$5:$P$14,vantHoff_EOS!$Q$5:$Q$14,vantHoff_EOS!$R$5:$R$14,vantHoff_EOS!$S$5:$S$14,0,$D$8,D75)","v":171120.08042333717},1.4570675487103022]
[null,null,45,377,{"$f":"MolarExtentX_NS_vi_n0i_dHfi_dGfi_TrefinC_da_db_dc_dd_de_Tci_Pci_wi_kijm_TinC_PinPa(vantHoff_EOS!$N$19,vantHoff_EOS!$O$23:$X$23,$D$11:$D$20,vantHoff_EOS!$T$5:$T$14,vantHoff_EOS!$U$5:$U$14,vantHoff_EOS!$E$7,vantHoff_EOS!$O$27,vantHoff_EOS!$P$27,vantHoff_EOS!$Q$27,vantHoff_EOS!$R$27,vantHoff_EOS!$S$27,vantHoff_EOS!$X$5:$X$14,vantHoff_EOS!$Y$5:$Y$14,vantHoff_EOS!$Z$5:$Z$14,vantHoff_EOS!$AE$5:$AN$14,D76,$D$27)","v":3.1525308926830919E-2},{"$f":"dHrxnT_Tref_dHrxnref_TinC_da_db_dc_dd_de(vantHoff_EOS!$E$7,vantHoff_EOS!$B$6,D76,vantHoff_EOS!$O$27,vantHoff_EOS!$P$27,vantHoff_EOS!$Q$27,vantHoff_EOS!$R$27,vantHoff_EOS!$S$27)","v":-117419.92946983037},{"$f":"IntniCpi_NS_n0i_vi_Cpai_Cpbi_Cpci_Cpdi_Cpei_X_TINinC_TOUTinC(vantHoff_EOS!$N$19,$D$11:$D$20,vantHoff_EOS!$O$23:$X$23,vantHoff_EOS!$O$5:$O$14,vantHoff_EOS!$P$5:$P$14,vantHoff_EOS!$Q$5:$Q$14,vantHoff_EOS!$R$5:$R$14,vantHoff_EOS!$S$5:$S$14,0,$D$8,D76)","v":176310.68659598817},1.5015397078848447]
[null,null,46,385,{"$f":"MolarExtentX_NS_vi_n0i_dHfi_dGfi_TrefinC_da_db_dc_dd_de_Tci_Pci_wi_kijm_TinC_PinPa(vantHoff_EOS!$N$19,vantHoff_EOS!$O$23:$X$23,$D$11:$D$20,vantHoff_EOS!$T$5:$T$14,vantHoff_EOS!$U$5:$U$14,vantHoff_EOS!$E$7,vantHoff_EOS!$O$27,vantHoff_EOS!$P$27,vantHoff_EOS!$Q$27,vantHoff_EOS!$R$27,vantHoff_EOS!$S$27,vantHoff_EOS!$X$5:$X$14,vantHoff_EOS!$Y$5:$Y$14,vantHoff_EOS!$Z$5:$Z$14,vantHoff_EOS!$AE$5:$AN$14,D77,$D$27)","v":2.4361489274220979E-2},{"$f":"dHrxnT_Tref_dHrxnref_TinC_da_db_dc_dd_de(vantHoff_EOS!$E$7,vantHoff_EOS!$B$6,D77,vantHoff_EOS!$O$27,vantHoff_EOS!$P$27,vantHoff_EOS!$Q$27,vantHoff_EOS!$R$27,vantHoff_EOS!$S$27)","v":-117394.90092427289},{"$f":"IntniCpi_NS_n0i_vi_Cpai_Cpbi_Cpci_Cpdi_Cpei_X_TINinC_TOUTinC(vantHoff_EOS!$N$19,$D$11:$D$20,vantHoff_EOS!$O$23:$X$23,vantHoff_EOS!$O$5:$O$14,vantHoff_EOS!$P$5:$P$14,vantHoff_EOS!$Q$5:$Q$14,vantHoff_EOS!$R$5:$R$14,vantHoff_EOS!$S$5:$S$14,0,$D$8,D77)","v":181523.37335356086},1.5462628438236417]
[null,null,47,393,{"$f":"MolarExtentX_NS_vi_n0i_dHfi_dGfi_TrefinC_da_db_dc_dd_de_Tci_Pci_wi_kijm_TinC_PinPa(vantHoff_EOS!$N$19,vantHoff_EOS!$O$23:$X$23,$D$11:$D$20,vantHoff_EOS!$T$5:$T$14,vantHoff_EOS!$U$5:$U$14,vantHoff_EOS!$E$7,vantHoff_EOS!$O$27,vantHoff_EOS!$P$27,vantHoff_EOS!$Q$27,vantHoff_EOS!$R$27,vantHoff_EOS!$S$27,vantHoff_EOS!$X$5:$X$14,vantHoff_EOS!$Y$5:$Y$14,vantHoff_EOS!$Z$5:$Z$14,vantHoff_EOS!$AE$5:$AN$14,D78,$D$27)","v":1.8872369855546526E-2},{"$f":"dHrxnT_Tref_dHrxnref_TinC_da_db_dc_dd_de(vantHoff_EOS!$E$7,vantHoff_EOS!$B$6,D78,vantHoff_EOS!$O$27,vantHoff_EOS!$P$27,vantHoff_EOS!$Q$27,vantHoff_EOS!$R$27,vantHoff_EOS!$S$27)","v":-117366.35407585208},{"$f":"IntniCpi_NS_n0i_vi_Cpai_Cpbi_Cpci_Cpdi_Cpei_X_TINinC_TOUTinC(vantHoff_EOS!$N$19,$D$11:$D$20,vantHoff_EOS!$O$23:$X$23,vantHoff_EOS!$O$5:$O$14,vantHoff_EOS!$P$5:$P$14,vantHoff_EOS!$Q$5:$Q$14,vantHoff_EOS!$R$5:$R$14,vantHoff_EOS!$S$5:$S$14,0,$D$8,D78)","v":186757.94782315288},1.5912392379715063]
[null,null,48,401,{"$f":"MolarExtentX_NS_vi_n0i_dHfi_dGfi_TrefinC_da_db_dc_dd_de_Tci_Pci_wi_kijm_TinC_PinPa(vantHoff_EOS!$N$19,vantHoff_EOS!$O$23:$X$23,$D$11:$D$20,vantHoff_EOS!$T$5:$T$14,vantHoff_EOS!$U$5:$U$14,vantHoff_EOS!$E$7,vantHoff_EOS!$O$27,vantHoff_EOS!$P$27,vantHoff_EOS!$Q$27,vantHoff_EOS!$R$27,vantHoff_EOS!$S$27,vantHoff_EOS!$X$5:$X$14,vantHoff_EOS!$Y$5:$Y$14,vantHoff_EOS!$Z$5:$Z$14,vantHoff_EOS!$AE$5:$AN$14,D79,$D$27)","v":1.4668615770432486E-2},{"$f":"dHrxnT_Tref_dHrxnref_TinC_da_db_dc_dd_de(vantHoff_EOS!$E$7,vantHoff_EOS!$B$6,D79,vantHoff_EOS!$O$27,vantHoff_EOS!$P$27,vantHoff_EOS!$Q$27,vantHoff_EOS!$R$27,vantHoff_EOS!$S$27)","v":-117334.31069213965},{"$f":"IntniCpi_NS_n0i_vi_Cpai_Cpbi_Cpci_Cpdi_Cpei_X_TINinC_TOUTinC(vantHoff_EOS!$N$19,$D$11:$D$20,vantHoff_EOS!$O$23:$X$23,vantHoff_EOS!$O$5:$O$14,vantHoff_EOS!$P$5:$P$14,vantHoff_EOS!$Q$5:$Q$14,vantHoff_EOS!$R$5:$R$14,vantHoff_EOS!$S$5:$S$14,0,$D$8,D79)","v":192014.21675385261},1.6364711704631494]
[null,null,49,409,{"$f":"MolarExtentX_NS_vi_n0i_dHfi_dGfi_TrefinC_da_db_dc_dd_de_Tci_Pci_wi_kijm_TinC_PinPa(vantHoff_EOS!$N$19,vantHoff_EOS!$O$23:$X$23,$D$11:$D$20,vantHoff_EOS!$T$5:$T$14,vantHoff_EOS!$U$5:$U$14,vantHoff_EOS!$E$7,vantHoff_EOS!$O$27,vantHoff_EOS!$P$27,vantHoff_EOS!$Q$27,vantHoff_EOS!$R$27,vantHoff_EOS!$S$27,vantHoff_EOS!$X$5:$X$14,vantHoff_EOS!$Y$5:$Y$14,vantHoff_EOS!$Z$5:$Z$14,vantHoff_EOS!$AE$5:$AN$14,D80,$D$27)","v":1.144586003057734E-2},{"$f":"dHrxnT_Tref_dHrxnref_TinC_da_db_dc_dd_de(vantHoff_EOS!$E$7,vantHoff_EOS!$B$6,D80,vantHoff_EOS!$O$27,vantHoff_EOS!$P$27,vantHoff_EOS!$Q$27,vantHoff_EOS!$R$27,vantHoff_EOS!$S$27)","v":-117298.79350868669},{"$f":"IntniCpi_NS_n0i_vi_Cpai_Cpbi_Cpci_Cpdi_Cpei_X_TINinC_TOUTinC(vantHoff_EOS!$N$19,$D$11:$D$20,vantHoff_EOS!$O$23:$X$23,vantHoff_EOS!$O$5:$O$14,vantHoff_EOS!$P$5:$P$14,vantHoff_EOS!$Q$5:$Q$14,vantHoff_EOS!$R$5:$R$14,vantHoff_EOS!$S$5:$S$14,0,$D$8,D80)","v":197291.98655880586},1.6819609192672147]
[null,null,50,417,{"$f":"MolarExtentX_NS_vi_n0i_dHfi_dGfi_TrefinC_da_db_dc_dd_de_Tci_Pci_wi_kijm_TinC_PinPa(vantHoff_EOS!$N$19,vantHoff_EOS!$O$23:$X$23,$D$11:$D$20,vantHoff_EOS!$T$5:$T$14,vantHoff_EOS!$U$5:$U$14,vantHoff_EOS!$E$7,vantHoff_EOS!$O$27,vantHoff_EOS!$P$27,vantHoff_EOS!$Q$27,vantHoff_EOS!$R$27,vantHoff_EOS!$S$27,vantHoff_EOS!$X$5:$X$14,vantHoff_EOS!$Y$5:$Y$14,vantHoff_EOS!$Z$5:$Z$14,vantHoff_EOS!$AE$5:$AN$14,D81,$D$27)","v":8.9697122211918855E-3},{"$f":"dHrxnT_Tref_dHrxnref_TinC_da_db_dc_dd_de(vantHoff_EOS!$E$7,vantHoff_EOS!$B$6,D81,vantHoff_EOS!$O$27,vantHoff_EOS!$P$27,vantHoff_EOS!$Q$27,vantHoff_EOS!$R$27,vantHoff_EOS!$S$27)","v":-117259.82619415072},{"$f":"IntniCpi_NS_n0i_vi_Cpai_Cpbi_Cpci_Cpdi_Cpei_X_TINinC_TOUTinC(vantHoff_EOS!$N$19,$D$11:$D$20,vantHoff_EOS!$O$23:$X$23,vantHoff_EOS!$O$5:$O$14,vantHoff_EOS!$P$5:$P$14,vantHoff_EOS!$Q$5:$Q$14,vantHoff_EOS!$R$5:$R$14,vantHoff_EOS!$S$5:$S$14,0,$D$8,D81)","v":202591.06335728185},1.7277107593682217]

{"sheet":"Reaction Progress","index":4,"n_rows":59,"n_cols":36,"rows_kept":59,"cut":false,"hidden":false,"merged":[]}
[]
[null,null,null,"Xstart",0]
[null,null,null,"dX",0.02]
[null,null,null,"Xlimit",{"$f":"Xlimiting_NS_n0i_vi(vantHoff_EOS!$N$19,vantHoff_EOS!$O$31:$X$31,vantHoff_EOS!$O$23:$X$23)","v":1}]
[null,null,null,"dXlimit/50",{"$f":"E4/50","v":0.02}]
[null,null,null,null,null,null,null,null,null,null,"Mole fractions yi"]
[null,null,null,null,null,null,{"$f":"\"y\"&TEXT(G8,\"##\")","v":"y1"},"y2","y3","y4","y5","y6","y7","y8","y9","y10",null,null,null,null,"Fugacity coefficients, ji",null,null,null,null,null,null,null,"Mixture critical points"]
[null,null,null,"No.","X","nT [mol]",1,2,3,4,5,6,7,8,9,10,"Sum y",1,2,3,4,5,6,7,8,9,10,"Tc [K]","Pc [MPa]","Vc [m3/mol]","rhoc [mol/m3]","rhoc [kg/m3]","Note 1","Note 2","Note 3","Note 4"]
[null,null,null,1,{"$f":"$E$2","v":0},{"$f":"nT_NS_n0i_vi_X(vantHoff_EOS!$N$19,vantHoff_EOS!$O$31:$X$31,vantHoff_EOS!$O$23:$X$23,'Reaction Progress'!E9)","v":10.34},{"$f":"IF(G$8<=vantHoff_EOS!$N$19,nouti_i_n0i_vi_X(G$8,vantHoff_EOS!$O$31:$X$31,vantHoff_EOS!$O$23:$X$23,'Reaction Progress'!$E9)/'Reaction Progress'!$F9,\" - \")","v":9.6711798839458421E-2},{"$f":"IF(H$8<=vantHoff_EOS!$N$19,nouti_i_n0i_vi_X(H$8,vantHoff_EOS!$O$31:$X$31,vantHoff_EOS!$O$23:$X$23,'Reaction Progress'!$E9)/'Reaction Progress'!$F9,\" - \")","v":9.6711798839458421E-2},{"$f":"IF(I$8<=vantHoff_EOS!$N$19,nouti_i_n0i_vi_X(I$8,vantHoff_EOS!$O$31:$X$31,vantHoff_EOS!$O$23:$X$23,'Reaction Progress'!$E9)/'Reaction Progress'!$F9,\" - \")","v":9.6711798839458421E-2},{"$f":"IF(J$8<=vantHoff_EOS!$N$19,nouti_i_n0i_vi_X(J$8,vantHoff_EOS!$O$31:$X$31,vantHoff_EOS!$O$23:$X$23,'Reaction Progress'!$E9)/'Reaction Progress'!$F9,\" - \")","v":0},{"$f":"IF(K$8<=vantHoff_EOS!$N$19,nouti_i_n0i_vi_X(K$8,vantHoff_EOS!$O$31:$X$31,vantHoff_EOS!$O$23:$X$23,'Reaction Progress'!$E9)/'Reaction Progress'!$F9,\" - \")","v":0.70986460348162472},{"$f":"IF(L$8<=vantHoff_EOS!$N$19,nouti_i_n0i_vi_X(L$8,vantHoff_EOS!$O$31:$X$31,vantHoff_EOS!$O$23:$X$23,'Reaction Progress'!$E9)/'Reaction Progress'!$F9,\" - \")","v":" - "},{"$f":"IF(M$8<=vantHoff_EOS!$N$19,nouti_i_n0i_vi_X(M$8,vantHoff_EOS!$O$31:$X$31,vantHoff_EOS!$O$23:$X$23,'Reaction Progress'!$E9)/'Reaction Progress'!$F9,\" - \")","v":" - "},{"$f":"IF(N$8<=vantHoff_EOS!$N$19,nouti_i_n0i_vi_X(N$8,vantHoff_EOS!$O$31:$X$31,vantHoff_EOS!$O$23:$X$23,'Reaction Progress'!$E9)/'Reaction Progress'!$F9,\" - \")","v":" - "},{"$f":"IF(O$8<=vantHoff_EOS!$N$19,nouti_i_n0i_vi_X(O$8,vantHoff_EOS!$O$31:$X$31,vantHoff_EOS!$O$23:$X$23,'Reaction Progress'!$E9)/'Reaction Progress'!$F9,\" - \")","v":" - "},{"$f":"IF(P$8<=vantHoff_EOS!$N$19,nouti_i_n0i_vi_X(P$8,vantHoff_EOS!$O$31:$X$31,vantHoff_EOS!$O$23:$X$23,'Reaction Progress'!$E9)/'Reaction Progress'!$F9,\" - \")","v":" - "},{"$f":"SUM(G9:P9)","v":1},{"$f":"IF(G9<>\" - \",Phi_i_NS_Tci_Pci_wi_kijm_TinC_PinPa_yi(R$8,vantHoff_EOS!$N$19,vantHoff_EOS!$X$5:$X$14,vantHoff_EOS!$Y$5:$Y$14,vantHoff_EOS!$Z$5:$Z$14,vantHoff_EOS!$AE$5:$AN$14,'Reaction Progress'!$AB9-273.15,'Reaction Progress'!$AC9*1000000,'Reaction Progress'!$G9:$P9),\"-\")","v":1.5405811121719291},{"$f":"IF(H9<>\" - \",Phi_i_NS_Tci_Pci_wi_kijm_TinC_PinPa_yi(S$8,vantHoff_EOS!$N$19,vantHoff_EOS!$X$5:$X$14,vantHoff_EOS!$Y$5:$Y$14,vantHoff_EOS!$Z$5:$Z$14,vantHoff_EOS!$AE$5:$AN$14,'Reaction Progress'!$AB9-273.15,'Reaction Progress'!$AC9*1000000,'Reaction Progress'!$G9:$P9),\"-\")","v":2.2309762039340226},{"$f":"IF(I9<>\" - \",Phi_i_NS_Tci_Pci_wi_kijm_TinC_PinPa_yi(T$8,vantHoff_EOS!$N$19,vantHoff_EOS!$X$5:$X$14,vantHoff_EOS!$Y$5:$Y$14,vantHoff_EOS!$Z$5:$Z$14,vantHoff_EOS!$AE$5:$AN$14,'Reaction Progress'!$AB9-273.15,'Reaction Progress'!$AC9*1000000,'Reaction Progress'!$G9:$P9),\"-\")","v":0.21337197190480273},{"$f":"IF(J9<>\" - \",Phi_i_NS_Tci_Pci_wi_kijm_TinC_PinPa_yi(U$8,vantHoff_EOS!$N$19,vantHoff_EOS!$X$5:$X$14,vantHoff_EOS!$Y$5:$Y$14,vantHoff_EOS!$Z$5:$Z$14,vantHoff_EOS!$AE$5:$AN$14,'Reaction Progress'!$AB9-273.15,'Reaction Progress'!$AC9*1000000,'Reaction Progress'!$G9:$P9),\"-\")","v":2.5364199650683168E-2},{"$f":"IF(K9<>\" - \",Phi_i_NS_Tci_Pci_wi_kijm_TinC_PinPa_yi(V$8,vantHoff_EOS!$N$19,vantHoff_EOS!$X$5:$X$14,vantHoff_EOS!$Y$5:$Y$14,vantHoff_EOS!$Z$5:$Z$14,vantHoff_EOS!$AE$5:$AN$14,'Reaction Progress'!$AB9-273.15,'Reaction Progress'!$AC9*1000000,'Reaction Progress'!$G9:$P9),\"-\")","v":0.50985803113946093},{"$f":"IF(L9<>\" - \",Phi_i_NS_Tci_Pci_wi_kijm_TinC_PinPa_yi(W$8,vantHoff_EOS!$N$19,vantHoff_EOS!$X$5:$X$14,vantHoff_EOS!$Y$5:$Y$14,vantHoff_EOS!$Z$5:$Z$14,vantHoff_EOS!$AE$5:$AN$14,'Reaction Progress'!$AB9-273.15,'Reaction Progress'!$AC9*1000000,'Reaction Progress'!$G9:$P9),\"-\")","v":"-"},{"$f":"IF(M9<>\" - \",Phi_i_NS_Tci_Pci_wi_kijm_TinC_PinPa_yi(X$8,vantHoff_EOS!$N$19,vantHoff_EOS!$X$5:$X$14,vantHoff_EOS!$Y$5:$Y$14,vantHoff_EOS!$Z$5:$Z$14,vantHoff_EOS!$AE$5:$AN$14,'Reaction Progress'!$AB9-273.15,'Reaction Progress'!$AC9*1000000,'Reaction Progress'!$G9:$P9),\"-\")","v":"-"},{"$f":"IF(N9<>\" - \",Phi_i_NS_Tci_Pci_wi_kijm_TinC_PinPa_yi(Y$8,vantHoff_EOS!$N$19,vantHoff_EOS!$X$5:$X$14,vantHoff_EOS!$Y$5:$Y$14,vantHoff_EOS!$Z$5:$Z$14,vantHoff_EOS!$AE$5:$AN$14,'Reaction Progress'!$AB9-273.15,'Reaction Progress'!$AC9*1000000,'Reaction Progress'!$G9:$P9),\"-\")","v":"-"},{"$f":"IF(O9<>\" - \",Phi_i_NS_Tci_Pci_wi_kijm_TinC_PinPa_yi(Z$8,vantHoff_EOS!$N$19,vantHoff_EOS!$X$5:$X$14,vantHoff_EOS!$Y$5:$Y$14,vantHoff_EOS!$Z$5:$Z$14,vantHoff_EOS!$AE$5:$AN$14,'Reaction Progress'!$AB9-273.15,'Reaction Progress'!$AC9*1000000,'Reaction Progress'!$G9:$P9),\"-\")","v":"-"},{"$f":"IF(P9<>\" - \",Phi_i_NS_Tci_Pci_wi_kijm_TinC_PinPa_yi(AA$8,vantHoff_EOS!$N$19,vantHoff_EOS!$X$5:$X$14,vantHoff_EOS!$Y$5:$Y$14,vantHoff_EOS!$Z$5:$Z$14,vantHoff_EOS!$AE$5:$AN$14,'Reaction Progress'!$AB9-273.15,'Reaction Progress'!$AC9*1000000,'Reaction Progress'!$G9:$P9),\"-\")","v":"-"},301.17682487985246,10.44306936014997,111.29362994057581,8.9852402202528631E-3,343.36860877435242]
[null,null,null,2,{"$f":"E9+$E$3","v":0.02},{"$f":"nT_NS_n0i_vi_X(vantHoff_EOS!$N$19,vantHoff_EOS!$O$31:$X$31,vantHoff_EOS!$O$23:$X$23,'Reaction Progress'!E10)","v":10.3},{"$f":"IF(G$8<=vantHoff_EOS!$N$19,nouti_i_n0i_vi_X(G$8,vantHoff_EOS!$O$31:$X$31,vantHoff_EOS!$O$23:$X$23,'Reaction Progress'!$E10)/'Reaction Progress'!$F10,\" - \")","v":9.5145631067961159E-2},{"$f":"IF(H$8<=vantHoff_EOS!$N$19,nouti_i_n0i_vi_X(H$8,vantHoff_EOS!$O$31:$X$31,vantHoff_EOS!$O$23:$X$23,'Reaction Progress'!$E10)/'Reaction Progress'!$F10,\" - \")","v":9.5145631067961159E-2},{"$f":"IF(I$8<=vantHoff_EOS!$N$19,nouti_i_n0i_vi_X(I$8,vantHoff_EOS!$O$31:$X$31,vantHoff_EOS!$O$23:$X$23,'Reaction Progress'!$E10)/'Reaction Progress'!$F10,\" - \")","v":9.5145631067961159E-2},{"$f":"IF(J$8<=vantHoff_EOS!$N$19,nouti_i_n0i_vi_X(J$8,vantHoff_EOS!$O$31:$X$31,vantHoff_EOS!$O$23:$X$23,'Reaction Progress'!$E10)/'Reaction Progress'!$F10,\" - \")","v":1.9417475728155339E-3},{"$f":"IF(K$8<=vantHoff_EOS!$N$19,nouti_i_n0i_vi_X(K$8,vantHoff_EOS!$O$31:$X$31,vantHoff_EOS!$O$23:$X$23,'Reaction Progress'!$E10)/'Reaction Progress'!$F10,\" - \")","v":0.71262135922330094},{"$f":"IF(L$8<=vantHoff_EOS!$N$19,nouti_i_n0i_vi_X(L$8,vantHoff_EOS!$O$31:$X$31,vantHoff_EOS!$O$23:$X$23,'Reaction Progress'!$E10)/'Reaction Progress'!$F10,\" - \")","v":" - "},{"$f":"IF(M$8<=vantHoff_EOS!$N$19,nouti_i_n0i_vi_X(M$8,vantHoff_EOS!$O$31:$X$31,vantHoff_EOS!$O$23:$X$23,'Reaction Progress'!$E10)/'Reaction Progress'!$F10,\" - \")","v":" - "},{"$f":"IF(N$8<=vantHoff_EOS!$N$19,nouti_i_n0i_vi_X(N$8,vantHoff_EOS!$O$31:$X$31,vantHoff_EOS!$O$23:$X$23,'Reaction Progress'!$E10)/'Reaction Progress'!$F10,\" - \")","v":" - "},{"$f":"IF(O$8<=vantHoff_EOS!$N$19,nouti_i_n0i_vi_X(O$8,vantHoff_EOS!$O$31:$X$31,vantHoff_EOS!$O$23:$X$23,'Reaction Progress'!$E10)/'Reaction Progress'!$F10,\" - \")","v":" - "},{"$f":"IF(P$8<=vantHoff_EOS!$N$19,nouti_i_n0i_vi_X(P$8,vantHoff_EOS!$O$31:$X$31,vantHoff_EOS!$O$23:$X$23,'Reaction Progress'!$E10)/'Reaction Progress'!$F10,\" - \")","v":" - "},1,{"$f":"IF(G10<>\" - \",Phi_i_NS_Tci_Pci_wi_kijm_TinC_PinPa_yi(R$8,vantHoff_EOS!$N$19,vantHoff_EOS!$X$5:$X$14,vantHoff_EOS!$Y$5:$Y$14,vantHoff_EOS!$Z$5:$Z$14,vantHoff_EOS!$AE$5:$AN$14,'Reaction Progress'!$AB10-273.15,'Reaction Progress'!$AC10*1000000,'Reaction Progress'!$G10:$P10),\"-\")","v":1.6899390810663133},{"$f":"IF(H10<>\" - \",Phi_i_NS_Tci_Pci_wi_kijm_TinC_PinPa_yi(S$8,vantHoff_EOS!$N$19,vantHoff_EOS!$X$5:$X$14,vantHoff_EOS!$Y$5:$Y$14,vantHoff_EOS!$Z$5:$Z$14,vantHoff_EOS!$AE$5:$AN$14,'Reaction Progress'!$AB10-273.15,'Reaction Progress'!$AC10*1000000,'Reaction Progress'!$G10:$P10),\"-\")","v":2.5538342806971635},{"$f":"IF(I10<>\" - \",Phi_i_NS_Tci_Pci_wi_kijm_TinC_PinPa_yi(T$8,vantHoff_EOS!$N$19,vantHoff_EOS!$X$5:$X$14,vantHoff_EOS!$Y$5:$Y$14,vantHoff_EOS!$Z$5:$Z$14,vantHoff_EOS!$AE$5:$AN$14,'Reaction Progress'!$AB10-273.15,'Reaction Progress'!$AC10*1000000,'Reaction Progress'!$G10:$P10),\"-\")","v":0.17771839528730901},{"$f":"IF(J10<>\" - \",Phi_i_NS_Tci_Pci_wi_kijm_TinC_PinPa_yi(U$8,vantHoff_EOS!$N$19,vantHoff_EOS!$X$5:$X$14,vantHoff_EOS!$Y$5:$Y$14,vantHoff_EOS!$Z$5:$Z$14,vantHoff_EOS!$AE$5:$AN$14,'Reaction Progress'!$AB10-273.15,'Reaction Progress'!$AC10*1000000,'Reaction Progress'!$G10:$P10),\"-\")","v":1.5911133108952209E-2},{"$f":"IF(K10<>\" - \",Phi_i_NS_Tci_Pci_wi_kijm_TinC_PinPa_yi(V$8,vantHoff_EOS!$N$19,vantHoff_EOS!$X$5:$X$14,vantHoff_EOS!$Y$5:$Y$14,vantHoff_EOS!$Z$5:$Z$14,vantHoff_EOS!$AE$5:$AN$14,'Reaction Progress'!$AB10-273.15,'Reaction Progress'!$AC10*1000000,'Reaction Progress'!$G10:$P10),\"-\")","v":0.46578763362735831},{"$f":"IF(L10<>\" - \",Phi_i_NS_Tci_Pci_wi_kijm_TinC_PinPa_yi(W$8,vantHoff_EOS!$N$19,vantHoff_EOS!$X$5:$X$14,vantHoff_EOS!$Y$5:$Y$14,vantHoff_EOS!$Z$5:$Z$14,vantHoff_EOS!$AE$5:$AN$14,'Reaction Progress'!$AB10-273.15,'Reaction Progress'!$AC10*1000000,'Reaction Progress'!$G10:$P10),\"-\")","v":"-"},{"$f":"IF(M10<>\" - \",Phi_i_NS_Tci_Pci_wi_kijm_TinC_PinPa_yi(X$8,vantHoff_EOS!$N$19,vantHoff_EOS!$X$5:$X$14,vantHoff_EOS!$Y$5:$Y$14,vantHoff_EOS!$Z$5:$Z$14,vantHoff_EOS!$AE$5:$AN$14,'Reaction Progress'!$AB10-273.15,'Reaction Progress'!$AC10*1000000,'Reaction Progress'!$G10:$P10),\"-\")","v":"-"},{"$f":"IF(N10<>\" - \",Phi_i_NS_Tci_Pci_wi_kijm_TinC_PinPa_yi(Y$8,vantHoff_EOS!$N$19,vantHoff_EOS!$X$5:$X$14,vantHoff_EOS!$Y$5:$Y$14,vantHoff_EOS!$Z$5:$Z$14,vantHoff_EOS!$AE$5:$AN$14,'Reaction Progress'!$AB10-273.15,'Reaction Progress'!$AC10*1000000,'Reaction Progress'!$G10:$P10),\"-\")","v":"-"},{"$f":"IF(O10<>\" - \",Phi_i_NS_Tci_Pci_wi_kijm_TinC_PinPa_yi(Z$8,vantHoff_EOS!$N$19,vantHoff_EOS!$X$5:$X$14,vantHoff_EOS!$Y$5:$Y$14,vantHoff_EOS!$Z$5:$Z$14,vantHoff_EOS!$AE$5:$AN$14,'Reaction Progress'!$AB10-273.15,'Reaction Progress'!$AC10*1000000,'Reaction Progress'!$G10:$P10),\"-\")","v":"-"},{"$f":"IF(P10<>\" - \",Phi_i_NS_Tci_Pci_wi_kijm_TinC_PinPa_yi(AA$8,vantHoff_EOS!$N$19,vantHoff_EOS!$X$5:$X$14,vantHoff_EOS!$Y$5:$Y$14,vantHoff_EOS!$Z$5:$Z$14,vantHoff_EOS!$AE$5:$AN$14,'Reaction Progress'!$AB10-273.15,'Reaction Progress'!$AC10*1000000,'Reaction Progress'!$G10:$P10),\"-\")","v":"-"},302.16102198190885,11.815635188771115,92.200334191193534,1.0845947672232131E-2,416.08467005678381]
[null,null,null,3,0.04,{"$f":"nT_NS_n0i_vi_X(vantHoff_EOS!$N$19,vantHoff_EOS!$O$31:$X$31,vantHoff_EOS!$O$23:$X$23,'Reaction Progress'!E11)","v":10.26},{"$f":"IF(G$8<=vantHoff_EOS!$N$19,nouti_i_n0i_vi_X(G$8,vantHoff_EOS!$O$31:$X$31,vantHoff_EOS!$O$23:$X$23,'Reaction Progress'!$E11)/'Reaction Progress'!$F11,\" - \")","v":9.3567251461988299E-2},{"$f":"IF(H$8<=vantHoff_EOS!$N$19,nouti_i_n0i_vi_X(H$8,vantHoff_EOS!$O$31:$X$31,vantHoff_EOS!$O$23:$X$23,'Reaction Progress'!$E11)/'Reaction Progress'!$F11,\" - \")","v":9.3567251461988299E-2},{"$f":"IF(I$8<=vantHoff_EOS!$N$19,nouti_i_n0i_vi_X(I$8,vantHoff_EOS!$O$31:$X$31,vantHoff_EOS!$O$23:$X$23,'Reaction Progress'!$E11)/'Reaction Progress'!$F11,\" - \")","v":9.3567251461988299E-2},{"$f":"IF(J$8<=vantHoff_EOS!$N$19,nouti_i_n0i_vi_X(J$8,vantHoff_EOS!$O$31:$X$31,vantHoff_EOS!$O$23:$X$23,'Reaction Progress'!$E11)/'Reaction Progress'!$F11,\" - \")","v":3.8986354775828462E-3},{"$f":"IF(K$8<=vantHoff_EOS!$N$19,nouti_i_n0i_vi_X(K$8,vantHoff_EOS!$O$31:$X$31,vantHoff_EOS!$O$23:$X$23,'Reaction Progress'!$E11)/'Reaction Progress'!$F11,\" - \")","v":0.71539961013645226},{"$f":"IF(L$8<=vantHoff_EOS!$N$19,nouti_i_n0i_vi_X(L$8,vantHoff_EOS!$O$31:$X$31,vantHoff_EOS!$O$23:$X$23,'Reaction Progress'!$E11)/'Reaction Progress'!$F11,\" - \")","v":" - "},{"$f":"IF(M$8<=vantHoff_EOS!$N$19,nouti_i_n0i_vi_X(M$8,vantHoff_EOS!$O$31:$X$31,vantHoff_EOS!$O$23:$X$23,'Reaction Progress'!$E11)/'Reaction Progress'!$F11,\" - \")","v":" - "},{"$f":"IF(N$8<=vantHoff_EOS!$N$19,nouti_i_n0i_vi_X(N$8,vantHoff_EOS!$O$31:$X$31,vantHoff_EOS!$O$23:$X$23,'Reaction Progress'!$E11)/'Reaction Progress'!$F11,\" - \")","v":" - "},{"$f":"IF(O$8<=vantHoff_EOS!$N$19,nouti_i_n0i_vi_X(O$8,vantHoff_EOS!$O$31:$X$31,vantHoff_EOS!$O$23:$X$23,'Reaction Progress'!$E11)/'Reaction Progress'!$F11,\" - \")","v":" - "},{"$f":"IF(P$8<=vantHoff_EOS!$N$19,nouti_i_n0i_vi_X(P$8,vantHoff_EOS!$O$31:$X$31,vantHoff_EOS!$O$23:$X$23,'Reaction Progress'!$E11)/'Reaction Progress'!$F11,\" - \")","v":" - "},1,{"$f":"IF(G11<>\" - \",Phi_i_NS_Tci_Pci_wi_kijm_TinC_PinPa_yi(R$8,vantHoff_EOS!$N$19,vantHoff_EOS!$X$5:$X$14,vantHoff_EOS!$Y$5:$Y$14,vantHoff_EOS!$Z$5:$Z$14,vantHoff_EOS!$AE$5:$AN$14,'Reaction Progress'!$AB11-273.15,'Reaction Progress'!$AC11*1000000,'Reaction Progress'!$G11:$P11),\"-\")","v":1.7053368026903708},{"$f":"IF(H11<>\" - \",Phi_i_NS_Tci_Pci_wi_kijm_TinC_PinPa_yi(S$8,vantHoff_EOS!$N$19,vantHoff_EOS!$X$5:$X$14,vantHoff_EOS!$Y$5:$Y$14,vantHoff_EOS!$Z$5:$Z$14,vantHoff_EOS!$AE$5:$AN$14,'Reaction Progress'!$AB11-273.15,'Reaction Progress'!$AC11*1000000,'Reaction Progress'!$G11:$P11),\"-\")","v":2.5729811386945554},{"$f":"IF(I11<>\" - \",Phi_i_NS_Tci_Pci_wi_kijm_TinC_PinPa_yi(T$8,vantHoff_EOS!$N$19,vantHoff_EOS!$X$5:$X$14,vantHoff_EOS!$Y$5:$Y$14,vantHoff_EOS!$Z$5:$Z$14,vantHoff_EOS!$AE$5:$AN$14,'Reaction Progress'!$AB11-273.15,'Reaction Progress'!$AC11*1000000,'Reaction Progress'!$G11:$P11),\"-\")","v":0.17823766417331055},{"$f":"IF(J11<>\" - \",Phi_i_NS_Tci_Pci_wi_kijm_TinC_PinPa_yi(U$8,vantHoff_EOS!$N$19,vantHoff_EOS!$X$5:$X$14,vantHoff_EOS!$Y$5:$Y$14,vantHoff_EOS!$Z$5:$Z$14,vantHoff_EOS!$AE$5:$AN$14,'Reaction Progress'!$AB11-273.15,'Reaction Progress'!$AC11*1000000,'Reaction Progress'!$G11:$P11),\"-\")","v":1.5900570852295588E-2},{"$f":"IF(K11<>\" - \",Phi_i_NS_Tci_Pci_wi_kijm_TinC_PinPa_yi(V$8,vantHoff_EOS!$N$19,vantHoff_EOS!$X$5:$X$14,vantHoff_EOS!$Y$5:$Y$14,vantHoff_EOS!$Z$5:$Z$14,vantHoff_EOS!$AE$5:$AN$14,'Reaction Progress'!$AB11-273.15,'Reaction Progress'!$AC11*1000000,'Reaction Progress'!$G11:$P11),\"-\")","v":0.46741218243907501},{"$f":"IF(L11<>\" - \",Phi_i_NS_Tci_Pci_wi_kijm_TinC_PinPa_yi(W$8,vantHoff_EOS!$N$19,vantHoff_EOS!$X$5:$X$14,vantHoff_EOS!$Y$5:$Y$14,vantHoff_EOS!$Z$5:$Z$14,vantHoff_EOS!$AE$5:$AN$14,'Reaction Progress'!$AB11-273.15,'Reaction Progress'!$AC11*1000000,'Reaction Progress'!$G11:$P11),\"-\")","v":"-"},{"$f":"IF(M11<>\" - \",Phi_i_NS_Tci_Pci_wi_kijm_TinC_PinPa_yi(X$8,vantHoff_EOS!$N$19,vantHoff_EOS!$X$5:$X$14,vantHoff_EOS!$Y$5:$Y$14,vantHoff_EOS!$Z$5:$Z$14,vantHoff_EOS!$AE$5:$AN$14,'Reaction Progress'!$AB11-273.15,'Reaction Progress'!$AC11*1000000,'Reaction Progress'!$G11:$P11),\"-\")","v":"-"},{"$f":"IF(N11<>\" - \",Phi_i_NS_Tci_Pci_wi_kijm_TinC_PinPa_yi(Y$8,vantHoff_EOS!$N$19,vantHoff_EOS!$X$5:$X$14,vantHoff_EOS!$Y$5:$Y$14,vantHoff_EOS!$Z$5:$Z$14,vantHoff_EOS!$AE$5:$AN$14,'Reaction Progress'!$AB11-273.15,'Reaction Progress'!$AC11*1000000,'Reaction Progress'!$G11:$P11),\"-\")","v":"-"},{"$f":"IF(O11<>\" - \",Phi_i_NS_Tci_Pci_wi_kijm_TinC_PinPa_yi(Z$8,vantHoff_EOS!$N$19,vantHoff_EOS!$X$5:$X$14,vantHoff_EOS!$Y$5:$Y$14,vantHoff_EOS!$Z$5:$Z$14,vantHoff_EOS!$AE$5:$AN$14,'Reaction Progress'!$AB11-273.15,'Reaction Progress'!$AC11*1000000,'Reaction Progress'!$G11:$P11),\"-\")","v":"-"},{"$f":"IF(P11<>\" - \",Phi_i_NS_Tci_Pci_wi_kijm_TinC_PinPa_yi(AA$8,vantHoff_EOS!$N$19,vantHoff_EOS!$X$5:$X$14,vantHoff_EOS!$Y$5:$Y$14,vantHoff_EOS!$Z$5:$Z$14,vantHoff_EOS!$AE$5:$AN$14,'Reaction Progress'!$AB11-273.15,'Reaction Progress'!$AC11*1000000,'Reaction Progress'!$G11:$P11),\"-\")","v":"-"},303.50118718948761,11.965963933667172,91.392721835814172,1.0941790329830496E-2,421.39799294789026]
[null,null,null,4,0.06,{"$f":"nT_NS_n0i_vi_X(vantHoff_EOS!$N$19,vantHoff_EOS!$O$31:$X$31,vantHoff_EOS!$O$23:$X$23,'Reaction Progress'!E12)","v":10.219999999999999},{"$f":"IF(G$8<=vantHoff_EOS!$N$19,nouti_i_n0i_vi_X(G$8,vantHoff_EOS!$O$31:$X$31,vantHoff_EOS!$O$23:$X$23,'Reaction Progress'!$E12)/'Reaction Progress'!$F12,\" - \")","v":9.1976516634050889E-2},{"$f":"IF(H$8<=vantHoff_EOS!$N$19,nouti_i_n0i_vi_X(H$8,vantHoff_EOS!$O$31:$X$31,vantHoff_EOS!$O$23:$X$23,'Reaction Progress'!$E12)/'Reaction Progress'!$F12,\" - \")","v":9.1976516634050889E-2},{"$f":"IF(I$8<=vantHoff_EOS!$N$19,nouti_i_n0i_vi_X(I$8,vantHoff_EOS!$O$31:$X$31,vantHoff_EOS!$O$23:$X$23,'Reaction Progress'!$E12)/'Reaction Progress'!$F12,\" - \")","v":9.1976516634050889E-2},{"$f":"IF(J$8<=vantHoff_EOS!$N$19,nouti_i_n0i_vi_X(J$8,vantHoff_EOS!$O$31:$X$31,vantHoff_EOS!$O$23:$X$23,'Reaction Progress'!$E12)/'Reaction Progress'!$F12,\" - \")","v":5.870841487279844E-3},{"$f":"IF(K$8<=vantHoff_EOS!$N$19,nouti_i_n0i_vi_X(K$8,vantHoff_EOS!$O$31:$X$31,vantHoff_EOS!$O$23:$X$23,'Reaction Progress'!$E12)/'Reaction Progress'!$F12,\" - \")","v":0.71819960861056753},{"$f":"IF(L$8<=vantHoff_EOS!$N$19,nouti_i_n0i_vi_X(L$8,vantHoff_EOS!$O$31:$X$31,vantHoff_EOS!$O$23:$X$23,'Reaction Progress'!$E12)/'Reaction Progress'!$F12,\" - \")","v":" - "},{"$f":"IF(M$8<=vantHoff_EOS!$N$19,nouti_i_n0i_vi_X(M$8,vantHoff_EOS!$O$31:$X$31,vantHoff_EOS!$O$23:$X$23,'Reaction Progress'!$E12)/'Reaction Progress'!$F12,\" - \")","v":" - "},{"$f":"IF(N$8<=vantHoff_EOS!$N$19,nouti_i_n0i_vi_X(N$8,vantHoff_EOS!$O$31:$X$31,vantHoff_EOS!$O$23:$X$23,'Reaction Progress'!$E12)/'Reaction Progress'!$F12,\" - \")","v":" - "},{"$f":"IF(O$8<=vantHoff_EOS!$N$19,nouti_i_n0i_vi_X(O$8,vantHoff_EOS!$O$31:$X$31,vantHoff_EOS!$O$23:$X$23,'Reaction Progress'!$E12)/'Reaction Progress'!$F12,\" - \")","v":" - "},{"$f":"IF(P$8<=vantHoff_EOS!$N$19,nouti_i_n0i_vi_X(P$8,vantHoff_EOS!$O$31:$X$31,vantHoff_EOS!$O$23:$X$23,'Reaction Progress'!$E12)/'Reaction Progress'!$F12,\" - \")","v":" - "},1,{"$f":"IF(G12<>\" - \",Phi_i_NS_Tci_Pci_wi_kijm_TinC_PinPa_yi(R$8,vantHoff_EOS!$N$19,vantHoff_EOS!$X$5:$X$14,vantHoff_EOS!$Y$5:$Y$14,vantHoff_EOS!$Z$5:$Z$14,vantHoff_EOS!$AE$5:$AN$14,'Reaction Progress'!$AB12-273.15,'Reaction Progress'!$AC12*1000000,'Reaction Progress'!$G12:$P12),\"-\")","v":1.7204750741422528},{"$f":"IF(H12<>\" - \",Phi_i_NS_Tci_Pci_wi_kijm_TinC_PinPa_yi(S$8,vantHoff_EOS!$N$19,vantHoff_EOS!$X$5:$X$14,vantHoff_EOS!$Y$5:$Y$14,vantHoff_EOS!$Z$5:$Z$14,vantHoff_EOS!$AE$5:$AN$14,'Reaction Progress'!$AB12-273.15,'Reaction Progress'!$AC12*1000000,'Reaction Progress'!$G12:$P12),\"-\")","v":2.5913119684023496},{"$f":"IF(I12<>\" - \",Phi_i_NS_Tci_Pci_wi_kijm_TinC_PinPa_yi(T$8,vantHoff_EOS!$N$19,vantHoff_EOS!$X$5:$X$14,vantHoff_EOS!$Y$5:$Y$14,vantHoff_EOS!$Z$5:$Z$14,vantHoff_EOS!$AE$5:$AN$14,'Reaction Progress'!$AB12-273.15,'Reaction Progress'!$AC12*1000000,'Reaction Progress'!$G12:$P12),\"-\")","v":0.17891440121673513},{"$f":"IF(J12<>\" - \",Phi_i_NS_Tci_Pci_wi_kijm_TinC_PinPa_yi(U$8,vantHoff_EOS!$N$19,vantHoff_EOS!$X$5:$X$14,vantHoff_EOS!$Y$5:$Y$14,vantHoff_EOS!$Z$5:$Z$14,vantHoff_EOS!$AE$5:$AN$14,'Reaction Progress'!$AB12-273.15,'Reaction Progress'!$AC12*1000000,'Reaction Progress'!$G12:$P12),\"-\")","v":1.5921358933254751E-2},{"$f":"IF(K12<>\" - \",Phi_i_NS_Tci_Pci_wi_kijm_TinC_PinPa_yi(V$8,vantHoff_EOS!$N$19,vantHoff_EOS!$X$5:$X$14,vantHoff_EOS!$Y$5:$Y$14,vantHoff_EOS!$Z$5:$Z$14,vantHoff_EOS!$AE$5:$AN$14,'Reaction Progress'!$AB12-273.15,'Reaction Progress'!$AC12*1000000,'Reaction Progress'!$G12:$P12),\"-\")","v":0.46929537580834607},{"$f":"IF(L12<>\" - \",Phi_i_NS_Tci_Pci_wi_kijm_TinC_PinPa_yi(W$8,vantHoff_EOS!$N$19,vantHoff_EOS!$X$5:$X$14,vantHoff_EOS!$Y$5:$Y$14,vantHoff_EOS!$Z$5:$Z$14,vantHoff_EOS!$AE$5:$AN$14,'Reaction Progress'!$AB12-273.15,'Reaction Progress'!$AC12*1000000,'Reaction Progress'!$G12:$P12),\"-\")","v":"-"},{"$f":"IF(M12<>\" - \",Phi_i_NS_Tci_Pci_wi_kijm_TinC_PinPa_yi(X$8,vantHoff_EOS!$N$19,vantHoff_EOS!$X$5:$X$14,vantHoff_EOS!$Y$5:$Y$14,vantHoff_EOS!$Z$5:$Z$14,vantHoff_EOS!$AE$5:$AN$14,'Reaction Progress'!$AB12-273.15,'Reaction Progress'!$AC12*1000000,'Reaction Progress'!$G12:$P12),\"-\")","v":"-"},{"$f":"IF(N12<>\" - \",Phi_i_NS_Tci_Pci_wi_kijm_TinC_PinPa_yi(Y$8,vantHoff_EOS!$N$19,vantHoff_EOS!$X$5:$X$14,vantHoff_EOS!$Y$5:$Y$14,vantHoff_EOS!$Z$5:$Z$14,vantHoff_EOS!$AE$5:$AN$14,'Reaction Progress'!$AB12-273.15,'Reaction Progress'!$AC12*1000000,'Reaction Progress'!$G12:$P12),\"-\")","v":"-"},{"$f":"IF(O12<>\" - \",Phi_i_NS_Tci_Pci_wi_kijm_TinC_PinPa_yi(Z$8,vantHoff_EOS!$N$19,vantHoff_EOS!$X$5:$X$14,vantHoff_EOS!$Y$5:$Y$14,vantHoff_EOS!$Z$5:$Z$14,vantHoff_EOS!$AE$5:$AN$14,'Reaction Progress'!$AB12-273.15,'Reaction Progress'!$AC12*1000000,'Reaction Progress'!$G12:$P12),\"-\")","v":"-"},{"$f":"IF(P12<>\" - \",Phi_i_NS_Tci_Pci_wi_kijm_TinC_PinPa_yi(AA$8,vantHoff_EOS!$N$19,vantHoff_EOS!$X$5:$X$14,vantHoff_EOS!$Y$5:$Y$14,vantHoff_EOS!$Z$5:$Z$14,vantHoff_EOS!$AE$5:$AN$14,'Reaction Progress'!$AB12-273.15,'Reaction Progress'!$AC12*1000000,'Reaction Progress'!$G12:$P12),\"-\")","v":"-"},304.81313438228955,12.105357796475655,90.679941973279867,1.1027797087636692E-2,426.37261764457901]
[null,null,null,5,0.08,{"$f":"nT_NS_n0i_vi_X(vantHoff_EOS!$N$19,vantHoff_EOS!$O$31:$X$31,vantHoff_EOS!$O$23:$X$23,'Reaction Progress'!E13)","v":10.18},{"$f":"IF(G$8<=vantHoff_EOS!$N$19,nouti_i_n0i_vi_X(G$8,vantHoff_EOS!$O$31:$X$31,vantHoff_EOS!$O$23:$X$23,'Reaction Progress'!$E13)/'Reaction Progress'!$F13,\" - \")","v":9.0373280943025547E-2},{"$f":"IF(H$8<=vantHoff_EOS!$N$19,nouti_i_n0i_vi_X(H$8,vantHoff_EOS!$O$31:$X$31,vantHoff_EOS!$O$23:$X$23,'Reaction Progress'!$E13)/'Reaction Progress'!$F13,\" - \")","v":9.0373280943025547E-2},{"$f":"IF(I$8<=vantHoff_EOS!$N$19,nouti_i_n0i_vi_X(I$8,vantHoff_EOS!$O$31:$X$31,vantHoff_EOS!$O$23:$X$23,'Reaction Progress'!$E13)/'Reaction Progress'!$F13,\" - \")","v":9.0373280943025547E-2},{"$f":"IF(J$8<=vantHoff_EOS!$N$19,nouti_i_n0i_vi_X(J$8,vantHoff_EOS!$O$31:$X$31,vantHoff_EOS!$O$23:$X$23,'Reaction Progress'!$E13)/'Reaction Progress'!$F13,\" - \")","v":7.8585461689587438E-3},{"$f":"IF(K$8<=vantHoff_EOS!$N$19,nouti_i_n0i_vi_X(K$8,vantHoff_EOS!$O$31:$X$31,vantHoff_EOS!$O$23:$X$23,'Reaction Progress'!$E13)/'Reaction Progress'!$F13,\" - \")","v":0.7210216110019646},{"$f":"IF(L$8<=vantHoff_EOS!$N$19,nouti_i_n0i_vi_X(L$8,vantHoff_EOS!$O$31:$X$31,vantHoff_EOS!$O$23:$X$23,'Reaction Progress'!$E13)/'Reaction Progress'!$F13,\" - \")","v":" - "},{"$f":"IF(M$8<=vantHoff_EOS!$N$19,nouti_i_n0i_vi_X(M$8,vantHoff_EOS!$O$31:$X$31,vantHoff_EOS!$O$23:$X$23,'Reaction Progress'!$E13)/'Reaction Progress'!$F13,\" - \")","v":" - "},{"$f":"IF(N$8<=vantHoff_EOS!$N$19,nouti_i_n0i_vi_X(N$8,vantHoff_EOS!$O$31:$X$31,vantHoff_EOS!$O$23:$X$23,'Reaction Progress'!$E13)/'Reaction Progress'!$F13,\" - \")","v":" - "},{"$f":"IF(O$8<=vantHoff_EOS!$N$19,nouti_i_n0i_vi_X(O$8,vantHoff_EOS!$O$31:$X$31,vantHoff_EOS!$O$23:$X$23,'Reaction Progress'!$E13)/'Reaction Progress'!$F13,\" - \")","v":" - "},{"$f":"IF(P$8<=vantHoff_EOS!$N$19,nouti_i_n0i_vi_X(P$8,vantHoff_EOS!$O$31:$X$31,vantHoff_EOS!$O$23:$X$23,'Reaction Progress'!$E13)/'Reaction Progress'!$F13,\" - \")","v":" - "},1,{"$f":"IF(G13<>\" - \",Phi_i_NS_Tci_Pci_wi_kijm_TinC_PinPa_yi(R$8,vantHoff_EOS!$N$19,vantHoff_EOS!$X$5:$X$14,vantHoff_EOS!$Y$5:$Y$14,vantHoff_EOS!$Z$5:$Z$14,vantHoff_EOS!$AE$5:$AN$14,'Reaction Progress'!$AB13-273.15,'Reaction Progress'!$AC13*1000000,'Reaction Progress'!$G13:$P13),\"-\")","v":1.735361338573947},{"$f":"IF(H13<>\" - \",Phi_i_NS_Tci_Pci_wi_kijm_TinC_PinPa_yi(S$8,vantHoff_EOS!$N$19,vantHoff_EOS!$X$5:$X$14,vantHoff_EOS!$Y$5:$Y$14,vantHoff_EOS!$Z$5:$Z$14,vantHoff_EOS!$AE$5:$AN$14,'Reaction Progress'!$AB13-273.15,'Reaction Progress'!$AC13*1000000,'Reaction Progress'!$G13:$P13),\"-\")","v":2.6088453598635533},{"$f":"IF(I13<>\" - \",Phi_i_NS_Tci_Pci_wi_kijm_TinC_PinPa_yi(T$8,vantHoff_EOS!$N$19,vantHoff_EOS!$X$5:$X$14,vantHoff_EOS!$Y$5:$Y$14,vantHoff_EOS!$Z$5:$Z$14,vantHoff_EOS!$AE$5:$AN$14,'Reaction Progress'!$AB13-273.15,'Reaction Progress'!$AC13*1000000,'Reaction Progress'!$G13:$P13),\"-\")","v":0.17974276556814783},{"$f":"IF(J13<>\" - \",Phi_i_NS_Tci_Pci_wi_kijm_TinC_PinPa_yi(U$8,vantHoff_EOS!$N$19,vantHoff_EOS!$X$5:$X$14,vantHoff_EOS!$Y$5:$Y$14,vantHoff_EOS!$Z$5:$Z$14,vantHoff_EOS!$AE$5:$AN$14,'Reaction Progress'!$AB13-273.15,'Reaction Progress'!$AC13*1000000,'Reaction Progress'!$G13:$P13),\"-\")","v":1.5972132174059153E-2},{"$f":"IF(K13<>\" - \",Phi_i_NS_Tci_Pci_wi_kijm_TinC_PinPa_yi(V$8,vantHoff_EOS!$N$19,vantHoff_EOS!$X$5:$X$14,vantHoff_EOS!$Y$5:$Y$14,vantHoff_EOS!$Z$5:$Z$14,vantHoff_EOS!$AE$5:$AN$14,'Reaction Progress'!$AB13-273.15,'Reaction Progress'!$AC13*1000000,'Reaction Progress'!$G13:$P13),\"-\")","v":0.47142946006299608},{"$f":"IF(L13<>\" - \",Phi_i_NS_Tci_Pci_wi_kijm_TinC_PinPa_yi(W$8,vantHoff_EOS!$N$19,vantHoff_EOS!$X$5:$X$14,vantHoff_EOS!$Y$5:$Y$14,vantHoff_EOS!$Z$5:$Z$14,vantHoff_EOS!$AE$5:$AN$14,'Reaction Progress'!$AB13-273.15,'Reaction Progress'!$AC13*1000000,'Reaction Progress'!$G13:$P13),\"-\")","v":"-"},{"$f":"IF(M13<>\" - \",Phi_i_NS_Tci_Pci_wi_kijm_TinC_PinPa_yi(X$8,vantHoff_EOS!$N$19,vantHoff_EOS!$X$5:$X$14,vantHoff_EOS!$Y$5:$Y$14,vantHoff_EOS!$Z$5:$Z$14,vantHoff_EOS!$AE$5:$AN$14,'Reaction Progress'!$AB13-273.15,'Reaction Progress'!$AC13*1000000,'Reaction Progress'!$G13:$P13),\"-\")","v":"-"},{"$f":"IF(N13<>\" - \",Phi_i_NS_Tci_Pci_wi_kijm_TinC_PinPa_yi(Y$8,vantHoff_EOS!$N$19,vantHoff_EOS!$X$5:$X$14,vantHoff_EOS!$Y$5:$Y$14,vantHoff_EOS!$Z$5:$Z$14,vantHoff_EOS!$AE$5:$AN$14,'Reaction Progress'!$AB13-273.15,'Reaction Progress'!$AC13*1000000,'Reaction Progress'!$G13:$P13),\"-\")","v":"-"},{"$f":"IF(O13<>\" - \",Phi_i_NS_Tci_Pci_wi_kijm_TinC_PinPa_yi(Z$8,vantHoff_EOS!$N$19,vantHoff_EOS!$X$5:$X$14,vantHoff_EOS!$Y$5:$Y$14,vantHoff_EOS!$Z$5:$Z$14,vantHoff_EOS!$AE$5:$AN$14,'Reaction Progress'!$AB13-273.15,'Reaction Progress'!$AC13*1000000,'Reaction Progress'!$G13:$P13),\"-\")","v":"-"},{"$f":"IF(P13<>\" - \",Phi_i_NS_Tci_Pci_wi_kijm_TinC_PinPa_yi(AA$8,vantHoff_EOS!$N$19,vantHoff_EOS!$X$5:$X$14,vantHoff_EOS!$Y$5:$Y$14,vantHoff_EOS!$Z$5:$Z$14,vantHoff_EOS!$AE$5:$AN$14,'Reaction Progress'!$AB13-273.15,'Reaction Progress'!$AC13*1000000,'Reaction Progress'!$G13:$P13),\"-\")","v":"-"},306.1018665332968,12.234406273158882,90.053603505221943,1.1104497333546601E-2,431.02510001734157]
[null,null,null,6,0.1,{"$f":"nT_NS_n0i_vi_X(vantHoff_EOS!$N$19,vantHoff_EOS!$O$31:$X$31,vantHoff_EOS!$O$23:$X$23,'Reaction Progress'!E14)","v":10.14},{"$f":"IF(G$8<=vantHoff_EOS!$N$19,nouti_i_n0i_vi_X(G$8,vantHoff_EOS!$O$31:$X$31,vantHoff_EOS!$O$23:$X$23,'Reaction Progress'!$E14)/'Reaction Progress'!$F14,\" - \")","v":8.8757396449704137E-2},{"$f":"IF(H$8<=vantHoff_EOS!$N$19,nouti_i_n0i_vi_X(H$8,vantHoff_EOS!$O$31:$X$31,vantHoff_EOS!$O$23:$X$23,'Reaction Progress'!$E14)/'Reaction Progress'!$F14,\" - \")","v":8.8757396449704137E-2},{"$f":"IF(I$8<=vantHoff_EOS!$N$19,nouti_i_n0i_vi_X(I$8,vantHoff_EOS!$O$31:$X$31,vantHoff_EOS!$O$23:$X$23,'Reaction Progress'!$E14)/'Reaction Progress'!$F14,\" - \")","v":8.8757396449704137E-2},{"$f":"IF(J$8<=vantHoff_EOS!$N$19,nouti_i_n0i_vi_X(J$8,vantHoff_EOS!$O$31:$X$31,vantHoff_EOS!$O$23:$X$23,'Reaction Progress'!$E14)/'Reaction Progress'!$F14,\" - \")","v":9.8619329388560158E-3},{"$f":"IF(K$8<=vantHoff_EOS!$N$19,nouti_i_n0i_vi_X(K$8,vantHoff_EOS!$O$31:$X$31,vantHoff_EOS!$O$23:$X$23,'Reaction Progress'!$E14)/'Reaction Progress'!$F14,\" - \")","v":0.72386587771203148},{"$f":"IF(L$8<=vantHoff_EOS!$N$19,nouti_i_n0i_vi_X(L$8,vantHoff_EOS!$O$31:$X$31,vantHoff_EOS!$O$23:$X$23,'Reaction Progress'!$E14)/'Reaction Progress'!$F14,\" - \")","v":" - "},{"$f":"IF(M$8<=vantHoff_EOS!$N$19,nouti_i_n0i_vi_X(M$8,vantHoff_EOS!$O$31:$X$31,vantHoff_EOS!$O$23:$X$23,'Reaction Progress'!$E14)/'Reaction Progress'!$F14,\" - \")","v":" - "},{"$f":"IF(N$8<=vantHoff_EOS!$N$19,nouti_i_n0i_vi_X(N$8,vantHoff_EOS!$O$31:$X$31,vantHoff_EOS!$O$23:$X$23,'Reaction Progress'!$E14)/'Reaction Progress'!$F14,\" - \")","v":" - "},{"$f":"IF(O$8<=vantHoff_EOS!$N$19,nouti_i_n0i_vi_X(O$8,vantHoff_EOS!$O$31:$X$31,vantHoff_EOS!$O$23:$X$23,'Reaction Progress'!$E14)/'Reaction Progress'!$F14,\" - \")","v":" - "},{"$f":"IF(P$8<=vantHoff_EOS!$N$19,nouti_i_n0i_vi_X(P$8,vantHoff_EOS!$O$31:$X$31,vantHoff_EOS!$O$23:$X$23,'Reaction Progress'!$E14)/'Reaction Progress'!$F14,\" - \")","v":" - "},0.99999999999999989,{"$f":"IF(G14<>\" - \",Phi_i_NS_Tci_Pci_wi_kijm_TinC_PinPa_yi(R$8,vantHoff_EOS!$N$19,vantHoff_EOS!$X$5:$X$14,vantHoff_EOS!$Y$5:$Y$14,vantHoff_EOS!$Z$5:$Z$14,vantHoff_EOS!$AE$5:$AN$14,'Reaction Progress'!$AB14-273.15,'Reaction Progress'!$AC14*1000000,'Reaction Progress'!$G14:$P14),\"-\")","v":1.7500019320640827},{"$f":"IF(H14<>\" - \",Phi_i_NS_Tci_Pci_wi_kijm_TinC_PinPa_yi(S$8,vantHoff_EOS!$N$19,vantHoff_EOS!$X$5:$X$14,vantHoff_EOS!$Y$5:$Y$14,vantHoff_EOS!$Z$5:$Z$14,vantHoff_EOS!$AE$5:$AN$14,'Reaction Progress'!$AB14-273.15,'Reaction Progress'!$AC14*1000000,'Reaction Progress'!$G14:$P14),\"-\")","v":2.6255991036684612},{"$f":"IF(I14<>\" - \",Phi_i_NS_Tci_Pci_wi_kijm_TinC_PinPa_yi(T$8,vantHoff_EOS!$N$19,vantHoff_EOS!$X$5:$X$14,vantHoff_EOS!$Y$5:$Y$14,vantHoff_EOS!$Z$5:$Z$14,vantHoff_EOS!$AE$5:$AN$14,'Reaction Progress'!$AB14-273.15,'Reaction Progress'!$AC14*1000000,'Reaction Progress'!$G14:$P14),\"-\")","v":0.18071758534305496},{"$f":"IF(J14<>\" - \",Phi_i_NS_Tci_Pci_wi_kijm_TinC_PinPa_yi(U$8,vantHoff_EOS!$N$19,vantHoff_EOS!$X$5:$X$14,vantHoff_EOS!$Y$5:$Y$14,vantHoff_EOS!$Z$5:$Z$14,vantHoff_EOS!$AE$5:$AN$14,'Reaction Progress'!$AB14-273.15,'Reaction Progress'!$AC14*1000000,'Reaction Progress'!$G14:$P14),\"-\")","v":1.6051764893786426E-2},{"$f":"IF(K14<>\" - \",Phi_i_NS_Tci_Pci_wi_kijm_TinC_PinPa_yi(V$8,vantHoff_EOS!$N$19,vantHoff_EOS!$X$5:$X$14,vantHoff_EOS!$Y$5:$Y$14,vantHoff_EOS!$Z$5:$Z$14,vantHoff_EOS!$AE$5:$AN$14,'Reaction Progress'!$AB14-273.15,'Reaction Progress'!$AC14*1000000,'Reaction Progress'!$G14:$P14),\"-\")","v":0.47380724774802013},{"$f":"IF(L14<>\" - \",Phi_i_NS_Tci_Pci_wi_kijm_TinC_PinPa_yi(W$8,vantHoff_EOS!$N$19,vantHoff_EOS!$X$5:$X$14,vantHoff_EOS!$Y$5:$Y$14,vantHoff_EOS!$Z$5:$Z$14,vantHoff_EOS!$AE$5:$AN$14,'Reaction Progress'!$AB14-273.15,'Reaction Progress'!$AC14*1000000,'Reaction Progress'!$G14:$P14),\"-\")","v":"-"},{"$f":"IF(M14<>\" - \",Phi_i_NS_Tci_Pci_wi_kijm_TinC_PinPa_yi(X$8,vantHoff_EOS!$N$19,vantHoff_EOS!$X$5:$X$14,vantHoff_EOS!$Y$5:$Y$14,vantHoff_EOS!$Z$5:$Z$14,vantHoff_EOS!$AE$5:$AN$14,'Reaction Progress'!$AB14-273.15,'Reaction Progress'!$AC14*1000000,'Reaction Progress'!$G14:$P14),\"-\")","v":"-"},{"$f":"IF(N14<>\" - \",Phi_i_NS_Tci_Pci_wi_kijm_TinC_PinPa_yi(Y$8,vantHoff_EOS!$N$19,vantHoff_EOS!$X$5:$X$14,vantHoff_EOS!$Y$5:$Y$14,vantHoff_EOS!$Z$5:$Z$14,vantHoff_EOS!$AE$5:$AN$14,'Reaction Progress'!$AB14-273.15,'Reaction Progress'!$AC14*1000000,'Reaction Progress'!$G14:$P14),\"-\")","v":"-"},{"$f":"IF(O14<>\" - \",Phi_i_NS_Tci_Pci_wi_kijm_TinC_PinPa_yi(Z$8,vantHoff_EOS!$N$19,vantHoff_EOS!$X$5:$X$14,vantHoff_EOS!$Y$5:$Y$14,vantHoff_EOS!$Z$5:$Z$14,vantHoff_EOS!$AE$5:$AN$14,'Reaction Progress'!$AB14-273.15,'Reaction Progress'!$AC14*1000000,'Reaction Progress'!$G14:$P14),\"-\")","v":"-"},{"$f":"IF(P14<>\" - \",Phi_i_NS_Tci_Pci_wi_kijm_TinC_PinPa_yi(AA$8,vantHoff_EOS!$N$19,vantHoff_EOS!$X$5:$X$14,vantHoff_EOS!$Y$5:$Y$14,vantHoff_EOS!$Z$5:$Z$14,vantHoff_EOS!$AE$5:$AN$14,'Reaction Progress'!$AB14-273.15,'Reaction Progress'!$AC14*1000000,'Reaction Progress'!$G14:$P14),\"-\")","v":"-"},307.37170023198297,12.353652434547172,89.506430806413178,1.1172381593036884E-2,435.37074276382941]
[null,null,null,7,0.12000000000000001,{"$f":"nT_NS_n0i_vi_X(vantHoff_EOS!$N$19,vantHoff_EOS!$O$31:$X$31,vantHoff_EOS!$O$23:$X$23,'Reaction Progress'!E15)","v":10.1},{"$f":"IF(G$8<=vantHoff_EOS!$N$19,nouti_i_n0i_vi_X(G$8,vantHoff_EOS!$O$31:$X$31,vantHoff_EOS!$O$23:$X$23,'Reaction Progress'!$E15)/'Reaction Progress'!$F15,\" - \")","v":8.7128712871287137E-2},{"$f":"IF(H$8<=vantHoff_EOS!$N$19,nouti_i_n0i_vi_X(H$8,vantHoff_EOS!$O$31:$X$31,vantHoff_EOS!$O$23:$X$23,'Reaction Progress'!$E15)/'Reaction Progress'!$F15,\" - \")","v":8.7128712871287137E-2},{"$f":"IF(I$8<=vantHoff_EOS!$N$19,nouti_i_n0i_vi_X(I$8,vantHoff_EOS!$O$31:$X$31,vantHoff_EOS!$O$23:$X$23,'Reaction Progress'!$E15)/'Reaction Progress'!$F15,\" - \")","v":8.7128712871287137E-2},{"$f":"IF(J$8<=vantHoff_EOS!$N$19,nouti_i_n0i_vi_X(J$8,vantHoff_EOS!$O$31:$X$31,vantHoff_EOS!$O$23:$X$23,'Reaction Progress'!$E15)/'Reaction Progress'!$F15,\" - \")","v":1.1881188118811883E-2},{"$f":"IF(K$8<=vantHoff_EOS!$N$19,nouti_i_n0i_vi_X(K$8,vantHoff_EOS!$O$31:$X$31,vantHoff_EOS!$O$23:$X$23,'Reaction Progress'!$E15)/'Reaction Progress'!$F15,\" - \")","v":0.72673267326732671},{"$f":"IF(L$8<=vantHoff_EOS!$N$19,nouti_i_n0i_vi_X(L$8,vantHoff_EOS!$O$31:$X$31,vantHoff_EOS!$O$23:$X$23,'Reaction Progress'!$E15)/'Reaction Progress'!$F15,\" - \")","v":" - "},{"$f":"IF(M$8<=vantHoff_EOS!$N$19,nouti_i_n0i_vi_X(M$8,vantHoff_EOS!$O$31:$X$31,vantHoff_EOS!$O$23:$X$23,'Reaction Progress'!$E15)/'Reaction Progress'!$F15,\" - \")","v":" - "},{"$f":"IF(N$8<=vantHoff_EOS!$N$19,nouti_i_n0i_vi_X(N$8,vantHoff_EOS!$O$31:$X$31,vantHoff_EOS!$O$23:$X$23,'Reaction Progress'!$E15)/'Reaction Progress'!$F15,\" - \")","v":" - "},{"$f":"IF(O$8<=vantHoff_EOS!$N$19,nouti_i_n0i_vi_X(O$8,vantHoff_EOS!$O$31:$X$31,vantHoff_EOS!$O$23:$X$23,'Reaction Progress'!$E15)/'Reaction Progress'!$F15,\" - \")","v":" - "},{"$f":"IF(P$8<=vantHoff_EOS!$N$19,nouti_i_n0i_vi_X(P$8,vantHoff_EOS!$O$31:$X$31,vantHoff_EOS!$O$23:$X$23,'Reaction Progress'!$E15)/'Reaction Progress'!$F15,\" - \")","v":" - "},1,{"$f":"IF(G15<>\" - \",Phi_i_NS_Tci_Pci_wi_kijm_TinC_PinPa_yi(R$8,vantHoff_EOS!$N$19,vantHoff_EOS!$X$5:$X$14,vantHoff_EOS!$Y$5:$Y$14,vantHoff_EOS!$Z$5:$Z$14,vantHoff_EOS!$AE$5:$AN$14,'Reaction Progress'!$AB15-273.15,'Reaction Progress'!$AC15*1000000,'Reaction Progress'!$G15:$P15),\"-\")","v":1.7644030089835219},{"$f":"IF(H15<>\" - \",Phi_i_NS_Tci_Pci_wi_kijm_TinC_PinPa_yi(S$8,vantHoff_EOS!$N$19,vantHoff_EOS!$X$5:$X$14,vantHoff_EOS!$Y$5:$Y$14,vantHoff_EOS!$Z$5:$Z$14,vantHoff_EOS!$AE$5:$AN$14,'Reaction Progress'!$AB15-273.15,'Reaction Progress'!$AC15*1000000,'Reaction Progress'!$G15:$P15),\"-\")","v":2.6415920015341756},{"$f":"IF(I15<>\" - \",Phi_i_NS_Tci_Pci_wi_kijm_TinC_PinPa_yi(T$8,vantHoff_EOS!$N$19,vantHoff_EOS!$X$5:$X$14,vantHoff_EOS!$Y$5:$Y$14,vantHoff_EOS!$Z$5:$Z$14,vantHoff_EOS!$AE$5:$AN$14,'Reaction Progress'!$AB15-273.15,'Reaction Progress'!$AC15*1000000,'Reaction Progress'!$G15:$P15),\"-\")","v":0.18183394288194293},{"$f":"IF(J15<>\" - \",Phi_i_NS_Tci_Pci_wi_kijm_TinC_PinPa_yi(U$8,vantHoff_EOS!$N$19,vantHoff_EOS!$X$5:$X$14,vantHoff_EOS!$Y$5:$Y$14,vantHoff_EOS!$Z$5:$Z$14,vantHoff_EOS!$AE$5:$AN$14,'Reaction Progress'!$AB15-273.15,'Reaction Progress'!$AC15*1000000,'Reaction Progress'!$G15:$P15),\"-\")","v":1.6159276221659295E-2},{"$f":"IF(K15<>\" - \",Phi_i_NS_Tci_Pci_wi_kijm_TinC_PinPa_yi(V$8,vantHoff_EOS!$N$19,vantHoff_EOS!$X$5:$X$14,vantHoff_EOS!$Y$5:$Y$14,vantHoff_EOS!$Z$5:$Z$14,vantHoff_EOS!$AE$5:$AN$14,'Reaction Progress'!$AB15-273.15,'Reaction Progress'!$AC15*1000000,'Reaction Progress'!$G15:$P15),\"-\")","v":0.47642143926597008},{"$f":"IF(L15<>\" - \",Phi_i_NS_Tci_Pci_wi_kijm_TinC_PinPa_yi(W$8,vantHoff_EOS!$N$19,vantHoff_EOS!$X$5:$X$14,vantHoff_EOS!$Y$5:$Y$14,vantHoff_EOS!$Z$5:$Z$14,vantHoff_EOS!$AE$5:$AN$14,'Reaction Progress'!$AB15-273.15,'Reaction Progress'!$AC15*1000000,'Reaction Progress'!$G15:$P15),\"-\")","v":"-"},{"$f":"IF(M15<>\" - \",Phi_i_NS_Tci_Pci_wi_kijm_TinC_PinPa_yi(X$8,vantHoff_EOS!$N$19,vantHoff_EOS!$X$5:$X$14,vantHoff_EOS!$Y$5:$Y$14,vantHoff_EOS!$Z$5:$Z$14,vantHoff_EOS!$AE$5:$AN$14,'Reaction Progress'!$AB15-273.15,'Reaction Progress'!$AC15*1000000,'Reaction Progress'!$G15:$P15),\"-\")","v":"-"},{"$f":"IF(N15<>\" - \",Phi_i_NS_Tci_Pci_wi_kijm_TinC_PinPa_yi(Y$8,vantHoff_EOS!$N$19,vantHoff_EOS!$X$5:$X$14,vantHoff_EOS!$Y$5:$Y$14,vantHoff_EOS!$Z$5:$Z$14,vantHoff_EOS!$AE$5:$AN$14,'Reaction Progress'!$AB15-273.15,'Reaction Progress'!$AC15*1000000,'Reaction Progress'!$G15:$P15),\"-\")","v":"-"},{"$f":"IF(O15<>\" - \",Phi_i_NS_Tci_Pci_wi_kijm_TinC_PinPa_yi(Z$8,vantHoff_EOS!$N$19,vantHoff_EOS!$X$5:$X$14,vantHoff_EOS!$Y$5:$Y$14,vantHoff_EOS!$Z$5:$Z$14,vantHoff_EOS!$AE$5:$AN$14,'Reaction Progress'!$AB15-273.15,'Reaction Progress'!$AC15*1000000,'Reaction Progress'!$G15:$P15),\"-\")","v":"-"},{"$f":"IF(P15<>\" - \",Phi_i_NS_Tci_Pci_wi_kijm_TinC_PinPa_yi(AA$8,vantHoff_EOS!$N$19,vantHoff_EOS!$X$5:$X$14,vantHoff_EOS!$Y$5:$Y$14,vantHoff_EOS!$Z$5:$Z$14,vantHoff_EOS!$AE$5:$AN$14,'Reaction Progress'!$AB15-273.15,'Reaction Progress'!$AC15*1000000,'Reaction Progress'!$G15:$P15),\"-\")","v":"-"},308.62642714944457,12.463631975351198,89.031906182839691,1.123192844985659E-2,439.42462380670418]
[null,null,null,8,0.14000000000000001,{"$f":"nT_NS_n0i_vi_X(vantHoff_EOS!$N$19,vantHoff_EOS!$O$31:$X$31,vantHoff_EOS!$O$23:$X$23,'Reaction Progress'!E16)","v":10.06},{"$f":"IF(G$8<=vantHoff_EOS!$N$19,nouti_i_n0i_vi_X(G$8,vantHoff_EOS!$O$31:$X$31,vantHoff_EOS!$O$23:$X$23,'Reaction Progress'!$E16)/'Reaction Progress'!$F16,\" - \")","v":8.5487077534791248E-2},{"$f":"IF(H$8<=vantHoff_EOS!$N$19,nouti_i_n0i_vi_X(H$8,vantHoff_EOS!$O$31:$X$31,vantHoff_EOS!$O$23:$X$23,'Reaction Progress'!$E16)/'Reaction Progress'!$F16,\" - \")","v":8.5487077534791248E-2},{"$f":"IF(I$8<=vantHoff_EOS!$N$19,nouti_i_n0i_vi_X(I$8,vantHoff_EOS!$O$31:$X$31,vantHoff_EOS!$O$23:$X$23,'Reaction Progress'!$E16)/'Reaction Progress'!$F16,\" - \")","v":8.5487077534791248E-2},{"$f":"IF(J$8<=vantHoff_EOS!$N$19,nouti_i_n0i_vi_X(J$8,vantHoff_EOS!$O$31:$X$31,vantHoff_EOS!$O$23:$X$23,'Reaction Progress'!$E16)/'Reaction Progress'!$F16,\" - \")","v":1.3916500994035786E-2},{"$f":"IF(K$8<=vantHoff_EOS!$N$19,nouti_i_n0i_vi_X(K$8,vantHoff_EOS!$O$31:$X$31,vantHoff_EOS!$O$23:$X$23,'Reaction Progress'!$E16)/'Reaction Progress'!$F16,\" - \")","v":0.72962226640159045},{"$f":"IF(L$8<=vantHoff_EOS!$N$19,nouti_i_n0i_vi_X(L$8,vantHoff_EOS!$O$31:$X$31,vantHoff_EOS!$O$23:$X$23,'Reaction Progress'!$E16)/'Reaction Progress'!$F16,\" - \")","v":" - "},{"$f":"IF(M$8<=vantHoff_EOS!$N$19,nouti_i_n0i_vi_X(M$8,vantHoff_EOS!$O$31:$X$31,vantHoff_EOS!$O$23:$X$23,'Reaction Progress'!$E16)/'Reaction Progress'!$F16,\" - \")","v":" - "},{"$f":"IF(N$8<=vantHoff_EOS!$N$19,nouti_i_n0i_vi_X(N$8,vantHoff_EOS!$O$31:$X$31,vantHoff_EOS!$O$23:$X$23,'Reaction Progress'!$E16)/'Reaction Progress'!$F16,\" - \")","v":" - "},{"$f":"IF(O$8<=vantHoff_EOS!$N$19,nouti_i_n0i_vi_X(O$8,vantHoff_EOS!$O$31:$X$31,vantHoff_EOS!$O$23:$X$23,'Reaction Progress'!$E16)/'Reaction Progress'!$F16,\" - \")","v":" - "},{"$f":"IF(P$8<=vantHoff_EOS!$N$19,nouti_i_n0i_vi_X(P$8,vantHoff_EOS!$O$31:$X$31,vantHoff_EOS!$O$23:$X$23,'Reaction Progress'!$E16)/'Reaction Progress'!$F16,\" - \")","v":" - "},1,{"$f":"IF(G16<>\" - \",Phi_i_NS_Tci_Pci_wi_kijm_TinC_PinPa_yi(R$8,vantHoff_EOS!$N$19,vantHoff_EOS!$X$5:$X$14,vantHoff_EOS!$Y$5:$Y$14,vantHoff_EOS!$Z$5:$Z$14,vantHoff_EOS!$AE$5:$AN$14,'Reaction Progress'!$AB16-273.15,'Reaction Progress'!$AC16*1000000,'Reaction Progress'!$G16:$P16),\"-\")","v":1.7785678015466513},{"$f":"IF(H16<>\" - \",Phi_i_NS_Tci_Pci_wi_kijm_TinC_PinPa_yi(S$8,vantHoff_EOS!$N$19,vantHoff_EOS!$X$5:$X$14,vantHoff_EOS!$Y$5:$Y$14,vantHoff_EOS!$Z$5:$Z$14,vantHoff_EOS!$AE$5:$AN$14,'Reaction Progress'!$AB16-273.15,'Reaction Progress'!$AC16*1000000,'Reaction Progress'!$G16:$P16),\"-\")","v":2.6568371500231009},{"$f":"IF(I16<>\" - \",Phi_i_NS_Tci_Pci_wi_kijm_TinC_PinPa_yi(T$8,vantHoff_EOS!$N$19,vantHoff_EOS!$X$5:$X$14,vantHoff_EOS!$Y$5:$Y$14,vantHoff_EOS!$Z$5:$Z$14,vantHoff_EOS!$AE$5:$AN$14,'Reaction Progress'!$AB16-273.15,'Reaction Progress'!$AC16*1000000,'Reaction Progress'!$G16:$P16),\"-\")","v":0.18308748087055651},{"$f":"IF(J16<>\" - \",Phi_i_NS_Tci_Pci_wi_kijm_TinC_PinPa_yi(U$8,vantHoff_EOS!$N$19,vantHoff_EOS!$X$5:$X$14,vantHoff_EOS!$Y$5:$Y$14,vantHoff_EOS!$Z$5:$Z$14,vantHoff_EOS!$AE$5:$AN$14,'Reaction Progress'!$AB16-273.15,'Reaction Progress'!$AC16*1000000,'Reaction Progress'!$G16:$P16),\"-\")","v":1.6293906258387614E-2},{"$f":"IF(K16<>\" - \",Phi_i_NS_Tci_Pci_wi_kijm_TinC_PinPa_yi(V$8,vantHoff_EOS!$N$19,vantHoff_EOS!$X$5:$X$14,vantHoff_EOS!$Y$5:$Y$14,vantHoff_EOS!$Z$5:$Z$14,vantHoff_EOS!$AE$5:$AN$14,'Reaction Progress'!$AB16-273.15,'Reaction Progress'!$AC16*1000000,'Reaction Progress'!$G16:$P16),\"-\")","v":0.47926482301925577},{"$f":"IF(L16<>\" - \",Phi_i_NS_Tci_Pci_wi_kijm_TinC_PinPa_yi(W$8,vantHoff_EOS!$N$19,vantHoff_EOS!$X$5:$X$14,vantHoff_EOS!$Y$5:$Y$14,vantHoff_EOS!$Z$5:$Z$14,vantHoff_EOS!$AE$5:$AN$14,'Reaction Progress'!$AB16-273.15,'Reaction Progress'!$AC16*1000000,'Reaction Progress'!$G16:$P16),\"-\")","v":"-"},{"$f":"IF(M16<>\" - \",Phi_i_NS_Tci_Pci_wi_kijm_TinC_PinPa_yi(X$8,vantHoff_EOS!$N$19,vantHoff_EOS!$X$5:$X$14,vantHoff_EOS!$Y$5:$Y$14,vantHoff_EOS!$Z$5:$Z$14,vantHoff_EOS!$AE$5:$AN$14,'Reaction Progress'!$AB16-273.15,'Reaction Progress'!$AC16*1000000,'Reaction Progress'!$G16:$P16),\"-\")","v":"-"},{"$f":"IF(N16<>\" - \",Phi_i_NS_Tci_Pci_wi_kijm_TinC_PinPa_yi(Y$8,vantHoff_EOS!$N$19,vantHoff_EOS!$X$5:$X$14,vantHoff_EOS!$Y$5:$Y$14,vantHoff_EOS!$Z$5:$Z$14,vantHoff_EOS!$AE$5:$AN$14,'Reaction Progress'!$AB16-273.15,'Reaction Progress'!$AC16*1000000,'Reaction Progress'!$G16:$P16),\"-\")","v":"-"},{"$f":"IF(O16<>\" - \",Phi_i_NS_Tci_Pci_wi_kijm_TinC_PinPa_yi(Z$8,vantHoff_EOS!$N$19,vantHoff_EOS!$X$5:$X$14,vantHoff_EOS!$Y$5:$Y$14,vantHoff_EOS!$Z$5:$Z$14,vantHoff_EOS!$AE$5:$AN$14,'Reaction Progress'!$AB16-273.15,'Reaction Progress'!$AC16*1000000,'Reaction Progress'!$G16:$P16),\"-\")","v":"-"},{"$f":"IF(P16<>\" - \",Phi_i_NS_Tci_Pci_wi_kijm_TinC_PinPa_yi(AA$8,vantHoff_EOS!$N$19,vantHoff_EOS!$X$5:$X$14,vantHoff_EOS!$Y$5:$Y$14,vantHoff_EOS!$Z$5:$Z$14,vantHoff_EOS!$AE$5:$AN$14,'Reaction Progress'!$AB16-273.15,'Reaction Progress'!$AC16*1000000,'Reaction Progress'!$G16:$P16),\"-\")","v":"-"},309.86957454951067,12.564906572786878,88.62421480698363,1.1283597853903914E-2,443.20132896925782]
[null,null,null,9,0.16,{"$f":"nT_NS_n0i_vi_X(vantHoff_EOS!$N$19,vantHoff_EOS!$O$31:$X$31,vantHoff_EOS!$O$23:$X$23,'Reaction Progress'!E17)","v":10.02},{"$f":"IF(G$8<=vantHoff_EOS!$N$19,nouti_i_n0i_vi_X(G$8,vantHoff_EOS!$O$31:$X$31,vantHoff_EOS!$O$23:$X$23,'Reaction Progress'!$E17)/'Reaction Progress'!$F17,\" - \")","v":8.3832335329341312E-2},{"$f":"IF(H$8<=vantHoff_EOS!$N$19,nouti_i_n0i_vi_X(H$8,vantHoff_EOS!$O$31:$X$31,vantHoff_EOS!$O$23:$X$23,'Reaction Progress'!$E17)/'Reaction Progress'!$F17,\" - \")","v":8.3832335329341312E-2},{"$f":"IF(I$8<=vantHoff_EOS!$N$19,nouti_i_n0i_vi_X(I$8,vantHoff_EOS!$O$31:$X$31,vantHoff_EOS!$O$23:$X$23,'Reaction Progress'!$E17)/'Reaction Progress'!$F17,\" - \")","v":8.3832335329341312E-2},{"$f":"IF(J$8<=vantHoff_EOS!$N$19,nouti_i_n0i_vi_X(J$8,vantHoff_EOS!$O$31:$X$31,vantHoff_EOS!$O$23:$X$23,'Reaction Progress'!$E17)/'Reaction Progress'!$F17,\" - \")","v":1.5968063872255491E-2},{"$f":"IF(K$8<=vantHoff_EOS!$N$19,nouti_i_n0i_vi_X(K$8,vantHoff_EOS!$O$31:$X$31,vantHoff_EOS!$O$23:$X$23,'Reaction Progress'!$E17)/'Reaction Progress'!$F17,\" - \")","v":0.7325349301397206},{"$f":"IF(L$8<=vantHoff_EOS!$N$19,nouti_i_n0i_vi_X(L$8,vantHoff_EOS!$O$31:$X$31,vantHoff_EOS!$O$23:$X$23,'Reaction Progress'!$E17)/'Reaction Progress'!$F17,\" - \")","v":" - "},{"$f":"IF(M$8<=vantHoff_EOS!$N$19,nouti_i_n0i_vi_X(M$8,vantHoff_EOS!$O$31:$X$31,vantHoff_EOS!$O$23:$X$23,'Reaction Progress'!$E17)/'Reaction Progress'!$F17,\" - \")","v":" - "},{"$f":"IF(N$8<=vantHoff_EOS!$N$19,nouti_i_n0i_vi_X(N$8,vantHoff_EOS!$O$31:$X$31,vantHoff_EOS!$O$23:$X$23,'Reaction Progress'!$E17)/'Reaction Progress'!$F17,\" - \")","v":" - "},{"$f":"IF(O$8<=vantHoff_EOS!$N$19,nouti_i_n0i_vi_X(O$8,vantHoff_EOS!$O$31:$X$31,vantHoff_EOS!$O$23:$X$23,'Reaction Progress'!$E17)/'Reaction Progress'!$F17,\" - \")","v":" - "},{"$f":"IF(P$8<=vantHoff_EOS!$N$19,nouti_i_n0i_vi_X(P$8,vantHoff_EOS!$O$31:$X$31,vantHoff_EOS!$O$23:$X$23,'Reaction Progress'!$E17)/'Reaction Progress'!$F17,\" - \")","v":" - "},1,{"$f":"IF(G17<>\" - \",Phi_i_NS_Tci_Pci_wi_kijm_TinC_PinPa_yi(R$8,vantHoff_EOS!$N$19,vantHoff_EOS!$X$5:$X$14,vantHoff_EOS!$Y$5:$Y$14,vantHoff_EOS!$Z$5:$Z$14,vantHoff_EOS!$AE$5:$AN$14,'Reaction Progress'!$AB17-273.15,'Reaction Progress'!$AC17*1000000,'Reaction Progress'!$G17:$P17),\"-\")","v":1.7925380044594843},{"$f":"IF(H17<>\" - \",Phi_i_NS_Tci_Pci_wi_kijm_TinC_PinPa_yi(S$8,vantHoff_EOS!$N$19,vantHoff_EOS!$X$5:$X$14,vantHoff_EOS!$Y$5:$Y$14,vantHoff_EOS!$Z$5:$Z$14,vantHoff_EOS!$AE$5:$AN$14,'Reaction Progress'!$AB17-273.15,'Reaction Progress'!$AC17*1000000,'Reaction Progress'!$G17:$P17),\"-\")","v":2.6714410204873},{"$f":"IF(I17<>\" - \",Phi_i_NS_Tci_Pci_wi_kijm_TinC_PinPa_yi(T$8,vantHoff_EOS!$N$19,vantHoff_EOS!$X$5:$X$14,vantHoff_EOS!$Y$5:$Y$14,vantHoff_EOS!$Z$5:$Z$14,vantHoff_EOS!$AE$5:$AN$14,'Reaction Progress'!$AB17-273.15,'Reaction Progress'!$AC17*1000000,'Reaction Progress'!$G17:$P17),\"-\")","v":0.18447052260841518},{"$f":"IF(J17<>\" - \",Phi_i_NS_Tci_Pci_wi_kijm_TinC_PinPa_yi(U$8,vantHoff_EOS!$N$19,vantHoff_EOS!$X$5:$X$14,vantHoff_EOS!$Y$5:$Y$14,vantHoff_EOS!$Z$5:$Z$14,vantHoff_EOS!$AE$5:$AN$14,'Reaction Progress'!$AB17-273.15,'Reaction Progress'!$AC17*1000000,'Reaction Progress'!$G17:$P17),\"-\")","v":1.6453880284980998E-2},{"$f":"IF(K17<>\" - \",Phi_i_NS_Tci_Pci_wi_kijm_TinC_PinPa_yi(V$8,vantHoff_EOS!$N$19,vantHoff_EOS!$X$5:$X$14,vantHoff_EOS!$Y$5:$Y$14,vantHoff_EOS!$Z$5:$Z$14,vantHoff_EOS!$AE$5:$AN$14,'Reaction Progress'!$AB17-273.15,'Reaction Progress'!$AC17*1000000,'Reaction Progress'!$G17:$P17),\"-\")","v":0.48233026660993483},{"$f":"IF(L17<>\" - \",Phi_i_NS_Tci_Pci_wi_kijm_TinC_PinPa_yi(W$8,vantHoff_EOS!$N$19,vantHoff_EOS!$X$5:$X$14,vantHoff_EOS!$Y$5:$Y$14,vantHoff_EOS!$Z$5:$Z$14,vantHoff_EOS!$AE$5:$AN$14,'Reaction Progress'!$AB17-273.15,'Reaction Progress'!$AC17*1000000,'Reaction Progress'!$G17:$P17),\"-\")","v":"-"},{"$f":"IF(M17<>\" - \",Phi_i_NS_Tci_Pci_wi_kijm_TinC_PinPa_yi(X$8,vantHoff_EOS!$N$19,vantHoff_EOS!$X$5:$X$14,vantHoff_EOS!$Y$5:$Y$14,vantHoff_EOS!$Z$5:$Z$14,vantHoff_EOS!$AE$5:$AN$14,'Reaction Progress'!$AB17-273.15,'Reaction Progress'!$AC17*1000000,'Reaction Progress'!$G17:$P17),\"-\")","v":"-"},{"$f":"IF(N17<>\" - \",Phi_i_NS_Tci_Pci_wi_kijm_TinC_PinPa_yi(Y$8,vantHoff_EOS!$N$19,vantHoff_EOS!$X$5:$X$14,vantHoff_EOS!$Y$5:$Y$14,vantHoff_EOS!$Z$5:$Z$14,vantHoff_EOS!$AE$5:$AN$14,'Reaction Progress'!$AB17-273.15,'Reaction Progress'!$AC17*1000000,'Reaction Progress'!$G17:$P17),\"-\")","v":"-"},{"$f":"IF(O17<>\" - \",Phi_i_NS_Tci_Pci_wi_kijm_TinC_PinPa_yi(Z$8,vantHoff_EOS!$N$19,vantHoff_EOS!$X$5:$X$14,vantHoff_EOS!$Y$5:$Y$14,vantHoff_EOS!$Z$5:$Z$14,vantHoff_EOS!$AE$5:$AN$14,'Reaction Progress'!$AB17-273.15,'Reaction Progress'!$AC17*1000000,'Reaction Progress'!$G17:$P17),\"-\")","v":"-"},{"$f":"IF(P17<>\" - \",Phi_i_NS_Tci_Pci_wi_kijm_TinC_PinPa_yi(AA$8,vantHoff_EOS!$N$19,vantHoff_EOS!$X$5:$X$14,vantHoff_EOS!$Y$5:$Y$14,vantHoff_EOS!$Z$5:$Z$14,vantHoff_EOS!$AE$5:$AN$14,'Reaction Progress'!$AB17-273.15,'Reaction Progress'!$AC17*1000000,'Reaction Progress'!$G17:$P17),\"-\")","v":"-"},311.10103937321486,12.657351543990814,88.278189986433674,1.1327826274572201E-2,446.71475102444799]
[null,null,null,10,0.18,{"$f":"nT_NS_n0i_vi_X(vantHoff_EOS!$N$19,vantHoff_EOS!$O$31:$X$31,vantHoff_EOS!$O$23:$X$23,'Reaction Progress'!E18)","v":9.98},{"$f":"IF(G$8<=vantHoff_EOS!$N$19,nouti_i_n0i_vi_X(G$8,vantHoff_EOS!$O$31:$X$31,vantHoff_EOS!$O$23:$X$23,'Reaction Progress'!$E18)/'Reaction Progress'!$F18,\" - \")","v":8.2164328657314628E-2},{"$f":"IF(H$8<=vantHoff_EOS!$N$19,nouti_i_n0i_vi_X(H$8,vantHoff_EOS!$O$31:$X$31,vantHoff_EOS!$O$23:$X$23,'Reaction Progress'!$E18)/'Reaction Progress'!$F18,\" - \")","v":8.2164328657314628E-2},{"$f":"IF(I$8<=vantHoff_EOS!$N$19,nouti_i_n0i_vi_X(I$8,vantHoff_EOS!$O$31:$X$31,vantHoff_EOS!$O$23:$X$23,'Reaction Progress'!$E18)/'Reaction Progress'!$F18,\" - \")","v":8.2164328657314628E-2},{"$f":"IF(J$8<=vantHoff_EOS!$N$19,nouti_i_n0i_vi_X(J$8,vantHoff_EOS!$O$31:$X$31,vantHoff_EOS!$O$23:$X$23,'Reaction Progress'!$E18)/'Reaction Progress'!$F18,\" - \")","v":1.8036072144288574E-2},{"$f":"IF(K$8<=vantHoff_EOS!$N$19,nouti_i_n0i_vi_X(K$8,vantHoff_EOS!$O$31:$X$31,vantHoff_EOS!$O$23:$X$23,'Reaction Progress'!$E18)/'Reaction Progress'!$F18,\" - \")","v":0.73547094188376749},{"$f":"IF(L$8<=vantHoff_EOS!$N$19,nouti_i_n0i_vi_X(L$8,vantHoff_EOS!$O$31:$X$31,vantHoff_EOS!$O$23:$X$23,'Reaction Progress'!$E18)/'Reaction Progress'!$F18,\" - \")","v":" - "},{"$f":"IF(M$8<=vantHoff_EOS!$N$19,nouti_i_n0i_vi_X(M$8,vantHoff_EOS!$O$31:$X$31,vantHoff_EOS!$O$23:$X$23,'Reaction Progress'!$E18)/'Reaction Progress'!$F18,\" - \")","v":" - "},{"$f":"IF(N$8<=vantHoff_EOS!$N$19,nouti_i_n0i_vi_X(N$8,vantHoff_EOS!$O$31:$X$31,vantHoff_EOS!$O$23:$X$23,'Reaction Progress'!$E18)/'Reaction Progress'!$F18,\" - \")","v":" - "},{"$f":"IF(O$8<=vantHoff_EOS!$N$19,nouti_i_n0i_vi_X(O$8,vantHoff_EOS!$O$31:$X$31,vantHoff_EOS!$O$23:$X$23,'Reaction Progress'!$E18)/'Reaction Progress'!$F18,\" - \")","v":" - "},{"$f":"IF(P$8<=vantHoff_EOS!$N$19,nouti_i_n0i_vi_X(P$8,vantHoff_EOS!$O$31:$X$31,vantHoff_EOS!$O$23:$X$23,'Reaction Progress'!$E18)/'Reaction Progress'!$F18,\" - \")","v":" - "},1,{"$f":"IF(G18<>\" - \",Phi_i_NS_Tci_Pci_wi_kijm_TinC_PinPa_yi(R$8,vantHoff_EOS!$N$19,vantHoff_EOS!$X$5:$X$14,vantHoff_EOS!$Y$5:$Y$14,vantHoff_EOS!$Z$5:$Z$14,vantHoff_EOS!$AE$5:$AN$14,'Reaction Progress'!$AB18-273.15,'Reaction Progress'!$AC18*1000000,'Reaction Progress'!$G18:$P18),\"-\")","v":1.8062313600039965},{"$f":"IF(H18<>\" - \",Phi_i_NS_Tci_Pci_wi_kijm_TinC_PinPa_yi(S$8,vantHoff_EOS!$N$19,vantHoff_EOS!$X$5:$X$14,vantHoff_EOS!$Y$5:$Y$14,vantHoff_EOS!$Z$5:$Z$14,vantHoff_EOS!$AE$5:$AN$14,'Reaction Progress'!$AB18-273.15,'Reaction Progress'!$AC18*1000000,'Reaction Progress'!$G18:$P18),\"-\")","v":2.6852142012263909},{"$f":"IF(I18<>\" - \",Phi_i_NS_Tci_Pci_wi_kijm_TinC_PinPa_yi(T$8,vantHoff_EOS!$N$19,vantHoff_EOS!$X$5:$X$14,vantHoff_EOS!$Y$5:$Y$14,vantHoff_EOS!$Z$5:$Z$14,vantHoff_EOS!$AE$5:$AN$14,'Reaction Progress'!$AB18-273.15,'Reaction Progress'!$AC18*1000000,'Reaction Progress'!$G18:$P18),\"-\")","v":0.1859872663839672},{"$f":"IF(J18<>\" - \",Phi_i_NS_Tci_Pci_wi_kijm_TinC_PinPa_yi(U$8,vantHoff_EOS!$N$19,vantHoff_EOS!$X$5:$X$14,vantHoff_EOS!$Y$5:$Y$14,vantHoff_EOS!$Z$5:$Z$14,vantHoff_EOS!$AE$5:$AN$14,'Reaction Progress'!$AB18-273.15,'Reaction Progress'!$AC18*1000000,'Reaction Progress'!$G18:$P18),\"-\")","v":1.664120023112986E-2},{"$f":"IF(K18<>\" - \",Phi_i_NS_Tci_Pci_wi_kijm_TinC_PinPa_yi(V$8,vantHoff_EOS!$N$19,vantHoff_EOS!$X$5:$X$14,vantHoff_EOS!$Y$5:$Y$14,vantHoff_EOS!$Z$5:$Z$14,vantHoff_EOS!$AE$5:$AN$14,'Reaction Progress'!$AB18-273.15,'Reaction Progress'!$AC18*1000000,'Reaction Progress'!$G18:$P18),\"-\")","v":0.48561107291165856},{"$f":"IF(L18<>\" - \",Phi_i_NS_Tci_Pci_wi_kijm_TinC_PinPa_yi(W$8,vantHoff_EOS!$N$19,vantHoff_EOS!$X$5:$X$14,vantHoff_EOS!$Y$5:$Y$14,vantHoff_EOS!$Z$5:$Z$14,vantHoff_EOS!$AE$5:$AN$14,'Reaction Progress'!$AB18-273.15,'Reaction Progress'!$AC18*1000000,'Reaction Progress'!$G18:$P18),\"-\")","v":"-"},{"$f":"IF(M18<>\" - \",Phi_i_NS_Tci_Pci_wi_kijm_TinC_PinPa_yi(X$8,vantHoff_EOS!$N$19,vantHoff_EOS!$X$5:$X$14,vantHoff_EOS!$Y$5:$Y$14,vantHoff_EOS!$Z$5:$Z$14,vantHoff_EOS!$AE$5:$AN$14,'Reaction Progress'!$AB18-273.15,'Reaction Progress'!$AC18*1000000,'Reaction Progress'!$G18:$P18),\"-\")","v":"-"},{"$f":"IF(N18<>\" - \",Phi_i_NS_Tci_Pci_wi_kijm_TinC_PinPa_yi(Y$8,vantHoff_EOS!$N$19,vantHoff_EOS!$X$5:$X$14,vantHoff_EOS!$Y$5:$Y$14,vantHoff_EOS!$Z$5:$Z$14,vantHoff_EOS!$AE$5:$AN$14,'Reaction Progress'!$AB18-273.15,'Reaction Progress'!$AC18*1000000,'Reaction Progress'!$G18:$P18),\"-\")","v":"-"},{"$f":"IF(O18<>\" - \",Phi_i_NS_Tci_Pci_wi_kijm_TinC_PinPa_yi(Z$8,vantHoff_EOS!$N$19,vantHoff_EOS!$X$5:$X$14,vantHoff_EOS!$Y$5:$Y$14,vantHoff_EOS!$Z$5:$Z$14,vantHoff_EOS!$AE$5:$AN$14,'Reaction Progress'!$AB18-273.15,'Reaction Progress'!$AC18*1000000,'Reaction Progress'!$G18:$P18),\"-\")","v":"-"},{"$f":"IF(P18<>\" - \",Phi_i_NS_Tci_Pci_wi_kijm_TinC_PinPa_yi(AA$8,vantHoff_EOS!$N$19,vantHoff_EOS!$X$5:$X$14,vantHoff_EOS!$Y$5:$Y$14,vantHoff_EOS!$Z$5:$Z$14,vantHoff_EOS!$AE$5:$AN$14,'Reaction Progress'!$AB18-273.15,'Reaction Progress'!$AC18*1000000,'Reaction Progress'!$G18:$P18),\"-\")","v":"-"},312.3305135969099,12.742926531730664,87.989170119386031,1.1365035022414391E-2,449.97840528765835]
[null,null,null,11,0.19999999999999998,{"$f":"nT_NS_n0i_vi_X(vantHoff_EOS!$N$19,vantHoff_EOS!$O$31:$X$31,vantHoff_EOS!$O$23:$X$23,'Reaction Progress'!E19)","v":9.9400000000000013},{"$f":"IF(G$8<=vantHoff_EOS!$N$19,nouti_i_n0i_vi_X(G$8,vantHoff_EOS!$O$31:$X$31,vantHoff_EOS!$O$23:$X$23,'Reaction Progress'!$E19)/'Reaction Progress'!$F19,\" - \")","v":8.0482897384305835E-2},{"$f":"IF(H$8<=vantHoff_EOS!$N$19,nouti_i_n0i_vi_X(H$8,vantHoff_EOS!$O$31:$X$31,vantHoff_EOS!$O$23:$X$23,'Reaction Progress'!$E19)/'Reaction Progress'!$F19,\" - \")","v":8.0482897384305835E-2},{"$f":"IF(I$8<=vantHoff_EOS!$N$19,nouti_i_n0i_vi_X(I$8,vantHoff_EOS!$O$31:$X$31,vantHoff_EOS!$O$23:$X$23,'Reaction Progress'!$E19)/'Reaction Progress'!$F19,\" - \")","v":8.0482897384305835E-2},{"$f":"IF(J$8<=vantHoff_EOS!$N$19,nouti_i_n0i_vi_X(J$8,vantHoff_EOS!$O$31:$X$31,vantHoff_EOS!$O$23:$X$23,'Reaction Progress'!$E19)/'Reaction Progress'!$F19,\" - \")","v":2.0120724346076455E-2},{"$f":"IF(K$8<=vantHoff_EOS!$N$19,nouti_i_n0i_vi_X(K$8,vantHoff_EOS!$O$31:$X$31,vantHoff_EOS!$O$23:$X$23,'Reaction Progress'!$E19)/'Reaction Progress'!$F19,\" - \")","v":0.73843058350100588},{"$f":"IF(L$8<=vantHoff_EOS!$N$19,nouti_i_n0i_vi_X(L$8,vantHoff_EOS!$O$31:$X$31,vantHoff_EOS!$O$23:$X$23,'Reaction Progress'!$E19)/'Reaction Progress'!$F19,\" - \")","v":" - "},{"$f":"IF(M$8<=vantHoff_EOS!$N$19,nouti_i_n0i_vi_X(M$8,vantHoff_EOS!$O$31:$X$31,vantHoff_EOS!$O$23:$X$23,'Reaction Progress'!$E19)/'Reaction Progress'!$F19,\" - \")","v":" - "},{"$f":"IF(N$8<=vantHoff_EOS!$N$19,nouti_i_n0i_vi_X(N$8,vantHoff_EOS!$O$31:$X$31,vantHoff_EOS!$O$23:$X$23,'Reaction Progress'!$E19)/'Reaction Progress'!$F19,\" - \")","v":" - "},{"$f":"IF(O$8<=vantHoff_EOS!$N$19,nouti_i_n0i_vi_X(O$8,vantHoff_EOS!$O$31:$X$31,vantHoff_EOS!$O$23:$X$23,'Reaction Progress'!$E19)/'Reaction Progress'!$F19,\" - \")","v":" - "},{"$f":"IF(P$8<=vantHoff_EOS!$N$19,nouti_i_n0i_vi_X(P$8,vantHoff_EOS!$O$31:$X$31,vantHoff_EOS!$O$23:$X$23,'Reaction Progress'!$E19)/'Reaction Progress'!$F19,\" - \")","v":" - "},0.99999999999999978,{"$f":"IF(G19<>\" - \",Phi_i_NS_Tci_Pci_wi_kijm_TinC_PinPa_yi(R$8,vantHoff_EOS!$N$19,vantHoff_EOS!$X$5:$X$14,vantHoff_EOS!$Y$5:$Y$14,vantHoff_EOS!$Z$5:$Z$14,vantHoff_EOS!$AE$5:$AN$14,'Reaction Progress'!$AB19-273.15,'Reaction Progress'!$AC19*1000000,'Reaction Progress'!$G19:$P19),\"-\")","v":1.8197495450826484},{"$f":"IF(H19<>\" - \",Phi_i_NS_Tci_Pci_wi_kijm_TinC_PinPa_yi(S$8,vantHoff_EOS!$N$19,vantHoff_EOS!$X$5:$X$14,vantHoff_EOS!$Y$5:$Y$14,vantHoff_EOS!$Z$5:$Z$14,vantHoff_EOS!$AE$5:$AN$14,'Reaction Progress'!$AB19-273.15,'Reaction Progress'!$AC19*1000000,'Reaction Progress'!$G19:$P19),\"-\")","v":2.698407849855319},{"$f":"IF(I19<>\" - \",Phi_i_NS_Tci_Pci_wi_kijm_TinC_PinPa_yi(T$8,vantHoff_EOS!$N$19,vantHoff_EOS!$X$5:$X$14,vantHoff_EOS!$Y$5:$Y$14,vantHoff_EOS!$Z$5:$Z$14,vantHoff_EOS!$AE$5:$AN$14,'Reaction Progress'!$AB19-273.15,'Reaction Progress'!$AC19*1000000,'Reaction Progress'!$G19:$P19),\"-\")","v":0.18762496433561765},{"$f":"IF(J19<>\" - \",Phi_i_NS_Tci_Pci_wi_kijm_TinC_PinPa_yi(U$8,vantHoff_EOS!$N$19,vantHoff_EOS!$X$5:$X$14,vantHoff_EOS!$Y$5:$Y$14,vantHoff_EOS!$Z$5:$Z$14,vantHoff_EOS!$AE$5:$AN$14,'Reaction Progress'!$AB19-273.15,'Reaction Progress'!$AC19*1000000,'Reaction Progress'!$G19:$P19),\"-\")","v":1.6852531994556431E-2},{"$f":"IF(K19<>\" - \",Phi_i_NS_Tci_Pci_wi_kijm_TinC_PinPa_yi(V$8,vantHoff_EOS!$N$19,vantHoff_EOS!$X$5:$X$14,vantHoff_EOS!$Y$5:$Y$14,vantHoff_EOS!$Z$5:$Z$14,vantHoff_EOS!$AE$5:$AN$14,'Reaction Progress'!$AB19-273.15,'Reaction Progress'!$AC19*1000000,'Reaction Progress'!$G19:$P19),\"-\")","v":0.48910033291827387},{"$f":"IF(L19<>\" - \",Phi_i_NS_Tci_Pci_wi_kijm_TinC_PinPa_yi(W$8,vantHoff_EOS!$N$19,vantHoff_EOS!$X$5:$X$14,vantHoff_EOS!$Y$5:$Y$14,vantHoff_EOS!$Z$5:$Z$14,vantHoff_EOS!$AE$5:$AN$14,'Reaction Progress'!$AB19-273.15,'Reaction Progress'!$AC19*1000000,'Reaction Progress'!$G19:$P19),\"-\")","v":"-"},{"$f":"IF(M19<>\" - \",Phi_i_NS_Tci_Pci_wi_kijm_TinC_PinPa_yi(X$8,vantHoff_EOS!$N$19,vantHoff_EOS!$X$5:$X$14,vantHoff_EOS!$Y$5:$Y$14,vantHoff_EOS!$Z$5:$Z$14,vantHoff_EOS!$AE$5:$AN$14,'Reaction Progress'!$AB19-273.15,'Reaction Progress'!$AC19*1000000,'Reaction Progress'!$G19:$P19),\"-\")","v":"-"},{"$f":"IF(N19<>\" - \",Phi_i_NS_Tci_Pci_wi_kijm_TinC_PinPa_yi(Y$8,vantHoff_EOS!$N$19,vantHoff_EOS!$X$5:$X$14,vantHoff_EOS!$Y$5:$Y$14,vantHoff_EOS!$Z$5:$Z$14,vantHoff_EOS!$AE$5:$AN$14,'Reaction Progress'!$AB19-273.15,'Reaction Progress'!$AC19*1000000,'Reaction Progress'!$G19:$P19),\"-\")","v":"-"},{"$f":"IF(O19<>\" - \",Phi_i_NS_Tci_Pci_wi_kijm_TinC_PinPa_yi(Z$8,vantHoff_EOS!$N$19,vantHoff_EOS!$X$5:$X$14,vantHoff_EOS!$Y$5:$Y$14,vantHoff_EOS!$Z$5:$Z$14,vantHoff_EOS!$AE$5:$AN$14,'Reaction Progress'!$AB19-273.15,'Reaction Progress'!$AC19*1000000,'Reaction Progress'!$G19:$P19),\"-\")","v":"-"},{"$f":"IF(P19<>\" - \",Phi_i_NS_Tci_Pci_wi_kijm_TinC_PinPa_yi(AA$8,vantHoff_EOS!$N$19,vantHoff_EOS!$X$5:$X$14,vantHoff_EOS!$Y$5:$Y$14,vantHoff_EOS!$Z$5:$Z$14,vantHoff_EOS!$AE$5:$AN$14,'Reaction Progress'!$AB19-273.15,'Reaction Progress'!$AC19*1000000,'Reaction Progress'!$G19:$P19),\"-\")","v":"-"},313.55229445544268,12.820444624877801,87.753002729718617,1.1395621447621847E-2,453.00507213902165]
[null,null,null,12,0.21999999999999997,{"$f":"nT_NS_n0i_vi_X(vantHoff_EOS!$N$19,vantHoff_EOS!$O$31:$X$31,vantHoff_EOS!$O$23:$X$23,'Reaction Progress'!E20)","v":9.8999999999999986},{"$f":"IF(G$8<=vantHoff_EOS!$N$19,nouti_i_n0i_vi_X(G$8,vantHoff_EOS!$O$31:$X$31,vantHoff_EOS!$O$23:$X$23,'Reaction Progress'!$E20)/'Reaction Progress'!$F20,\" - \")","v":7.8787878787878796E-2},{"$f":"IF(H$8<=vantHoff_EOS!$N$19,nouti_i_n0i_vi_X(H$8,vantHoff_EOS!$O$31:$X$31,vantHoff_EOS!$O$23:$X$23,'Reaction Progress'!$E20)/'Reaction Progress'!$F20,\" - \")","v":7.8787878787878796E-2},{"$f":"IF(I$8<=vantHoff_EOS!$N$19,nouti_i_n0i_vi_X(I$8,vantHoff_EOS!$O$31:$X$31,vantHoff_EOS!$O$23:$X$23,'Reaction Progress'!$E20)/'Reaction Progress'!$F20,\" - \")","v":7.8787878787878796E-2},{"$f":"IF(J$8<=vantHoff_EOS!$N$19,nouti_i_n0i_vi_X(J$8,vantHoff_EOS!$O$31:$X$31,vantHoff_EOS!$O$23:$X$23,'Reaction Progress'!$E20)/'Reaction Progress'!$F20,\" - \")","v":2.2222222222222223E-2},{"$f":"IF(K$8<=vantHoff_EOS!$N$19,nouti_i_n0i_vi_X(K$8,vantHoff_EOS!$O$31:$X$31,vantHoff_EOS!$O$23:$X$23,'Reaction Progress'!$E20)/'Reaction Progress'!$F20,\" - \")","v":0.74141414141414153},{"$f":"IF(L$8<=vantHoff_EOS!$N$19,nouti_i_n0i_vi_X(L$8,vantHoff_EOS!$O$31:$X$31,vantHoff_EOS!$O$23:$X$23,'Reaction Progress'!$E20)/'Reaction Progress'!$F20,\" - \")","v":" - "},{"$f":"IF(M$8<=vantHoff_EOS!$N$19,nouti_i_n0i_vi_X(M$8,vantHoff_EOS!$O$31:$X$31,vantHoff_EOS!$O$23:$X$23,'Reaction Progress'!$E20)/'Reaction Progress'!$F20,\" - \")","v":" - "},{"$f":"IF(N$8<=vantHoff_EOS!$N$19,nouti_i_n0i_vi_X(N$8,vantHoff_EOS!$O$31:$X$31,vantHoff_EOS!$O$23:$X$23,'Reaction Progress'!$E20)/'Reaction Progress'!$F20,\" - \")","v":" - "},{"$f":"IF(O$8<=vantHoff_EOS!$N$19,nouti_i_n0i_vi_X(O$8,vantHoff_EOS!$O$31:$X$31,vantHoff_EOS!$O$23:$X$23,'Reaction Progress'!$E20)/'Reaction Progress'!$F20,\" - \")","v":" - "},{"$f":"IF(P$8<=vantHoff_EOS!$N$19,nouti_i_n0i_vi_X(P$8,vantHoff_EOS!$O$31:$X$31,vantHoff_EOS!$O$23:$X$23,'Reaction Progress'!$E20)/'Reaction Progress'!$F20,\" - \")","v":" - "},1,{"$f":"IF(G20<>\" - \",Phi_i_NS_Tci_Pci_wi_kijm_TinC_PinPa_yi(R$8,vantHoff_EOS!$N$19,vantHoff_EOS!$X$5:$X$14,vantHoff_EOS!$Y$5:$Y$14,vantHoff_EOS!$Z$5:$Z$14,vantHoff_EOS!$AE$5:$AN$14,'Reaction Progress'!$AB20-273.15,'Reaction Progress'!$AC20*1000000,'Reaction Progress'!$G20:$P20),\"-\")","v":1.8330676551665379},{"$f":"IF(H20<>\" - \",Phi_i_NS_Tci_Pci_wi_kijm_TinC_PinPa_yi(S$8,vantHoff_EOS!$N$19,vantHoff_EOS!$X$5:$X$14,vantHoff_EOS!$Y$5:$Y$14,vantHoff_EOS!$Z$5:$Z$14,vantHoff_EOS!$AE$5:$AN$14,'Reaction Progress'!$AB20-273.15,'Reaction Progress'!$AC20*1000000,'Reaction Progress'!$G20:$P20),\"-\")","v":2.7109709069327952},{"$f":"IF(I20<>\" - \",Phi_i_NS_Tci_Pci_wi_kijm_TinC_PinPa_yi(T$8,vantHoff_EOS!$N$19,vantHoff_EOS!$X$5:$X$14,vantHoff_EOS!$Y$5:$Y$14,vantHoff_EOS!$Z$5:$Z$14,vantHoff_EOS!$AE$5:$AN$14,'Reaction Progress'!$AB20-273.15,'Reaction Progress'!$AC20*1000000,'Reaction Progress'!$G20:$P20),\"-\")","v":0.18938297332587034},{"$f":"IF(J20<>\" - \",Phi_i_NS_Tci_Pci_wi_kijm_TinC_PinPa_yi(U$8,vantHoff_EOS!$N$19,vantHoff_EOS!$X$5:$X$14,vantHoff_EOS!$Y$5:$Y$14,vantHoff_EOS!$Z$5:$Z$14,vantHoff_EOS!$AE$5:$AN$14,'Reaction Progress'!$AB20-273.15,'Reaction Progress'!$AC20*1000000,'Reaction Progress'!$G20:$P20),\"-\")","v":1.7088375611676844E-2},{"$f":"IF(K20<>\" - \",Phi_i_NS_Tci_Pci_wi_kijm_TinC_PinPa_yi(V$8,vantHoff_EOS!$N$19,vantHoff_EOS!$X$5:$X$14,vantHoff_EOS!$Y$5:$Y$14,vantHoff_EOS!$Z$5:$Z$14,vantHoff_EOS!$AE$5:$AN$14,'Reaction Progress'!$AB20-273.15,'Reaction Progress'!$AC20*1000000,'Reaction Progress'!$G20:$P20),\"-\")","v":0.49279168847396693},{"$f":"IF(L20<>\" - \",Phi_i_NS_Tci_Pci_wi_kijm_TinC_PinPa_yi(W$8,vantHoff_EOS!$N$19,vantHoff_EOS!$X$5:$X$14,vantHoff_EOS!$Y$5:$Y$14,vantHoff_EOS!$Z$5:$Z$14,vantHoff_EOS!$AE$5:$AN$14,'Reaction Progress'!$AB20-273.15,'Reaction Progress'!$AC20*1000000,'Reaction Progress'!$G20:$P20),\"-\")","v":"-"},{"$f":"IF(M20<>\" - \",Phi_i_NS_Tci_Pci_wi_kijm_TinC_PinPa_yi(X$8,vantHoff_EOS!$N$19,vantHoff_EOS!$X$5:$X$14,vantHoff_EOS!$Y$5:$Y$14,vantHoff_EOS!$Z$5:$Z$14,vantHoff_EOS!$AE$5:$AN$14,'Reaction Progress'!$AB20-273.15,'Reaction Progress'!$AC20*1000000,'Reaction Progress'!$G20:$P20),\"-\")","v":"-"},{"$f":"IF(N20<>\" - \",Phi_i_NS_Tci_Pci_wi_kijm_TinC_PinPa_yi(Y$8,vantHoff_EOS!$N$19,vantHoff_EOS!$X$5:$X$14,vantHoff_EOS!$Y$5:$Y$14,vantHoff_EOS!$Z$5:$Z$14,vantHoff_EOS!$AE$5:$AN$14,'Reaction Progress'!$AB20-273.15,'Reaction Progress'!$AC20*1000000,'Reaction Progress'!$G20:$P20),\"-\")","v":"-"},{"$f":"IF(O20<>\" - \",Phi_i_NS_Tci_Pci_wi_kijm_TinC_PinPa_yi(Z$8,vantHoff_EOS!$N$19,vantHoff_EOS!$X$5:$X$14,vantHoff_EOS!$Y$5:$Y$14,vantHoff_EOS!$Z$5:$Z$14,vantHoff_EOS!$AE$5:$AN$14,'Reaction Progress'!$AB20-273.15,'Reaction Progress'!$AC20*1000000,'Reaction Progress'!$G20:$P20),\"-\")","v":"-"},{"$f":"IF(P20<>\" - \",Phi_i_NS_Tci_Pci_wi_kijm_TinC_PinPa_yi(AA$8,vantHoff_EOS!$N$19,vantHoff_EOS!$X$5:$X$14,vantHoff_EOS!$Y$5:$Y$14,vantHoff_EOS!$Z$5:$Z$14,vantHoff_EOS!$AE$5:$AN$14,'Reaction Progress'!$AB20-273.15,'Reaction Progress'!$AC20*1000000,'Reaction Progress'!$G20:$P20),\"-\")","v":"-"},314.77073406446493,12.890837750594248,87.565951234025619,1.141996387759708E-2,455.80697925043046]
[null,null,null,13,0.23999999999999996,{"$f":"nT_NS_n0i_vi_X(vantHoff_EOS!$N$19,vantHoff_EOS!$O$31:$X$31,vantHoff_EOS!$O$23:$X$23,'Reaction Progress'!E21)","v":9.86},{"$f":"IF(G$8<=vantHoff_EOS!$N$19,nouti_i_n0i_vi_X(G$8,vantHoff_EOS!$O$31:$X$31,vantHoff_EOS!$O$23:$X$23,'Reaction Progress'!$E21)/'Reaction Progress'!$F21,\" - \")","v":7.7079107505070993E-2},{"$f":"IF(H$8<=vantHoff_EOS!$N$19,nouti_i_n0i_vi_X(H$8,vantHoff_EOS!$O$31:$X$31,vantHoff_EOS!$O$23:$X$23,'Reaction Progress'!$E21)/'Reaction Progress'!$F21,\" - \")","v":7.7079107505070993E-2},{"$f":"IF(I$8<=vantHoff_EOS!$N$19,nouti_i_n0i_vi_X(I$8,vantHoff_EOS!$O$31:$X$31,vantHoff_EOS!$O$23:$X$23,'Reaction Progress'!$E21)/'Reaction Progress'!$F21,\" - \")","v":7.7079107505070993E-2},{"$f":"IF(J$8<=vantHoff_EOS!$N$19,nouti_i_n0i_vi_X(J$8,vantHoff_EOS!$O$31:$X$31,vantHoff_EOS!$O$23:$X$23,'Reaction Progress'!$E21)/'Reaction Progress'!$F21,\" - \")","v":2.4340770791075047E-2},{"$f":"IF(K$8<=vantHoff_EOS!$N$19,nouti_i_n0i_vi_X(K$8,vantHoff_EOS!$O$31:$X$31,vantHoff_EOS!$O$23:$X$23,'Reaction Progress'!$E21)/'Reaction Progress'!$F21,\" - \")","v":0.744421906693712},{"$f":"IF(L$8<=vantHoff_EOS!$N$19,nouti_i_n0i_vi_X(L$8,vantHoff_EOS!$O$31:$X$31,vantHoff_EOS!$O$23:$X$23,'Reaction Progress'!$E21)/'Reaction Progress'!$F21,\" - \")","v":" - "},{"$f":"IF(M$8<=vantHoff_EOS!$N$19,nouti_i_n0i_vi_X(M$8,vantHoff_EOS!$O$31:$X$31,vantHoff_EOS!$O$23:$X$23,'Reaction Progress'!$E21)/'Reaction Progress'!$F21,\" - \")","v":" - "},{"$f":"IF(N$8<=vantHoff_EOS!$N$19,nouti_i_n0i_vi_X(N$8,vantHoff_EOS!$O$31:$X$31,vantHoff_EOS!$O$23:$X$23,'Reaction Progress'!$E21)/'Reaction Progress'!$F21,\" - \")","v":" - "},{"$f":"IF(O$8<=vantHoff_EOS!$N$19,nouti_i_n0i_vi_X(O$8,vantHoff_EOS!$O$31:$X$31,vantHoff_EOS!$O$23:$X$23,'Reaction Progress'!$E21)/'Reaction Progress'!$F21,\" - \")","v":" - "},{"$f":"IF(P$8<=vantHoff_EOS!$N$19,nouti_i_n0i_vi_X(P$8,vantHoff_EOS!$O$31:$X$31,vantHoff_EOS!$O$23:$X$23,'Reaction Progress'!$E21)/'Reaction Progress'!$F21,\" - \")","v":" - "},1,{"$f":"IF(G21<>\" - \",Phi_i_NS_Tci_Pci_wi_kijm_TinC_PinPa_yi(R$8,vantHoff_EOS!$N$19,vantHoff_EOS!$X$5:$X$14,vantHoff_EOS!$Y$5:$Y$14,vantHoff_EOS!$Z$5:$Z$14,vantHoff_EOS!$AE$5:$AN$14,'Reaction Progress'!$AB21-273.15,'Reaction Progress'!$AC21*1000000,'Reaction Progress'!$G21:$P21),\"-\")","v":1.8461938590600837},{"$f":"IF(H21<>\" - \",Phi_i_NS_Tci_Pci_wi_kijm_TinC_PinPa_yi(S$8,vantHoff_EOS!$N$19,vantHoff_EOS!$X$5:$X$14,vantHoff_EOS!$Y$5:$Y$14,vantHoff_EOS!$Z$5:$Z$14,vantHoff_EOS!$AE$5:$AN$14,'Reaction Progress'!$AB21-273.15,'Reaction Progress'!$AC21*1000000,'Reaction Progress'!$G21:$P21),\"-\")","v":2.7229317631409886},{"$f":"IF(I21<>\" - \",Phi_i_NS_Tci_Pci_wi_kijm_TinC_PinPa_yi(T$8,vantHoff_EOS!$N$19,vantHoff_EOS!$X$5:$X$14,vantHoff_EOS!$Y$5:$Y$14,vantHoff_EOS!$Z$5:$Z$14,vantHoff_EOS!$AE$5:$AN$14,'Reaction Progress'!$AB21-273.15,'Reaction Progress'!$AC21*1000000,'Reaction Progress'!$G21:$P21),\"-\")","v":0.19125778118852782},{"$f":"IF(J21<>\" - \",Phi_i_NS_Tci_Pci_wi_kijm_TinC_PinPa_yi(U$8,vantHoff_EOS!$N$19,vantHoff_EOS!$X$5:$X$14,vantHoff_EOS!$Y$5:$Y$14,vantHoff_EOS!$Z$5:$Z$14,vantHoff_EOS!$AE$5:$AN$14,'Reaction Progress'!$AB21-273.15,'Reaction Progress'!$AC21*1000000,'Reaction Progress'!$G21:$P21),\"-\")","v":1.7348333689082621E-2},{"$f":"IF(K21<>\" - \",Phi_i_NS_Tci_Pci_wi_kijm_TinC_PinPa_yi(V$8,vantHoff_EOS!$N$19,vantHoff_EOS!$X$5:$X$14,vantHoff_EOS!$Y$5:$Y$14,vantHoff_EOS!$Z$5:$Z$14,vantHoff_EOS!$AE$5:$AN$14,'Reaction Progress'!$AB21-273.15,'Reaction Progress'!$AC21*1000000,'Reaction Progress'!$G21:$P21),\"-\")","v":0.49667892551581672},{"$f":"IF(L21<>\" - \",Phi_i_NS_Tci_Pci_wi_kijm_TinC_PinPa_yi(W$8,vantHoff_EOS!$N$19,vantHoff_EOS!$X$5:$X$14,vantHoff_EOS!$Y$5:$Y$14,vantHoff_EOS!$Z$5:$Z$14,vantHoff_EOS!$AE$5:$AN$14,'Reaction Progress'!$AB21-273.15,'Reaction Progress'!$AC21*1000000,'Reaction Progress'!$G21:$P21),\"-\")","v":"-"},{"$f":"IF(M21<>\" - \",Phi_i_NS_Tci_Pci_wi_kijm_TinC_PinPa_yi(X$8,vantHoff_EOS!$N$19,vantHoff_EOS!$X$5:$X$14,vantHoff_EOS!$Y$5:$Y$14,vantHoff_EOS!$Z$5:$Z$14,vantHoff_EOS!$AE$5:$AN$14,'Reaction Progress'!$AB21-273.15,'Reaction Progress'!$AC21*1000000,'Reaction Progress'!$G21:$P21),\"-\")","v":"-"},{"$f":"IF(N21<>\" - \",Phi_i_NS_Tci_Pci_wi_kijm_TinC_PinPa_yi(Y$8,vantHoff_EOS!$N$19,vantHoff_EOS!$X$5:$X$14,vantHoff_EOS!$Y$5:$Y$14,vantHoff_EOS!$Z$5:$Z$14,vantHoff_EOS!$AE$5:$AN$14,'Reaction Progress'!$AB21-273.15,'Reaction Progress'!$AC21*1000000,'Reaction Progress'!$G21:$P21),\"-\")","v":"-"},{"$f":"IF(O21<>\" - \",Phi_i_NS_Tci_Pci_wi_kijm_TinC_PinPa_yi(Z$8,vantHoff_EOS!$N$19,vantHoff_EOS!$X$5:$X$14,vantHoff_EOS!$Y$5:$Y$14,vantHoff_EOS!$Z$5:$Z$14,vantHoff_EOS!$AE$5:$AN$14,'Reaction Progress'!$AB21-273.15,'Reaction Progress'!$AC21*1000000,'Reaction Progress'!$G21:$P21),\"-\")","v":"-"},{"$f":"IF(P21<>\" - \",Phi_i_NS_Tci_Pci_wi_kijm_TinC_PinPa_yi(AA$8,vantHoff_EOS!$N$19,vantHoff_EOS!$X$5:$X$14,vantHoff_EOS!$Y$5:$Y$14,vantHoff_EOS!$Z$5:$Z$14,vantHoff_EOS!$AE$5:$AN$14,'Reaction Progress'!$AB21-273.15,'Reaction Progress'!$AC21*1000000,'Reaction Progress'!$G21:$P21),\"-\")","v":"-"},315.98721968738164,12.954453112758031,87.424654447064583,1.1438420961737946E-2,458.39576411658385]
[null,null,null,14,0.25999999999999995,{"$f":"nT_NS_n0i_vi_X(vantHoff_EOS!$N$19,vantHoff_EOS!$O$31:$X$31,vantHoff_EOS!$O$23:$X$23,'Reaction Progress'!E22)","v":9.82},{"$f":"IF(G$8<=vantHoff_EOS!$N$19,nouti_i_n0i_vi_X(G$8,vantHoff_EOS!$O$31:$X$31,vantHoff_EOS!$O$23:$X$23,'Reaction Progress'!$E22)/'Reaction Progress'!$F22,\" - \")","v":7.5356415478615074E-2},{"$f":"IF(H$8<=vantHoff_EOS!$N$19,nouti_i_n0i_vi_X(H$8,vantHoff_EOS!$O$31:$X$31,vantHoff_EOS!$O$23:$X$23,'Reaction Progress'!$E22)/'Reaction Progress'!$F22,\" - \")","v":7.5356415478615074E-2},{"$f":"IF(I$8<=vantHoff_EOS!$N$19,nouti_i_n0i_vi_X(I$8,vantHoff_EOS!$O$31:$X$31,vantHoff_EOS!$O$23:$X$23,'Reaction Progress'!$E22)/'Reaction Progress'!$F22,\" - \")","v":7.5356415478615074E-2},{"$f":"IF(J$8<=vantHoff_EOS!$N$19,nouti_i_n0i_vi_X(J$8,vantHoff_EOS!$O$31:$X$31,vantHoff_EOS!$O$23:$X$23,'Reaction Progress'!$E22)/'Reaction Progress'!$F22,\" - \")","v":2.6476578411405289E-2},{"$f":"IF(K$8<=vantHoff_EOS!$N$19,nouti_i_n0i_vi_X(K$8,vantHoff_EOS!$O$31:$X$31,vantHoff_EOS!$O$23:$X$23,'Reaction Progress'!$E22)/'Reaction Progress'!$F22,\" - \")","v":0.74745417515274948},{"$f":"IF(L$8<=vantHoff_EOS!$N$19,nouti_i_n0i_vi_X(L$8,vantHoff_EOS!$O$31:$X$31,vantHoff_EOS!$O$23:$X$23,'Reaction Progress'!$E22)/'Reaction Progress'!$F22,\" - \")","v":" - "},{"$f":"IF(M$8<=vantHoff_EOS!$N$19,nouti_i_n0i_vi_X(M$8,vantHoff_EOS!$O$31:$X$31,vantHoff_EOS!$O$23:$X$23,'Reaction Progress'!$E22)/'Reaction Progress'!$F22,\" - \")","v":" - "},{"$f":"IF(N$8<=vantHoff_EOS!$N$19,nouti_i_n0i_vi_X(N$8,vantHoff_EOS!$O$31:$X$31,vantHoff_EOS!$O$23:$X$23,'Reaction Progress'!$E22)/'Reaction Progress'!$F22,\" - \")","v":" - "},{"$f":"IF(O$8<=vantHoff_EOS!$N$19,nouti_i_n0i_vi_X(O$8,vantHoff_EOS!$O$31:$X$31,vantHoff_EOS!$O$23:$X$23,'Reaction Progress'!$E22)/'Reaction Progress'!$F22,\" - \")","v":" - "},{"$f":"IF(P$8<=vantHoff_EOS!$N$19,nouti_i_n0i_vi_X(P$8,vantHoff_EOS!$O$31:$X$31,vantHoff_EOS!$O$23:$X$23,'Reaction Progress'!$E22)/'Reaction Progress'!$F22,\" - \")","v":" - "},1,{"$f":"IF(G22<>\" - \",Phi_i_NS_Tci_Pci_wi_kijm_TinC_PinPa_yi(R$8,vantHoff_EOS!$N$19,vantHoff_EOS!$X$5:$X$14,vantHoff_EOS!$Y$5:$Y$14,vantHoff_EOS!$Z$5:$Z$14,vantHoff_EOS!$AE$5:$AN$14,'Reaction Progress'!$AB22-273.15,'Reaction Progress'!$AC22*1000000,'Reaction Progress'!$G22:$P22),\"-\")","v":1.859136327616224},{"$f":"IF(H22<>\" - \",Phi_i_NS_Tci_Pci_wi_kijm_TinC_PinPa_yi(S$8,vantHoff_EOS!$N$19,vantHoff_EOS!$X$5:$X$14,vantHoff_EOS!$Y$5:$Y$14,vantHoff_EOS!$Z$5:$Z$14,vantHoff_EOS!$AE$5:$AN$14,'Reaction Progress'!$AB22-273.15,'Reaction Progress'!$AC22*1000000,'Reaction Progress'!$G22:$P22),\"-\")","v":2.7343190114965048},{"$f":"IF(I22<>\" - \",Phi_i_NS_Tci_Pci_wi_kijm_TinC_PinPa_yi(T$8,vantHoff_EOS!$N$19,vantHoff_EOS!$X$5:$X$14,vantHoff_EOS!$Y$5:$Y$14,vantHoff_EOS!$Z$5:$Z$14,vantHoff_EOS!$AE$5:$AN$14,'Reaction Progress'!$AB22-273.15,'Reaction Progress'!$AC22*1000000,'Reaction Progress'!$G22:$P22),\"-\")","v":0.19324609607150409},{"$f":"IF(J22<>\" - \",Phi_i_NS_Tci_Pci_wi_kijm_TinC_PinPa_yi(U$8,vantHoff_EOS!$N$19,vantHoff_EOS!$X$5:$X$14,vantHoff_EOS!$Y$5:$Y$14,vantHoff_EOS!$Z$5:$Z$14,vantHoff_EOS!$AE$5:$AN$14,'Reaction Progress'!$AB22-273.15,'Reaction Progress'!$AC22*1000000,'Reaction Progress'!$G22:$P22),\"-\")","v":1.7632082134552685E-2},{"$f":"IF(K22<>\" - \",Phi_i_NS_Tci_Pci_wi_kijm_TinC_PinPa_yi(V$8,vantHoff_EOS!$N$19,vantHoff_EOS!$X$5:$X$14,vantHoff_EOS!$Y$5:$Y$14,vantHoff_EOS!$Z$5:$Z$14,vantHoff_EOS!$AE$5:$AN$14,'Reaction Progress'!$AB22-273.15,'Reaction Progress'!$AC22*1000000,'Reaction Progress'!$G22:$P22),\"-\")","v":0.50075607734918082},{"$f":"IF(L22<>\" - \",Phi_i_NS_Tci_Pci_wi_kijm_TinC_PinPa_yi(W$8,vantHoff_EOS!$N$19,vantHoff_EOS!$X$5:$X$14,vantHoff_EOS!$Y$5:$Y$14,vantHoff_EOS!$Z$5:$Z$14,vantHoff_EOS!$AE$5:$AN$14,'Reaction Progress'!$AB22-273.15,'Reaction Progress'!$AC22*1000000,'Reaction Progress'!$G22:$P22),\"-\")","v":"-"},{"$f":"IF(M22<>\" - \",Phi_i_NS_Tci_Pci_wi_kijm_TinC_PinPa_yi(X$8,vantHoff_EOS!$N$19,vantHoff_EOS!$X$5:$X$14,vantHoff_EOS!$Y$5:$Y$14,vantHoff_EOS!$Z$5:$Z$14,vantHoff_EOS!$AE$5:$AN$14,'Reaction Progress'!$AB22-273.15,'Reaction Progress'!$AC22*1000000,'Reaction Progress'!$G22:$P22),\"-\")","v":"-"},{"$f":"IF(N22<>\" - \",Phi_i_NS_Tci_Pci_wi_kijm_TinC_PinPa_yi(Y$8,vantHoff_EOS!$N$19,vantHoff_EOS!$X$5:$X$14,vantHoff_EOS!$Y$5:$Y$14,vantHoff_EOS!$Z$5:$Z$14,vantHoff_EOS!$AE$5:$AN$14,'Reaction Progress'!$AB22-273.15,'Reaction Progress'!$AC22*1000000,'Reaction Progress'!$G22:$P22),\"-\")","v":"-"},{"$f":"IF(O22<>\" - \",Phi_i_NS_Tci_Pci_wi_kijm_TinC_PinPa_yi(Z$8,vantHoff_EOS!$N$19,vantHoff_EOS!$X$5:$X$14,vantHoff_EOS!$Y$5:$Y$14,vantHoff_EOS!$Z$5:$Z$14,vantHoff_EOS!$AE$5:$AN$14,'Reaction Progress'!$AB22-273.15,'Reaction Progress'!$AC22*1000000,'Reaction Progress'!$G22:$P22),\"-\")","v":"-"},{"$f":"IF(P22<>\" - \",Phi_i_NS_Tci_Pci_wi_kijm_TinC_PinPa_yi(AA$8,vantHoff_EOS!$N$19,vantHoff_EOS!$X$5:$X$14,vantHoff_EOS!$Y$5:$Y$14,vantHoff_EOS!$Z$5:$Z$14,vantHoff_EOS!$AE$5:$AN$14,'Reaction Progress'!$AB22-273.15,'Reaction Progress'!$AC22*1000000,'Reaction Progress'!$G22:$P22),\"-\")","v":"-"},317.20291171592743,13.011614131082879,87.326083501087936,1.1451332292802777E-2,460.78248703778064]
[null,null,null,15,0.27999999999999997,{"$f":"nT_NS_n0i_vi_X(vantHoff_EOS!$N$19,vantHoff_EOS!$O$31:$X$31,vantHoff_EOS!$O$23:$X$23,'Reaction Progress'!E23)","v":9.7799999999999994},{"$f":"IF(G$8<=vantHoff_EOS!$N$19,nouti_i_n0i_vi_X(G$8,vantHoff_EOS!$O$31:$X$31,vantHoff_EOS!$O$23:$X$23,'Reaction Progress'!$E23)/'Reaction Progress'!$F23,\" - \")","v":7.3619631901840496E-2},{"$f":"IF(H$8<=vantHoff_EOS!$N$19,nouti_i_n0i_vi_X(H$8,vantHoff_EOS!$O$31:$X$31,vantHoff_EOS!$O$23:$X$23,'Reaction Progress'!$E23)/'Reaction Progress'!$F23,\" - \")","v":7.3619631901840496E-2},{"$f":"IF(I$8<=vantHoff_EOS!$N$19,nouti_i_n0i_vi_X(I$8,vantHoff_EOS!$O$31:$X$31,vantHoff_EOS!$O$23:$X$23,'Reaction Progress'!$E23)/'Reaction Progress'!$F23,\" - \")","v":7.3619631901840496E-2},{"$f":"IF(J$8<=vantHoff_EOS!$N$19,nouti_i_n0i_vi_X(J$8,vantHoff_EOS!$O$31:$X$31,vantHoff_EOS!$O$23:$X$23,'Reaction Progress'!$E23)/'Reaction Progress'!$F23,\" - \")","v":2.8629856850715747E-2},{"$f":"IF(K$8<=vantHoff_EOS!$N$19,nouti_i_n0i_vi_X(K$8,vantHoff_EOS!$O$31:$X$31,vantHoff_EOS!$O$23:$X$23,'Reaction Progress'!$E23)/'Reaction Progress'!$F23,\" - \")","v":0.75051124744376285},{"$f":"IF(L$8<=vantHoff_EOS!$N$19,nouti_i_n0i_vi_X(L$8,vantHoff_EOS!$O$31:$X$31,vantHoff_EOS!$O$23:$X$23,'Reaction Progress'!$E23)/'Reaction Progress'!$F23,\" - \")","v":" - "},{"$f":"IF(M$8<=vantHoff_EOS!$N$19,nouti_i_n0i_vi_X(M$8,vantHoff_EOS!$O$31:$X$31,vantHoff_EOS!$O$23:$X$23,'Reaction Progress'!$E23)/'Reaction Progress'!$F23,\" - \")","v":" - "},{"$f":"IF(N$8<=vantHoff_EOS!$N$19,nouti_i_n0i_vi_X(N$8,vantHoff_EOS!$O$31:$X$31,vantHoff_EOS!$O$23:$X$23,'Reaction Progress'!$E23)/'Reaction Progress'!$F23,\" - \")","v":" - "},{"$f":"IF(O$8<=vantHoff_EOS!$N$19,nouti_i_n0i_vi_X(O$8,vantHoff_EOS!$O$31:$X$31,vantHoff_EOS!$O$23:$X$23,'Reaction Progress'!$E23)/'Reaction Progress'!$F23,\" - \")","v":" - "},{"$f":"IF(P$8<=vantHoff_EOS!$N$19,nouti_i_n0i_vi_X(P$8,vantHoff_EOS!$O$31:$X$31,vantHoff_EOS!$O$23:$X$23,'Reaction Progress'!$E23)/'Reaction Progress'!$F23,\" - \")","v":" - "},1,{"$f":"IF(G23<>\" - \",Phi_i_NS_Tci_Pci_wi_kijm_TinC_PinPa_yi(R$8,vantHoff_EOS!$N$19,vantHoff_EOS!$X$5:$X$14,vantHoff_EOS!$Y$5:$Y$14,vantHoff_EOS!$Z$5:$Z$14,vantHoff_EOS!$AE$5:$AN$14,'Reaction Progress'!$AB23-273.15,'Reaction Progress'!$AC23*1000000,'Reaction Progress'!$G23:$P23),\"-\")","v":1.8719032075050919},{"$f":"IF(H23<>\" - \",Phi_i_NS_Tci_Pci_wi_kijm_TinC_PinPa_yi(S$8,vantHoff_EOS!$N$19,vantHoff_EOS!$X$5:$X$14,vantHoff_EOS!$Y$5:$Y$14,vantHoff_EOS!$Z$5:$Z$14,vantHoff_EOS!$AE$5:$AN$14,'Reaction Progress'!$AB23-273.15,'Reaction Progress'!$AC23*1000000,'Reaction Progress'!$G23:$P23),\"-\")","v":2.7451612612844656},{"$f":"IF(I23<>\" - \",Phi_i_NS_Tci_Pci_wi_kijm_TinC_PinPa_yi(T$8,vantHoff_EOS!$N$19,vantHoff_EOS!$X$5:$X$14,vantHoff_EOS!$Y$5:$Y$14,vantHoff_EOS!$Z$5:$Z$14,vantHoff_EOS!$AE$5:$AN$14,'Reaction Progress'!$AB23-273.15,'Reaction Progress'!$AC23*1000000,'Reaction Progress'!$G23:$P23),\"-\")","v":0.19534483548979281},{"$f":"IF(J23<>\" - \",Phi_i_NS_Tci_Pci_wi_kijm_TinC_PinPa_yi(U$8,vantHoff_EOS!$N$19,vantHoff_EOS!$X$5:$X$14,vantHoff_EOS!$Y$5:$Y$14,vantHoff_EOS!$Z$5:$Z$14,vantHoff_EOS!$AE$5:$AN$14,'Reaction Progress'!$AB23-273.15,'Reaction Progress'!$AC23*1000000,'Reaction Progress'!$G23:$P23),\"-\")","v":1.7939363547866172E-2},{"$f":"IF(K23<>\" - \",Phi_i_NS_Tci_Pci_wi_kijm_TinC_PinPa_yi(V$8,vantHoff_EOS!$N$19,vantHoff_EOS!$X$5:$X$14,vantHoff_EOS!$Y$5:$Y$14,vantHoff_EOS!$Z$5:$Z$14,vantHoff_EOS!$AE$5:$AN$14,'Reaction Progress'!$AB23-273.15,'Reaction Progress'!$AC23*1000000,'Reaction Progress'!$G23:$P23),\"-\")","v":0.50501742949268524},{"$f":"IF(L23<>\" - \",Phi_i_NS_Tci_Pci_wi_kijm_TinC_PinPa_yi(W$8,vantHoff_EOS!$N$19,vantHoff_EOS!$X$5:$X$14,vantHoff_EOS!$Y$5:$Y$14,vantHoff_EOS!$Z$5:$Z$14,vantHoff_EOS!$AE$5:$AN$14,'Reaction Progress'!$AB23-273.15,'Reaction Progress'!$AC23*1000000,'Reaction Progress'!$G23:$P23),\"-\")","v":"-"},{"$f":"IF(M23<>\" - \",Phi_i_NS_Tci_Pci_wi_kijm_TinC_PinPa_yi(X$8,vantHoff_EOS!$N$19,vantHoff_EOS!$X$5:$X$14,vantHoff_EOS!$Y$5:$Y$14,vantHoff_EOS!$Z$5:$Z$14,vantHoff_EOS!$AE$5:$AN$14,'Reaction Progress'!$AB23-273.15,'Reaction Progress'!$AC23*1000000,'Reaction Progress'!$G23:$P23),\"-\")","v":"-"},{"$f":"IF(N23<>\" - \",Phi_i_NS_Tci_Pci_wi_kijm_TinC_PinPa_yi(Y$8,vantHoff_EOS!$N$19,vantHoff_EOS!$X$5:$X$14,vantHoff_EOS!$Y$5:$Y$14,vantHoff_EOS!$Z$5:$Z$14,vantHoff_EOS!$AE$5:$AN$14,'Reaction Progress'!$AB23-273.15,'Reaction Progress'!$AC23*1000000,'Reaction Progress'!$G23:$P23),\"-\")","v":"-"},{"$f":"IF(O23<>\" - \",Phi_i_NS_Tci_Pci_wi_kijm_TinC_PinPa_yi(Z$8,vantHoff_EOS!$N$19,vantHoff_EOS!$X$5:$X$14,vantHoff_EOS!$Y$5:$Y$14,vantHoff_EOS!$Z$5:$Z$14,vantHoff_EOS!$AE$5:$AN$14,'Reaction Progress'!$AB23-273.15,'Reaction Progress'!$AC23*1000000,'Reaction Progress'!$G23:$P23),\"-\")","v":"-"},{"$f":"IF(P23<>\" - \",Phi_i_NS_Tci_Pci_wi_kijm_TinC_PinPa_yi(AA$8,vantHoff_EOS!$N$19,vantHoff_EOS!$X$5:$X$14,vantHoff_EOS!$Y$5:$Y$14,vantHoff_EOS!$Z$5:$Z$14,vantHoff_EOS!$AE$5:$AN$14,'Reaction Progress'!$AB23-273.15,'Reaction Progress'!$AC23*1000000,'Reaction Progress'!$G23:$P23),\"-\")","v":"-"},318.41877444311336,13.062621977917772,87.267504649496573,1.1459019070344975E-2,462.97764612103703]
[null,null,null,16,0.3,{"$f":"nT_NS_n0i_vi_X(vantHoff_EOS!$N$19,vantHoff_EOS!$O$31:$X$31,vantHoff_EOS!$O$23:$X$23,'Reaction Progress'!E24)","v":9.7399999999999984},{"$f":"IF(G$8<=vantHoff_EOS!$N$19,nouti_i_n0i_vi_X(G$8,vantHoff_EOS!$O$31:$X$31,vantHoff_EOS!$O$23:$X$23,'Reaction Progress'!$E24)/'Reaction Progress'!$F24,\" - \")","v":7.186858316221767E-2},{"$f":"IF(H$8<=vantHoff_EOS!$N$19,nouti_i_n0i_vi_X(H$8,vantHoff_EOS!$O$31:$X$31,vantHoff_EOS!$O$23:$X$23,'Reaction Progress'!$E24)/'Reaction Progress'!$F24,\" - \")","v":7.186858316221767E-2},{"$f":"IF(I$8<=vantHoff_EOS!$N$19,nouti_i_n0i_vi_X(I$8,vantHoff_EOS!$O$31:$X$31,vantHoff_EOS!$O$23:$X$23,'Reaction Progress'!$E24)/'Reaction Progress'!$F24,\" - \")","v":7.186858316221767E-2},{"$f":"IF(J$8<=vantHoff_EOS!$N$19,nouti_i_n0i_vi_X(J$8,vantHoff_EOS!$O$31:$X$31,vantHoff_EOS!$O$23:$X$23,'Reaction Progress'!$E24)/'Reaction Progress'!$F24,\" - \")","v":3.0800821355236145E-2},{"$f":"IF(K$8<=vantHoff_EOS!$N$19,nouti_i_n0i_vi_X(K$8,vantHoff_EOS!$O$31:$X$31,vantHoff_EOS!$O$23:$X$23,'Reaction Progress'!$E24)/'Reaction Progress'!$F24,\" - \")","v":0.75359342915811101},{"$f":"IF(L$8<=vantHoff_EOS!$N$19,nouti_i_n0i_vi_X(L$8,vantHoff_EOS!$O$31:$X$31,vantHoff_EOS!$O$23:$X$23,'Reaction Progress'!$E24)/'Reaction Progress'!$F24,\" - \")","v":" - "},{"$f":"IF(M$8<=vantHoff_EOS!$N$19,nouti_i_n0i_vi_X(M$8,vantHoff_EOS!$O$31:$X$31,vantHoff_EOS!$O$23:$X$23,'Reaction Progress'!$E24)/'Reaction Progress'!$F24,\" - \")","v":" - "},{"$f":"IF(N$8<=vantHoff_EOS!$N$19,nouti_i_n0i_vi_X(N$8,vantHoff_EOS!$O$31:$X$31,vantHoff_EOS!$O$23:$X$23,'Reaction Progress'!$E24)/'Reaction Progress'!$F24,\" - \")","v":" - "},{"$f":"IF(O$8<=vantHoff_EOS!$N$19,nouti_i_n0i_vi_X(O$8,vantHoff_EOS!$O$31:$X$31,vantHoff_EOS!$O$23:$X$23,'Reaction Progress'!$E24)/'Reaction Progress'!$F24,\" - \")","v":" - "},{"$f":"IF(P$8<=vantHoff_EOS!$N$19,nouti_i_n0i_vi_X(P$8,vantHoff_EOS!$O$31:$X$31,vantHoff_EOS!$O$23:$X$23,'Reaction Progress'!$E24)/'Reaction Progress'!$F24,\" - \")","v":" - "},1.0000000000000002,{"$f":"IF(G24<>\" - \",Phi_i_NS_Tci_Pci_wi_kijm_TinC_PinPa_yi(R$8,vantHoff_EOS!$N$19,vantHoff_EOS!$X$5:$X$14,vantHoff_EOS!$Y$5:$Y$14,vantHoff_EOS!$Z$5:$Z$14,vantHoff_EOS!$AE$5:$AN$14,'Reaction Progress'!$AB24-273.15,'Reaction Progress'!$AC24*1000000,'Reaction Progress'!$G24:$P24),\"-\")","v":1.8845026010183199},{"$f":"IF(H24<>\" - \",Phi_i_NS_Tci_Pci_wi_kijm_TinC_PinPa_yi(S$8,vantHoff_EOS!$N$19,vantHoff_EOS!$X$5:$X$14,vantHoff_EOS!$Y$5:$Y$14,vantHoff_EOS!$Z$5:$Z$14,vantHoff_EOS!$AE$5:$AN$14,'Reaction Progress'!$AB24-273.15,'Reaction Progress'!$AC24*1000000,'Reaction Progress'!$G24:$P24),\"-\")","v":2.7554869814941125},{"$f":"IF(I24<>\" - \",Phi_i_NS_Tci_Pci_wi_kijm_TinC_PinPa_yi(T$8,vantHoff_EOS!$N$19,vantHoff_EOS!$X$5:$X$14,vantHoff_EOS!$Y$5:$Y$14,vantHoff_EOS!$Z$5:$Z$14,vantHoff_EOS!$AE$5:$AN$14,'Reaction Progress'!$AB24-273.15,'Reaction Progress'!$AC24*1000000,'Reaction Progress'!$G24:$P24),\"-\")","v":0.19755111532252481},{"$f":"IF(J24<>\" - \",Phi_i_NS_Tci_Pci_wi_kijm_TinC_PinPa_yi(U$8,vantHoff_EOS!$N$19,vantHoff_EOS!$X$5:$X$14,vantHoff_EOS!$Y$5:$Y$14,vantHoff_EOS!$Z$5:$Z$14,vantHoff_EOS!$AE$5:$AN$14,'Reaction Progress'!$AB24-273.15,'Reaction Progress'!$AC24*1000000,'Reaction Progress'!$G24:$P24),\"-\")","v":1.8269981183318833E-2},{"$f":"IF(K24<>\" - \",Phi_i_NS_Tci_Pci_wi_kijm_TinC_PinPa_yi(V$8,vantHoff_EOS!$N$19,vantHoff_EOS!$X$5:$X$14,vantHoff_EOS!$Y$5:$Y$14,vantHoff_EOS!$Z$5:$Z$14,vantHoff_EOS!$AE$5:$AN$14,'Reaction Progress'!$AB24-273.15,'Reaction Progress'!$AC24*1000000,'Reaction Progress'!$G24:$P24),\"-\")","v":0.50945752153152368},{"$f":"IF(L24<>\" - \",Phi_i_NS_Tci_Pci_wi_kijm_TinC_PinPa_yi(W$8,vantHoff_EOS!$N$19,vantHoff_EOS!$X$5:$X$14,vantHoff_EOS!$Y$5:$Y$14,vantHoff_EOS!$Z$5:$Z$14,vantHoff_EOS!$AE$5:$AN$14,'Reaction Progress'!$AB24-273.15,'Reaction Progress'!$AC24*1000000,'Reaction Progress'!$G24:$P24),\"-\")","v":"-"},{"$f":"IF(M24<>\" - \",Phi_i_NS_Tci_Pci_wi_kijm_TinC_PinPa_yi(X$8,vantHoff_EOS!$N$19,vantHoff_EOS!$X$5:$X$14,vantHoff_EOS!$Y$5:$Y$14,vantHoff_EOS!$Z$5:$Z$14,vantHoff_EOS!$AE$5:$AN$14,'Reaction Progress'!$AB24-273.15,'Reaction Progress'!$AC24*1000000,'Reaction Progress'!$G24:$P24),\"-\")","v":"-"},{"$f":"IF(N24<>\" - \",Phi_i_NS_Tci_Pci_wi_kijm_TinC_PinPa_yi(Y$8,vantHoff_EOS!$N$19,vantHoff_EOS!$X$5:$X$14,vantHoff_EOS!$Y$5:$Y$14,vantHoff_EOS!$Z$5:$Z$14,vantHoff_EOS!$AE$5:$AN$14,'Reaction Progress'!$AB24-273.15,'Reaction Progress'!$AC24*1000000,'Reaction Progress'!$G24:$P24),\"-\")","v":"-"},{"$f":"IF(O24<>\" - \",Phi_i_NS_Tci_Pci_wi_kijm_TinC_PinPa_yi(Z$8,vantHoff_EOS!$N$19,vantHoff_EOS!$X$5:$X$14,vantHoff_EOS!$Y$5:$Y$14,vantHoff_EOS!$Z$5:$Z$14,vantHoff_EOS!$AE$5:$AN$14,'Reaction Progress'!$AB24-273.15,'Reaction Progress'!$AC24*1000000,'Reaction Progress'!$G24:$P24),\"-\")","v":"-"},{"$f":"IF(P24<>\" - \",Phi_i_NS_Tci_Pci_wi_kijm_TinC_PinPa_yi(AA$8,vantHoff_EOS!$N$19,vantHoff_EOS!$X$5:$X$14,vantHoff_EOS!$Y$5:$Y$14,vantHoff_EOS!$Z$5:$Z$14,vantHoff_EOS!$AE$5:$AN$14,'Reaction Progress'!$AB24-273.15,'Reaction Progress'!$AC24*1000000,'Reaction Progress'!$G24:$P24),\"-\")","v":"-"},319.63560277188083,13.107757086770697,87.246446771112119,1.1461784829168615E-2,464.9911952886672]
[null,null,null,17,0.32,{"$f":"nT_NS_n0i_vi_X(vantHoff_EOS!$N$19,vantHoff_EOS!$O$31:$X$31,vantHoff_EOS!$O$23:$X$23,'Reaction Progress'!E25)","v":9.6999999999999993},{"$f":"IF(G$8<=vantHoff_EOS!$N$19,nouti_i_n0i_vi_X(G$8,vantHoff_EOS!$O$31:$X$31,vantHoff_EOS!$O$23:$X$23,'Reaction Progress'!$E25)/'Reaction Progress'!$F25,\" - \")","v":7.0103092783505155E-2},{"$f":"IF(H$8<=vantHoff_EOS!$N$19,nouti_i_n0i_vi_X(H$8,vantHoff_EOS!$O$31:$X$31,vantHoff_EOS!$O$23:$X$23,'Reaction Progress'!$E25)/'Reaction Progress'!$F25,\" - \")","v":7.0103092783505155E-2},{"$f":"IF(I$8<=vantHoff_EOS!$N$19,nouti_i_n0i_vi_X(I$8,vantHoff_EOS!$O$31:$X$31,vantHoff_EOS!$O$23:$X$23,'Reaction Progress'!$E25)/'Reaction Progress'!$F25,\" - \")","v":7.0103092783505155E-2},{"$f":"IF(J$8<=vantHoff_EOS!$N$19,nouti_i_n0i_vi_X(J$8,vantHoff_EOS!$O$31:$X$31,vantHoff_EOS!$O$23:$X$23,'Reaction Progress'!$E25)/'Reaction Progress'!$F25,\" - \")","v":3.2989690721649485E-2},{"$f":"IF(K$8<=vantHoff_EOS!$N$19,nouti_i_n0i_vi_X(K$8,vantHoff_EOS!$O$31:$X$31,vantHoff_EOS!$O$23:$X$23,'Reaction Progress'!$E25)/'Reaction Progress'!$F25,\" - \")","v":0.75670103092783514},{"$f":"IF(L$8<=vantHoff_EOS!$N$19,nouti_i_n0i_vi_X(L$8,vantHoff_EOS!$O$31:$X$31,vantHoff_EOS!$O$23:$X$23,'Reaction Progress'!$E25)/'Reaction Progress'!$F25,\" - \")","v":" - "},{"$f":"IF(M$8<=vantHoff_EOS!$N$19,nouti_i_n0i_vi_X(M$8,vantHoff_EOS!$O$31:$X$31,vantHoff_EOS!$O$23:$X$23,'Reaction Progress'!$E25)/'Reaction Progress'!$F25,\" - \")","v":" - "},{"$f":"IF(N$8<=vantHoff_EOS!$N$19,nouti_i_n0i_vi_X(N$8,vantHoff_EOS!$O$31:$X$31,vantHoff_EOS!$O$23:$X$23,'Reaction Progress'!$E25)/'Reaction Progress'!$F25,\" - \")","v":" - "},{"$f":"IF(O$8<=vantHoff_EOS!$N$19,nouti_i_n0i_vi_X(O$8,vantHoff_EOS!$O$31:$X$31,vantHoff_EOS!$O$23:$X$23,'Reaction Progress'!$E25)/'Reaction Progress'!$F25,\" - \")","v":" - "},{"$f":"IF(P$8<=vantHoff_EOS!$N$19,nouti_i_n0i_vi_X(P$8,vantHoff_EOS!$O$31:$X$31,vantHoff_EOS!$O$23:$X$23,'Reaction Progress'!$E25)/'Reaction Progress'!$F25,\" - \")","v":" - "},1,{"$f":"IF(G25<>\" - \",Phi_i_NS_Tci_Pci_wi_kijm_TinC_PinPa_yi(R$8,vantHoff_EOS!$N$19,vantHoff_EOS!$X$5:$X$14,vantHoff_EOS!$Y$5:$Y$14,vantHoff_EOS!$Z$5:$Z$14,vantHoff_EOS!$AE$5:$AN$14,'Reaction Progress'!$AB25-273.15,'Reaction Progress'!$AC25*1000000,'Reaction Progress'!$G25:$P25),\"-\")","v":1.8969425509493139},{"$f":"IF(H25<>\" - \",Phi_i_NS_Tci_Pci_wi_kijm_TinC_PinPa_yi(S$8,vantHoff_EOS!$N$19,vantHoff_EOS!$X$5:$X$14,vantHoff_EOS!$Y$5:$Y$14,vantHoff_EOS!$Z$5:$Z$14,vantHoff_EOS!$AE$5:$AN$14,'Reaction Progress'!$AB25-273.15,'Reaction Progress'!$AC25*1000000,'Reaction Progress'!$G25:$P25),\"-\")","v":2.7653243704391435},{"$f":"IF(I25<>\" - \",Phi_i_NS_Tci_Pci_wi_kijm_TinC_PinPa_yi(T$8,vantHoff_EOS!$N$19,vantHoff_EOS!$X$5:$X$14,vantHoff_EOS!$Y$5:$Y$14,vantHoff_EOS!$Z$5:$Z$14,vantHoff_EOS!$AE$5:$AN$14,'Reaction Progress'!$AB25-273.15,'Reaction Progress'!$AC25*1000000,'Reaction Progress'!$G25:$P25),\"-\")","v":0.19986223895769722},{"$f":"IF(J25<>\" - \",Phi_i_NS_Tci_Pci_wi_kijm_TinC_PinPa_yi(U$8,vantHoff_EOS!$N$19,vantHoff_EOS!$X$5:$X$14,vantHoff_EOS!$Y$5:$Y$14,vantHoff_EOS!$Z$5:$Z$14,vantHoff_EOS!$AE$5:$AN$14,'Reaction Progress'!$AB25-273.15,'Reaction Progress'!$AC25*1000000,'Reaction Progress'!$G25:$P25),\"-\")","v":1.8623793448279947E-2},{"$f":"IF(K25<>\" - \",Phi_i_NS_Tci_Pci_wi_kijm_TinC_PinPa_yi(V$8,vantHoff_EOS!$N$19,vantHoff_EOS!$X$5:$X$14,vantHoff_EOS!$Y$5:$Y$14,vantHoff_EOS!$Z$5:$Z$14,vantHoff_EOS!$AE$5:$AN$14,'Reaction Progress'!$AB25-273.15,'Reaction Progress'!$AC25*1000000,'Reaction Progress'!$G25:$P25),\"-\")","v":0.5140711466234088},{"$f":"IF(L25<>\" - \",Phi_i_NS_Tci_Pci_wi_kijm_TinC_PinPa_yi(W$8,vantHoff_EOS!$N$19,vantHoff_EOS!$X$5:$X$14,vantHoff_EOS!$Y$5:$Y$14,vantHoff_EOS!$Z$5:$Z$14,vantHoff_EOS!$AE$5:$AN$14,'Reaction Progress'!$AB25-273.15,'Reaction Progress'!$AC25*1000000,'Reaction Progress'!$G25:$P25),\"-\")","v":"-"},{"$f":"IF(M25<>\" - \",Phi_i_NS_Tci_Pci_wi_kijm_TinC_PinPa_yi(X$8,vantHoff_EOS!$N$19,vantHoff_EOS!$X$5:$X$14,vantHoff_EOS!$Y$5:$Y$14,vantHoff_EOS!$Z$5:$Z$14,vantHoff_EOS!$AE$5:$AN$14,'Reaction Progress'!$AB25-273.15,'Reaction Progress'!$AC25*1000000,'Reaction Progress'!$G25:$P25),\"-\")","v":"-"},{"$f":"IF(N25<>\" - \",Phi_i_NS_Tci_Pci_wi_kijm_TinC_PinPa_yi(Y$8,vantHoff_EOS!$N$19,vantHoff_EOS!$X$5:$X$14,vantHoff_EOS!$Y$5:$Y$14,vantHoff_EOS!$Z$5:$Z$14,vantHoff_EOS!$AE$5:$AN$14,'Reaction Progress'!$AB25-273.15,'Reaction Progress'!$AC25*1000000,'Reaction Progress'!$G25:$P25),\"-\")","v":"-"},{"$f":"IF(O25<>\" - \",Phi_i_NS_Tci_Pci_wi_kijm_TinC_PinPa_yi(Z$8,vantHoff_EOS!$N$19,vantHoff_EOS!$X$5:$X$14,vantHoff_EOS!$Y$5:$Y$14,vantHoff_EOS!$Z$5:$Z$14,vantHoff_EOS!$AE$5:$AN$14,'Reaction Progress'!$AB25-273.15,'Reaction Progress'!$AC25*1000000,'Reaction Progress'!$G25:$P25),\"-\")","v":"-"},{"$f":"IF(P25<>\" - \",Phi_i_NS_Tci_Pci_wi_kijm_TinC_PinPa_yi(AA$8,vantHoff_EOS!$N$19,vantHoff_EOS!$X$5:$X$14,vantHoff_EOS!$Y$5:$Y$14,vantHoff_EOS!$Z$5:$Z$14,vantHoff_EOS!$AE$5:$AN$14,'Reaction Progress'!$AB25-273.15,'Reaction Progress'!$AC25*1000000,'Reaction Progress'!$G25:$P25),\"-\")","v":"-"},320.85404538513683,13.147280613244781,87.260672921034853,1.1459916208816473E-2,466.83256440394075]
[null,null,null,18,0.34,{"$f":"nT_NS_n0i_vi_X(vantHoff_EOS!$N$19,vantHoff_EOS!$O$31:$X$31,vantHoff_EOS!$O$23:$X$23,'Reaction Progress'!E26)","v":9.66},{"$f":"IF(G$8<=vantHoff_EOS!$N$19,nouti_i_n0i_vi_X(G$8,vantHoff_EOS!$O$31:$X$31,vantHoff_EOS!$O$23:$X$23,'Reaction Progress'!$E26)/'Reaction Progress'!$F26,\" - \")","v":6.8322981366459618E-2},{"$f":"IF(H$8<=vantHoff_EOS!$N$19,nouti_i_n0i_vi_X(H$8,vantHoff_EOS!$O$31:$X$31,vantHoff_EOS!$O$23:$X$23,'Reaction Progress'!$E26)/'Reaction Progress'!$F26,\" - \")","v":6.8322981366459618E-2},{"$f":"IF(I$8<=vantHoff_EOS!$N$19,nouti_i_n0i_vi_X(I$8,vantHoff_EOS!$O$31:$X$31,vantHoff_EOS!$O$23:$X$23,'Reaction Progress'!$E26)/'Reaction Progress'!$F26,\" - \")","v":6.8322981366459618E-2},{"$f":"IF(J$8<=vantHoff_EOS!$N$19,nouti_i_n0i_vi_X(J$8,vantHoff_EOS!$O$31:$X$31,vantHoff_EOS!$O$23:$X$23,'Reaction Progress'!$E26)/'Reaction Progress'!$F26,\" - \")","v":3.5196687370600416E-2},{"$f":"IF(K$8<=vantHoff_EOS!$N$19,nouti_i_n0i_vi_X(K$8,vantHoff_EOS!$O$31:$X$31,vantHoff_EOS!$O$23:$X$23,'Reaction Progress'!$E26)/'Reaction Progress'!$F26,\" - \")","v":0.75983436853002073},{"$f":"IF(L$8<=vantHoff_EOS!$N$19,nouti_i_n0i_vi_X(L$8,vantHoff_EOS!$O$31:$X$31,vantHoff_EOS!$O$23:$X$23,'Reaction Progress'!$E26)/'Reaction Progress'!$F26,\" - \")","v":" - "},{"$f":"IF(M$8<=vantHoff_EOS!$N$19,nouti_i_n0i_vi_X(M$8,vantHoff_EOS!$O$31:$X$31,vantHoff_EOS!$O$23:$X$23,'Reaction Progress'!$E26)/'Reaction Progress'!$F26,\" - \")","v":" - "},{"$f":"IF(N$8<=vantHoff_EOS!$N$19,nouti_i_n0i_vi_X(N$8,vantHoff_EOS!$O$31:$X$31,vantHoff_EOS!$O$23:$X$23,'Reaction Progress'!$E26)/'Reaction Progress'!$F26,\" - \")","v":" - "},{"$f":"IF(O$8<=vantHoff_EOS!$N$19,nouti_i_n0i_vi_X(O$8,vantHoff_EOS!$O$31:$X$31,vantHoff_EOS!$O$23:$X$23,'Reaction Progress'!$E26)/'Reaction Progress'!$F26,\" - \")","v":" - "},{"$f":"IF(P$8<=vantHoff_EOS!$N$19,nouti_i_n0i_vi_X(P$8,vantHoff_EOS!$O$31:$X$31,vantHoff_EOS!$O$23:$X$23,'Reaction Progress'!$E26)/'Reaction Progress'!$F26,\" - \")","v":" - "},1,{"$f":"IF(G26<>\" - \",Phi_i_NS_Tci_Pci_wi_kijm_TinC_PinPa_yi(R$8,vantHoff_EOS!$N$19,vantHoff_EOS!$X$5:$X$14,vantHoff_EOS!$Y$5:$Y$14,vantHoff_EOS!$Z$5:$Z$14,vantHoff_EOS!$AE$5:$AN$14,'Reaction Progress'!$AB26-273.15,'Reaction Progress'!$AC26*1000000,'Reaction Progress'!$G26:$P26),\"-\")","v":1.9092310296952864},{"$f":"IF(H26<>\" - \",Phi_i_NS_Tci_Pci_wi_kijm_TinC_PinPa_yi(S$8,vantHoff_EOS!$N$19,vantHoff_EOS!$X$5:$X$14,vantHoff_EOS!$Y$5:$Y$14,vantHoff_EOS!$Z$5:$Z$14,vantHoff_EOS!$AE$5:$AN$14,'Reaction Progress'!$AB26-273.15,'Reaction Progress'!$AC26*1000000,'Reaction Progress'!$G26:$P26),\"-\")","v":2.7747012484332094},{"$f":"IF(I26<>\" - \",Phi_i_NS_Tci_Pci_wi_kijm_TinC_PinPa_yi(T$8,vantHoff_EOS!$N$19,vantHoff_EOS!$X$5:$X$14,vantHoff_EOS!$Y$5:$Y$14,vantHoff_EOS!$Z$5:$Z$14,vantHoff_EOS!$AE$5:$AN$14,'Reaction Progress'!$AB26-273.15,'Reaction Progress'!$AC26*1000000,'Reaction Progress'!$G26:$P26),\"-\")","v":0.2022756867389926},{"$f":"IF(J26<>\" - \",Phi_i_NS_Tci_Pci_wi_kijm_TinC_PinPa_yi(U$8,vantHoff_EOS!$N$19,vantHoff_EOS!$X$5:$X$14,vantHoff_EOS!$Y$5:$Y$14,vantHoff_EOS!$Z$5:$Z$14,vantHoff_EOS!$AE$5:$AN$14,'Reaction Progress'!$AB26-273.15,'Reaction Progress'!$AC26*1000000,'Reaction Progress'!$G26:$P26),\"-\")","v":1.9000708901000647E-2},{"$f":"IF(K26<>\" - \",Phi_i_NS_Tci_Pci_wi_kijm_TinC_PinPa_yi(V$8,vantHoff_EOS!$N$19,vantHoff_EOS!$X$5:$X$14,vantHoff_EOS!$Y$5:$Y$14,vantHoff_EOS!$Z$5:$Z$14,vantHoff_EOS!$AE$5:$AN$14,'Reaction Progress'!$AB26-273.15,'Reaction Progress'!$AC26*1000000,'Reaction Progress'!$G26:$P26),\"-\")","v":0.51885334919569803},{"$f":"IF(L26<>\" - \",Phi_i_NS_Tci_Pci_wi_kijm_TinC_PinPa_yi(W$8,vantHoff_EOS!$N$19,vantHoff_EOS!$X$5:$X$14,vantHoff_EOS!$Y$5:$Y$14,vantHoff_EOS!$Z$5:$Z$14,vantHoff_EOS!$AE$5:$AN$14,'Reaction Progress'!$AB26-273.15,'Reaction Progress'!$AC26*1000000,'Reaction Progress'!$G26:$P26),\"-\")","v":"-"},{"$f":"IF(M26<>\" - \",Phi_i_NS_Tci_Pci_wi_kijm_TinC_PinPa_yi(X$8,vantHoff_EOS!$N$19,vantHoff_EOS!$X$5:$X$14,vantHoff_EOS!$Y$5:$Y$14,vantHoff_EOS!$Z$5:$Z$14,vantHoff_EOS!$AE$5:$AN$14,'Reaction Progress'!$AB26-273.15,'Reaction Progress'!$AC26*1000000,'Reaction Progress'!$G26:$P26),\"-\")","v":"-"},{"$f":"IF(N26<>\" - \",Phi_i_NS_Tci_Pci_wi_kijm_TinC_PinPa_yi(Y$8,vantHoff_EOS!$N$19,vantHoff_EOS!$X$5:$X$14,vantHoff_EOS!$Y$5:$Y$14,vantHoff_EOS!$Z$5:$Z$14,vantHoff_EOS!$AE$5:$AN$14,'Reaction Progress'!$AB26-273.15,'Reaction Progress'!$AC26*1000000,'Reaction Progress'!$G26:$P26),\"-\")","v":"-"},{"$f":"IF(O26<>\" - \",Phi_i_NS_Tci_Pci_wi_kijm_TinC_PinPa_yi(Z$8,vantHoff_EOS!$N$19,vantHoff_EOS!$X$5:$X$14,vantHoff_EOS!$Y$5:$Y$14,vantHoff_EOS!$Z$5:$Z$14,vantHoff_EOS!$AE$5:$AN$14,'Reaction Progress'!$AB26-273.15,'Reaction Progress'!$AC26*1000000,'Reaction Progress'!$G26:$P26),\"-\")","v":"-"},{"$f":"IF(P26<>\" - \",Phi_i_NS_Tci_Pci_wi_kijm_TinC_PinPa_yi(AA$8,vantHoff_EOS!$N$19,vantHoff_EOS!$X$5:$X$14,vantHoff_EOS!$Y$5:$Y$14,vantHoff_EOS!$Z$5:$Z$14,vantHoff_EOS!$AE$5:$AN$14,'Reaction Progress'!$AB26-273.15,'Reaction Progress'!$AC26*1000000,'Reaction Progress'!$G26:$P26),\"-\")","v":"-"},322.07462484068429,13.181435835437398,87.308155373116733,1.1453683744965621E-2,468.51068079287921]
[null,null,null,19,0.36000000000000004,{"$f":"nT_NS_n0i_vi_X(vantHoff_EOS!$N$19,vantHoff_EOS!$O$31:$X$31,vantHoff_EOS!$O$23:$X$23,'Reaction Progress'!E27)","v":9.6199999999999992},{"$f":"IF(G$8<=vantHoff_EOS!$N$19,nouti_i_n0i_vi_X(G$8,vantHoff_EOS!$O$31:$X$31,vantHoff_EOS!$O$23:$X$23,'Reaction Progress'!$E27)/'Reaction Progress'!$F27,\" - \")","v":6.6528066528066518E-2},{"$f":"IF(H$8<=vantHoff_EOS!$N$19,nouti_i_n0i_vi_X(H$8,vantHoff_EOS!$O$31:$X$31,vantHoff_EOS!$O$23:$X$23,'Reaction Progress'!$E27)/'Reaction Progress'!$F27,\" - \")","v":6.6528066528066518E-2},{"$f":"IF(I$8<=vantHoff_EOS!$N$19,nouti_i_n0i_vi_X(I$8,vantHoff_EOS!$O$31:$X$31,vantHoff_EOS!$O$23:$X$23,'Reaction Progress'!$E27)/'Reaction Progress'!$F27,\" - \")","v":6.6528066528066518E-2},{"$f":"IF(J$8<=vantHoff_EOS!$N$19,nouti_i_n0i_vi_X(J$8,vantHoff_EOS!$O$31:$X$31,vantHoff_EOS!$O$23:$X$23,'Reaction Progress'!$E27)/'Reaction Progress'!$F27,\" - \")","v":3.7422037422037431E-2},{"$f":"IF(K$8<=vantHoff_EOS!$N$19,nouti_i_n0i_vi_X(K$8,vantHoff_EOS!$O$31:$X$31,vantHoff_EOS!$O$23:$X$23,'Reaction Progress'!$E27)/'Reaction Progress'!$F27,\" - \")","v":0.76299376299376309},{"$f":"IF(L$8<=vantHoff_EOS!$N$19,nouti_i_n0i_vi_X(L$8,vantHoff_EOS!$O$31:$X$31,vantHoff_EOS!$O$23:$X$23,'Reaction Progress'!$E27)/'Reaction Progress'!$F27,\" - \")","v":" - "},{"$f":"IF(M$8<=vantHoff_EOS!$N$19,nouti_i_n0i_vi_X(M$8,vantHoff_EOS!$O$31:$X$31,vantHoff_EOS!$O$23:$X$23,'Reaction Progress'!$E27)/'Reaction Progress'!$F27,\" - \")","v":" - "},{"$f":"IF(N$8<=vantHoff_EOS!$N$19,nouti_i_n0i_vi_X(N$8,vantHoff_EOS!$O$31:$X$31,vantHoff_EOS!$O$23:$X$23,'Reaction Progress'!$E27)/'Reaction Progress'!$F27,\" - \")","v":" - "},{"$f":"IF(O$8<=vantHoff_EOS!$N$19,nouti_i_n0i_vi_X(O$8,vantHoff_EOS!$O$31:$X$31,vantHoff_EOS!$O$23:$X$23,'Reaction Progress'!$E27)/'Reaction Progress'!$F27,\" - \")","v":" - "},{"$f":"IF(P$8<=vantHoff_EOS!$N$19,nouti_i_n0i_vi_X(P$8,vantHoff_EOS!$O$31:$X$31,vantHoff_EOS!$O$23:$X$23,'Reaction Progress'!$E27)/'Reaction Progress'!$F27,\" - \")","v":" - "},1,{"$f":"IF(G27<>\" - \",Phi_i_NS_Tci_Pci_wi_kijm_TinC_PinPa_yi(R$8,vantHoff_EOS!$N$19,vantHoff_EOS!$X$5:$X$14,vantHoff_EOS!$Y$5:$Y$14,vantHoff_EOS!$Z$5:$Z$14,vantHoff_EOS!$AE$5:$AN$14,'Reaction Progress'!$AB27-273.15,'Reaction Progress'!$AC27*1000000,'Reaction Progress'!$G27:$P27),\"-\")","v":1.9213759318317489},{"$f":"IF(H27<>\" - \",Phi_i_NS_Tci_Pci_wi_kijm_TinC_PinPa_yi(S$8,vantHoff_EOS!$N$19,vantHoff_EOS!$X$5:$X$14,vantHoff_EOS!$Y$5:$Y$14,vantHoff_EOS!$Z$5:$Z$14,vantHoff_EOS!$AE$5:$AN$14,'Reaction Progress'!$AB27-273.15,'Reaction Progress'!$AC27*1000000,'Reaction Progress'!$G27:$P27),\"-\")","v":2.7836449706215038},{"$f":"IF(I27<>\" - \",Phi_i_NS_Tci_Pci_wi_kijm_TinC_PinPa_yi(T$8,vantHoff_EOS!$N$19,vantHoff_EOS!$X$5:$X$14,vantHoff_EOS!$Y$5:$Y$14,vantHoff_EOS!$Z$5:$Z$14,vantHoff_EOS!$AE$5:$AN$14,'Reaction Progress'!$AB27-273.15,'Reaction Progress'!$AC27*1000000,'Reaction Progress'!$G27:$P27),\"-\")","v":0.20478910582850327},{"$f":"IF(J27<>\" - \",Phi_i_NS_Tci_Pci_wi_kijm_TinC_PinPa_yi(U$8,vantHoff_EOS!$N$19,vantHoff_EOS!$X$5:$X$14,vantHoff_EOS!$Y$5:$Y$14,vantHoff_EOS!$Z$5:$Z$14,vantHoff_EOS!$AE$5:$AN$14,'Reaction Progress'!$AB27-273.15,'Reaction Progress'!$AC27*1000000,'Reaction Progress'!$G27:$P27),\"-\")","v":1.9400681711017081E-2},{"$f":"IF(K27<>\" - \",Phi_i_NS_Tci_Pci_wi_kijm_TinC_PinPa_yi(V$8,vantHoff_EOS!$N$19,vantHoff_EOS!$X$5:$X$14,vantHoff_EOS!$Y$5:$Y$14,vantHoff_EOS!$Z$5:$Z$14,vantHoff_EOS!$AE$5:$AN$14,'Reaction Progress'!$AB27-273.15,'Reaction Progress'!$AC27*1000000,'Reaction Progress'!$G27:$P27),\"-\")","v":0.52379942128021484},{"$f":"IF(L27<>\" - \",Phi_i_NS_Tci_Pci_wi_kijm_TinC_PinPa_yi(W$8,vantHoff_EOS!$N$19,vantHoff_EOS!$X$5:$X$14,vantHoff_EOS!$Y$5:$Y$14,vantHoff_EOS!$Z$5:$Z$14,vantHoff_EOS!$AE$5:$AN$14,'Reaction Progress'!$AB27-273.15,'Reaction Progress'!$AC27*1000000,'Reaction Progress'!$G27:$P27),\"-\")","v":"-"},{"$f":"IF(M27<>\" - \",Phi_i_NS_Tci_Pci_wi_kijm_TinC_PinPa_yi(X$8,vantHoff_EOS!$N$19,vantHoff_EOS!$X$5:$X$14,vantHoff_EOS!$Y$5:$Y$14,vantHoff_EOS!$Z$5:$Z$14,vantHoff_EOS!$AE$5:$AN$14,'Reaction Progress'!$AB27-273.15,'Reaction Progress'!$AC27*1000000,'Reaction Progress'!$G27:$P27),\"-\")","v":"-"},{"$f":"IF(N27<>\" - \",Phi_i_NS_Tci_Pci_wi_kijm_TinC_PinPa_yi(Y$8,vantHoff_EOS!$N$19,vantHoff_EOS!$X$5:$X$14,vantHoff_EOS!$Y$5:$Y$14,vantHoff_EOS!$Z$5:$Z$14,vantHoff_EOS!$AE$5:$AN$14,'Reaction Progress'!$AB27-273.15,'Reaction Progress'!$AC27*1000000,'Reaction Progress'!$G27:$P27),\"-\")","v":"-"},{"$f":"IF(O27<>\" - \",Phi_i_NS_Tci_Pci_wi_kijm_TinC_PinPa_yi(Z$8,vantHoff_EOS!$N$19,vantHoff_EOS!$X$5:$X$14,vantHoff_EOS!$Y$5:$Y$14,vantHoff_EOS!$Z$5:$Z$14,vantHoff_EOS!$AE$5:$AN$14,'Reaction Progress'!$AB27-273.15,'Reaction Progress'!$AC27*1000000,'Reaction Progress'!$G27:$P27),\"-\")","v":"-"},{"$f":"IF(P27<>\" - \",Phi_i_NS_Tci_Pci_wi_kijm_TinC_PinPa_yi(AA$8,vantHoff_EOS!$N$19,vantHoff_EOS!$X$5:$X$14,vantHoff_EOS!$Y$5:$Y$14,vantHoff_EOS!$Z$5:$Z$14,vantHoff_EOS!$AE$5:$AN$14,'Reaction Progress'!$AB27-273.15,'Reaction Progress'!$AC27*1000000,'Reaction Progress'!$G27:$P27),\"-\")","v":"-"},323.29775499778572,13.210449485662608,87.387053681965369,1.1443342667660811E-2,470.03399158384207]
[null,null,null,20,0.38000000000000006,{"$f":"nT_NS_n0i_vi_X(vantHoff_EOS!$N$19,vantHoff_EOS!$O$31:$X$31,vantHoff_EOS!$O$23:$X$23,'Reaction Progress'!E28)","v":9.58},{"$f":"IF(G$8<=vantHoff_EOS!$N$19,nouti_i_n0i_vi_X(G$8,vantHoff_EOS!$O$31:$X$31,vantHoff_EOS!$O$23:$X$23,'Reaction Progress'!$E28)/'Reaction Progress'!$F28,\" - \")","v":6.4718162839248417E-2},{"$f":"IF(H$8<=vantHoff_EOS!$N$19,nouti_i_n0i_vi_X(H$8,vantHoff_EOS!$O$31:$X$31,vantHoff_EOS!$O$23:$X$23,'Reaction Progress'!$E28)/'Reaction Progress'!$F28,\" - \")","v":6.4718162839248417E-2},{"$f":"IF(I$8<=vantHoff_EOS!$N$19,nouti_i_n0i_vi_X(I$8,vantHoff_EOS!$O$31:$X$31,vantHoff_EOS!$O$23:$X$23,'Reaction Progress'!$E28)/'Reaction Progress'!$F28,\" - \")","v":6.4718162839248417E-2},{"$f":"IF(J$8<=vantHoff_EOS!$N$19,nouti_i_n0i_vi_X(J$8,vantHoff_EOS!$O$31:$X$31,vantHoff_EOS!$O$23:$X$23,'Reaction Progress'!$E28)/'Reaction Progress'!$F28,\" - \")","v":3.9665970772442598E-2},{"$f":"IF(K$8<=vantHoff_EOS!$N$19,nouti_i_n0i_vi_X(K$8,vantHoff_EOS!$O$31:$X$31,vantHoff_EOS!$O$23:$X$23,'Reaction Progress'!$E28)/'Reaction Progress'!$F28,\" - \")","v":0.76617954070981209},{"$f":"IF(L$8<=vantHoff_EOS!$N$19,nouti_i_n0i_vi_X(L$8,vantHoff_EOS!$O$31:$X$31,vantHoff_EOS!$O$23:$X$23,'Reaction Progress'!$E28)/'Reaction Progress'!$F28,\" - \")","v":" - "},{"$f":"IF(M$8<=vantHoff_EOS!$N$19,nouti_i_n0i_vi_X(M$8,vantHoff_EOS!$O$31:$X$31,vantHoff_EOS!$O$23:$X$23,'Reaction Progress'!$E28)/'Reaction Progress'!$F28,\" - \")","v":" - "},{"$f":"IF(N$8<=vantHoff_EOS!$N$19,nouti_i_n0i_vi_X(N$8,vantHoff_EOS!$O$31:$X$31,vantHoff_EOS!$O$23:$X$23,'Reaction Progress'!$E28)/'Reaction Progress'!$F28,\" - \")","v":" - "},{"$f":"IF(O$8<=vantHoff_EOS!$N$19,nouti_i_n0i_vi_X(O$8,vantHoff_EOS!$O$31:$X$31,vantHoff_EOS!$O$23:$X$23,'Reaction Progress'!$E28)/'Reaction Progress'!$F28,\" - \")","v":" - "},{"$f":"IF(P$8<=vantHoff_EOS!$N$19,nouti_i_n0i_vi_X(P$8,vantHoff_EOS!$O$31:$X$31,vantHoff_EOS!$O$23:$X$23,'Reaction Progress'!$E28)/'Reaction Progress'!$F28,\" - \")","v":" - "},1,{"$f":"IF(G28<>\" - \",Phi_i_NS_Tci_Pci_wi_kijm_TinC_PinPa_yi(R$8,vantHoff_EOS!$N$19,vantHoff_EOS!$X$5:$X$14,vantHoff_EOS!$Y$5:$Y$14,vantHoff_EOS!$Z$5:$Z$14,vantHoff_EOS!$AE$5:$AN$14,'Reaction Progress'!$AB28-273.15,'Reaction Progress'!$AC28*1000000,'Reaction Progress'!$G28:$P28),\"-\")","v":1.9333850695520254},{"$f":"IF(H28<>\" - \",Phi_i_NS_Tci_Pci_wi_kijm_TinC_PinPa_yi(S$8,vantHoff_EOS!$N$19,vantHoff_EOS!$X$5:$X$14,vantHoff_EOS!$Y$5:$Y$14,vantHoff_EOS!$Z$5:$Z$14,vantHoff_EOS!$AE$5:$AN$14,'Reaction Progress'!$AB28-273.15,'Reaction Progress'!$AC28*1000000,'Reaction Progress'!$G28:$P28),\"-\")","v":2.7921823574131337},{"$f":"IF(I28<>\" - \",Phi_i_NS_Tci_Pci_wi_kijm_TinC_PinPa_yi(T$8,vantHoff_EOS!$N$19,vantHoff_EOS!$X$5:$X$14,vantHoff_EOS!$Y$5:$Y$14,vantHoff_EOS!$Z$5:$Z$14,vantHoff_EOS!$AE$5:$AN$14,'Reaction Progress'!$AB28-273.15,'Reaction Progress'!$AC28*1000000,'Reaction Progress'!$G28:$P28),\"-\")","v":0.20740030056277348},{"$f":"IF(J28<>\" - \",Phi_i_NS_Tci_Pci_wi_kijm_TinC_PinPa_yi(U$8,vantHoff_EOS!$N$19,vantHoff_EOS!$X$5:$X$14,vantHoff_EOS!$Y$5:$Y$14,vantHoff_EOS!$Z$5:$Z$14,vantHoff_EOS!$AE$5:$AN$14,'Reaction Progress'!$AB28-273.15,'Reaction Progress'!$AC28*1000000,'Reaction Progress'!$G28:$P28),\"-\")","v":1.9823707545324403E-2},{"$f":"IF(K28<>\" - \",Phi_i_NS_Tci_Pci_wi_kijm_TinC_PinPa_yi(V$8,vantHoff_EOS!$N$19,vantHoff_EOS!$X$5:$X$14,vantHoff_EOS!$Y$5:$Y$14,vantHoff_EOS!$Z$5:$Z$14,vantHoff_EOS!$AE$5:$AN$14,'Reaction Progress'!$AB28-273.15,'Reaction Progress'!$AC28*1000000,'Reaction Progress'!$G28:$P28),\"-\")","v":0.52890489785386741},{"$f":"IF(L28<>\" - \",Phi_i_NS_Tci_Pci_wi_kijm_TinC_PinPa_yi(W$8,vantHoff_EOS!$N$19,vantHoff_EOS!$X$5:$X$14,vantHoff_EOS!$Y$5:$Y$14,vantHoff_EOS!$Z$5:$Z$14,vantHoff_EOS!$AE$5:$AN$14,'Reaction Progress'!$AB28-273.15,'Reaction Progress'!$AC28*1000000,'Reaction Progress'!$G28:$P28),\"-\")","v":"-"},{"$f":"IF(M28<>\" - \",Phi_i_NS_Tci_Pci_wi_kijm_TinC_PinPa_yi(X$8,vantHoff_EOS!$N$19,vantHoff_EOS!$X$5:$X$14,vantHoff_EOS!$Y$5:$Y$14,vantHoff_EOS!$Z$5:$Z$14,vantHoff_EOS!$AE$5:$AN$14,'Reaction Progress'!$AB28-273.15,'Reaction Progress'!$AC28*1000000,'Reaction Progress'!$G28:$P28),\"-\")","v":"-"},{"$f":"IF(N28<>\" - \",Phi_i_NS_Tci_Pci_wi_kijm_TinC_PinPa_yi(Y$8,vantHoff_EOS!$N$19,vantHoff_EOS!$X$5:$X$14,vantHoff_EOS!$Y$5:$Y$14,vantHoff_EOS!$Z$5:$Z$14,vantHoff_EOS!$AE$5:$AN$14,'Reaction Progress'!$AB28-273.15,'Reaction Progress'!$AC28*1000000,'Reaction Progress'!$G28:$P28),\"-\")","v":"-"},{"$f":"IF(O28<>\" - \",Phi_i_NS_Tci_Pci_wi_kijm_TinC_PinPa_yi(Z$8,vantHoff_EOS!$N$19,vantHoff_EOS!$X$5:$X$14,vantHoff_EOS!$Y$5:$Y$14,vantHoff_EOS!$Z$5:$Z$14,vantHoff_EOS!$AE$5:$AN$14,'Reaction Progress'!$AB28-273.15,'Reaction Progress'!$AC28*1000000,'Reaction Progress'!$G28:$P28),\"-\")","v":"-"},{"$f":"IF(P28<>\" - \",Phi_i_NS_Tci_Pci_wi_kijm_TinC_PinPa_yi(AA$8,vantHoff_EOS!$N$19,vantHoff_EOS!$X$5:$X$14,vantHoff_EOS!$Y$5:$Y$14,vantHoff_EOS!$Z$5:$Z$14,vantHoff_EOS!$AE$5:$AN$14,'Reaction Progress'!$AB28-273.15,'Reaction Progress'!$AC28*1000000,'Reaction Progress'!$G28:$P28),\"-\")","v":"-"},324.52375612802683,13.234533008344521,87.495695361835857,1.1429133694686688E-2,471.41048640626047]
[null,null,null,21,0.40000000000000008,{"$f":"nT_NS_n0i_vi_X(vantHoff_EOS!$N$19,vantHoff_EOS!$O$31:$X$31,vantHoff_EOS!$O$23:$X$23,'Reaction Progress'!E29)","v":9.5399999999999991},{"$f":"IF(G$8<=vantHoff_EOS!$N$19,nouti_i_n0i_vi_X(G$8,vantHoff_EOS!$O$31:$X$31,vantHoff_EOS!$O$23:$X$23,'Reaction Progress'!$E29)/'Reaction Progress'!$F29,\" - \")","v":6.2893081761006275E-2},{"$f":"IF(H$8<=vantHoff_EOS!$N$19,nouti_i_n0i_vi_X(H$8,vantHoff_EOS!$O$31:$X$31,vantHoff_EOS!$O$23:$X$23,'Reaction Progress'!$E29)/'Reaction Progress'!$F29,\" - \")","v":6.2893081761006275E-2},{"$f":"IF(I$8<=vantHoff_EOS!$N$19,nouti_i_n0i_vi_X(I$8,vantHoff_EOS!$O$31:$X$31,vantHoff_EOS!$O$23:$X$23,'Reaction Progress'!$E29)/'Reaction Progress'!$F29,\" - \")","v":6.2893081761006275E-2},{"$f":"IF(J$8<=vantHoff_EOS!$N$19,nouti_i_n0i_vi_X(J$8,vantHoff_EOS!$O$31:$X$31,vantHoff_EOS!$O$23:$X$23,'Reaction Progress'!$E29)/'Reaction Progress'!$F29,\" - \")","v":4.1928721174004202E-2},{"$f":"IF(K$8<=vantHoff_EOS!$N$19,nouti_i_n0i_vi_X(K$8,vantHoff_EOS!$O$31:$X$31,vantHoff_EOS!$O$23:$X$23,'Reaction Progress'!$E29)/'Reaction Progress'!$F29,\" - \")","v":0.76939203354297703},{"$f":"IF(L$8<=vantHoff_EOS!$N$19,nouti_i_n0i_vi_X(L$8,vantHoff_EOS!$O$31:$X$31,vantHoff_EOS!$O$23:$X$23,'Reaction Progress'!$E29)/'Reaction Progress'!$F29,\" - \")","v":" - "},{"$f":"IF(M$8<=vantHoff_EOS!$N$19,nouti_i_n0i_vi_X(M$8,vantHoff_EOS!$O$31:$X$31,vantHoff_EOS!$O$23:$X$23,'Reaction Progress'!$E29)/'Reaction Progress'!$F29,\" - \")","v":" - "},{"$f":"IF(N$8<=vantHoff_EOS!$N$19,nouti_i_n0i_vi_X(N$8,vantHoff_EOS!$O$31:$X$31,vantHoff_EOS!$O$23:$X$23,'Reaction Progress'!$E29)/'Reaction Progress'!$F29,\" - \")","v":" - "},{"$f":"IF(O$8<=vantHoff_EOS!$N$19,nouti_i_n0i_vi_X(O$8,vantHoff_EOS!$O$31:$X$31,vantHoff_EOS!$O$23:$X$23,'Reaction Progress'!$E29)/'Reaction Progress'!$F29,\" - \")","v":" - "},{"$f":"IF(P$8<=vantHoff_EOS!$N$19,nouti_i_n0i_vi_X(P$8,vantHoff_EOS!$O$31:$X$31,vantHoff_EOS!$O$23:$X$23,'Reaction Progress'!$E29)/'Reaction Progress'!$F29,\" - \")","v":" - "},1,{"$f":"IF(G29<>\" - \",Phi_i_NS_Tci_Pci_wi_kijm_TinC_PinPa_yi(R$8,vantHoff_EOS!$N$19,vantHoff_EOS!$X$5:$X$14,vantHoff_EOS!$Y$5:$Y$14,vantHoff_EOS!$Z$5:$Z$14,vantHoff_EOS!$AE$5:$AN$14,'Reaction Progress'!$AB29-273.15,'Reaction Progress'!$AC29*1000000,'Reaction Progress'!$G29:$P29),\"-\")","v":1.9452661704147152},{"$f":"IF(H29<>\" - \",Phi_i_NS_Tci_Pci_wi_kijm_TinC_PinPa_yi(S$8,vantHoff_EOS!$N$19,vantHoff_EOS!$X$5:$X$14,vantHoff_EOS!$Y$5:$Y$14,vantHoff_EOS!$Z$5:$Z$14,vantHoff_EOS!$AE$5:$AN$14,'Reaction Progress'!$AB29-273.15,'Reaction Progress'!$AC29*1000000,'Reaction Progress'!$G29:$P29),\"-\")","v":2.8003396401180156},{"$f":"IF(I29<>\" - \",Phi_i_NS_Tci_Pci_wi_kijm_TinC_PinPa_yi(T$8,vantHoff_EOS!$N$19,vantHoff_EOS!$X$5:$X$14,vantHoff_EOS!$Y$5:$Y$14,vantHoff_EOS!$Z$5:$Z$14,vantHoff_EOS!$AE$5:$AN$14,'Reaction Progress'!$AB29-273.15,'Reaction Progress'!$AC29*1000000,'Reaction Progress'!$G29:$P29),\"-\")","v":0.21010722335646012},{"$f":"IF(J29<>\" - \",Phi_i_NS_Tci_Pci_wi_kijm_TinC_PinPa_yi(U$8,vantHoff_EOS!$N$19,vantHoff_EOS!$X$5:$X$14,vantHoff_EOS!$Y$5:$Y$14,vantHoff_EOS!$Z$5:$Z$14,vantHoff_EOS!$AE$5:$AN$14,'Reaction Progress'!$AB29-273.15,'Reaction Progress'!$AC29*1000000,'Reaction Progress'!$G29:$P29),\"-\")","v":2.0269819846320081E-2},{"$f":"IF(K29<>\" - \",Phi_i_NS_Tci_Pci_wi_kijm_TinC_PinPa_yi(V$8,vantHoff_EOS!$N$19,vantHoff_EOS!$X$5:$X$14,vantHoff_EOS!$Y$5:$Y$14,vantHoff_EOS!$Z$5:$Z$14,vantHoff_EOS!$AE$5:$AN$14,'Reaction Progress'!$AB29-273.15,'Reaction Progress'!$AC29*1000000,'Reaction Progress'!$G29:$P29),\"-\")","v":0.53416555148503397},{"$f":"IF(L29<>\" - \",Phi_i_NS_Tci_Pci_wi_kijm_TinC_PinPa_yi(W$8,vantHoff_EOS!$N$19,vantHoff_EOS!$X$5:$X$14,vantHoff_EOS!$Y$5:$Y$14,vantHoff_EOS!$Z$5:$Z$14,vantHoff_EOS!$AE$5:$AN$14,'Reaction Progress'!$AB29-273.15,'Reaction Progress'!$AC29*1000000,'Reaction Progress'!$G29:$P29),\"-\")","v":"-"},{"$f":"IF(M29<>\" - \",Phi_i_NS_Tci_Pci_wi_kijm_TinC_PinPa_yi(X$8,vantHoff_EOS!$N$19,vantHoff_EOS!$X$5:$X$14,vantHoff_EOS!$Y$5:$Y$14,vantHoff_EOS!$Z$5:$Z$14,vantHoff_EOS!$AE$5:$AN$14,'Reaction Progress'!$AB29-273.15,'Reaction Progress'!$AC29*1000000,'Reaction Progress'!$G29:$P29),\"-\")","v":"-"},{"$f":"IF(N29<>\" - \",Phi_i_NS_Tci_Pci_wi_kijm_TinC_PinPa_yi(Y$8,vantHoff_EOS!$N$19,vantHoff_EOS!$X$5:$X$14,vantHoff_EOS!$Y$5:$Y$14,vantHoff_EOS!$Z$5:$Z$14,vantHoff_EOS!$AE$5:$AN$14,'Reaction Progress'!$AB29-273.15,'Reaction Progress'!$AC29*1000000,'Reaction Progress'!$G29:$P29),\"-\")","v":"-"},{"$f":"IF(O29<>\" - \",Phi_i_NS_Tci_Pci_wi_kijm_TinC_PinPa_yi(Z$8,vantHoff_EOS!$N$19,vantHoff_EOS!$X$5:$X$14,vantHoff_EOS!$Y$5:$Y$14,vantHoff_EOS!$Z$5:$Z$14,vantHoff_EOS!$AE$5:$AN$14,'Reaction Progress'!$AB29-273.15,'Reaction Progress'!$AC29*1000000,'Reaction Progress'!$G29:$P29),\"-\")","v":"-"},{"$f":"IF(P29<>\" - \",Phi_i_NS_Tci_Pci_wi_kijm_TinC_PinPa_yi(AA$8,vantHoff_EOS!$N$19,vantHoff_EOS!$X$5:$X$14,vantHoff_EOS!$Y$5:$Y$14,vantHoff_EOS!$Z$5:$Z$14,vantHoff_EOS!$AE$5:$AN$14,'Reaction Progress'!$AB29-273.15,'Reaction Progress'!$AC29*1000000,'Reaction Progress'!$G29:$P29),\"-\")","v":"-"},325.75286802069337,13.253883742294065,87.632558838219111,1.1411283811147494E-2,472.64772008913474]
[null,null,null,22,0.4200000000000001,{"$f":"nT_NS_n0i_vi_X(vantHoff_EOS!$N$19,vantHoff_EOS!$O$31:$X$31,vantHoff_EOS!$O$23:$X$23,'Reaction Progress'!E30)","v":9.5},{"$f":"IF(G$8<=vantHoff_EOS!$N$19,nouti_i_n0i_vi_X(G$8,vantHoff_EOS!$O$31:$X$31,vantHoff_EOS!$O$23:$X$23,'Reaction Progress'!$E30)/'Reaction Progress'!$F30,\" - \")","v":6.1052631578947351E-2},{"$f":"IF(H$8<=vantHoff_EOS!$N$19,nouti_i_n0i_vi_X(H$8,vantHoff_EOS!$O$31:$X$31,vantHoff_EOS!$O$23:$X$23,'Reaction Progress'!$E30)/'Reaction Progress'!$F30,\" - \")","v":6.1052631578947351E-2},{"$f":"IF(I$8<=vantHoff_EOS!$N$19,nouti_i_n0i_vi_X(I$8,vantHoff_EOS!$O$31:$X$31,vantHoff_EOS!$O$23:$X$23,'Reaction Progress'!$E30)/'Reaction Progress'!$F30,\" - \")","v":6.1052631578947351E-2},{"$f":"IF(J$8<=vantHoff_EOS!$N$19,nouti_i_n0i_vi_X(J$8,vantHoff_EOS!$O$31:$X$31,vantHoff_EOS!$O$23:$X$23,'Reaction Progress'!$E30)/'Reaction Progress'!$F30,\" - \")","v":4.4210526315789485E-2},{"$f":"IF(K$8<=vantHoff_EOS!$N$19,nouti_i_n0i_vi_X(K$8,vantHoff_EOS!$O$31:$X$31,vantHoff_EOS!$O$23:$X$23,'Reaction Progress'!$E30)/'Reaction Progress'!$F30,\" - \")","v":0.77263157894736845},{"$f":"IF(L$8<=vantHoff_EOS!$N$19,nouti_i_n0i_vi_X(L$8,vantHoff_EOS!$O$31:$X$31,vantHoff_EOS!$O$23:$X$23,'Reaction Progress'!$E30)/'Reaction Progress'!$F30,\" - \")","v":" - "},{"$f":"IF(M$8<=vantHoff_EOS!$N$19,nouti_i_n0i_vi_X(M$8,vantHoff_EOS!$O$31:$X$31,vantHoff_EOS!$O$23:$X$23,'Reaction Progress'!$E30)/'Reaction Progress'!$F30,\" - \")","v":" - "},{"$f":"IF(N$8<=vantHoff_EOS!$N$19,nouti_i_n0i_vi_X(N$8,vantHoff_EOS!$O$31:$X$31,vantHoff_EOS!$O$23:$X$23,'Reaction Progress'!$E30)/'Reaction Progress'!$F30,\" - \")","v":" - "},{"$f":"IF(O$8<=vantHoff_EOS!$N$19,nouti_i_n0i_vi_X(O$8,vantHoff_EOS!$O$31:$X$31,vantHoff_EOS!$O$23:$X$23,'Reaction Progress'!$E30)/'Reaction Progress'!$F30,\" - \")","v":" - "},{"$f":"IF(P$8<=vantHoff_EOS!$N$19,nouti_i_n0i_vi_X(P$8,vantHoff_EOS!$O$31:$X$31,vantHoff_EOS!$O$23:$X$23,'Reaction Progress'!$E30)/'Reaction Progress'!$F30,\" - \")","v":" - "},1,{"$f":"IF(G30<>\" - \",Phi_i_NS_Tci_Pci_wi_kijm_TinC_PinPa_yi(R$8,vantHoff_EOS!$N$19,vantHoff_EOS!$X$5:$X$14,vantHoff_EOS!$Y$5:$Y$14,vantHoff_EOS!$Z$5:$Z$14,vantHoff_EOS!$AE$5:$AN$14,'Reaction Progress'!$AB30-273.15,'Reaction Progress'!$AC30*1000000,'Reaction Progress'!$G30:$P30),\"-\")","v":1.957026876967205},{"$f":"IF(H30<>\" - \",Phi_i_NS_Tci_Pci_wi_kijm_TinC_PinPa_yi(S$8,vantHoff_EOS!$N$19,vantHoff_EOS!$X$5:$X$14,vantHoff_EOS!$Y$5:$Y$14,vantHoff_EOS!$Z$5:$Z$14,vantHoff_EOS!$AE$5:$AN$14,'Reaction Progress'!$AB30-273.15,'Reaction Progress'!$AC30*1000000,'Reaction Progress'!$G30:$P30),\"-\")","v":2.8081424197341613},{"$f":"IF(I30<>\" - \",Phi_i_NS_Tci_Pci_wi_kijm_TinC_PinPa_yi(T$8,vantHoff_EOS!$N$19,vantHoff_EOS!$X$5:$X$14,vantHoff_EOS!$Y$5:$Y$14,vantHoff_EOS!$Z$5:$Z$14,vantHoff_EOS!$AE$5:$AN$14,'Reaction Progress'!$AB30-273.15,'Reaction Progress'!$AC30*1000000,'Reaction Progress'!$G30:$P30),\"-\")","v":0.21290796618354033},{"$f":"IF(J30<>\" - \",Phi_i_NS_Tci_Pci_wi_kijm_TinC_PinPa_yi(U$8,vantHoff_EOS!$N$19,vantHoff_EOS!$X$5:$X$14,vantHoff_EOS!$Y$5:$Y$14,vantHoff_EOS!$Z$5:$Z$14,vantHoff_EOS!$AE$5:$AN$14,'Reaction Progress'!$AB30-273.15,'Reaction Progress'!$AC30*1000000,'Reaction Progress'!$G30:$P30),\"-\")","v":2.0739086468351247E-2},{"$f":"IF(K30<>\" - \",Phi_i_NS_Tci_Pci_wi_kijm_TinC_PinPa_yi(V$8,vantHoff_EOS!$N$19,vantHoff_EOS!$X$5:$X$14,vantHoff_EOS!$Y$5:$Y$14,vantHoff_EOS!$Z$5:$Z$14,vantHoff_EOS!$AE$5:$AN$14,'Reaction Progress'!$AB30-273.15,'Reaction Progress'!$AC30*1000000,'Reaction Progress'!$G30:$P30),\"-\")","v":0.53957738652943787},{"$f":"IF(L30<>\" - \",Phi_i_NS_Tci_Pci_wi_kijm_TinC_PinPa_yi(W$8,vantHoff_EOS!$N$19,vantHoff_EOS!$X$5:$X$14,vantHoff_EOS!$Y$5:$Y$14,vantHoff_EOS!$Z$5:$Z$14,vantHoff_EOS!$AE$5:$AN$14,'Reaction Progress'!$AB30-273.15,'Reaction Progress'!$AC30*1000000,'Reaction Progress'!$G30:$P30),\"-\")","v":"-"},{"$f":"IF(M30<>\" - \",Phi_i_NS_Tci_Pci_wi_kijm_TinC_PinPa_yi(X$8,vantHoff_EOS!$N$19,vantHoff_EOS!$X$5:$X$14,vantHoff_EOS!$Y$5:$Y$14,vantHoff_EOS!$Z$5:$Z$14,vantHoff_EOS!$AE$5:$AN$14,'Reaction Progress'!$AB30-273.15,'Reaction Progress'!$AC30*1000000,'Reaction Progress'!$G30:$P30),\"-\")","v":"-"},{"$f":"IF(N30<>\" - \",Phi_i_NS_Tci_Pci_wi_kijm_TinC_PinPa_yi(Y$8,vantHoff_EOS!$N$19,vantHoff_EOS!$X$5:$X$14,vantHoff_EOS!$Y$5:$Y$14,vantHoff_EOS!$Z$5:$Z$14,vantHoff_EOS!$AE$5:$AN$14,'Reaction Progress'!$AB30-273.15,'Reaction Progress'!$AC30*1000000,'Reaction Progress'!$G30:$P30),\"-\")","v":"-"},{"$f":"IF(O30<>\" - \",Phi_i_NS_Tci_Pci_wi_kijm_TinC_PinPa_yi(Z$8,vantHoff_EOS!$N$19,vantHoff_EOS!$X$5:$X$14,vantHoff_EOS!$Y$5:$Y$14,vantHoff_EOS!$Z$5:$Z$14,vantHoff_EOS!$AE$5:$AN$14,'Reaction Progress'!$AB30-273.15,'Reaction Progress'!$AC30*1000000,'Reaction Progress'!$G30:$P30),\"-\")","v":"-"},{"$f":"IF(P30<>\" - \",Phi_i_NS_Tci_Pci_wi_kijm_TinC_PinPa_yi(AA$8,vantHoff_EOS!$N$19,vantHoff_EOS!$X$5:$X$14,vantHoff_EOS!$Y$5:$Y$14,vantHoff_EOS!$Z$5:$Z$14,vantHoff_EOS!$AE$5:$AN$14,'Reaction Progress'!$AB30-273.15,'Reaction Progress'!$AC30*1000000,'Reaction Progress'!$G30:$P30),\"-\")","v":"-"},326.98526134954767,13.268686026912263,87.796258377205959,1.1390007028586816E-2,473.75283508195844]
[null,null,null,23,0.44000000000000011,{"$f":"nT_NS_n0i_vi_X(vantHoff_EOS!$N$19,vantHoff_EOS!$O$31:$X$31,vantHoff_EOS!$O$23:$X$23,'Reaction Progress'!E31)","v":9.4599999999999991},{"$f":"IF(G$8<=vantHoff_EOS!$N$19,nouti_i_n0i_vi_X(G$8,vantHoff_EOS!$O$31:$X$31,vantHoff_EOS!$O$23:$X$23,'Reaction Progress'!$E31)/'Reaction Progress'!$F31,\" - \")","v":5.919661733615221E-2},{"$f":"IF(H$8<=vantHoff_EOS!$N$19,nouti_i_n0i_vi_X(H$8,vantHoff_EOS!$O$31:$X$31,vantHoff_EOS!$O$23:$X$23,'Reaction Progress'!$E31)/'Reaction Progress'!$F31,\" - \")","v":5.919661733615221E-2},{"$f":"IF(I$8<=vantHoff_EOS!$N$19,nouti_i_n0i_vi_X(I$8,vantHoff_EOS!$O$31:$X$31,vantHoff_EOS!$O$23:$X$23,'Reaction Progress'!$E31)/'Reaction Progress'!$F31,\" - \")","v":5.919661733615221E-2},{"$f":"IF(J$8<=vantHoff_EOS!$N$19,nouti_i_n0i_vi_X(J$8,vantHoff_EOS!$O$31:$X$31,vantHoff_EOS!$O$23:$X$23,'Reaction Progress'!$E31)/'Reaction Progress'!$F31,\" - \")","v":4.6511627906976757E-2},{"$f":"IF(K$8<=vantHoff_EOS!$N$19,nouti_i_n0i_vi_X(K$8,vantHoff_EOS!$O$31:$X$31,vantHoff_EOS!$O$23:$X$23,'Reaction Progress'!$E31)/'Reaction Progress'!$F31,\" - \")","v":0.77589852008456661},{"$f":"IF(L$8<=vantHoff_EOS!$N$19,nouti_i_n0i_vi_X(L$8,vantHoff_EOS!$O$31:$X$31,vantHoff_EOS!$O$23:$X$23,'Reaction Progress'!$E31)/'Reaction Progress'!$F31,\" - \")","v":" - "},{"$f":"IF(M$8<=vantHoff_EOS!$N$19,nouti_i_n0i_vi_X(M$8,vantHoff_EOS!$O$31:$X$31,vantHoff_EOS!$O$23:$X$23,'Reaction Progress'!$E31)/'Reaction Progress'!$F31,\" - \")","v":" - "},{"$f":"IF(N$8<=vantHoff_EOS!$N$19,nouti_i_n0i_vi_X(N$8,vantHoff_EOS!$O$31:$X$31,vantHoff_EOS!$O$23:$X$23,'Reaction Progress'!$E31)/'Reaction Progress'!$F31,\" - \")","v":" - "},{"$f":"IF(O$8<=vantHoff_EOS!$N$19,nouti_i_n0i_vi_X(O$8,vantHoff_EOS!$O$31:$X$31,vantHoff_EOS!$O$23:$X$23,'Reaction Progress'!$E31)/'Reaction Progress'!$F31,\" - \")","v":" - "},{"$f":"IF(P$8<=vantHoff_EOS!$N$19,nouti_i_n0i_vi_X(P$8,vantHoff_EOS!$O$31:$X$31,vantHoff_EOS!$O$23:$X$23,'Reaction Progress'!$E31)/'Reaction Progress'!$F31,\" - \")","v":" - "},1,{"$f":"IF(G31<>\" - \",Phi_i_NS_Tci_Pci_wi_kijm_TinC_PinPa_yi(R$8,vantHoff_EOS!$N$19,vantHoff_EOS!$X$5:$X$14,vantHoff_EOS!$Y$5:$Y$14,vantHoff_EOS!$Z$5:$Z$14,vantHoff_EOS!$AE$5:$AN$14,'Reaction Progress'!$AB31-273.15,'Reaction Progress'!$AC31*1000000,'Reaction Progress'!$G31:$P31),\"-\")","v":1.9686747478851048},{"$f":"IF(H31<>\" - \",Phi_i_NS_Tci_Pci_wi_kijm_TinC_PinPa_yi(S$8,vantHoff_EOS!$N$19,vantHoff_EOS!$X$5:$X$14,vantHoff_EOS!$Y$5:$Y$14,vantHoff_EOS!$Z$5:$Z$14,vantHoff_EOS!$AE$5:$AN$14,'Reaction Progress'!$AB31-273.15,'Reaction Progress'!$AC31*1000000,'Reaction Progress'!$G31:$P31),\"-\")","v":2.8156156370600791},{"$f":"IF(I31<>\" - \",Phi_i_NS_Tci_Pci_wi_kijm_TinC_PinPa_yi(T$8,vantHoff_EOS!$N$19,vantHoff_EOS!$X$5:$X$14,vantHoff_EOS!$Y$5:$Y$14,vantHoff_EOS!$Z$5:$Z$14,vantHoff_EOS!$AE$5:$AN$14,'Reaction Progress'!$AB31-273.15,'Reaction Progress'!$AC31*1000000,'Reaction Progress'!$G31:$P31),\"-\")","v":0.21580075264997864},{"$f":"IF(J31<>\" - \",Phi_i_NS_Tci_Pci_wi_kijm_TinC_PinPa_yi(U$8,vantHoff_EOS!$N$19,vantHoff_EOS!$X$5:$X$14,vantHoff_EOS!$Y$5:$Y$14,vantHoff_EOS!$Z$5:$Z$14,vantHoff_EOS!$AE$5:$AN$14,'Reaction Progress'!$AB31-273.15,'Reaction Progress'!$AC31*1000000,'Reaction Progress'!$G31:$P31),\"-\")","v":2.1231606642014098E-2},{"$f":"IF(K31<>\" - \",Phi_i_NS_Tci_Pci_wi_kijm_TinC_PinPa_yi(V$8,vantHoff_EOS!$N$19,vantHoff_EOS!$X$5:$X$14,vantHoff_EOS!$Y$5:$Y$14,vantHoff_EOS!$Z$5:$Z$14,vantHoff_EOS!$AE$5:$AN$14,'Reaction Progress'!$AB31-273.15,'Reaction Progress'!$AC31*1000000,'Reaction Progress'!$G31:$P31),\"-\")","v":0.54513663307175542},{"$f":"IF(L31<>\" - \",Phi_i_NS_Tci_Pci_wi_kijm_TinC_PinPa_yi(W$8,vantHoff_EOS!$N$19,vantHoff_EOS!$X$5:$X$14,vantHoff_EOS!$Y$5:$Y$14,vantHoff_EOS!$Z$5:$Z$14,vantHoff_EOS!$AE$5:$AN$14,'Reaction Progress'!$AB31-273.15,'Reaction Progress'!$AC31*1000000,'Reaction Progress'!$G31:$P31),\"-\")","v":"-"},{"$f":"IF(M31<>\" - \",Phi_i_NS_Tci_Pci_wi_kijm_TinC_PinPa_yi(X$8,vantHoff_EOS!$N$19,vantHoff_EOS!$X$5:$X$14,vantHoff_EOS!$Y$5:$Y$14,vantHoff_EOS!$Z$5:$Z$14,vantHoff_EOS!$AE$5:$AN$14,'Reaction Progress'!$AB31-273.15,'Reaction Progress'!$AC31*1000000,'Reaction Progress'!$G31:$P31),\"-\")","v":"-"},{"$f":"IF(N31<>\" - \",Phi_i_NS_Tci_Pci_wi_kijm_TinC_PinPa_yi(Y$8,vantHoff_EOS!$N$19,vantHoff_EOS!$X$5:$X$14,vantHoff_EOS!$Y$5:$Y$14,vantHoff_EOS!$Z$5:$Z$14,vantHoff_EOS!$AE$5:$AN$14,'Reaction Progress'!$AB31-273.15,'Reaction Progress'!$AC31*1000000,'Reaction Progress'!$G31:$P31),\"-\")","v":"-"},{"$f":"IF(O31<>\" - \",Phi_i_NS_Tci_Pci_wi_kijm_TinC_PinPa_yi(Z$8,vantHoff_EOS!$N$19,vantHoff_EOS!$X$5:$X$14,vantHoff_EOS!$Y$5:$Y$14,vantHoff_EOS!$Z$5:$Z$14,vantHoff_EOS!$AE$5:$AN$14,'Reaction Progress'!$AB31-273.15,'Reaction Progress'!$AC31*1000000,'Reaction Progress'!$G31:$P31),\"-\")","v":"-"},{"$f":"IF(P31<>\" - \",Phi_i_NS_Tci_Pci_wi_kijm_TinC_PinPa_yi(AA$8,vantHoff_EOS!$N$19,vantHoff_EOS!$X$5:$X$14,vantHoff_EOS!$Y$5:$Y$14,vantHoff_EOS!$Z$5:$Z$14,vantHoff_EOS!$AE$5:$AN$14,'Reaction Progress'!$AB31-273.15,'Reaction Progress'!$AC31*1000000,'Reaction Progress'!$G31:$P31),\"-\")","v":"-"},328.22104753269105,13.279112233339468,87.985530739399024,1.1365505118811656E-2,474.73258338787377]
[null,null,null,24,0.46000000000000013,{"$f":"nT_NS_n0i_vi_X(vantHoff_EOS!$N$19,vantHoff_EOS!$O$31:$X$31,vantHoff_EOS!$O$23:$X$23,'Reaction Progress'!E32)","v":9.42},{"$f":"IF(G$8<=vantHoff_EOS!$N$19,nouti_i_n0i_vi_X(G$8,vantHoff_EOS!$O$31:$X$31,vantHoff_EOS!$O$23:$X$23,'Reaction Progress'!$E32)/'Reaction Progress'!$F32,\" - \")","v":5.7324840764331191E-2},{"$f":"IF(H$8<=vantHoff_EOS!$N$19,nouti_i_n0i_vi_X(H$8,vantHoff_EOS!$O$31:$X$31,vantHoff_EOS!$O$23:$X$23,'Reaction Progress'!$E32)/'Reaction Progress'!$F32,\" - \")","v":5.7324840764331191E-2},{"$f":"IF(I$8<=vantHoff_EOS!$N$19,nouti_i_n0i_vi_X(I$8,vantHoff_EOS!$O$31:$X$31,vantHoff_EOS!$O$23:$X$23,'Reaction Progress'!$E32)/'Reaction Progress'!$F32,\" - \")","v":5.7324840764331191E-2},{"$f":"IF(J$8<=vantHoff_EOS!$N$19,nouti_i_n0i_vi_X(J$8,vantHoff_EOS!$O$31:$X$31,vantHoff_EOS!$O$23:$X$23,'Reaction Progress'!$E32)/'Reaction Progress'!$F32,\" - \")","v":4.8832271762208085E-2},{"$f":"IF(K$8<=vantHoff_EOS!$N$19,nouti_i_n0i_vi_X(K$8,vantHoff_EOS!$O$31:$X$31,vantHoff_EOS!$O$23:$X$23,'Reaction Progress'!$E32)/'Reaction Progress'!$F32,\" - \")","v":0.77919320594479824},{"$f":"IF(L$8<=vantHoff_EOS!$N$19,nouti_i_n0i_vi_X(L$8,vantHoff_EOS!$O$31:$X$31,vantHoff_EOS!$O$23:$X$23,'Reaction Progress'!$E32)/'Reaction Progress'!$F32,\" - \")","v":" - "},{"$f":"IF(M$8<=vantHoff_EOS!$N$19,nouti_i_n0i_vi_X(M$8,vantHoff_EOS!$O$31:$X$31,vantHoff_EOS!$O$23:$X$23,'Reaction Progress'!$E32)/'Reaction Progress'!$F32,\" - \")","v":" - "},{"$f":"IF(N$8<=vantHoff_EOS!$N$19,nouti_i_n0i_vi_X(N$8,vantHoff_EOS!$O$31:$X$31,vantHoff_EOS!$O$23:$X$23,'Reaction Progress'!$E32)/'Reaction Progress'!$F32,\" - \")","v":" - "},{"$f":"IF(O$8<=vantHoff_EOS!$N$19,nouti_i_n0i_vi_X(O$8,vantHoff_EOS!$O$31:$X$31,vantHoff_EOS!$O$23:$X$23,'Reaction Progress'!$E32)/'Reaction Progress'!$F32,\" - \")","v":" - "},{"$f":"IF(P$8<=vantHoff_EOS!$N$19,nouti_i_n0i_vi_X(P$8,vantHoff_EOS!$O$31:$X$31,vantHoff_EOS!$O$23:$X$23,'Reaction Progress'!$E32)/'Reaction Progress'!$F32,\" - \")","v":" - "},0.99999999999999989,{"$f":"IF(G32<>\" - \",Phi_i_NS_Tci_Pci_wi_kijm_TinC_PinPa_yi(R$8,vantHoff_EOS!$N$19,vantHoff_EOS!$X$5:$X$14,vantHoff_EOS!$Y$5:$Y$14,vantHoff_EOS!$Z$5:$Z$14,vantHoff_EOS!$AE$5:$AN$14,'Reaction Progress'!$AB32-273.15,'Reaction Progress'!$AC32*1000000,'Reaction Progress'!$G32:$P32),\"-\")","v":1.9802172603165238},{"$f":"IF(H32<>\" - \",Phi_i_NS_Tci_Pci_wi_kijm_TinC_PinPa_yi(S$8,vantHoff_EOS!$N$19,vantHoff_EOS!$X$5:$X$14,vantHoff_EOS!$Y$5:$Y$14,vantHoff_EOS!$Z$5:$Z$14,vantHoff_EOS!$AE$5:$AN$14,'Reaction Progress'!$AB32-273.15,'Reaction Progress'!$AC32*1000000,'Reaction Progress'!$G32:$P32),\"-\")","v":2.8227835524912717},{"$f":"IF(I32<>\" - \",Phi_i_NS_Tci_Pci_wi_kijm_TinC_PinPa_yi(T$8,vantHoff_EOS!$N$19,vantHoff_EOS!$X$5:$X$14,vantHoff_EOS!$Y$5:$Y$14,vantHoff_EOS!$Z$5:$Z$14,vantHoff_EOS!$AE$5:$AN$14,'Reaction Progress'!$AB32-273.15,'Reaction Progress'!$AC32*1000000,'Reaction Progress'!$G32:$P32),\"-\")","v":0.21878393066033236},{"$f":"IF(J32<>\" - \",Phi_i_NS_Tci_Pci_wi_kijm_TinC_PinPa_yi(U$8,vantHoff_EOS!$N$19,vantHoff_EOS!$X$5:$X$14,vantHoff_EOS!$Y$5:$Y$14,vantHoff_EOS!$Z$5:$Z$14,vantHoff_EOS!$AE$5:$AN$14,'Reaction Progress'!$AB32-273.15,'Reaction Progress'!$AC32*1000000,'Reaction Progress'!$G32:$P32),\"-\")","v":2.1747508238123932E-2},{"$f":"IF(K32<>\" - \",Phi_i_NS_Tci_Pci_wi_kijm_TinC_PinPa_yi(V$8,vantHoff_EOS!$N$19,vantHoff_EOS!$X$5:$X$14,vantHoff_EOS!$Y$5:$Y$14,vantHoff_EOS!$Z$5:$Z$14,vantHoff_EOS!$AE$5:$AN$14,'Reaction Progress'!$AB32-273.15,'Reaction Progress'!$AC32*1000000,'Reaction Progress'!$G32:$P32),\"-\")","v":0.55083974076894837},{"$f":"IF(L32<>\" - \",Phi_i_NS_Tci_Pci_wi_kijm_TinC_PinPa_yi(W$8,vantHoff_EOS!$N$19,vantHoff_EOS!$X$5:$X$14,vantHoff_EOS!$Y$5:$Y$14,vantHoff_EOS!$Z$5:$Z$14,vantHoff_EOS!$AE$5:$AN$14,'Reaction Progress'!$AB32-273.15,'Reaction Progress'!$AC32*1000000,'Reaction Progress'!$G32:$P32),\"-\")","v":"-"},{"$f":"IF(M32<>\" - \",Phi_i_NS_Tci_Pci_wi_kijm_TinC_PinPa_yi(X$8,vantHoff_EOS!$N$19,vantHoff_EOS!$X$5:$X$14,vantHoff_EOS!$Y$5:$Y$14,vantHoff_EOS!$Z$5:$Z$14,vantHoff_EOS!$AE$5:$AN$14,'Reaction Progress'!$AB32-273.15,'Reaction Progress'!$AC32*1000000,'Reaction Progress'!$G32:$P32),\"-\")","v":"-"},{"$f":"IF(N32<>\" - \",Phi_i_NS_Tci_Pci_wi_kijm_TinC_PinPa_yi(Y$8,vantHoff_EOS!$N$19,vantHoff_EOS!$X$5:$X$14,vantHoff_EOS!$Y$5:$Y$14,vantHoff_EOS!$Z$5:$Z$14,vantHoff_EOS!$AE$5:$AN$14,'Reaction Progress'!$AB32-273.15,'Reaction Progress'!$AC32*1000000,'Reaction Progress'!$G32:$P32),\"-\")","v":"-"},{"$f":"IF(O32<>\" - \",Phi_i_NS_Tci_Pci_wi_kijm_TinC_PinPa_yi(Z$8,vantHoff_EOS!$N$19,vantHoff_EOS!$X$5:$X$14,vantHoff_EOS!$Y$5:$Y$14,vantHoff_EOS!$Z$5:$Z$14,vantHoff_EOS!$AE$5:$AN$14,'Reaction Progress'!$AB32-273.15,'Reaction Progress'!$AC32*1000000,'Reaction Progress'!$G32:$P32),\"-\")","v":"-"},{"$f":"IF(P32<>\" - \",Phi_i_NS_Tci_Pci_wi_kijm_TinC_PinPa_yi(AA$8,vantHoff_EOS!$N$19,vantHoff_EOS!$X$5:$X$14,vantHoff_EOS!$Y$5:$Y$14,vantHoff_EOS!$Z$5:$Z$14,vantHoff_EOS!$AE$5:$AN$14,'Reaction Progress'!$AB32-273.15,'Reaction Progress'!$AC32*1000000,'Reaction Progress'!$G32:$P32),\"-\")","v":"-"},329.46028728726304,13.285323722816948,88.199223340464201,1.1337968319061356E-2,475.59334785363387]
[null,null,null,25,0.48000000000000015,{"$f":"nT_NS_n0i_vi_X(vantHoff_EOS!$N$19,vantHoff_EOS!$O$31:$X$31,vantHoff_EOS!$O$23:$X$23,'Reaction Progress'!E33)","v":9.379999999999999},{"$f":"IF(G$8<=vantHoff_EOS!$N$19,nouti_i_n0i_vi_X(G$8,vantHoff_EOS!$O$31:$X$31,vantHoff_EOS!$O$23:$X$23,'Reaction Progress'!$E33)/'Reaction Progress'!$F33,\" - \")","v":5.5437100213219598E-2},{"$f":"IF(H$8<=vantHoff_EOS!$N$19,nouti_i_n0i_vi_X(H$8,vantHoff_EOS!$O$31:$X$31,vantHoff_EOS!$O$23:$X$23,'Reaction Progress'!$E33)/'Reaction Progress'!$F33,\" - \")","v":5.5437100213219598E-2},{"$f":"IF(I$8<=vantHoff_EOS!$N$19,nouti_i_n0i_vi_X(I$8,vantHoff_EOS!$O$31:$X$31,vantHoff_EOS!$O$23:$X$23,'Reaction Progress'!$E33)/'Reaction Progress'!$F33,\" - \")","v":5.5437100213219598E-2},{"$f":"IF(J$8<=vantHoff_EOS!$N$19,nouti_i_n0i_vi_X(J$8,vantHoff_EOS!$O$31:$X$31,vantHoff_EOS!$O$23:$X$23,'Reaction Progress'!$E33)/'Reaction Progress'!$F33,\" - \")","v":5.1172707889125819E-2},{"$f":"IF(K$8<=vantHoff_EOS!$N$19,nouti_i_n0i_vi_X(K$8,vantHoff_EOS!$O$31:$X$31,vantHoff_EOS!$O$23:$X$23,'Reaction Progress'!$E33)/'Reaction Progress'!$F33,\" - \")","v":0.78251599147121542},{"$f":"IF(L$8<=vantHoff_EOS!$N$19,nouti_i_n0i_vi_X(L$8,vantHoff_EOS!$O$31:$X$31,vantHoff_EOS!$O$23:$X$23,'Reaction Progress'!$E33)/'Reaction Progress'!$F33,\" - \")","v":" - "},{"$f":"IF(M$8<=vantHoff_EOS!$N$19,nouti_i_n0i_vi_X(M$8,vantHoff_EOS!$O$31:$X$31,vantHoff_EOS!$O$23:$X$23,'Reaction Progress'!$E33)/'Reaction Progress'!$F33,\" - \")","v":" - "},{"$f":"IF(N$8<=vantHoff_EOS!$N$19,nouti_i_n0i_vi_X(N$8,vantHoff_EOS!$O$31:$X$31,vantHoff_EOS!$O$23:$X$23,'Reaction Progress'!$E33)/'Reaction Progress'!$F33,\" - \")","v":" - "},{"$f":"IF(O$8<=vantHoff_EOS!$N$19,nouti_i_n0i_vi_X(O$8,vantHoff_EOS!$O$31:$X$31,vantHoff_EOS!$O$23:$X$23,'Reaction Progress'!$E33)/'Reaction Progress'!$F33,\" - \")","v":" - "},{"$f":"IF(P$8<=vantHoff_EOS!$N$19,nouti_i_n0i_vi_X(P$8,vantHoff_EOS!$O$31:$X$31,vantHoff_EOS!$O$23:$X$23,'Reaction Progress'!$E33)/'Reaction Progress'!$F33,\" - \")","v":" - "},1,{"$f":"IF(G33<>\" - \",Phi_i_NS_Tci_Pci_wi_kijm_TinC_PinPa_yi(R$8,vantHoff_EOS!$N$19,vantHoff_EOS!$X$5:$X$14,vantHoff_EOS!$Y$5:$Y$14,vantHoff_EOS!$Z$5:$Z$14,vantHoff_EOS!$AE$5:$AN$14,'Reaction Progress'!$AB33-273.15,'Reaction Progress'!$AC33*1000000,'Reaction Progress'!$G33:$P33),\"-\")","v":1.9916618132055763},{"$f":"IF(H33<>\" - \",Phi_i_NS_Tci_Pci_wi_kijm_TinC_PinPa_yi(S$8,vantHoff_EOS!$N$19,vantHoff_EOS!$X$5:$X$14,vantHoff_EOS!$Y$5:$Y$14,vantHoff_EOS!$Z$5:$Z$14,vantHoff_EOS!$AE$5:$AN$14,'Reaction Progress'!$AB33-273.15,'Reaction Progress'!$AC33*1000000,'Reaction Progress'!$G33:$P33),\"-\")","v":2.8296697341242334},{"$f":"IF(I33<>\" - \",Phi_i_NS_Tci_Pci_wi_kijm_TinC_PinPa_yi(T$8,vantHoff_EOS!$N$19,vantHoff_EOS!$X$5:$X$14,vantHoff_EOS!$Y$5:$Y$14,vantHoff_EOS!$Z$5:$Z$14,vantHoff_EOS!$AE$5:$AN$14,'Reaction Progress'!$AB33-273.15,'Reaction Progress'!$AC33*1000000,'Reaction Progress'!$G33:$P33),\"-\")","v":0.22185596566918178},{"$f":"IF(J33<>\" - \",Phi_i_NS_Tci_Pci_wi_kijm_TinC_PinPa_yi(U$8,vantHoff_EOS!$N$19,vantHoff_EOS!$X$5:$X$14,vantHoff_EOS!$Y$5:$Y$14,vantHoff_EOS!$Z$5:$Z$14,vantHoff_EOS!$AE$5:$AN$14,'Reaction Progress'!$AB33-273.15,'Reaction Progress'!$AC33*1000000,'Reaction Progress'!$G33:$P33),\"-\")","v":2.2286945304772179E-2},{"$f":"IF(K33<>\" - \",Phi_i_NS_Tci_Pci_wi_kijm_TinC_PinPa_yi(V$8,vantHoff_EOS!$N$19,vantHoff_EOS!$X$5:$X$14,vantHoff_EOS!$Y$5:$Y$14,vantHoff_EOS!$Z$5:$Z$14,vantHoff_EOS!$AE$5:$AN$14,'Reaction Progress'!$AB33-273.15,'Reaction Progress'!$AC33*1000000,'Reaction Progress'!$G33:$P33),\"-\")","v":0.55668337271931323},{"$f":"IF(L33<>\" - \",Phi_i_NS_Tci_Pci_wi_kijm_TinC_PinPa_yi(W$8,vantHoff_EOS!$N$19,vantHoff_EOS!$X$5:$X$14,vantHoff_EOS!$Y$5:$Y$14,vantHoff_EOS!$Z$5:$Z$14,vantHoff_EOS!$AE$5:$AN$14,'Reaction Progress'!$AB33-273.15,'Reaction Progress'!$AC33*1000000,'Reaction Progress'!$G33:$P33),\"-\")","v":"-"},{"$f":"IF(M33<>\" - \",Phi_i_NS_Tci_Pci_wi_kijm_TinC_PinPa_yi(X$8,vantHoff_EOS!$N$19,vantHoff_EOS!$X$5:$X$14,vantHoff_EOS!$Y$5:$Y$14,vantHoff_EOS!$Z$5:$Z$14,vantHoff_EOS!$AE$5:$AN$14,'Reaction Progress'!$AB33-273.15,'Reaction Progress'!$AC33*1000000,'Reaction Progress'!$G33:$P33),\"-\")","v":"-"},{"$f":"IF(N33<>\" - \",Phi_i_NS_Tci_Pci_wi_kijm_TinC_PinPa_yi(Y$8,vantHoff_EOS!$N$19,vantHoff_EOS!$X$5:$X$14,vantHoff_EOS!$Y$5:$Y$14,vantHoff_EOS!$Z$5:$Z$14,vantHoff_EOS!$AE$5:$AN$14,'Reaction Progress'!$AB33-273.15,'Reaction Progress'!$AC33*1000000,'Reaction Progress'!$G33:$P33),\"-\")","v":"-"},{"$f":"IF(O33<>\" - \",Phi_i_NS_Tci_Pci_wi_kijm_TinC_PinPa_yi(Z$8,vantHoff_EOS!$N$19,vantHoff_EOS!$X$5:$X$14,vantHoff_EOS!$Y$5:$Y$14,vantHoff_EOS!$Z$5:$Z$14,vantHoff_EOS!$AE$5:$AN$14,'Reaction Progress'!$AB33-273.15,'Reaction Progress'!$AC33*1000000,'Reaction Progress'!$G33:$P33),\"-\")","v":"-"},{"$f":"IF(P33<>\" - \",Phi_i_NS_Tci_Pci_wi_kijm_TinC_PinPa_yi(AA$8,vantHoff_EOS!$N$19,vantHoff_EOS!$X$5:$X$14,vantHoff_EOS!$Y$5:$Y$14,vantHoff_EOS!$Z$5:$Z$14,vantHoff_EOS!$AE$5:$AN$14,'Reaction Progress'!$AB33-273.15,'Reaction Progress'!$AC33*1000000,'Reaction Progress'!$G33:$P33),\"-\")","v":"-"},330.70299805165632,13.287471734776908,88.4362837304148,1.1307576006340962E-2,476.34116270532741]
[null,null,null,26,0.50000000000000011,{"$f":"nT_NS_n0i_vi_X(vantHoff_EOS!$N$19,vantHoff_EOS!$O$31:$X$31,vantHoff_EOS!$O$23:$X$23,'Reaction Progress'!E34)","v":9.34},{"$f":"IF(G$8<=vantHoff_EOS!$N$19,nouti_i_n0i_vi_X(G$8,vantHoff_EOS!$O$31:$X$31,vantHoff_EOS!$O$23:$X$23,'Reaction Progress'!$E34)/'Reaction Progress'!$F34,\" - \")","v":5.3533190578158446E-2},{"$f":"IF(H$8<=vantHoff_EOS!$N$19,nouti_i_n0i_vi_X(H$8,vantHoff_EOS!$O$31:$X$31,vantHoff_EOS!$O$23:$X$23,'Reaction Progress'!$E34)/'Reaction Progress'!$F34,\" - \")","v":5.3533190578158446E-2},{"$f":"IF(I$8<=vantHoff_EOS!$N$19,nouti_i_n0i_vi_X(I$8,vantHoff_EOS!$O$31:$X$31,vantHoff_EOS!$O$23:$X$23,'Reaction Progress'!$E34)/'Reaction Progress'!$F34,\" - \")","v":5.3533190578158446E-2},{"$f":"IF(J$8<=vantHoff_EOS!$N$19,nouti_i_n0i_vi_X(J$8,vantHoff_EOS!$O$31:$X$31,vantHoff_EOS!$O$23:$X$23,'Reaction Progress'!$E34)/'Reaction Progress'!$F34,\" - \")","v":5.3533190578158474E-2},{"$f":"IF(K$8<=vantHoff_EOS!$N$19,nouti_i_n0i_vi_X(K$8,vantHoff_EOS!$O$31:$X$31,vantHoff_EOS!$O$23:$X$23,'Reaction Progress'!$E34)/'Reaction Progress'!$F34,\" - \")","v":0.78586723768736622},{"$f":"IF(L$8<=vantHoff_EOS!$N$19,nouti_i_n0i_vi_X(L$8,vantHoff_EOS!$O$31:$X$31,vantHoff_EOS!$O$23:$X$23,'Reaction Progress'!$E34)/'Reaction Progress'!$F34,\" - \")","v":" - "},{"$f":"IF(M$8<=vantHoff_EOS!$N$19,nouti_i_n0i_vi_X(M$8,vantHoff_EOS!$O$31:$X$31,vantHoff_EOS!$O$23:$X$23,'Reaction Progress'!$E34)/'Reaction Progress'!$F34,\" - \")","v":" - "},{"$f":"IF(N$8<=vantHoff_EOS!$N$19,nouti_i_n0i_vi_X(N$8,vantHoff_EOS!$O$31:$X$31,vantHoff_EOS!$O$23:$X$23,'Reaction Progress'!$E34)/'Reaction Progress'!$F34,\" - \")","v":" - "},{"$f":"IF(O$8<=vantHoff_EOS!$N$19,nouti_i_n0i_vi_X(O$8,vantHoff_EOS!$O$31:$X$31,vantHoff_EOS!$O$23:$X$23,'Reaction Progress'!$E34)/'Reaction Progress'!$F34,\" - \")","v":" - "},{"$f":"IF(P$8<=vantHoff_EOS!$N$19,nouti_i_n0i_vi_X(P$8,vantHoff_EOS!$O$31:$X$31,vantHoff_EOS!$O$23:$X$23,'Reaction Progress'!$E34)/'Reaction Progress'!$F34,\" - \")","v":" - "},1,{"$f":"IF(G34<>\" - \",Phi_i_NS_Tci_Pci_wi_kijm_TinC_PinPa_yi(R$8,vantHoff_EOS!$N$19,vantHoff_EOS!$X$5:$X$14,vantHoff_EOS!$Y$5:$Y$14,vantHoff_EOS!$Z$5:$Z$14,vantHoff_EOS!$AE$5:$AN$14,'Reaction Progress'!$AB34-273.15,'Reaction Progress'!$AC34*1000000,'Reaction Progress'!$G34:$P34),\"-\")","v":2.0030157313972321},{"$f":"IF(H34<>\" - \",Phi_i_NS_Tci_Pci_wi_kijm_TinC_PinPa_yi(S$8,vantHoff_EOS!$N$19,vantHoff_EOS!$X$5:$X$14,vantHoff_EOS!$Y$5:$Y$14,vantHoff_EOS!$Z$5:$Z$14,vantHoff_EOS!$AE$5:$AN$14,'Reaction Progress'!$AB34-273.15,'Reaction Progress'!$AC34*1000000,'Reaction Progress'!$G34:$P34),\"-\")","v":2.8362970529278164},{"$f":"IF(I34<>\" - \",Phi_i_NS_Tci_Pci_wi_kijm_TinC_PinPa_yi(T$8,vantHoff_EOS!$N$19,vantHoff_EOS!$X$5:$X$14,vantHoff_EOS!$Y$5:$Y$14,vantHoff_EOS!$Z$5:$Z$14,vantHoff_EOS!$AE$5:$AN$14,'Reaction Progress'!$AB34-273.15,'Reaction Progress'!$AC34*1000000,'Reaction Progress'!$G34:$P34),\"-\")","v":0.22501543450295342},{"$f":"IF(J34<>\" - \",Phi_i_NS_Tci_Pci_wi_kijm_TinC_PinPa_yi(U$8,vantHoff_EOS!$N$19,vantHoff_EOS!$X$5:$X$14,vantHoff_EOS!$Y$5:$Y$14,vantHoff_EOS!$Z$5:$Z$14,vantHoff_EOS!$AE$5:$AN$14,'Reaction Progress'!$AB34-273.15,'Reaction Progress'!$AC34*1000000,'Reaction Progress'!$G34:$P34),\"-\")","v":2.285009585373686E-2},{"$f":"IF(K34<>\" - \",Phi_i_NS_Tci_Pci_wi_kijm_TinC_PinPa_yi(V$8,vantHoff_EOS!$N$19,vantHoff_EOS!$X$5:$X$14,vantHoff_EOS!$Y$5:$Y$14,vantHoff_EOS!$Z$5:$Z$14,vantHoff_EOS!$AE$5:$AN$14,'Reaction Progress'!$AB34-273.15,'Reaction Progress'!$AC34*1000000,'Reaction Progress'!$G34:$P34),\"-\")","v":0.56266439945386904},{"$f":"IF(L34<>\" - \",Phi_i_NS_Tci_Pci_wi_kijm_TinC_PinPa_yi(W$8,vantHoff_EOS!$N$19,vantHoff_EOS!$X$5:$X$14,vantHoff_EOS!$Y$5:$Y$14,vantHoff_EOS!$Z$5:$Z$14,vantHoff_EOS!$AE$5:$AN$14,'Reaction Progress'!$AB34-273.15,'Reaction Progress'!$AC34*1000000,'Reaction Progress'!$G34:$P34),\"-\")","v":"-"},{"$f":"IF(M34<>\" - \",Phi_i_NS_Tci_Pci_wi_kijm_TinC_PinPa_yi(X$8,vantHoff_EOS!$N$19,vantHoff_EOS!$X$5:$X$14,vantHoff_EOS!$Y$5:$Y$14,vantHoff_EOS!$Z$5:$Z$14,vantHoff_EOS!$AE$5:$AN$14,'Reaction Progress'!$AB34-273.15,'Reaction Progress'!$AC34*1000000,'Reaction Progress'!$G34:$P34),\"-\")","v":"-"},{"$f":"IF(N34<>\" - \",Phi_i_NS_Tci_Pci_wi_kijm_TinC_PinPa_yi(Y$8,vantHoff_EOS!$N$19,vantHoff_EOS!$X$5:$X$14,vantHoff_EOS!$Y$5:$Y$14,vantHoff_EOS!$Z$5:$Z$14,vantHoff_EOS!$AE$5:$AN$14,'Reaction Progress'!$AB34-273.15,'Reaction Progress'!$AC34*1000000,'Reaction Progress'!$G34:$P34),\"-\")","v":"-"},{"$f":"IF(O34<>\" - \",Phi_i_NS_Tci_Pci_wi_kijm_TinC_PinPa_yi(Z$8,vantHoff_EOS!$N$19,vantHoff_EOS!$X$5:$X$14,vantHoff_EOS!$Y$5:$Y$14,vantHoff_EOS!$Z$5:$Z$14,vantHoff_EOS!$AE$5:$AN$14,'Reaction Progress'!$AB34-273.15,'Reaction Progress'!$AC34*1000000,'Reaction Progress'!$G34:$P34),\"-\")","v":"-"},{"$f":"IF(P34<>\" - \",Phi_i_NS_Tci_Pci_wi_kijm_TinC_PinPa_yi(AA$8,vantHoff_EOS!$N$19,vantHoff_EOS!$X$5:$X$14,vantHoff_EOS!$Y$5:$Y$14,vantHoff_EOS!$Z$5:$Z$14,vantHoff_EOS!$AE$5:$AN$14,'Reaction Progress'!$AB34-273.15,'Reaction Progress'!$AC34*1000000,'Reaction Progress'!$G34:$P34),\"-\")","v":"-"},331.94916042580553,13.285698207924987,88.695750229299605,1.1274497339666919E-2,476.98173325427439]
[null,null,null,27,0.52000000000000013,{"$f":"nT_NS_n0i_vi_X(vantHoff_EOS!$N$19,vantHoff_EOS!$O$31:$X$31,vantHoff_EOS!$O$23:$X$23,'Reaction Progress'!E35)","v":9.2999999999999989},{"$f":"IF(G$8<=vantHoff_EOS!$N$19,nouti_i_n0i_vi_X(G$8,vantHoff_EOS!$O$31:$X$31,vantHoff_EOS!$O$23:$X$23,'Reaction Progress'!$E35)/'Reaction Progress'!$F35,\" - \")","v":5.1612903225806445E-2},{"$f":"IF(H$8<=vantHoff_EOS!$N$19,nouti_i_n0i_vi_X(H$8,vantHoff_EOS!$O$31:$X$31,vantHoff_EOS!$O$23:$X$23,'Reaction Progress'!$E35)/'Reaction Progress'!$F35,\" - \")","v":5.1612903225806445E-2},{"$f":"IF(I$8<=vantHoff_EOS!$N$19,nouti_i_n0i_vi_X(I$8,vantHoff_EOS!$O$31:$X$31,vantHoff_EOS!$O$23:$X$23,'Reaction Progress'!$E35)/'Reaction Progress'!$F35,\" - \")","v":5.1612903225806445E-2},{"$f":"IF(J$8<=vantHoff_EOS!$N$19,nouti_i_n0i_vi_X(J$8,vantHoff_EOS!$O$31:$X$31,vantHoff_EOS!$O$23:$X$23,'Reaction Progress'!$E35)/'Reaction Progress'!$F35,\" - \")","v":5.5913978494623678E-2},{"$f":"IF(K$8<=vantHoff_EOS!$N$19,nouti_i_n0i_vi_X(K$8,vantHoff_EOS!$O$31:$X$31,vantHoff_EOS!$O$23:$X$23,'Reaction Progress'!$E35)/'Reaction Progress'!$F35,\" - \")","v":0.78924731182795704},{"$f":"IF(L$8<=vantHoff_EOS!$N$19,nouti_i_n0i_vi_X(L$8,vantHoff_EOS!$O$31:$X$31,vantHoff_EOS!$O$23:$X$23,'Reaction Progress'!$E35)/'Reaction Progress'!$F35,\" - \")","v":" - "},{"$f":"IF(M$8<=vantHoff_EOS!$N$19,nouti_i_n0i_vi_X(M$8,vantHoff_EOS!$O$31:$X$31,vantHoff_EOS!$O$23:$X$23,'Reaction Progress'!$E35)/'Reaction Progress'!$F35,\" - \")","v":" - "},{"$f":"IF(N$8<=vantHoff_EOS!$N$19,nouti_i_n0i_vi_X(N$8,vantHoff_EOS!$O$31:$X$31,vantHoff_EOS!$O$23:$X$23,'Reaction Progress'!$E35)/'Reaction Progress'!$F35,\" - \")","v":" - "},{"$f":"IF(O$8<=vantHoff_EOS!$N$19,nouti_i_n0i_vi_X(O$8,vantHoff_EOS!$O$31:$X$31,vantHoff_EOS!$O$23:$X$23,'Reaction Progress'!$E35)/'Reaction Progress'!$F35,\" - \")","v":" - "},{"$f":"IF(P$8<=vantHoff_EOS!$N$19,nouti_i_n0i_vi_X(P$8,vantHoff_EOS!$O$31:$X$31,vantHoff_EOS!$O$23:$X$23,'Reaction Progress'!$E35)/'Reaction Progress'!$F35,\" - \")","v":" - "},1,{"$f":"IF(G35<>\" - \",Phi_i_NS_Tci_Pci_wi_kijm_TinC_PinPa_yi(R$8,vantHoff_EOS!$N$19,vantHoff_EOS!$X$5:$X$14,vantHoff_EOS!$Y$5:$Y$14,vantHoff_EOS!$Z$5:$Z$14,vantHoff_EOS!$AE$5:$AN$14,'Reaction Progress'!$AB35-273.15,'Reaction Progress'!$AC35*1000000,'Reaction Progress'!$G35:$P35),\"-\")","v":2.0142862703678954},{"$f":"IF(H35<>\" - \",Phi_i_NS_Tci_Pci_wi_kijm_TinC_PinPa_yi(S$8,vantHoff_EOS!$N$19,vantHoff_EOS!$X$5:$X$14,vantHoff_EOS!$Y$5:$Y$14,vantHoff_EOS!$Z$5:$Z$14,vantHoff_EOS!$AE$5:$AN$14,'Reaction Progress'!$AB35-273.15,'Reaction Progress'!$AC35*1000000,'Reaction Progress'!$G35:$P35),\"-\")","v":2.8426876839079531},{"$f":"IF(I35<>\" - \",Phi_i_NS_Tci_Pci_wi_kijm_TinC_PinPa_yi(T$8,vantHoff_EOS!$N$19,vantHoff_EOS!$X$5:$X$14,vantHoff_EOS!$Y$5:$Y$14,vantHoff_EOS!$Z$5:$Z$14,vantHoff_EOS!$AE$5:$AN$14,'Reaction Progress'!$AB35-273.15,'Reaction Progress'!$AC35*1000000,'Reaction Progress'!$G35:$P35),\"-\")","v":0.22826101973265758},{"$f":"IF(J35<>\" - \",Phi_i_NS_Tci_Pci_wi_kijm_TinC_PinPa_yi(U$8,vantHoff_EOS!$N$19,vantHoff_EOS!$X$5:$X$14,vantHoff_EOS!$Y$5:$Y$14,vantHoff_EOS!$Z$5:$Z$14,vantHoff_EOS!$AE$5:$AN$14,'Reaction Progress'!$AB35-273.15,'Reaction Progress'!$AC35*1000000,'Reaction Progress'!$G35:$P35),\"-\")","v":2.3437159874641619E-2},{"$f":"IF(K35<>\" - \",Phi_i_NS_Tci_Pci_wi_kijm_TinC_PinPa_yi(V$8,vantHoff_EOS!$N$19,vantHoff_EOS!$X$5:$X$14,vantHoff_EOS!$Y$5:$Y$14,vantHoff_EOS!$Z$5:$Z$14,vantHoff_EOS!$AE$5:$AN$14,'Reaction Progress'!$AB35-273.15,'Reaction Progress'!$AC35*1000000,'Reaction Progress'!$G35:$P35),\"-\")","v":0.56877989312462607},{"$f":"IF(L35<>\" - \",Phi_i_NS_Tci_Pci_wi_kijm_TinC_PinPa_yi(W$8,vantHoff_EOS!$N$19,vantHoff_EOS!$X$5:$X$14,vantHoff_EOS!$Y$5:$Y$14,vantHoff_EOS!$Z$5:$Z$14,vantHoff_EOS!$AE$5:$AN$14,'Reaction Progress'!$AB35-273.15,'Reaction Progress'!$AC35*1000000,'Reaction Progress'!$G35:$P35),\"-\")","v":"-"},{"$f":"IF(M35<>\" - \",Phi_i_NS_Tci_Pci_wi_kijm_TinC_PinPa_yi(X$8,vantHoff_EOS!$N$19,vantHoff_EOS!$X$5:$X$14,vantHoff_EOS!$Y$5:$Y$14,vantHoff_EOS!$Z$5:$Z$14,vantHoff_EOS!$AE$5:$AN$14,'Reaction Progress'!$AB35-273.15,'Reaction Progress'!$AC35*1000000,'Reaction Progress'!$G35:$P35),\"-\")","v":"-"},{"$f":"IF(N35<>\" - \",Phi_i_NS_Tci_Pci_wi_kijm_TinC_PinPa_yi(Y$8,vantHoff_EOS!$N$19,vantHoff_EOS!$X$5:$X$14,vantHoff_EOS!$Y$5:$Y$14,vantHoff_EOS!$Z$5:$Z$14,vantHoff_EOS!$AE$5:$AN$14,'Reaction Progress'!$AB35-273.15,'Reaction Progress'!$AC35*1000000,'Reaction Progress'!$G35:$P35),\"-\")","v":"-"},{"$f":"IF(O35<>\" - \",Phi_i_NS_Tci_Pci_wi_kijm_TinC_PinPa_yi(Z$8,vantHoff_EOS!$N$19,vantHoff_EOS!$X$5:$X$14,vantHoff_EOS!$Y$5:$Y$14,vantHoff_EOS!$Z$5:$Z$14,vantHoff_EOS!$AE$5:$AN$14,'Reaction Progress'!$AB35-273.15,'Reaction Progress'!$AC35*1000000,'Reaction Progress'!$G35:$P35),\"-\")","v":"-"},{"$f":"IF(P35<>\" - \",Phi_i_NS_Tci_Pci_wi_kijm_TinC_PinPa_yi(AA$8,vantHoff_EOS!$N$19,vantHoff_EOS!$X$5:$X$14,vantHoff_EOS!$Y$5:$Y$14,vantHoff_EOS!$Z$5:$Z$14,vantHoff_EOS!$AE$5:$AN$14,'Reaction Progress'!$AB35-273.15,'Reaction Progress'!$AC35*1000000,'Reaction Progress'!$G35:$P35),\"-\")","v":"-"},333.19872375957493,13.280136537813789,88.976743578777842,1.1238891869701034E-2,477.5204547258511]
[null,null,null,28,0.54000000000000015,{"$f":"nT_NS_n0i_vi_X(vantHoff_EOS!$N$19,vantHoff_EOS!$O$31:$X$31,vantHoff_EOS!$O$23:$X$23,'Reaction Progress'!E36)","v":9.26},{"$f":"IF(G$8<=vantHoff_EOS!$N$19,nouti_i_n0i_vi_X(G$8,vantHoff_EOS!$O$31:$X$31,vantHoff_EOS!$O$23:$X$23,'Reaction Progress'!$E36)/'Reaction Progress'!$F36,\" - \")","v":4.9676025917926553E-2},{"$f":"IF(H$8<=vantHoff_EOS!$N$19,nouti_i_n0i_vi_X(H$8,vantHoff_EOS!$O$31:$X$31,vantHoff_EOS!$O$23:$X$23,'Reaction Progress'!$E36)/'Reaction Progress'!$F36,\" - \")","v":4.9676025917926553E-2},{"$f":"IF(I$8<=vantHoff_EOS!$N$19,nouti_i_n0i_vi_X(I$8,vantHoff_EOS!$O$31:$X$31,vantHoff_EOS!$O$23:$X$23,'Reaction Progress'!$E36)/'Reaction Progress'!$F36,\" - \")","v":4.9676025917926553E-2},{"$f":"IF(J$8<=vantHoff_EOS!$N$19,nouti_i_n0i_vi_X(J$8,vantHoff_EOS!$O$31:$X$31,vantHoff_EOS!$O$23:$X$23,'Reaction Progress'!$E36)/'Reaction Progress'!$F36,\" - \")","v":5.831533477321816E-2},{"$f":"IF(K$8<=vantHoff_EOS!$N$19,nouti_i_n0i_vi_X(K$8,vantHoff_EOS!$O$31:$X$31,vantHoff_EOS!$O$23:$X$23,'Reaction Progress'!$E36)/'Reaction Progress'!$F36,\" - \")","v":0.79265658747300216},{"$f":"IF(L$8<=vantHoff_EOS!$N$19,nouti_i_n0i_vi_X(L$8,vantHoff_EOS!$O$31:$X$31,vantHoff_EOS!$O$23:$X$23,'Reaction Progress'!$E36)/'Reaction Progress'!$F36,\" - \")","v":" - "},{"$f":"IF(M$8<=vantHoff_EOS!$N$19,nouti_i_n0i_vi_X(M$8,vantHoff_EOS!$O$31:$X$31,vantHoff_EOS!$O$23:$X$23,'Reaction Progress'!$E36)/'Reaction Progress'!$F36,\" - \")","v":" - "},{"$f":"IF(N$8<=vantHoff_EOS!$N$19,nouti_i_n0i_vi_X(N$8,vantHoff_EOS!$O$31:$X$31,vantHoff_EOS!$O$23:$X$23,'Reaction Progress'!$E36)/'Reaction Progress'!$F36,\" - \")","v":" - "},{"$f":"IF(O$8<=vantHoff_EOS!$N$19,nouti_i_n0i_vi_X(O$8,vantHoff_EOS!$O$31:$X$31,vantHoff_EOS!$O$23:$X$23,'Reaction Progress'!$E36)/'Reaction Progress'!$F36,\" - \")","v":" - "},{"$f":"IF(P$8<=vantHoff_EOS!$N$19,nouti_i_n0i_vi_X(P$8,vantHoff_EOS!$O$31:$X$31,vantHoff_EOS!$O$23:$X$23,'Reaction Progress'!$E36)/'Reaction Progress'!$F36,\" - \")","v":" - "},1,{"$f":"IF(G36<>\" - \",Phi_i_NS_Tci_Pci_wi_kijm_TinC_PinPa_yi(R$8,vantHoff_EOS!$N$19,vantHoff_EOS!$X$5:$X$14,vantHoff_EOS!$Y$5:$Y$14,vantHoff_EOS!$Z$5:$Z$14,vantHoff_EOS!$AE$5:$AN$14,'Reaction Progress'!$AB36-273.15,'Reaction Progress'!$AC36*1000000,'Reaction Progress'!$G36:$P36),\"-\")","v":2.0254806214719014},{"$f":"IF(H36<>\" - \",Phi_i_NS_Tci_Pci_wi_kijm_TinC_PinPa_yi(S$8,vantHoff_EOS!$N$19,vantHoff_EOS!$X$5:$X$14,vantHoff_EOS!$Y$5:$Y$14,vantHoff_EOS!$Z$5:$Z$14,vantHoff_EOS!$AE$5:$AN$14,'Reaction Progress'!$AB36-273.15,'Reaction Progress'!$AC36*1000000,'Reaction Progress'!$G36:$P36),\"-\")","v":2.848863112360811},{"$f":"IF(I36<>\" - \",Phi_i_NS_Tci_Pci_wi_kijm_TinC_PinPa_yi(T$8,vantHoff_EOS!$N$19,vantHoff_EOS!$X$5:$X$14,vantHoff_EOS!$Y$5:$Y$14,vantHoff_EOS!$Z$5:$Z$14,vantHoff_EOS!$AE$5:$AN$14,'Reaction Progress'!$AB36-273.15,'Reaction Progress'!$AC36*1000000,'Reaction Progress'!$G36:$P36),\"-\")","v":0.23159150457405675},{"$f":"IF(J36<>\" - \",Phi_i_NS_Tci_Pci_wi_kijm_TinC_PinPa_yi(U$8,vantHoff_EOS!$N$19,vantHoff_EOS!$X$5:$X$14,vantHoff_EOS!$Y$5:$Y$14,vantHoff_EOS!$Z$5:$Z$14,vantHoff_EOS!$AE$5:$AN$14,'Reaction Progress'!$AB36-273.15,'Reaction Progress'!$AC36*1000000,'Reaction Progress'!$G36:$P36),\"-\")","v":2.4048357556967714E-2},{"$f":"IF(K36<>\" - \",Phi_i_NS_Tci_Pci_wi_kijm_TinC_PinPa_yi(V$8,vantHoff_EOS!$N$19,vantHoff_EOS!$X$5:$X$14,vantHoff_EOS!$Y$5:$Y$14,vantHoff_EOS!$Z$5:$Z$14,vantHoff_EOS!$AE$5:$AN$14,'Reaction Progress'!$AB36-273.15,'Reaction Progress'!$AC36*1000000,'Reaction Progress'!$G36:$P36),\"-\")","v":0.57502712194694694},{"$f":"IF(L36<>\" - \",Phi_i_NS_Tci_Pci_wi_kijm_TinC_PinPa_yi(W$8,vantHoff_EOS!$N$19,vantHoff_EOS!$X$5:$X$14,vantHoff_EOS!$Y$5:$Y$14,vantHoff_EOS!$Z$5:$Z$14,vantHoff_EOS!$AE$5:$AN$14,'Reaction Progress'!$AB36-273.15,'Reaction Progress'!$AC36*1000000,'Reaction Progress'!$G36:$P36),\"-\")","v":"-"},{"$f":"IF(M36<>\" - \",Phi_i_NS_Tci_Pci_wi_kijm_TinC_PinPa_yi(X$8,vantHoff_EOS!$N$19,vantHoff_EOS!$X$5:$X$14,vantHoff_EOS!$Y$5:$Y$14,vantHoff_EOS!$Z$5:$Z$14,vantHoff_EOS!$AE$5:$AN$14,'Reaction Progress'!$AB36-273.15,'Reaction Progress'!$AC36*1000000,'Reaction Progress'!$G36:$P36),\"-\")","v":"-"},{"$f":"IF(N36<>\" - \",Phi_i_NS_Tci_Pci_wi_kijm_TinC_PinPa_yi(Y$8,vantHoff_EOS!$N$19,vantHoff_EOS!$X$5:$X$14,vantHoff_EOS!$Y$5:$Y$14,vantHoff_EOS!$Z$5:$Z$14,vantHoff_EOS!$AE$5:$AN$14,'Reaction Progress'!$AB36-273.15,'Reaction Progress'!$AC36*1000000,'Reaction Progress'!$G36:$P36),\"-\")","v":"-"},{"$f":"IF(O36<>\" - \",Phi_i_NS_Tci_Pci_wi_kijm_TinC_PinPa_yi(Z$8,vantHoff_EOS!$N$19,vantHoff_EOS!$X$5:$X$14,vantHoff_EOS!$Y$5:$Y$14,vantHoff_EOS!$Z$5:$Z$14,vantHoff_EOS!$AE$5:$AN$14,'Reaction Progress'!$AB36-273.15,'Reaction Progress'!$AC36*1000000,'Reaction Progress'!$G36:$P36),\"-\")","v":"-"},{"$f":"IF(P36<>\" - \",Phi_i_NS_Tci_Pci_wi_kijm_TinC_PinPa_yi(AA$8,vantHoff_EOS!$N$19,vantHoff_EOS!$X$5:$X$14,vantHoff_EOS!$Y$5:$Y$14,vantHoff_EOS!$Z$5:$Z$14,vantHoff_EOS!$AE$5:$AN$14,'Reaction Progress'!$AB36-273.15,'Reaction Progress'!$AC36*1000000,'Reaction Progress'!$G36:$P36),\"-\")","v":"-"},334.45161100083806,13.270912274372378,89.278459487699706,1.120091011581326E-2,477.9624301864468]
[null,null,null,29,0.56000000000000016,{"$f":"nT_NS_n0i_vi_X(vantHoff_EOS!$N$19,vantHoff_EOS!$O$31:$X$31,vantHoff_EOS!$O$23:$X$23,'Reaction Progress'!E37)","v":9.2199999999999989},{"$f":"IF(G$8<=vantHoff_EOS!$N$19,nouti_i_n0i_vi_X(G$8,vantHoff_EOS!$O$31:$X$31,vantHoff_EOS!$O$23:$X$23,'Reaction Progress'!$E37)/'Reaction Progress'!$F37,\" - \")","v":4.7722342733188705E-2},{"$f":"IF(H$8<=vantHoff_EOS!$N$19,nouti_i_n0i_vi_X(H$8,vantHoff_EOS!$O$31:$X$31,vantHoff_EOS!$O$23:$X$23,'Reaction Progress'!$E37)/'Reaction Progress'!$F37,\" - \")","v":4.7722342733188705E-2},{"$f":"IF(I$8<=vantHoff_EOS!$N$19,nouti_i_n0i_vi_X(I$8,vantHoff_EOS!$O$31:$X$31,vantHoff_EOS!$O$23:$X$23,'Reaction Progress'!$E37)/'Reaction Progress'!$F37,\" - \")","v":4.7722342733188705E-2},{"$f":"IF(J$8<=vantHoff_EOS!$N$19,nouti_i_n0i_vi_X(J$8,vantHoff_EOS!$O$31:$X$31,vantHoff_EOS!$O$23:$X$23,'Reaction Progress'!$E37)/'Reaction Progress'!$F37,\" - \")","v":6.0737527114967486E-2},{"$f":"IF(K$8<=vantHoff_EOS!$N$19,nouti_i_n0i_vi_X(K$8,vantHoff_EOS!$O$31:$X$31,vantHoff_EOS!$O$23:$X$23,'Reaction Progress'!$E37)/'Reaction Progress'!$F37,\" - \")","v":0.79609544468546645},{"$f":"IF(L$8<=vantHoff_EOS!$N$19,nouti_i_n0i_vi_X(L$8,vantHoff_EOS!$O$31:$X$31,vantHoff_EOS!$O$23:$X$23,'Reaction Progress'!$E37)/'Reaction Progress'!$F37,\" - \")","v":" - "},{"$f":"IF(M$8<=vantHoff_EOS!$N$19,nouti_i_n0i_vi_X(M$8,vantHoff_EOS!$O$31:$X$31,vantHoff_EOS!$O$23:$X$23,'Reaction Progress'!$E37)/'Reaction Progress'!$F37,\" - \")","v":" - "},{"$f":"IF(N$8<=vantHoff_EOS!$N$19,nouti_i_n0i_vi_X(N$8,vantHoff_EOS!$O$31:$X$31,vantHoff_EOS!$O$23:$X$23,'Reaction Progress'!$E37)/'Reaction Progress'!$F37,\" - \")","v":" - "},{"$f":"IF(O$8<=vantHoff_EOS!$N$19,nouti_i_n0i_vi_X(O$8,vantHoff_EOS!$O$31:$X$31,vantHoff_EOS!$O$23:$X$23,'Reaction Progress'!$E37)/'Reaction Progress'!$F37,\" - \")","v":" - "},{"$f":"IF(P$8<=vantHoff_EOS!$N$19,nouti_i_n0i_vi_X(P$8,vantHoff_EOS!$O$31:$X$31,vantHoff_EOS!$O$23:$X$23,'Reaction Progress'!$E37)/'Reaction Progress'!$F37,\" - \")","v":" - "},1,{"$f":"IF(G37<>\" - \",Phi_i_NS_Tci_Pci_wi_kijm_TinC_PinPa_yi(R$8,vantHoff_EOS!$N$19,vantHoff_EOS!$X$5:$X$14,vantHoff_EOS!$Y$5:$Y$14,vantHoff_EOS!$Z$5:$Z$14,vantHoff_EOS!$AE$5:$AN$14,'Reaction Progress'!$AB37-273.15,'Reaction Progress'!$AC37*1000000,'Reaction Progress'!$G37:$P37),\"-\")","v":2.0366059175995979},{"$f":"IF(H37<>\" - \",Phi_i_NS_Tci_Pci_wi_kijm_TinC_PinPa_yi(S$8,vantHoff_EOS!$N$19,vantHoff_EOS!$X$5:$X$14,vantHoff_EOS!$Y$5:$Y$14,vantHoff_EOS!$Z$5:$Z$14,vantHoff_EOS!$AE$5:$AN$14,'Reaction Progress'!$AB37-273.15,'Reaction Progress'!$AC37*1000000,'Reaction Progress'!$G37:$P37),\"-\")","v":2.8548441443880064},{"$f":"IF(I37<>\" - \",Phi_i_NS_Tci_Pci_wi_kijm_TinC_PinPa_yi(T$8,vantHoff_EOS!$N$19,vantHoff_EOS!$X$5:$X$14,vantHoff_EOS!$Y$5:$Y$14,vantHoff_EOS!$Z$5:$Z$14,vantHoff_EOS!$AE$5:$AN$14,'Reaction Progress'!$AB37-273.15,'Reaction Progress'!$AC37*1000000,'Reaction Progress'!$G37:$P37),\"-\")","v":0.23500576829138878},{"$f":"IF(J37<>\" - \",Phi_i_NS_Tci_Pci_wi_kijm_TinC_PinPa_yi(U$8,vantHoff_EOS!$N$19,vantHoff_EOS!$X$5:$X$14,vantHoff_EOS!$Y$5:$Y$14,vantHoff_EOS!$Z$5:$Z$14,vantHoff_EOS!$AE$5:$AN$14,'Reaction Progress'!$AB37-273.15,'Reaction Progress'!$AC37*1000000,'Reaction Progress'!$G37:$P37),\"-\")","v":2.4683927702603612E-2},{"$f":"IF(K37<>\" - \",Phi_i_NS_Tci_Pci_wi_kijm_TinC_PinPa_yi(V$8,vantHoff_EOS!$N$19,vantHoff_EOS!$X$5:$X$14,vantHoff_EOS!$Y$5:$Y$14,vantHoff_EOS!$Z$5:$Z$14,vantHoff_EOS!$AE$5:$AN$14,'Reaction Progress'!$AB37-273.15,'Reaction Progress'!$AC37*1000000,'Reaction Progress'!$G37:$P37),\"-\")","v":0.58140354493799551},{"$f":"IF(L37<>\" - \",Phi_i_NS_Tci_Pci_wi_kijm_TinC_PinPa_yi(W$8,vantHoff_EOS!$N$19,vantHoff_EOS!$X$5:$X$14,vantHoff_EOS!$Y$5:$Y$14,vantHoff_EOS!$Z$5:$Z$14,vantHoff_EOS!$AE$5:$AN$14,'Reaction Progress'!$AB37-273.15,'Reaction Progress'!$AC37*1000000,'Reaction Progress'!$G37:$P37),\"-\")","v":"-"},{"$f":"IF(M37<>\" - \",Phi_i_NS_Tci_Pci_wi_kijm_TinC_PinPa_yi(X$8,vantHoff_EOS!$N$19,vantHoff_EOS!$X$5:$X$14,vantHoff_EOS!$Y$5:$Y$14,vantHoff_EOS!$Z$5:$Z$14,vantHoff_EOS!$AE$5:$AN$14,'Reaction Progress'!$AB37-273.15,'Reaction Progress'!$AC37*1000000,'Reaction Progress'!$G37:$P37),\"-\")","v":"-"},{"$f":"IF(N37<>\" - \",Phi_i_NS_Tci_Pci_wi_kijm_TinC_PinPa_yi(Y$8,vantHoff_EOS!$N$19,vantHoff_EOS!$X$5:$X$14,vantHoff_EOS!$Y$5:$Y$14,vantHoff_EOS!$Z$5:$Z$14,vantHoff_EOS!$AE$5:$AN$14,'Reaction Progress'!$AB37-273.15,'Reaction Progress'!$AC37*1000000,'Reaction Progress'!$G37:$P37),\"-\")","v":"-"},{"$f":"IF(O37<>\" - \",Phi_i_NS_Tci_Pci_wi_kijm_TinC_PinPa_yi(Z$8,vantHoff_EOS!$N$19,vantHoff_EOS!$X$5:$X$14,vantHoff_EOS!$Y$5:$Y$14,vantHoff_EOS!$Z$5:$Z$14,vantHoff_EOS!$AE$5:$AN$14,'Reaction Progress'!$AB37-273.15,'Reaction Progress'!$AC37*1000000,'Reaction Progress'!$G37:$P37),\"-\")","v":"-"},{"$f":"IF(P37<>\" - \",Phi_i_NS_Tci_Pci_wi_kijm_TinC_PinPa_yi(AA$8,vantHoff_EOS!$N$19,vantHoff_EOS!$X$5:$X$14,vantHoff_EOS!$Y$5:$Y$14,vantHoff_EOS!$Z$5:$Z$14,vantHoff_EOS!$AE$5:$AN$14,'Reaction Progress'!$AB37-273.15,'Reaction Progress'!$AC37*1000000,'Reaction Progress'!$G37:$P37),\"-\")","v":"-"},335.70772290108795,13.258143763212423,89.600161965813257,1.1160694111039083E-2,478.31248756113104]
[null,null,null,30,0.58000000000000018,{"$f":"nT_NS_n0i_vi_X(vantHoff_EOS!$N$19,vantHoff_EOS!$O$31:$X$31,vantHoff_EOS!$O$23:$X$23,'Reaction Progress'!E38)","v":9.18},{"$f":"IF(G$8<=vantHoff_EOS!$N$19,nouti_i_n0i_vi_X(G$8,vantHoff_EOS!$O$31:$X$31,vantHoff_EOS!$O$23:$X$23,'Reaction Progress'!$E38)/'Reaction Progress'!$F38,\" - \")","v":4.5751633986928088E-2},{"$f":"IF(H$8<=vantHoff_EOS!$N$19,nouti_i_n0i_vi_X(H$8,vantHoff_EOS!$O$31:$X$31,vantHoff_EOS!$O$23:$X$23,'Reaction Progress'!$E38)/'Reaction Progress'!$F38,\" - \")","v":4.5751633986928088E-2},{"$f":"IF(I$8<=vantHoff_EOS!$N$19,nouti_i_n0i_vi_X(I$8,vantHoff_EOS!$O$31:$X$31,vantHoff_EOS!$O$23:$X$23,'Reaction Progress'!$E38)/'Reaction Progress'!$F38,\" - \")","v":4.5751633986928088E-2},{"$f":"IF(J$8<=vantHoff_EOS!$N$19,nouti_i_n0i_vi_X(J$8,vantHoff_EOS!$O$31:$X$31,vantHoff_EOS!$O$23:$X$23,'Reaction Progress'!$E38)/'Reaction Progress'!$F38,\" - \")","v":6.3180827886710256E-2},{"$f":"IF(K$8<=vantHoff_EOS!$N$19,nouti_i_n0i_vi_X(K$8,vantHoff_EOS!$O$31:$X$31,vantHoff_EOS!$O$23:$X$23,'Reaction Progress'!$E38)/'Reaction Progress'!$F38,\" - \")","v":0.79956427015250542},{"$f":"IF(L$8<=vantHoff_EOS!$N$19,nouti_i_n0i_vi_X(L$8,vantHoff_EOS!$O$31:$X$31,vantHoff_EOS!$O$23:$X$23,'Reaction Progress'!$E38)/'Reaction Progress'!$F38,\" - \")","v":" - "},{"$f":"IF(M$8<=vantHoff_EOS!$N$19,nouti_i_n0i_vi_X(M$8,vantHoff_EOS!$O$31:$X$31,vantHoff_EOS!$O$23:$X$23,'Reaction Progress'!$E38)/'Reaction Progress'!$F38,\" - \")","v":" - "},{"$f":"IF(N$8<=vantHoff_EOS!$N$19,nouti_i_n0i_vi_X(N$8,vantHoff_EOS!$O$31:$X$31,vantHoff_EOS!$O$23:$X$23,'Reaction Progress'!$E38)/'Reaction Progress'!$F38,\" - \")","v":" - "},{"$f":"IF(O$8<=vantHoff_EOS!$N$19,nouti_i_n0i_vi_X(O$8,vantHoff_EOS!$O$31:$X$31,vantHoff_EOS!$O$23:$X$23,'Reaction Progress'!$E38)/'Reaction Progress'!$F38,\" - \")","v":" - "},{"$f":"IF(P$8<=vantHoff_EOS!$N$19,nouti_i_n0i_vi_X(P$8,vantHoff_EOS!$O$31:$X$31,vantHoff_EOS!$O$23:$X$23,'Reaction Progress'!$E38)/'Reaction Progress'!$F38,\" - \")","v":" - "},1,{"$f":"IF(G38<>\" - \",Phi_i_NS_Tci_Pci_wi_kijm_TinC_PinPa_yi(R$8,vantHoff_EOS!$N$19,vantHoff_EOS!$X$5:$X$14,vantHoff_EOS!$Y$5:$Y$14,vantHoff_EOS!$Z$5:$Z$14,vantHoff_EOS!$AE$5:$AN$14,'Reaction Progress'!$AB38-273.15,'Reaction Progress'!$AC38*1000000,'Reaction Progress'!$G38:$P38),\"-\")","v":2.0476692391802307},{"$f":"IF(H38<>\" - \",Phi_i_NS_Tci_Pci_wi_kijm_TinC_PinPa_yi(S$8,vantHoff_EOS!$N$19,vantHoff_EOS!$X$5:$X$14,vantHoff_EOS!$Y$5:$Y$14,vantHoff_EOS!$Z$5:$Z$14,vantHoff_EOS!$AE$5:$AN$14,'Reaction Progress'!$AB38-273.15,'Reaction Progress'!$AC38*1000000,'Reaction Progress'!$G38:$P38),\"-\")","v":2.8606509209900981},{"$f":"IF(I38<>\" - \",Phi_i_NS_Tci_Pci_wi_kijm_TinC_PinPa_yi(T$8,vantHoff_EOS!$N$19,vantHoff_EOS!$X$5:$X$14,vantHoff_EOS!$Y$5:$Y$14,vantHoff_EOS!$Z$5:$Z$14,vantHoff_EOS!$AE$5:$AN$14,'Reaction Progress'!$AB38-273.15,'Reaction Progress'!$AC38*1000000,'Reaction Progress'!$G38:$P38),\"-\")","v":0.23850278207882067},{"$f":"IF(J38<>\" - \",Phi_i_NS_Tci_Pci_wi_kijm_TinC_PinPa_yi(U$8,vantHoff_EOS!$N$19,vantHoff_EOS!$X$5:$X$14,vantHoff_EOS!$Y$5:$Y$14,vantHoff_EOS!$Z$5:$Z$14,vantHoff_EOS!$AE$5:$AN$14,'Reaction Progress'!$AB38-273.15,'Reaction Progress'!$AC38*1000000,'Reaction Progress'!$G38:$P38),\"-\")","v":2.5344126312985396E-2},{"$f":"IF(K38<>\" - \",Phi_i_NS_Tci_Pci_wi_kijm_TinC_PinPa_yi(V$8,vantHoff_EOS!$N$19,vantHoff_EOS!$X$5:$X$14,vantHoff_EOS!$Y$5:$Y$14,vantHoff_EOS!$Z$5:$Z$14,vantHoff_EOS!$AE$5:$AN$14,'Reaction Progress'!$AB38-273.15,'Reaction Progress'!$AC38*1000000,'Reaction Progress'!$G38:$P38),\"-\")","v":0.58790680698232678},{"$f":"IF(L38<>\" - \",Phi_i_NS_Tci_Pci_wi_kijm_TinC_PinPa_yi(W$8,vantHoff_EOS!$N$19,vantHoff_EOS!$X$5:$X$14,vantHoff_EOS!$Y$5:$Y$14,vantHoff_EOS!$Z$5:$Z$14,vantHoff_EOS!$AE$5:$AN$14,'Reaction Progress'!$AB38-273.15,'Reaction Progress'!$AC38*1000000,'Reaction Progress'!$G38:$P38),\"-\")","v":"-"},{"$f":"IF(M38<>\" - \",Phi_i_NS_Tci_Pci_wi_kijm_TinC_PinPa_yi(X$8,vantHoff_EOS!$N$19,vantHoff_EOS!$X$5:$X$14,vantHoff_EOS!$Y$5:$Y$14,vantHoff_EOS!$Z$5:$Z$14,vantHoff_EOS!$AE$5:$AN$14,'Reaction Progress'!$AB38-273.15,'Reaction Progress'!$AC38*1000000,'Reaction Progress'!$G38:$P38),\"-\")","v":"-"},{"$f":"IF(N38<>\" - \",Phi_i_NS_Tci_Pci_wi_kijm_TinC_PinPa_yi(Y$8,vantHoff_EOS!$N$19,vantHoff_EOS!$X$5:$X$14,vantHoff_EOS!$Y$5:$Y$14,vantHoff_EOS!$Z$5:$Z$14,vantHoff_EOS!$AE$5:$AN$14,'Reaction Progress'!$AB38-273.15,'Reaction Progress'!$AC38*1000000,'Reaction Progress'!$G38:$P38),\"-\")","v":"-"},{"$f":"IF(O38<>\" - \",Phi_i_NS_Tci_Pci_wi_kijm_TinC_PinPa_yi(Z$8,vantHoff_EOS!$N$19,vantHoff_EOS!$X$5:$X$14,vantHoff_EOS!$Y$5:$Y$14,vantHoff_EOS!$Z$5:$Z$14,vantHoff_EOS!$AE$5:$AN$14,'Reaction Progress'!$AB38-273.15,'Reaction Progress'!$AC38*1000000,'Reaction Progress'!$G38:$P38),\"-\")","v":"-"},{"$f":"IF(P38<>\" - \",Phi_i_NS_Tci_Pci_wi_kijm_TinC_PinPa_yi(AA$8,vantHoff_EOS!$N$19,vantHoff_EOS!$X$5:$X$14,vantHoff_EOS!$Y$5:$Y$14,vantHoff_EOS!$Z$5:$Z$14,vantHoff_EOS!$AE$5:$AN$14,'Reaction Progress'!$AB38-273.15,'Reaction Progress'!$AC38*1000000,'Reaction Progress'!$G38:$P38),\"-\")","v":"-"},336.96694166227581,13.241942734284578,89.941177353432366,1.1118377915717129E-2,478.57519574810811]
[null,null,null,31,0.6000000000000002,{"$f":"nT_NS_n0i_vi_X(vantHoff_EOS!$N$19,vantHoff_EOS!$O$31:$X$31,vantHoff_EOS!$O$23:$X$23,'Reaction Progress'!E39)","v":9.1399999999999988},{"$f":"IF(G$8<=vantHoff_EOS!$N$19,nouti_i_n0i_vi_X(G$8,vantHoff_EOS!$O$31:$X$31,vantHoff_EOS!$O$23:$X$23,'Reaction Progress'!$E39)/'Reaction Progress'!$F39,\" - \")","v":4.3763676148796483E-2},{"$f":"IF(H$8<=vantHoff_EOS!$N$19,nouti_i_n0i_vi_X(H$8,vantHoff_EOS!$O$31:$X$31,vantHoff_EOS!$O$23:$X$23,'Reaction Progress'!$E39)/'Reaction Progress'!$F39,\" - \")","v":4.3763676148796483E-2},{"$f":"IF(I$8<=vantHoff_EOS!$N$19,nouti_i_n0i_vi_X(I$8,vantHoff_EOS!$O$31:$X$31,vantHoff_EOS!$O$23:$X$23,'Reaction Progress'!$E39)/'Reaction Progress'!$F39,\" - \")","v":4.3763676148796483E-2},{"$f":"IF(J$8<=vantHoff_EOS!$N$19,nouti_i_n0i_vi_X(J$8,vantHoff_EOS!$O$31:$X$31,vantHoff_EOS!$O$23:$X$23,'Reaction Progress'!$E39)/'Reaction Progress'!$F39,\" - \")","v":6.5645514223194784E-2},{"$f":"IF(K$8<=vantHoff_EOS!$N$19,nouti_i_n0i_vi_X(K$8,vantHoff_EOS!$O$31:$X$31,vantHoff_EOS!$O$23:$X$23,'Reaction Progress'!$E39)/'Reaction Progress'!$F39,\" - \")","v":0.80306345733041584},{"$f":"IF(L$8<=vantHoff_EOS!$N$19,nouti_i_n0i_vi_X(L$8,vantHoff_EOS!$O$31:$X$31,vantHoff_EOS!$O$23:$X$23,'Reaction Progress'!$E39)/'Reaction Progress'!$F39,\" - \")","v":" - "},{"$f":"IF(M$8<=vantHoff_EOS!$N$19,nouti_i_n0i_vi_X(M$8,vantHoff_EOS!$O$31:$X$31,vantHoff_EOS!$O$23:$X$23,'Reaction Progress'!$E39)/'Reaction Progress'!$F39,\" - \")","v":" - "},{"$f":"IF(N$8<=vantHoff_EOS!$N$19,nouti_i_n0i_vi_X(N$8,vantHoff_EOS!$O$31:$X$31,vantHoff_EOS!$O$23:$X$23,'Reaction Progress'!$E39)/'Reaction Progress'!$F39,\" - \")","v":" - "},{"$f":"IF(O$8<=vantHoff_EOS!$N$19,nouti_i_n0i_vi_X(O$8,vantHoff_EOS!$O$31:$X$31,vantHoff_EOS!$O$23:$X$23,'Reaction Progress'!$E39)/'Reaction Progress'!$F39,\" - \")","v":" - "},{"$f":"IF(P$8<=vantHoff_EOS!$N$19,nouti_i_n0i_vi_X(P$8,vantHoff_EOS!$O$31:$X$31,vantHoff_EOS!$O$23:$X$23,'Reaction Progress'!$E39)/'Reaction Progress'!$F39,\" - \")","v":" - "},1,{"$f":"IF(G39<>\" - \",Phi_i_NS_Tci_Pci_wi_kijm_TinC_PinPa_yi(R$8,vantHoff_EOS!$N$19,vantHoff_EOS!$X$5:$X$14,vantHoff_EOS!$Y$5:$Y$14,vantHoff_EOS!$Z$5:$Z$14,vantHoff_EOS!$AE$5:$AN$14,'Reaction Progress'!$AB39-273.15,'Reaction Progress'!$AC39*1000000,'Reaction Progress'!$G39:$P39),\"-\")","v":2.0586776204646897},{"$f":"IF(H39<>\" - \",Phi_i_NS_Tci_Pci_wi_kijm_TinC_PinPa_yi(S$8,vantHoff_EOS!$N$19,vantHoff_EOS!$X$5:$X$14,vantHoff_EOS!$Y$5:$Y$14,vantHoff_EOS!$Z$5:$Z$14,vantHoff_EOS!$AE$5:$AN$14,'Reaction Progress'!$AB39-273.15,'Reaction Progress'!$AC39*1000000,'Reaction Progress'!$G39:$P39),\"-\")","v":2.8663029351165656},{"$f":"IF(I39<>\" - \",Phi_i_NS_Tci_Pci_wi_kijm_TinC_PinPa_yi(T$8,vantHoff_EOS!$N$19,vantHoff_EOS!$X$5:$X$14,vantHoff_EOS!$Y$5:$Y$14,vantHoff_EOS!$Z$5:$Z$14,vantHoff_EOS!$AE$5:$AN$14,'Reaction Progress'!$AB39-273.15,'Reaction Progress'!$AC39*1000000,'Reaction Progress'!$G39:$P39),\"-\")","v":0.24208160539472051},{"$f":"IF(J39<>\" - \",Phi_i_NS_Tci_Pci_wi_kijm_TinC_PinPa_yi(U$8,vantHoff_EOS!$N$19,vantHoff_EOS!$X$5:$X$14,vantHoff_EOS!$Y$5:$Y$14,vantHoff_EOS!$Z$5:$Z$14,vantHoff_EOS!$AE$5:$AN$14,'Reaction Progress'!$AB39-273.15,'Reaction Progress'!$AC39*1000000,'Reaction Progress'!$G39:$P39),\"-\")","v":2.6029225337026424E-2},{"$f":"IF(K39<>\" - \",Phi_i_NS_Tci_Pci_wi_kijm_TinC_PinPa_yi(V$8,vantHoff_EOS!$N$19,vantHoff_EOS!$X$5:$X$14,vantHoff_EOS!$Y$5:$Y$14,vantHoff_EOS!$Z$5:$Z$14,vantHoff_EOS!$AE$5:$AN$14,'Reaction Progress'!$AB39-273.15,'Reaction Progress'!$AC39*1000000,'Reaction Progress'!$G39:$P39),\"-\")","v":0.59453473424573666},{"$f":"IF(L39<>\" - \",Phi_i_NS_Tci_Pci_wi_kijm_TinC_PinPa_yi(W$8,vantHoff_EOS!$N$19,vantHoff_EOS!$X$5:$X$14,vantHoff_EOS!$Y$5:$Y$14,vantHoff_EOS!$Z$5:$Z$14,vantHoff_EOS!$AE$5:$AN$14,'Reaction Progress'!$AB39-273.15,'Reaction Progress'!$AC39*1000000,'Reaction Progress'!$G39:$P39),\"-\")","v":"-"},{"$f":"IF(M39<>\" - \",Phi_i_NS_Tci_Pci_wi_kijm_TinC_PinPa_yi(X$8,vantHoff_EOS!$N$19,vantHoff_EOS!$X$5:$X$14,vantHoff_EOS!$Y$5:$Y$14,vantHoff_EOS!$Z$5:$Z$14,vantHoff_EOS!$AE$5:$AN$14,'Reaction Progress'!$AB39-273.15,'Reaction Progress'!$AC39*1000000,'Reaction Progress'!$G39:$P39),\"-\")","v":"-"},{"$f":"IF(N39<>\" - \",Phi_i_NS_Tci_Pci_wi_kijm_TinC_PinPa_yi(Y$8,vantHoff_EOS!$N$19,vantHoff_EOS!$X$5:$X$14,vantHoff_EOS!$Y$5:$Y$14,vantHoff_EOS!$Z$5:$Z$14,vantHoff_EOS!$AE$5:$AN$14,'Reaction Progress'!$AB39-273.15,'Reaction Progress'!$AC39*1000000,'Reaction Progress'!$G39:$P39),\"-\")","v":"-"},{"$f":"IF(O39<>\" - \",Phi_i_NS_Tci_Pci_wi_kijm_TinC_PinPa_yi(Z$8,vantHoff_EOS!$N$19,vantHoff_EOS!$X$5:$X$14,vantHoff_EOS!$Y$5:$Y$14,vantHoff_EOS!$Z$5:$Z$14,vantHoff_EOS!$AE$5:$AN$14,'Reaction Progress'!$AB39-273.15,'Reaction Progress'!$AC39*1000000,'Reaction Progress'!$G39:$P39),\"-\")","v":"-"},{"$f":"IF(P39<>\" - \",Phi_i_NS_Tci_Pci_wi_kijm_TinC_PinPa_yi(AA$8,vantHoff_EOS!$N$19,vantHoff_EOS!$X$5:$X$14,vantHoff_EOS!$Y$5:$Y$14,vantHoff_EOS!$Z$5:$Z$14,vantHoff_EOS!$AE$5:$AN$14,'Reaction Progress'!$AB39-273.15,'Reaction Progress'!$AC39*1000000,'Reaction Progress'!$G39:$P39),\"-\")","v":"-"},338.22913409833217,13.22241484161092,90.300888966704079,1.1074088100823923E-2,478.7548798462588]
[null,null,null,32,0.62000000000000022,{"$f":"nT_NS_n0i_vi_X(vantHoff_EOS!$N$19,vantHoff_EOS!$O$31:$X$31,vantHoff_EOS!$O$23:$X$23,'Reaction Progress'!E40)","v":9.1},{"$f":"IF(G$8<=vantHoff_EOS!$N$19,nouti_i_n0i_vi_X(G$8,vantHoff_EOS!$O$31:$X$31,vantHoff_EOS!$O$23:$X$23,'Reaction Progress'!$E40)/'Reaction Progress'!$F40,\" - \")","v":4.1758241758241735E-2},{"$f":"IF(H$8<=vantHoff_EOS!$N$19,nouti_i_n0i_vi_X(H$8,vantHoff_EOS!$O$31:$X$31,vantHoff_EOS!$O$23:$X$23,'Reaction Progress'!$E40)/'Reaction Progress'!$F40,\" - \")","v":4.1758241758241735E-2},{"$f":"IF(I$8<=vantHoff_EOS!$N$19,nouti_i_n0i_vi_X(I$8,vantHoff_EOS!$O$31:$X$31,vantHoff_EOS!$O$23:$X$23,'Reaction Progress'!$E40)/'Reaction Progress'!$F40,\" - \")","v":4.1758241758241735E-2},{"$f":"IF(J$8<=vantHoff_EOS!$N$19,nouti_i_n0i_vi_X(J$8,vantHoff_EOS!$O$31:$X$31,vantHoff_EOS!$O$23:$X$23,'Reaction Progress'!$E40)/'Reaction Progress'!$F40,\" - \")","v":6.8131868131868153E-2},{"$f":"IF(K$8<=vantHoff_EOS!$N$19,nouti_i_n0i_vi_X(K$8,vantHoff_EOS!$O$31:$X$31,vantHoff_EOS!$O$23:$X$23,'Reaction Progress'!$E40)/'Reaction Progress'!$F40,\" - \")","v":0.80659340659340661},{"$f":"IF(L$8<=vantHoff_EOS!$N$19,nouti_i_n0i_vi_X(L$8,vantHoff_EOS!$O$31:$X$31,vantHoff_EOS!$O$23:$X$23,'Reaction Progress'!$E40)/'Reaction Progress'!$F40,\" - \")","v":" - "},{"$f":"IF(M$8<=vantHoff_EOS!$N$19,nouti_i_n0i_vi_X(M$8,vantHoff_EOS!$O$31:$X$31,vantHoff_EOS!$O$23:$X$23,'Reaction Progress'!$E40)/'Reaction Progress'!$F40,\" - \")","v":" - "},{"$f":"IF(N$8<=vantHoff_EOS!$N$19,nouti_i_n0i_vi_X(N$8,vantHoff_EOS!$O$31:$X$31,vantHoff_EOS!$O$23:$X$23,'Reaction Progress'!$E40)/'Reaction Progress'!$F40,\" - \")","v":" - "},{"$f":"IF(O$8<=vantHoff_EOS!$N$19,nouti_i_n0i_vi_X(O$8,vantHoff_EOS!$O$31:$X$31,vantHoff_EOS!$O$23:$X$23,'Reaction Progress'!$E40)/'Reaction Progress'!$F40,\" - \")","v":" - "},{"$f":"IF(P$8<=vantHoff_EOS!$N$19,nouti_i_n0i_vi_X(P$8,vantHoff_EOS!$O$31:$X$31,vantHoff_EOS!$O$23:$X$23,'Reaction Progress'!$E40)/'Reaction Progress'!$F40,\" - \")","v":" - "},1,{"$f":"IF(G40<>\" - \",Phi_i_NS_Tci_Pci_wi_kijm_TinC_PinPa_yi(R$8,vantHoff_EOS!$N$19,vantHoff_EOS!$X$5:$X$14,vantHoff_EOS!$Y$5:$Y$14,vantHoff_EOS!$Z$5:$Z$14,vantHoff_EOS!$AE$5:$AN$14,'Reaction Progress'!$AB40-273.15,'Reaction Progress'!$AC40*1000000,'Reaction Progress'!$G40:$P40),\"-\")","v":2.0696380560534173},{"$f":"IF(H40<>\" - \",Phi_i_NS_Tci_Pci_wi_kijm_TinC_PinPa_yi(S$8,vantHoff_EOS!$N$19,vantHoff_EOS!$X$5:$X$14,vantHoff_EOS!$Y$5:$Y$14,vantHoff_EOS!$Z$5:$Z$14,vantHoff_EOS!$AE$5:$AN$14,'Reaction Progress'!$AB40-273.15,'Reaction Progress'!$AC40*1000000,'Reaction Progress'!$G40:$P40),\"-\")","v":2.8718190511672987},{"$f":"IF(I40<>\" - \",Phi_i_NS_Tci_Pci_wi_kijm_TinC_PinPa_yi(T$8,vantHoff_EOS!$N$19,vantHoff_EOS!$X$5:$X$14,vantHoff_EOS!$Y$5:$Y$14,vantHoff_EOS!$Z$5:$Z$14,vantHoff_EOS!$AE$5:$AN$14,'Reaction Progress'!$AB40-273.15,'Reaction Progress'!$AC40*1000000,'Reaction Progress'!$G40:$P40),\"-\")","v":0.24574138272325094},{"$f":"IF(J40<>\" - \",Phi_i_NS_Tci_Pci_wi_kijm_TinC_PinPa_yi(U$8,vantHoff_EOS!$N$19,vantHoff_EOS!$X$5:$X$14,vantHoff_EOS!$Y$5:$Y$14,vantHoff_EOS!$Z$5:$Z$14,vantHoff_EOS!$AE$5:$AN$14,'Reaction Progress'!$AB40-273.15,'Reaction Progress'!$AC40*1000000,'Reaction Progress'!$G40:$P40),\"-\")","v":2.6739511567124476E-2},{"$f":"IF(K40<>\" - \",Phi_i_NS_Tci_Pci_wi_kijm_TinC_PinPa_yi(V$8,vantHoff_EOS!$N$19,vantHoff_EOS!$X$5:$X$14,vantHoff_EOS!$Y$5:$Y$14,vantHoff_EOS!$Z$5:$Z$14,vantHoff_EOS!$AE$5:$AN$14,'Reaction Progress'!$AB40-273.15,'Reaction Progress'!$AC40*1000000,'Reaction Progress'!$G40:$P40),\"-\")","v":0.60128532995210193},{"$f":"IF(L40<>\" - \",Phi_i_NS_Tci_Pci_wi_kijm_TinC_PinPa_yi(W$8,vantHoff_EOS!$N$19,vantHoff_EOS!$X$5:$X$14,vantHoff_EOS!$Y$5:$Y$14,vantHoff_EOS!$Z$5:$Z$14,vantHoff_EOS!$AE$5:$AN$14,'Reaction Progress'!$AB40-273.15,'Reaction Progress'!$AC40*1000000,'Reaction Progress'!$G40:$P40),\"-\")","v":"-"},{"$f":"IF(M40<>\" - \",Phi_i_NS_Tci_Pci_wi_kijm_TinC_PinPa_yi(X$8,vantHoff_EOS!$N$19,vantHoff_EOS!$X$5:$X$14,vantHoff_EOS!$Y$5:$Y$14,vantHoff_EOS!$Z$5:$Z$14,vantHoff_EOS!$AE$5:$AN$14,'Reaction Progress'!$AB40-273.15,'Reaction Progress'!$AC40*1000000,'Reaction Progress'!$G40:$P40),\"-\")","v":"-"},{"$f":"IF(N40<>\" - \",Phi_i_NS_Tci_Pci_wi_kijm_TinC_PinPa_yi(Y$8,vantHoff_EOS!$N$19,vantHoff_EOS!$X$5:$X$14,vantHoff_EOS!$Y$5:$Y$14,vantHoff_EOS!$Z$5:$Z$14,vantHoff_EOS!$AE$5:$AN$14,'Reaction Progress'!$AB40-273.15,'Reaction Progress'!$AC40*1000000,'Reaction Progress'!$G40:$P40),\"-\")","v":"-"},{"$f":"IF(O40<>\" - \",Phi_i_NS_Tci_Pci_wi_kijm_TinC_PinPa_yi(Z$8,vantHoff_EOS!$N$19,vantHoff_EOS!$X$5:$X$14,vantHoff_EOS!$Y$5:$Y$14,vantHoff_EOS!$Z$5:$Z$14,vantHoff_EOS!$AE$5:$AN$14,'Reaction Progress'!$AB40-273.15,'Reaction Progress'!$AC40*1000000,'Reaction Progress'!$G40:$P40),\"-\")","v":"-"},{"$f":"IF(P40<>\" - \",Phi_i_NS_Tci_Pci_wi_kijm_TinC_PinPa_yi(AA$8,vantHoff_EOS!$N$19,vantHoff_EOS!$X$5:$X$14,vantHoff_EOS!$Y$5:$Y$14,vantHoff_EOS!$Z$5:$Z$14,vantHoff_EOS!$AE$5:$AN$14,'Reaction Progress'!$AB40-273.15,'Reaction Progress'!$AC40*1000000,'Reaction Progress'!$G40:$P40),\"-\")","v":"-"},339.49415437402837,13.199660157476757,90.678732288295848,1.1027944202182817E-2,478.85563551958239]
[null,null,null,33,0.64000000000000024,{"$f":"nT_NS_n0i_vi_X(vantHoff_EOS!$N$19,vantHoff_EOS!$O$31:$X$31,vantHoff_EOS!$O$23:$X$23,'Reaction Progress'!E41)","v":9.0599999999999987},{"$f":"IF(G$8<=vantHoff_EOS!$N$19,nouti_i_n0i_vi_X(G$8,vantHoff_EOS!$O$31:$X$31,vantHoff_EOS!$O$23:$X$23,'Reaction Progress'!$E41)/'Reaction Progress'!$F41,\" - \")","v":3.9735099337748325E-2},{"$f":"IF(H$8<=vantHoff_EOS!$N$19,nouti_i_n0i_vi_X(H$8,vantHoff_EOS!$O$31:$X$31,vantHoff_EOS!$O$23:$X$23,'Reaction Progress'!$E41)/'Reaction Progress'!$F41,\" - \")","v":3.9735099337748325E-2},{"$f":"IF(I$8<=vantHoff_EOS!$N$19,nouti_i_n0i_vi_X(I$8,vantHoff_EOS!$O$31:$X$31,vantHoff_EOS!$O$23:$X$23,'Reaction Progress'!$E41)/'Reaction Progress'!$F41,\" - \")","v":3.9735099337748325E-2},{"$f":"IF(J$8<=vantHoff_EOS!$N$19,nouti_i_n0i_vi_X(J$8,vantHoff_EOS!$O$31:$X$31,vantHoff_EOS!$O$23:$X$23,'Reaction Progress'!$E41)/'Reaction Progress'!$F41,\" - \")","v":7.0640176600441543E-2},{"$f":"IF(K$8<=vantHoff_EOS!$N$19,nouti_i_n0i_vi_X(K$8,vantHoff_EOS!$O$31:$X$31,vantHoff_EOS!$O$23:$X$23,'Reaction Progress'!$E41)/'Reaction Progress'!$F41,\" - \")","v":0.81015452538631361},{"$f":"IF(L$8<=vantHoff_EOS!$N$19,nouti_i_n0i_vi_X(L$8,vantHoff_EOS!$O$31:$X$31,vantHoff_EOS!$O$23:$X$23,'Reaction Progress'!$E41)/'Reaction Progress'!$F41,\" - \")","v":" - "},{"$f":"IF(M$8<=vantHoff_EOS!$N$19,nouti_i_n0i_vi_X(M$8,vantHoff_EOS!$O$31:$X$31,vantHoff_EOS!$O$23:$X$23,'Reaction Progress'!$E41)/'Reaction Progress'!$F41,\" - \")","v":" - "},{"$f":"IF(N$8<=vantHoff_EOS!$N$19,nouti_i_n0i_vi_X(N$8,vantHoff_EOS!$O$31:$X$31,vantHoff_EOS!$O$23:$X$23,'Reaction Progress'!$E41)/'Reaction Progress'!$F41,\" - \")","v":" - "},{"$f":"IF(O$8<=vantHoff_EOS!$N$19,nouti_i_n0i_vi_X(O$8,vantHoff_EOS!$O$31:$X$31,vantHoff_EOS!$O$23:$X$23,'Reaction Progress'!$E41)/'Reaction Progress'!$F41,\" - \")","v":" - "},{"$f":"IF(P$8<=vantHoff_EOS!$N$19,nouti_i_n0i_vi_X(P$8,vantHoff_EOS!$O$31:$X$31,vantHoff_EOS!$O$23:$X$23,'Reaction Progress'!$E41)/'Reaction Progress'!$F41,\" - \")","v":" - "},{"$f":"SUM(G41:P41)","v":1},{"$f":"IF(G41<>\" - \",Phi_i_NS_Tci_Pci_wi_kijm_TinC_PinPa_yi(R$8,vantHoff_EOS!$N$19,vantHoff_EOS!$X$5:$X$14,vantHoff_EOS!$Y$5:$Y$14,vantHoff_EOS!$Z$5:$Z$14,vantHoff_EOS!$AE$5:$AN$14,'Reaction Progress'!$AB41-273.15,'Reaction Progress'!$AC41*1000000,'Reaction Progress'!$G41:$P41),\"-\")","v":2.0805575076217742},{"$f":"IF(H41<>\" - \",Phi_i_NS_Tci_Pci_wi_kijm_TinC_PinPa_yi(S$8,vantHoff_EOS!$N$19,vantHoff_EOS!$X$5:$X$14,vantHoff_EOS!$Y$5:$Y$14,vantHoff_EOS!$Z$5:$Z$14,vantHoff_EOS!$AE$5:$AN$14,'Reaction Progress'!$AB41-273.15,'Reaction Progress'!$AC41*1000000,'Reaction Progress'!$G41:$P41),\"-\")","v":2.8772175264631041},{"$f":"IF(I41<>\" - \",Phi_i_NS_Tci_Pci_wi_kijm_TinC_PinPa_yi(T$8,vantHoff_EOS!$N$19,vantHoff_EOS!$X$5:$X$14,vantHoff_EOS!$Y$5:$Y$14,vantHoff_EOS!$Z$5:$Z$14,vantHoff_EOS!$AE$5:$AN$14,'Reaction Progress'!$AB41-273.15,'Reaction Progress'!$AC41*1000000,'Reaction Progress'!$G41:$P41),\"-\")","v":0.24948134074011216},{"$f":"IF(J41<>\" - \",Phi_i_NS_Tci_Pci_wi_kijm_TinC_PinPa_yi(U$8,vantHoff_EOS!$N$19,vantHoff_EOS!$X$5:$X$14,vantHoff_EOS!$Y$5:$Y$14,vantHoff_EOS!$Z$5:$Z$14,vantHoff_EOS!$AE$5:$AN$14,'Reaction Progress'!$AB41-273.15,'Reaction Progress'!$AC41*1000000,'Reaction Progress'!$G41:$P41),\"-\")","v":2.747528567265391E-2},{"$f":"IF(K41<>\" - \",Phi_i_NS_Tci_Pci_wi_kijm_TinC_PinPa_yi(V$8,vantHoff_EOS!$N$19,vantHoff_EOS!$X$5:$X$14,vantHoff_EOS!$Y$5:$Y$14,vantHoff_EOS!$Z$5:$Z$14,vantHoff_EOS!$AE$5:$AN$14,'Reaction Progress'!$AB41-273.15,'Reaction Progress'!$AC41*1000000,'Reaction Progress'!$G41:$P41),\"-\")","v":0.6081567705308849},{"$f":"IF(L41<>\" - \",Phi_i_NS_Tci_Pci_wi_kijm_TinC_PinPa_yi(W$8,vantHoff_EOS!$N$19,vantHoff_EOS!$X$5:$X$14,vantHoff_EOS!$Y$5:$Y$14,vantHoff_EOS!$Z$5:$Z$14,vantHoff_EOS!$AE$5:$AN$14,'Reaction Progress'!$AB41-273.15,'Reaction Progress'!$AC41*1000000,'Reaction Progress'!$G41:$P41),\"-\")","v":"-"},{"$f":"IF(M41<>\" - \",Phi_i_NS_Tci_Pci_wi_kijm_TinC_PinPa_yi(X$8,vantHoff_EOS!$N$19,vantHoff_EOS!$X$5:$X$14,vantHoff_EOS!$Y$5:$Y$14,vantHoff_EOS!$Z$5:$Z$14,vantHoff_EOS!$AE$5:$AN$14,'Reaction Progress'!$AB41-273.15,'Reaction Progress'!$AC41*1000000,'Reaction Progress'!$G41:$P41),\"-\")","v":"-"},{"$f":"IF(N41<>\" - \",Phi_i_NS_Tci_Pci_wi_kijm_TinC_PinPa_yi(Y$8,vantHoff_EOS!$N$19,vantHoff_EOS!$X$5:$X$14,vantHoff_EOS!$Y$5:$Y$14,vantHoff_EOS!$Z$5:$Z$14,vantHoff_EOS!$AE$5:$AN$14,'Reaction Progress'!$AB41-273.15,'Reaction Progress'!$AC41*1000000,'Reaction Progress'!$G41:$P41),\"-\")","v":"-"},{"$f":"IF(O41<>\" - \",Phi_i_NS_Tci_Pci_wi_kijm_TinC_PinPa_yi(Z$8,vantHoff_EOS!$N$19,vantHoff_EOS!$X$5:$X$14,vantHoff_EOS!$Y$5:$Y$14,vantHoff_EOS!$Z$5:$Z$14,vantHoff_EOS!$AE$5:$AN$14,'Reaction Progress'!$AB41-273.15,'Reaction Progress'!$AC41*1000000,'Reaction Progress'!$G41:$P41),\"-\")","v":"-"},{"$f":"IF(P41<>\" - \",Phi_i_NS_Tci_Pci_wi_kijm_TinC_PinPa_yi(AA$8,vantHoff_EOS!$N$19,vantHoff_EOS!$X$5:$X$14,vantHoff_EOS!$Y$5:$Y$14,vantHoff_EOS!$Z$5:$Z$14,vantHoff_EOS!$AE$5:$AN$14,'Reaction Progress'!$AB41-273.15,'Reaction Progress'!$AC41*1000000,'Reaction Progress'!$G41:$P41),\"-\")","v":"-"},340.76184637702016,13.173773624668776,91.074190642084247,1.0980059146832675E-2,478.88134252793844]
[null,null,null,34,{"$f":"E41+$E$3","v":0.66000000000000025},{"$f":"nT_NS_n0i_vi_X(vantHoff_EOS!$N$19,vantHoff_EOS!$O$31:$X$31,vantHoff_EOS!$O$23:$X$23,'Reaction Progress'!E42)","v":9.02},{"$f":"IF(G$8<=vantHoff_EOS!$N$19,nouti_i_n0i_vi_X(G$8,vantHoff_EOS!$O$31:$X$31,vantHoff_EOS!$O$23:$X$23,'Reaction Progress'!$E42)/'Reaction Progress'!$F42,\" - \")","v":3.7694013303769376E-2},{"$f":"IF(H$8<=vantHoff_EOS!$N$19,nouti_i_n0i_vi_X(H$8,vantHoff_EOS!$O$31:$X$31,vantHoff_EOS!$O$23:$X$23,'Reaction Progress'!$E42)/'Reaction Progress'!$F42,\" - \")","v":3.7694013303769376E-2},{"$f":"IF(I$8<=vantHoff_EOS!$N$19,nouti_i_n0i_vi_X(I$8,vantHoff_EOS!$O$31:$X$31,vantHoff_EOS!$O$23:$X$23,'Reaction Progress'!$E42)/'Reaction Progress'!$F42,\" - \")","v":3.7694013303769376E-2},{"$f":"IF(J$8<=vantHoff_EOS!$N$19,nouti_i_n0i_vi_X(J$8,vantHoff_EOS!$O$31:$X$31,vantHoff_EOS!$O$23:$X$23,'Reaction Progress'!$E42)/'Reaction Progress'!$F42,\" - \")","v":7.317073170731711E-2},{"$f":"IF(K$8<=vantHoff_EOS!$N$19,nouti_i_n0i_vi_X(K$8,vantHoff_EOS!$O$31:$X$31,vantHoff_EOS!$O$23:$X$23,'Reaction Progress'!$E42)/'Reaction Progress'!$F42,\" - \")","v":0.8137472283813747},{"$f":"IF(L$8<=vantHoff_EOS!$N$19,nouti_i_n0i_vi_X(L$8,vantHoff_EOS!$O$31:$X$31,vantHoff_EOS!$O$23:$X$23,'Reaction Progress'!$E42)/'Reaction Progress'!$F42,\" - \")","v":" - "},{"$f":"IF(M$8<=vantHoff_EOS!$N$19,nouti_i_n0i_vi_X(M$8,vantHoff_EOS!$O$31:$X$31,vantHoff_EOS!$O$23:$X$23,'Reaction Progress'!$E42)/'Reaction Progress'!$F42,\" - \")","v":" - "},{"$f":"IF(N$8<=vantHoff_EOS!$N$19,nouti_i_n0i_vi_X(N$8,vantHoff_EOS!$O$31:$X$31,vantHoff_EOS!$O$23:$X$23,'Reaction Progress'!$E42)/'Reaction Progress'!$F42,\" - \")","v":" - "},{"$f":"IF(O$8<=vantHoff_EOS!$N$19,nouti_i_n0i_vi_X(O$8,vantHoff_EOS!$O$31:$X$31,vantHoff_EOS!$O$23:$X$23,'Reaction Progress'!$E42)/'Reaction Progress'!$F42,\" - \")","v":" - "},{"$f":"IF(P$8<=vantHoff_EOS!$N$19,nouti_i_n0i_vi_X(P$8,vantHoff_EOS!$O$31:$X$31,vantHoff_EOS!$O$23:$X$23,'Reaction Progress'!$E42)/'Reaction Progress'!$F42,\" - \")","v":" - "},1,{"$f":"IF(G42<>\" - \",Phi_i_NS_Tci_Pci_wi_kijm_TinC_PinPa_yi(R$8,vantHoff_EOS!$N$19,vantHoff_EOS!$X$5:$X$14,vantHoff_EOS!$Y$5:$Y$14,vantHoff_EOS!$Z$5:$Z$14,vantHoff_EOS!$AE$5:$AN$14,'Reaction Progress'!$AB42-273.15,'Reaction Progress'!$AC42*1000000,'Reaction Progress'!$G42:$P42),\"-\")","v":2.0914429108254602},{"$f":"IF(H42<>\" - \",Phi_i_NS_Tci_Pci_wi_kijm_TinC_PinPa_yi(S$8,vantHoff_EOS!$N$19,vantHoff_EOS!$X$5:$X$14,vantHoff_EOS!$Y$5:$Y$14,vantHoff_EOS!$Z$5:$Z$14,vantHoff_EOS!$AE$5:$AN$14,'Reaction Progress'!$AB42-273.15,'Reaction Progress'!$AC42*1000000,'Reaction Progress'!$G42:$P42),\"-\")","v":2.8825160343103149},{"$f":"IF(I42<>\" - \",Phi_i_NS_Tci_Pci_wi_kijm_TinC_PinPa_yi(T$8,vantHoff_EOS!$N$19,vantHoff_EOS!$X$5:$X$14,vantHoff_EOS!$Y$5:$Y$14,vantHoff_EOS!$Z$5:$Z$14,vantHoff_EOS!$AE$5:$AN$14,'Reaction Progress'!$AB42-273.15,'Reaction Progress'!$AC42*1000000,'Reaction Progress'!$G42:$P42),\"-\")","v":0.25330078585908916},{"$f":"IF(J42<>\" - \",Phi_i_NS_Tci_Pci_wi_kijm_TinC_PinPa_yi(U$8,vantHoff_EOS!$N$19,vantHoff_EOS!$X$5:$X$14,vantHoff_EOS!$Y$5:$Y$14,vantHoff_EOS!$Z$5:$Z$14,vantHoff_EOS!$AE$5:$AN$14,'Reaction Progress'!$AB42-273.15,'Reaction Progress'!$AC42*1000000,'Reaction Progress'!$G42:$P42),\"-\")","v":2.8236861361047041E-2},{"$f":"IF(K42<>\" - \",Phi_i_NS_Tci_Pci_wi_kijm_TinC_PinPa_yi(V$8,vantHoff_EOS!$N$19,vantHoff_EOS!$X$5:$X$14,vantHoff_EOS!$Y$5:$Y$14,vantHoff_EOS!$Z$5:$Z$14,vantHoff_EOS!$AE$5:$AN$14,'Reaction Progress'!$AB42-273.15,'Reaction Progress'!$AC42*1000000,'Reaction Progress'!$G42:$P42),\"-\")","v":0.61514740213984198},{"$f":"IF(L42<>\" - \",Phi_i_NS_Tci_Pci_wi_kijm_TinC_PinPa_yi(W$8,vantHoff_EOS!$N$19,vantHoff_EOS!$X$5:$X$14,vantHoff_EOS!$Y$5:$Y$14,vantHoff_EOS!$Z$5:$Z$14,vantHoff_EOS!$AE$5:$AN$14,'Reaction Progress'!$AB42-273.15,'Reaction Progress'!$AC42*1000000,'Reaction Progress'!$G42:$P42),\"-\")","v":"-"},{"$f":"IF(M42<>\" - \",Phi_i_NS_Tci_Pci_wi_kijm_TinC_PinPa_yi(X$8,vantHoff_EOS!$N$19,vantHoff_EOS!$X$5:$X$14,vantHoff_EOS!$Y$5:$Y$14,vantHoff_EOS!$Z$5:$Z$14,vantHoff_EOS!$AE$5:$AN$14,'Reaction Progress'!$AB42-273.15,'Reaction Progress'!$AC42*1000000,'Reaction Progress'!$G42:$P42),\"-\")","v":"-"},{"$f":"IF(N42<>\" - \",Phi_i_NS_Tci_Pci_wi_kijm_TinC_PinPa_yi(Y$8,vantHoff_EOS!$N$19,vantHoff_EOS!$X$5:$X$14,vantHoff_EOS!$Y$5:$Y$14,vantHoff_EOS!$Z$5:$Z$14,vantHoff_EOS!$AE$5:$AN$14,'Reaction Progress'!$AB42-273.15,'Reaction Progress'!$AC42*1000000,'Reaction Progress'!$G42:$P42),\"-\")","v":"-"},{"$f":"IF(O42<>\" - \",Phi_i_NS_Tci_Pci_wi_kijm_TinC_PinPa_yi(Z$8,vantHoff_EOS!$N$19,vantHoff_EOS!$X$5:$X$14,vantHoff_EOS!$Y$5:$Y$14,vantHoff_EOS!$Z$5:$Z$14,vantHoff_EOS!$AE$5:$AN$14,'Reaction Progress'!$AB42-273.15,'Reaction Progress'!$AC42*1000000,'Reaction Progress'!$G42:$P42),\"-\")","v":"-"},{"$f":"IF(P42<>\" - \",Phi_i_NS_Tci_Pci_wi_kijm_TinC_PinPa_yi(AA$8,vantHoff_EOS!$N$19,vantHoff_EOS!$X$5:$X$14,vantHoff_EOS!$Y$5:$Y$14,vantHoff_EOS!$Z$5:$Z$14,vantHoff_EOS!$AE$5:$AN$14,'Reaction Progress'!$AB42-273.15,'Reaction Progress'!$AC42*1000000,'Reaction Progress'!$G42:$P42),\"-\")","v":"-"},342.03204577028004,13.144845469885645,91.48679129804961,1.0930539652900898E-2,478.83567745710883]
[null,null,null,35,0.68000000000000027,{"$f":"nT_NS_n0i_vi_X(vantHoff_EOS!$N$19,vantHoff_EOS!$O$31:$X$31,vantHoff_EOS!$O$23:$X$23,'Reaction Progress'!E43)","v":8.9799999999999986},{"$f":"IF(G$8<=vantHoff_EOS!$N$19,nouti_i_n0i_vi_X(G$8,vantHoff_EOS!$O$31:$X$31,vantHoff_EOS!$O$23:$X$23,'Reaction Progress'!$E43)/'Reaction Progress'!$F43,\" - \")","v":3.5634743875278374E-2},{"$f":"IF(H$8<=vantHoff_EOS!$N$19,nouti_i_n0i_vi_X(H$8,vantHoff_EOS!$O$31:$X$31,vantHoff_EOS!$O$23:$X$23,'Reaction Progress'!$E43)/'Reaction Progress'!$F43,\" - \")","v":3.5634743875278374E-2},{"$f":"IF(I$8<=vantHoff_EOS!$N$19,nouti_i_n0i_vi_X(I$8,vantHoff_EOS!$O$31:$X$31,vantHoff_EOS!$O$23:$X$23,'Reaction Progress'!$E43)/'Reaction Progress'!$F43,\" - \")","v":3.5634743875278374E-2},{"$f":"IF(J$8<=vantHoff_EOS!$N$19,nouti_i_n0i_vi_X(J$8,vantHoff_EOS!$O$31:$X$31,vantHoff_EOS!$O$23:$X$23,'Reaction Progress'!$E43)/'Reaction Progress'!$F43,\" - \")","v":7.5723830734966635E-2},{"$f":"IF(K$8<=vantHoff_EOS!$N$19,nouti_i_n0i_vi_X(K$8,vantHoff_EOS!$O$31:$X$31,vantHoff_EOS!$O$23:$X$23,'Reaction Progress'!$E43)/'Reaction Progress'!$F43,\" - \")","v":0.81737193763919835},{"$f":"IF(L$8<=vantHoff_EOS!$N$19,nouti_i_n0i_vi_X(L$8,vantHoff_EOS!$O$31:$X$31,vantHoff_EOS!$O$23:$X$23,'Reaction Progress'!$E43)/'Reaction Progress'!$F43,\" - \")","v":" - "},{"$f":"IF(M$8<=vantHoff_EOS!$N$19,nouti_i_n0i_vi_X(M$8,vantHoff_EOS!$O$31:$X$31,vantHoff_EOS!$O$23:$X$23,'Reaction Progress'!$E43)/'Reaction Progress'!$F43,\" - \")","v":" - "},{"$f":"IF(N$8<=vantHoff_EOS!$N$19,nouti_i_n0i_vi_X(N$8,vantHoff_EOS!$O$31:$X$31,vantHoff_EOS!$O$23:$X$23,'Reaction Progress'!$E43)/'Reaction Progress'!$F43,\" - \")","v":" - "},{"$f":"IF(O$8<=vantHoff_EOS!$N$19,nouti_i_n0i_vi_X(O$8,vantHoff_EOS!$O$31:$X$31,vantHoff_EOS!$O$23:$X$23,'Reaction Progress'!$E43)/'Reaction Progress'!$F43,\" - \")","v":" - "},{"$f":"IF(P$8<=vantHoff_EOS!$N$19,nouti_i_n0i_vi_X(P$8,vantHoff_EOS!$O$31:$X$31,vantHoff_EOS!$O$23:$X$23,'Reaction Progress'!$E43)/'Reaction Progress'!$F43,\" - \")","v":" - "},1,{"$f":"IF(G43<>\" - \",Phi_i_NS_Tci_Pci_wi_kijm_TinC_PinPa_yi(R$8,vantHoff_EOS!$N$19,vantHoff_EOS!$X$5:$X$14,vantHoff_EOS!$Y$5:$Y$14,vantHoff_EOS!$Z$5:$Z$14,vantHoff_EOS!$AE$5:$AN$14,'Reaction Progress'!$AB43-273.15,'Reaction Progress'!$AC43*1000000,'Reaction Progress'!$G43:$P43),\"-\")","v":2.1023015673418053},{"$f":"IF(H43<>\" - \",Phi_i_NS_Tci_Pci_wi_kijm_TinC_PinPa_yi(S$8,vantHoff_EOS!$N$19,vantHoff_EOS!$X$5:$X$14,vantHoff_EOS!$Y$5:$Y$14,vantHoff_EOS!$Z$5:$Z$14,vantHoff_EOS!$AE$5:$AN$14,'Reaction Progress'!$AB43-273.15,'Reaction Progress'!$AC43*1000000,'Reaction Progress'!$G43:$P43),\"-\")","v":2.8877323799837749},{"$f":"IF(I43<>\" - \",Phi_i_NS_Tci_Pci_wi_kijm_TinC_PinPa_yi(T$8,vantHoff_EOS!$N$19,vantHoff_EOS!$X$5:$X$14,vantHoff_EOS!$Y$5:$Y$14,vantHoff_EOS!$Z$5:$Z$14,vantHoff_EOS!$AE$5:$AN$14,'Reaction Progress'!$AB43-273.15,'Reaction Progress'!$AC43*1000000,'Reaction Progress'!$G43:$P43),\"-\")","v":0.25719900694430459},{"$f":"IF(J43<>\" - \",Phi_i_NS_Tci_Pci_wi_kijm_TinC_PinPa_yi(U$8,vantHoff_EOS!$N$19,vantHoff_EOS!$X$5:$X$14,vantHoff_EOS!$Y$5:$Y$14,vantHoff_EOS!$Z$5:$Z$14,vantHoff_EOS!$AE$5:$AN$14,'Reaction Progress'!$AB43-273.15,'Reaction Progress'!$AC43*1000000,'Reaction Progress'!$G43:$P43),\"-\")","v":2.902453839423497E-2},{"$f":"IF(K43<>\" - \",Phi_i_NS_Tci_Pci_wi_kijm_TinC_PinPa_yi(V$8,vantHoff_EOS!$N$19,vantHoff_EOS!$X$5:$X$14,vantHoff_EOS!$Y$5:$Y$14,vantHoff_EOS!$Z$5:$Z$14,vantHoff_EOS!$AE$5:$AN$14,'Reaction Progress'!$AB43-273.15,'Reaction Progress'!$AC43*1000000,'Reaction Progress'!$G43:$P43),\"-\")","v":0.62225559851202161},{"$f":"IF(L43<>\" - \",Phi_i_NS_Tci_Pci_wi_kijm_TinC_PinPa_yi(W$8,vantHoff_EOS!$N$19,vantHoff_EOS!$X$5:$X$14,vantHoff_EOS!$Y$5:$Y$14,vantHoff_EOS!$Z$5:$Z$14,vantHoff_EOS!$AE$5:$AN$14,'Reaction Progress'!$AB43-273.15,'Reaction Progress'!$AC43*1000000,'Reaction Progress'!$G43:$P43),\"-\")","v":"-"},{"$f":"IF(M43<>\" - \",Phi_i_NS_Tci_Pci_wi_kijm_TinC_PinPa_yi(X$8,vantHoff_EOS!$N$19,vantHoff_EOS!$X$5:$X$14,vantHoff_EOS!$Y$5:$Y$14,vantHoff_EOS!$Z$5:$Z$14,vantHoff_EOS!$AE$5:$AN$14,'Reaction Progress'!$AB43-273.15,'Reaction Progress'!$AC43*1000000,'Reaction Progress'!$G43:$P43),\"-\")","v":"-"},{"$f":"IF(N43<>\" - \",Phi_i_NS_Tci_Pci_wi_kijm_TinC_PinPa_yi(Y$8,vantHoff_EOS!$N$19,vantHoff_EOS!$X$5:$X$14,vantHoff_EOS!$Y$5:$Y$14,vantHoff_EOS!$Z$5:$Z$14,vantHoff_EOS!$AE$5:$AN$14,'Reaction Progress'!$AB43-273.15,'Reaction Progress'!$AC43*1000000,'Reaction Progress'!$G43:$P43),\"-\")","v":"-"},{"$f":"IF(O43<>\" - \",Phi_i_NS_Tci_Pci_wi_kijm_TinC_PinPa_yi(Z$8,vantHoff_EOS!$N$19,vantHoff_EOS!$X$5:$X$14,vantHoff_EOS!$Y$5:$Y$14,vantHoff_EOS!$Z$5:$Z$14,vantHoff_EOS!$AE$5:$AN$14,'Reaction Progress'!$AB43-273.15,'Reaction Progress'!$AC43*1000000,'Reaction Progress'!$G43:$P43),\"-\")","v":"-"},{"$f":"IF(P43<>\" - \",Phi_i_NS_Tci_Pci_wi_kijm_TinC_PinPa_yi(AA$8,vantHoff_EOS!$N$19,vantHoff_EOS!$X$5:$X$14,vantHoff_EOS!$Y$5:$Y$14,vantHoff_EOS!$Z$5:$Z$14,vantHoff_EOS!$AE$5:$AN$14,'Reaction Progress'!$AB43-273.15,'Reaction Progress'!$AC43*1000000,'Reaction Progress'!$G43:$P43),\"-\")","v":"-"},343.30458176708453,13.112967240597179,91.916063183967651,1.0879491194031293E-2,478.72232763986671]
[null,null,null,36,0.70000000000000029,{"$f":"nT_NS_n0i_vi_X(vantHoff_EOS!$N$19,vantHoff_EOS!$O$31:$X$31,vantHoff_EOS!$O$23:$X$23,'Reaction Progress'!E44)","v":8.94},{"$f":"IF(G$8<=vantHoff_EOS!$N$19,nouti_i_n0i_vi_X(G$8,vantHoff_EOS!$O$31:$X$31,vantHoff_EOS!$O$23:$X$23,'Reaction Progress'!$E44)/'Reaction Progress'!$F44,\" - \")","v":3.3557046979865744E-2},{"$f":"IF(H$8<=vantHoff_EOS!$N$19,nouti_i_n0i_vi_X(H$8,vantHoff_EOS!$O$31:$X$31,vantHoff_EOS!$O$23:$X$23,'Reaction Progress'!$E44)/'Reaction Progress'!$F44,\" - \")","v":3.3557046979865744E-2},{"$f":"IF(I$8<=vantHoff_EOS!$N$19,nouti_i_n0i_vi_X(I$8,vantHoff_EOS!$O$31:$X$31,vantHoff_EOS!$O$23:$X$23,'Reaction Progress'!$E44)/'Reaction Progress'!$F44,\" - \")","v":3.3557046979865744E-2},{"$f":"IF(J$8<=vantHoff_EOS!$N$19,nouti_i_n0i_vi_X(J$8,vantHoff_EOS!$O$31:$X$31,vantHoff_EOS!$O$23:$X$23,'Reaction Progress'!$E44)/'Reaction Progress'!$F44,\" - \")","v":7.8299776286353498E-2},{"$f":"IF(K$8<=vantHoff_EOS!$N$19,nouti_i_n0i_vi_X(K$8,vantHoff_EOS!$O$31:$X$31,vantHoff_EOS!$O$23:$X$23,'Reaction Progress'!$E44)/'Reaction Progress'!$F44,\" - \")","v":0.82102908277404929},{"$f":"IF(L$8<=vantHoff_EOS!$N$19,nouti_i_n0i_vi_X(L$8,vantHoff_EOS!$O$31:$X$31,vantHoff_EOS!$O$23:$X$23,'Reaction Progress'!$E44)/'Reaction Progress'!$F44,\" - \")","v":" - "},{"$f":"IF(M$8<=vantHoff_EOS!$N$19,nouti_i_n0i_vi_X(M$8,vantHoff_EOS!$O$31:$X$31,vantHoff_EOS!$O$23:$X$23,'Reaction Progress'!$E44)/'Reaction Progress'!$F44,\" - \")","v":" - "},{"$f":"IF(N$8<=vantHoff_EOS!$N$19,nouti_i_n0i_vi_X(N$8,vantHoff_EOS!$O$31:$X$31,vantHoff_EOS!$O$23:$X$23,'Reaction Progress'!$E44)/'Reaction Progress'!$F44,\" - \")","v":" - "},{"$f":"IF(O$8<=vantHoff_EOS!$N$19,nouti_i_n0i_vi_X(O$8,vantHoff_EOS!$O$31:$X$31,vantHoff_EOS!$O$23:$X$23,'Reaction Progress'!$E44)/'Reaction Progress'!$F44,\" - \")","v":" - "},{"$f":"IF(P$8<=vantHoff_EOS!$N$19,nouti_i_n0i_vi_X(P$8,vantHoff_EOS!$O$31:$X$31,vantHoff_EOS!$O$23:$X$23,'Reaction Progress'!$E44)/'Reaction Progress'!$F44,\" - \")","v":" - "},1,{"$f":"IF(G44<>\" - \",Phi_i_NS_Tci_Pci_wi_kijm_TinC_PinPa_yi(R$8,vantHoff_EOS!$N$19,vantHoff_EOS!$X$5:$X$14,vantHoff_EOS!$Y$5:$Y$14,vantHoff_EOS!$Z$5:$Z$14,vantHoff_EOS!$AE$5:$AN$14,'Reaction Progress'!$AB44-273.15,'Reaction Progress'!$AC44*1000000,'Reaction Progress'!$G44:$P44),\"-\")","v":2.1131395102784878},{"$f":"IF(H44<>\" - \",Phi_i_NS_Tci_Pci_wi_kijm_TinC_PinPa_yi(S$8,vantHoff_EOS!$N$19,vantHoff_EOS!$X$5:$X$14,vantHoff_EOS!$Y$5:$Y$14,vantHoff_EOS!$Z$5:$Z$14,vantHoff_EOS!$AE$5:$AN$14,'Reaction Progress'!$AB44-273.15,'Reaction Progress'!$AC44*1000000,'Reaction Progress'!$G44:$P44),\"-\")","v":2.8928815717542888},{"$f":"IF(I44<>\" - \",Phi_i_NS_Tci_Pci_wi_kijm_TinC_PinPa_yi(T$8,vantHoff_EOS!$N$19,vantHoff_EOS!$X$5:$X$14,vantHoff_EOS!$Y$5:$Y$14,vantHoff_EOS!$Z$5:$Z$14,vantHoff_EOS!$AE$5:$AN$14,'Reaction Progress'!$AB44-273.15,'Reaction Progress'!$AC44*1000000,'Reaction Progress'!$G44:$P44),\"-\")","v":0.26117568019171916},{"$f":"IF(J44<>\" - \",Phi_i_NS_Tci_Pci_wi_kijm_TinC_PinPa_yi(U$8,vantHoff_EOS!$N$19,vantHoff_EOS!$X$5:$X$14,vantHoff_EOS!$Y$5:$Y$14,vantHoff_EOS!$Z$5:$Z$14,vantHoff_EOS!$AE$5:$AN$14,'Reaction Progress'!$AB44-273.15,'Reaction Progress'!$AC44*1000000,'Reaction Progress'!$G44:$P44),\"-\")","v":2.9838713870181732E-2},{"$f":"IF(K44<>\" - \",Phi_i_NS_Tci_Pci_wi_kijm_TinC_PinPa_yi(V$8,vantHoff_EOS!$N$19,vantHoff_EOS!$X$5:$X$14,vantHoff_EOS!$Y$5:$Y$14,vantHoff_EOS!$Z$5:$Z$14,vantHoff_EOS!$AE$5:$AN$14,'Reaction Progress'!$AB44-273.15,'Reaction Progress'!$AC44*1000000,'Reaction Progress'!$G44:$P44),\"-\")","v":0.62948035315776452},{"$f":"IF(L44<>\" - \",Phi_i_NS_Tci_Pci_wi_kijm_TinC_PinPa_yi(W$8,vantHoff_EOS!$N$19,vantHoff_EOS!$X$5:$X$14,vantHoff_EOS!$Y$5:$Y$14,vantHoff_EOS!$Z$5:$Z$14,vantHoff_EOS!$AE$5:$AN$14,'Reaction Progress'!$AB44-273.15,'Reaction Progress'!$AC44*1000000,'Reaction Progress'!$G44:$P44),\"-\")","v":"-"},{"$f":"IF(M44<>\" - \",Phi_i_NS_Tci_Pci_wi_kijm_TinC_PinPa_yi(X$8,vantHoff_EOS!$N$19,vantHoff_EOS!$X$5:$X$14,vantHoff_EOS!$Y$5:$Y$14,vantHoff_EOS!$Z$5:$Z$14,vantHoff_EOS!$AE$5:$AN$14,'Reaction Progress'!$AB44-273.15,'Reaction Progress'!$AC44*1000000,'Reaction Progress'!$G44:$P44),\"-\")","v":"-"},{"$f":"IF(N44<>\" - \",Phi_i_NS_Tci_Pci_wi_kijm_TinC_PinPa_yi(Y$8,vantHoff_EOS!$N$19,vantHoff_EOS!$X$5:$X$14,vantHoff_EOS!$Y$5:$Y$14,vantHoff_EOS!$Z$5:$Z$14,vantHoff_EOS!$AE$5:$AN$14,'Reaction Progress'!$AB44-273.15,'Reaction Progress'!$AC44*1000000,'Reaction Progress'!$G44:$P44),\"-\")","v":"-"},{"$f":"IF(O44<>\" - \",Phi_i_NS_Tci_Pci_wi_kijm_TinC_PinPa_yi(Z$8,vantHoff_EOS!$N$19,vantHoff_EOS!$X$5:$X$14,vantHoff_EOS!$Y$5:$Y$14,vantHoff_EOS!$Z$5:$Z$14,vantHoff_EOS!$AE$5:$AN$14,'Reaction Progress'!$AB44-273.15,'Reaction Progress'!$AC44*1000000,'Reaction Progress'!$G44:$P44),\"-\")","v":"-"},{"$f":"IF(P44<>\" - \",Phi_i_NS_Tci_Pci_wi_kijm_TinC_PinPa_yi(AA$8,vantHoff_EOS!$N$19,vantHoff_EOS!$X$5:$X$14,vantHoff_EOS!$Y$5:$Y$14,vantHoff_EOS!$Z$5:$Z$14,vantHoff_EOS!$AE$5:$AN$14,'Reaction Progress'!$AB44-273.15,'Reaction Progress'!$AC44*1000000,'Reaction Progress'!$G44:$P44),\"-\")","v":"-"},344.57927866276964,13.078207934235685,92.361699337319962,1.0826998714562811E-2,478.54413902369527]
[null,null,null,37,0.72000000000000031,{"$f":"nT_NS_n0i_vi_X(vantHoff_EOS!$N$19,vantHoff_EOS!$O$31:$X$31,vantHoff_EOS!$O$23:$X$23,'Reaction Progress'!E45)","v":8.8999999999999986},{"$f":"IF(G$8<=vantHoff_EOS!$N$19,nouti_i_n0i_vi_X(G$8,vantHoff_EOS!$O$31:$X$31,vantHoff_EOS!$O$23:$X$23,'Reaction Progress'!$E45)/'Reaction Progress'!$F45,\" - \")","v":3.1460674157303338E-2},{"$f":"IF(H$8<=vantHoff_EOS!$N$19,nouti_i_n0i_vi_X(H$8,vantHoff_EOS!$O$31:$X$31,vantHoff_EOS!$O$23:$X$23,'Reaction Progress'!$E45)/'Reaction Progress'!$F45,\" - \")","v":3.1460674157303338E-2},{"$f":"IF(I$8<=vantHoff_EOS!$N$19,nouti_i_n0i_vi_X(I$8,vantHoff_EOS!$O$31:$X$31,vantHoff_EOS!$O$23:$X$23,'Reaction Progress'!$E45)/'Reaction Progress'!$F45,\" - \")","v":3.1460674157303338E-2},{"$f":"IF(J$8<=vantHoff_EOS!$N$19,nouti_i_n0i_vi_X(J$8,vantHoff_EOS!$O$31:$X$31,vantHoff_EOS!$O$23:$X$23,'Reaction Progress'!$E45)/'Reaction Progress'!$F45,\" - \")","v":8.0898876404494433E-2},{"$f":"IF(K$8<=vantHoff_EOS!$N$19,nouti_i_n0i_vi_X(K$8,vantHoff_EOS!$O$31:$X$31,vantHoff_EOS!$O$23:$X$23,'Reaction Progress'!$E45)/'Reaction Progress'!$F45,\" - \")","v":0.82471910112359559},{"$f":"IF(L$8<=vantHoff_EOS!$N$19,nouti_i_n0i_vi_X(L$8,vantHoff_EOS!$O$31:$X$31,vantHoff_EOS!$O$23:$X$23,'Reaction Progress'!$E45)/'Reaction Progress'!$F45,\" - \")","v":" - "},{"$f":"IF(M$8<=vantHoff_EOS!$N$19,nouti_i_n0i_vi_X(M$8,vantHoff_EOS!$O$31:$X$31,vantHoff_EOS!$O$23:$X$23,'Reaction Progress'!$E45)/'Reaction Progress'!$F45,\" - \")","v":" - "},{"$f":"IF(N$8<=vantHoff_EOS!$N$19,nouti_i_n0i_vi_X(N$8,vantHoff_EOS!$O$31:$X$31,vantHoff_EOS!$O$23:$X$23,'Reaction Progress'!$E45)/'Reaction Progress'!$F45,\" - \")","v":" - "},{"$f":"IF(O$8<=vantHoff_EOS!$N$19,nouti_i_n0i_vi_X(O$8,vantHoff_EOS!$O$31:$X$31,vantHoff_EOS!$O$23:$X$23,'Reaction Progress'!$E45)/'Reaction Progress'!$F45,\" - \")","v":" - "},{"$f":"IF(P$8<=vantHoff_EOS!$N$19,nouti_i_n0i_vi_X(P$8,vantHoff_EOS!$O$31:$X$31,vantHoff_EOS!$O$23:$X$23,'Reaction Progress'!$E45)/'Reaction Progress'!$F45,\" - \")","v":" - "},1,{"$f":"IF(G45<>\" - \",Phi_i_NS_Tci_Pci_wi_kijm_TinC_PinPa_yi(R$8,vantHoff_EOS!$N$19,vantHoff_EOS!$X$5:$X$14,vantHoff_EOS!$Y$5:$Y$14,vantHoff_EOS!$Z$5:$Z$14,vantHoff_EOS!$AE$5:$AN$14,'Reaction Progress'!$AB45-273.15,'Reaction Progress'!$AC45*1000000,'Reaction Progress'!$G45:$P45),\"-\")","v":2.1239641495958472},{"$f":"IF(H45<>\" - \",Phi_i_NS_Tci_Pci_wi_kijm_TinC_PinPa_yi(S$8,vantHoff_EOS!$N$19,vantHoff_EOS!$X$5:$X$14,vantHoff_EOS!$Y$5:$Y$14,vantHoff_EOS!$Z$5:$Z$14,vantHoff_EOS!$AE$5:$AN$14,'Reaction Progress'!$AB45-273.15,'Reaction Progress'!$AC45*1000000,'Reaction Progress'!$G45:$P45),\"-\")","v":2.8979806027039938},{"$f":"IF(I45<>\" - \",Phi_i_NS_Tci_Pci_wi_kijm_TinC_PinPa_yi(T$8,vantHoff_EOS!$N$19,vantHoff_EOS!$X$5:$X$14,vantHoff_EOS!$Y$5:$Y$14,vantHoff_EOS!$Z$5:$Z$14,vantHoff_EOS!$AE$5:$AN$14,'Reaction Progress'!$AB45-273.15,'Reaction Progress'!$AC45*1000000,'Reaction Progress'!$G45:$P45),\"-\")","v":0.26523021301039024},{"$f":"IF(J45<>\" - \",Phi_i_NS_Tci_Pci_wi_kijm_TinC_PinPa_yi(U$8,vantHoff_EOS!$N$19,vantHoff_EOS!$X$5:$X$14,vantHoff_EOS!$Y$5:$Y$14,vantHoff_EOS!$Z$5:$Z$14,vantHoff_EOS!$AE$5:$AN$14,'Reaction Progress'!$AB45-273.15,'Reaction Progress'!$AC45*1000000,'Reaction Progress'!$G45:$P45),\"-\")","v":3.0679702163087325E-2},{"$f":"IF(K45<>\" - \",Phi_i_NS_Tci_Pci_wi_kijm_TinC_PinPa_yi(V$8,vantHoff_EOS!$N$19,vantHoff_EOS!$X$5:$X$14,vantHoff_EOS!$Y$5:$Y$14,vantHoff_EOS!$Z$5:$Z$14,vantHoff_EOS!$AE$5:$AN$14,'Reaction Progress'!$AB45-273.15,'Reaction Progress'!$AC45*1000000,'Reaction Progress'!$G45:$P45),\"-\")","v":0.63682031732578448},{"$f":"IF(L45<>\" - \",Phi_i_NS_Tci_Pci_wi_kijm_TinC_PinPa_yi(W$8,vantHoff_EOS!$N$19,vantHoff_EOS!$X$5:$X$14,vantHoff_EOS!$Y$5:$Y$14,vantHoff_EOS!$Z$5:$Z$14,vantHoff_EOS!$AE$5:$AN$14,'Reaction Progress'!$AB45-273.15,'Reaction Progress'!$AC45*1000000,'Reaction Progress'!$G45:$P45),\"-\")","v":"-"},{"$f":"IF(M45<>\" - \",Phi_i_NS_Tci_Pci_wi_kijm_TinC_PinPa_yi(X$8,vantHoff_EOS!$N$19,vantHoff_EOS!$X$5:$X$14,vantHoff_EOS!$Y$5:$Y$14,vantHoff_EOS!$Z$5:$Z$14,vantHoff_EOS!$AE$5:$AN$14,'Reaction Progress'!$AB45-273.15,'Reaction Progress'!$AC45*1000000,'Reaction Progress'!$G45:$P45),\"-\")","v":"-"},{"$f":"IF(N45<>\" - \",Phi_i_NS_Tci_Pci_wi_kijm_TinC_PinPa_yi(Y$8,vantHoff_EOS!$N$19,vantHoff_EOS!$X$5:$X$14,vantHoff_EOS!$Y$5:$Y$14,vantHoff_EOS!$Z$5:$Z$14,vantHoff_EOS!$AE$5:$AN$14,'Reaction Progress'!$AB45-273.15,'Reaction Progress'!$AC45*1000000,'Reaction Progress'!$G45:$P45),\"-\")","v":"-"},{"$f":"IF(O45<>\" - \",Phi_i_NS_Tci_Pci_wi_kijm_TinC_PinPa_yi(Z$8,vantHoff_EOS!$N$19,vantHoff_EOS!$X$5:$X$14,vantHoff_EOS!$Y$5:$Y$14,vantHoff_EOS!$Z$5:$Z$14,vantHoff_EOS!$AE$5:$AN$14,'Reaction Progress'!$AB45-273.15,'Reaction Progress'!$AC45*1000000,'Reaction Progress'!$G45:$P45),\"-\")","v":"-"},{"$f":"IF(P45<>\" - \",Phi_i_NS_Tci_Pci_wi_kijm_TinC_PinPa_yi(AA$8,vantHoff_EOS!$N$19,vantHoff_EOS!$X$5:$X$14,vantHoff_EOS!$Y$5:$Y$14,vantHoff_EOS!$Z$5:$Z$14,vantHoff_EOS!$AE$5:$AN$14,'Reaction Progress'!$AB45-273.15,'Reaction Progress'!$AC45*1000000,'Reaction Progress'!$G45:$P45),\"-\")","v":"-"},345.85595715981509,13.04065338216715,92.823287410819901,1.0773158631779243E-2,478.30451809266333]
[null,null,null,38,0.74000000000000032,{"$f":"nT_NS_n0i_vi_X(vantHoff_EOS!$N$19,vantHoff_EOS!$O$31:$X$31,vantHoff_EOS!$O$23:$X$23,'Reaction Progress'!E46)","v":8.86},{"$f":"IF(G$8<=vantHoff_EOS!$N$19,nouti_i_n0i_vi_X(G$8,vantHoff_EOS!$O$31:$X$31,vantHoff_EOS!$O$23:$X$23,'Reaction Progress'!$E46)/'Reaction Progress'!$F46,\" - \")","v":2.934537246049658E-2},{"$f":"IF(H$8<=vantHoff_EOS!$N$19,nouti_i_n0i_vi_X(H$8,vantHoff_EOS!$O$31:$X$31,vantHoff_EOS!$O$23:$X$23,'Reaction Progress'!$E46)/'Reaction Progress'!$F46,\" - \")","v":2.934537246049658E-2},{"$f":"IF(I$8<=vantHoff_EOS!$N$19,nouti_i_n0i_vi_X(I$8,vantHoff_EOS!$O$31:$X$31,vantHoff_EOS!$O$23:$X$23,'Reaction Progress'!$E46)/'Reaction Progress'!$F46,\" - \")","v":2.934537246049658E-2},{"$f":"IF(J$8<=vantHoff_EOS!$N$19,nouti_i_n0i_vi_X(J$8,vantHoff_EOS!$O$31:$X$31,vantHoff_EOS!$O$23:$X$23,'Reaction Progress'!$E46)/'Reaction Progress'!$F46,\" - \")","v":8.3521444695259642E-2},{"$f":"IF(K$8<=vantHoff_EOS!$N$19,nouti_i_n0i_vi_X(K$8,vantHoff_EOS!$O$31:$X$31,vantHoff_EOS!$O$23:$X$23,'Reaction Progress'!$E46)/'Reaction Progress'!$F46,\" - \")","v":0.82844243792325056},{"$f":"IF(L$8<=vantHoff_EOS!$N$19,nouti_i_n0i_vi_X(L$8,vantHoff_EOS!$O$31:$X$31,vantHoff_EOS!$O$23:$X$23,'Reaction Progress'!$E46)/'Reaction Progress'!$F46,\" - \")","v":" - "},{"$f":"IF(M$8<=vantHoff_EOS!$N$19,nouti_i_n0i_vi_X(M$8,vantHoff_EOS!$O$31:$X$31,vantHoff_EOS!$O$23:$X$23,'Reaction Progress'!$E46)/'Reaction Progress'!$F46,\" - \")","v":" - "},{"$f":"IF(N$8<=vantHoff_EOS!$N$19,nouti_i_n0i_vi_X(N$8,vantHoff_EOS!$O$31:$X$31,vantHoff_EOS!$O$23:$X$23,'Reaction Progress'!$E46)/'Reaction Progress'!$F46,\" - \")","v":" - "},{"$f":"IF(O$8<=vantHoff_EOS!$N$19,nouti_i_n0i_vi_X(O$8,vantHoff_EOS!$O$31:$X$31,vantHoff_EOS!$O$23:$X$23,'Reaction Progress'!$E46)/'Reaction Progress'!$F46,\" - \")","v":" - "},{"$f":"IF(P$8<=vantHoff_EOS!$N$19,nouti_i_n0i_vi_X(P$8,vantHoff_EOS!$O$31:$X$31,vantHoff_EOS!$O$23:$X$23,'Reaction Progress'!$E46)/'Reaction Progress'!$F46,\" - \")","v":" - "},1,{"$f":"IF(G46<>\" - \",Phi_i_NS_Tci_Pci_wi_kijm_TinC_PinPa_yi(R$8,vantHoff_EOS!$N$19,vantHoff_EOS!$X$5:$X$14,vantHoff_EOS!$Y$5:$Y$14,vantHoff_EOS!$Z$5:$Z$14,vantHoff_EOS!$AE$5:$AN$14,'Reaction Progress'!$AB46-273.15,'Reaction Progress'!$AC46*1000000,'Reaction Progress'!$G46:$P46),\"-\")","v":2.1347823849333647},{"$f":"IF(H46<>\" - \",Phi_i_NS_Tci_Pci_wi_kijm_TinC_PinPa_yi(S$8,vantHoff_EOS!$N$19,vantHoff_EOS!$X$5:$X$14,vantHoff_EOS!$Y$5:$Y$14,vantHoff_EOS!$Z$5:$Z$14,vantHoff_EOS!$AE$5:$AN$14,'Reaction Progress'!$AB46-273.15,'Reaction Progress'!$AC46*1000000,'Reaction Progress'!$G46:$P46),\"-\")","v":2.9030450535437886},{"$f":"IF(I46<>\" - \",Phi_i_NS_Tci_Pci_wi_kijm_TinC_PinPa_yi(T$8,vantHoff_EOS!$N$19,vantHoff_EOS!$X$5:$X$14,vantHoff_EOS!$Y$5:$Y$14,vantHoff_EOS!$Z$5:$Z$14,vantHoff_EOS!$AE$5:$AN$14,'Reaction Progress'!$AB46-273.15,'Reaction Progress'!$AC46*1000000,'Reaction Progress'!$G46:$P46),\"-\")","v":0.26936221422059153},{"$f":"IF(J46<>\" - \",Phi_i_NS_Tci_Pci_wi_kijm_TinC_PinPa_yi(U$8,vantHoff_EOS!$N$19,vantHoff_EOS!$X$5:$X$14,vantHoff_EOS!$Y$5:$Y$14,vantHoff_EOS!$Z$5:$Z$14,vantHoff_EOS!$AE$5:$AN$14,'Reaction Progress'!$AB46-273.15,'Reaction Progress'!$AC46*1000000,'Reaction Progress'!$G46:$P46),\"-\")","v":3.1547863267343657E-2},{"$f":"IF(K46<>\" - \",Phi_i_NS_Tci_Pci_wi_kijm_TinC_PinPa_yi(V$8,vantHoff_EOS!$N$19,vantHoff_EOS!$X$5:$X$14,vantHoff_EOS!$Y$5:$Y$14,vantHoff_EOS!$Z$5:$Z$14,vantHoff_EOS!$AE$5:$AN$14,'Reaction Progress'!$AB46-273.15,'Reaction Progress'!$AC46*1000000,'Reaction Progress'!$G46:$P46),\"-\")","v":0.64427449055510799},{"$f":"IF(L46<>\" - \",Phi_i_NS_Tci_Pci_wi_kijm_TinC_PinPa_yi(W$8,vantHoff_EOS!$N$19,vantHoff_EOS!$X$5:$X$14,vantHoff_EOS!$Y$5:$Y$14,vantHoff_EOS!$Z$5:$Z$14,vantHoff_EOS!$AE$5:$AN$14,'Reaction Progress'!$AB46-273.15,'Reaction Progress'!$AC46*1000000,'Reaction Progress'!$G46:$P46),\"-\")","v":"-"},{"$f":"IF(M46<>\" - \",Phi_i_NS_Tci_Pci_wi_kijm_TinC_PinPa_yi(X$8,vantHoff_EOS!$N$19,vantHoff_EOS!$X$5:$X$14,vantHoff_EOS!$Y$5:$Y$14,vantHoff_EOS!$Z$5:$Z$14,vantHoff_EOS!$AE$5:$AN$14,'Reaction Progress'!$AB46-273.15,'Reaction Progress'!$AC46*1000000,'Reaction Progress'!$G46:$P46),\"-\")","v":"-"},{"$f":"IF(N46<>\" - \",Phi_i_NS_Tci_Pci_wi_kijm_TinC_PinPa_yi(Y$8,vantHoff_EOS!$N$19,vantHoff_EOS!$X$5:$X$14,vantHoff_EOS!$Y$5:$Y$14,vantHoff_EOS!$Z$5:$Z$14,vantHoff_EOS!$AE$5:$AN$14,'Reaction Progress'!$AB46-273.15,'Reaction Progress'!$AC46*1000000,'Reaction Progress'!$G46:$P46),\"-\")","v":"-"},{"$f":"IF(O46<>\" - \",Phi_i_NS_Tci_Pci_wi_kijm_TinC_PinPa_yi(Z$8,vantHoff_EOS!$N$19,vantHoff_EOS!$X$5:$X$14,vantHoff_EOS!$Y$5:$Y$14,vantHoff_EOS!$Z$5:$Z$14,vantHoff_EOS!$AE$5:$AN$14,'Reaction Progress'!$AB46-273.15,'Reaction Progress'!$AC46*1000000,'Reaction Progress'!$G46:$P46),\"-\")","v":"-"},{"$f":"IF(P46<>\" - \",Phi_i_NS_Tci_Pci_wi_kijm_TinC_PinPa_yi(AA$8,vantHoff_EOS!$N$19,vantHoff_EOS!$X$5:$X$14,vantHoff_EOS!$Y$5:$Y$14,vantHoff_EOS!$Z$5:$Z$14,vantHoff_EOS!$AE$5:$AN$14,'Reaction Progress'!$AB46-273.15,'Reaction Progress'!$AC46*1000000,'Reaction Progress'!$G46:$P46),\"-\")","v":"-"},347.13443550670075,13.000378337444545,93.300499019429594,1.0718056285977126E-2,478.00643883335391]
[null,null,null,39,0.76000000000000034,{"$f":"nT_NS_n0i_vi_X(vantHoff_EOS!$N$19,vantHoff_EOS!$O$31:$X$31,vantHoff_EOS!$O$23:$X$23,'Reaction Progress'!E47)","v":8.8199999999999985},{"$f":"IF(G$8<=vantHoff_EOS!$N$19,nouti_i_n0i_vi_X(G$8,vantHoff_EOS!$O$31:$X$31,vantHoff_EOS!$O$23:$X$23,'Reaction Progress'!$E47)/'Reaction Progress'!$F47,\" - \")","v":2.7210884353741461E-2},{"$f":"IF(H$8<=vantHoff_EOS!$N$19,nouti_i_n0i_vi_X(H$8,vantHoff_EOS!$O$31:$X$31,vantHoff_EOS!$O$23:$X$23,'Reaction Progress'!$E47)/'Reaction Progress'!$F47,\" - \")","v":2.7210884353741461E-2},{"$f":"IF(I$8<=vantHoff_EOS!$N$19,nouti_i_n0i_vi_X(I$8,vantHoff_EOS!$O$31:$X$31,vantHoff_EOS!$O$23:$X$23,'Reaction Progress'!$E47)/'Reaction Progress'!$F47,\" - \")","v":2.7210884353741461E-2},{"$f":"IF(J$8<=vantHoff_EOS!$N$19,nouti_i_n0i_vi_X(J$8,vantHoff_EOS!$O$31:$X$31,vantHoff_EOS!$O$23:$X$23,'Reaction Progress'!$E47)/'Reaction Progress'!$F47,\" - \")","v":8.6167800453514798E-2},{"$f":"IF(K$8<=vantHoff_EOS!$N$19,nouti_i_n0i_vi_X(K$8,vantHoff_EOS!$O$31:$X$31,vantHoff_EOS!$O$23:$X$23,'Reaction Progress'!$E47)/'Reaction Progress'!$F47,\" - \")","v":0.83219954648526084},{"$f":"IF(L$8<=vantHoff_EOS!$N$19,nouti_i_n0i_vi_X(L$8,vantHoff_EOS!$O$31:$X$31,vantHoff_EOS!$O$23:$X$23,'Reaction Progress'!$E47)/'Reaction Progress'!$F47,\" - \")","v":" - "},{"$f":"IF(M$8<=vantHoff_EOS!$N$19,nouti_i_n0i_vi_X(M$8,vantHoff_EOS!$O$31:$X$31,vantHoff_EOS!$O$23:$X$23,'Reaction Progress'!$E47)/'Reaction Progress'!$F47,\" - \")","v":" - "},{"$f":"IF(N$8<=vantHoff_EOS!$N$19,nouti_i_n0i_vi_X(N$8,vantHoff_EOS!$O$31:$X$31,vantHoff_EOS!$O$23:$X$23,'Reaction Progress'!$E47)/'Reaction Progress'!$F47,\" - \")","v":" - "},{"$f":"IF(O$8<=vantHoff_EOS!$N$19,nouti_i_n0i_vi_X(O$8,vantHoff_EOS!$O$31:$X$31,vantHoff_EOS!$O$23:$X$23,'Reaction Progress'!$E47)/'Reaction Progress'!$F47,\" - \")","v":" - "},{"$f":"IF(P$8<=vantHoff_EOS!$N$19,nouti_i_n0i_vi_X(P$8,vantHoff_EOS!$O$31:$X$31,vantHoff_EOS!$O$23:$X$23,'Reaction Progress'!$E47)/'Reaction Progress'!$F47,\" - \")","v":" - "},1,{"$f":"IF(G47<>\" - \",Phi_i_NS_Tci_Pci_wi_kijm_TinC_PinPa_yi(R$8,vantHoff_EOS!$N$19,vantHoff_EOS!$X$5:$X$14,vantHoff_EOS!$Y$5:$Y$14,vantHoff_EOS!$Z$5:$Z$14,vantHoff_EOS!$AE$5:$AN$14,'Reaction Progress'!$AB47-273.15,'Reaction Progress'!$AC47*1000000,'Reaction Progress'!$G47:$P47),\"-\")","v":2.1456011270255262},{"$f":"IF(H47<>\" - \",Phi_i_NS_Tci_Pci_wi_kijm_TinC_PinPa_yi(S$8,vantHoff_EOS!$N$19,vantHoff_EOS!$X$5:$X$14,vantHoff_EOS!$Y$5:$Y$14,vantHoff_EOS!$Z$5:$Z$14,vantHoff_EOS!$AE$5:$AN$14,'Reaction Progress'!$AB47-273.15,'Reaction Progress'!$AC47*1000000,'Reaction Progress'!$G47:$P47),\"-\")","v":2.9080900508616256},{"$f":"IF(I47<>\" - \",Phi_i_NS_Tci_Pci_wi_kijm_TinC_PinPa_yi(T$8,vantHoff_EOS!$N$19,vantHoff_EOS!$X$5:$X$14,vantHoff_EOS!$Y$5:$Y$14,vantHoff_EOS!$Z$5:$Z$14,vantHoff_EOS!$AE$5:$AN$14,'Reaction Progress'!$AB47-273.15,'Reaction Progress'!$AC47*1000000,'Reaction Progress'!$G47:$P47),\"-\")","v":0.27357136499116608},{"$f":"IF(J47<>\" - \",Phi_i_NS_Tci_Pci_wi_kijm_TinC_PinPa_yi(U$8,vantHoff_EOS!$N$19,vantHoff_EOS!$X$5:$X$14,vantHoff_EOS!$Y$5:$Y$14,vantHoff_EOS!$Z$5:$Z$14,vantHoff_EOS!$AE$5:$AN$14,'Reaction Progress'!$AB47-273.15,'Reaction Progress'!$AC47*1000000,'Reaction Progress'!$G47:$P47),\"-\")","v":3.2443567651722294E-2},{"$f":"IF(K47<>\" - \",Phi_i_NS_Tci_Pci_wi_kijm_TinC_PinPa_yi(V$8,vantHoff_EOS!$N$19,vantHoff_EOS!$X$5:$X$14,vantHoff_EOS!$Y$5:$Y$14,vantHoff_EOS!$Z$5:$Z$14,vantHoff_EOS!$AE$5:$AN$14,'Reaction Progress'!$AB47-273.15,'Reaction Progress'!$AC47*1000000,'Reaction Progress'!$G47:$P47),\"-\")","v":0.65184203006079433},{"$f":"IF(L47<>\" - \",Phi_i_NS_Tci_Pci_wi_kijm_TinC_PinPa_yi(W$8,vantHoff_EOS!$N$19,vantHoff_EOS!$X$5:$X$14,vantHoff_EOS!$Y$5:$Y$14,vantHoff_EOS!$Z$5:$Z$14,vantHoff_EOS!$AE$5:$AN$14,'Reaction Progress'!$AB47-273.15,'Reaction Progress'!$AC47*1000000,'Reaction Progress'!$G47:$P47),\"-\")","v":"-"},{"$f":"IF(M47<>\" - \",Phi_i_NS_Tci_Pci_wi_kijm_TinC_PinPa_yi(X$8,vantHoff_EOS!$N$19,vantHoff_EOS!$X$5:$X$14,vantHoff_EOS!$Y$5:$Y$14,vantHoff_EOS!$Z$5:$Z$14,vantHoff_EOS!$AE$5:$AN$14,'Reaction Progress'!$AB47-273.15,'Reaction Progress'!$AC47*1000000,'Reaction Progress'!$G47:$P47),\"-\")","v":"-"},{"$f":"IF(N47<>\" - \",Phi_i_NS_Tci_Pci_wi_kijm_TinC_PinPa_yi(Y$8,vantHoff_EOS!$N$19,vantHoff_EOS!$X$5:$X$14,vantHoff_EOS!$Y$5:$Y$14,vantHoff_EOS!$Z$5:$Z$14,vantHoff_EOS!$AE$5:$AN$14,'Reaction Progress'!$AB47-273.15,'Reaction Progress'!$AC47*1000000,'Reaction Progress'!$G47:$P47),\"-\")","v":"-"},{"$f":"IF(O47<>\" - \",Phi_i_NS_Tci_Pci_wi_kijm_TinC_PinPa_yi(Z$8,vantHoff_EOS!$N$19,vantHoff_EOS!$X$5:$X$14,vantHoff_EOS!$Y$5:$Y$14,vantHoff_EOS!$Z$5:$Z$14,vantHoff_EOS!$AE$5:$AN$14,'Reaction Progress'!$AB47-273.15,'Reaction Progress'!$AC47*1000000,'Reaction Progress'!$G47:$P47),\"-\")","v":"-"},{"$f":"IF(P47<>\" - \",Phi_i_NS_Tci_Pci_wi_kijm_TinC_PinPa_yi(AA$8,vantHoff_EOS!$N$19,vantHoff_EOS!$X$5:$X$14,vantHoff_EOS!$Y$5:$Y$14,vantHoff_EOS!$Z$5:$Z$14,vantHoff_EOS!$AE$5:$AN$14,'Reaction Progress'!$AB47-273.15,'Reaction Progress'!$AC47*1000000,'Reaction Progress'!$G47:$P47),\"-\")","v":"-"},348.41453047975199,12.957454434559807,93.793035174822052,1.0661772466751792E-2,477.65272530853639]
[null,null,null,40,0.78000000000000036,{"$f":"nT_NS_n0i_vi_X(vantHoff_EOS!$N$19,vantHoff_EOS!$O$31:$X$31,vantHoff_EOS!$O$23:$X$23,'Reaction Progress'!E48)","v":8.7799999999999994},{"$f":"IF(G$8<=vantHoff_EOS!$N$19,nouti_i_n0i_vi_X(G$8,vantHoff_EOS!$O$31:$X$31,vantHoff_EOS!$O$23:$X$23,'Reaction Progress'!$E48)/'Reaction Progress'!$F48,\" - \")","v":2.5056947608200417E-2},{"$f":"IF(H$8<=vantHoff_EOS!$N$19,nouti_i_n0i_vi_X(H$8,vantHoff_EOS!$O$31:$X$31,vantHoff_EOS!$O$23:$X$23,'Reaction Progress'!$E48)/'Reaction Progress'!$F48,\" - \")","v":2.5056947608200417E-2},{"$f":"IF(I$8<=vantHoff_EOS!$N$19,nouti_i_n0i_vi_X(I$8,vantHoff_EOS!$O$31:$X$31,vantHoff_EOS!$O$23:$X$23,'Reaction Progress'!$E48)/'Reaction Progress'!$F48,\" - \")","v":2.5056947608200417E-2},{"$f":"IF(J$8<=vantHoff_EOS!$N$19,nouti_i_n0i_vi_X(J$8,vantHoff_EOS!$O$31:$X$31,vantHoff_EOS!$O$23:$X$23,'Reaction Progress'!$E48)/'Reaction Progress'!$F48,\" - \")","v":8.8838268792710756E-2},{"$f":"IF(K$8<=vantHoff_EOS!$N$19,nouti_i_n0i_vi_X(K$8,vantHoff_EOS!$O$31:$X$31,vantHoff_EOS!$O$23:$X$23,'Reaction Progress'!$E48)/'Reaction Progress'!$F48,\" - \")","v":0.83599088838268798},{"$f":"IF(L$8<=vantHoff_EOS!$N$19,nouti_i_n0i_vi_X(L$8,vantHoff_EOS!$O$31:$X$31,vantHoff_EOS!$O$23:$X$23,'Reaction Progress'!$E48)/'Reaction Progress'!$F48,\" - \")","v":" - "},{"$f":"IF(M$8<=vantHoff_EOS!$N$19,nouti_i_n0i_vi_X(M$8,vantHoff_EOS!$O$31:$X$31,vantHoff_EOS!$O$23:$X$23,'Reaction Progress'!$E48)/'Reaction Progress'!$F48,\" - \")","v":" - "},{"$f":"IF(N$8<=vantHoff_EOS!$N$19,nouti_i_n0i_vi_X(N$8,vantHoff_EOS!$O$31:$X$31,vantHoff_EOS!$O$23:$X$23,'Reaction Progress'!$E48)/'Reaction Progress'!$F48,\" - \")","v":" - "},{"$f":"IF(O$8<=vantHoff_EOS!$N$19,nouti_i_n0i_vi_X(O$8,vantHoff_EOS!$O$31:$X$31,vantHoff_EOS!$O$23:$X$23,'Reaction Progress'!$E48)/'Reaction Progress'!$F48,\" - \")","v":" - "},{"$f":"IF(P$8<=vantHoff_EOS!$N$19,nouti_i_n0i_vi_X(P$8,vantHoff_EOS!$O$31:$X$31,vantHoff_EOS!$O$23:$X$23,'Reaction Progress'!$E48)/'Reaction Progress'!$F48,\" - \")","v":" - "},1,{"$f":"IF(G48<>\" - \",Phi_i_NS_Tci_Pci_wi_kijm_TinC_PinPa_yi(R$8,vantHoff_EOS!$N$19,vantHoff_EOS!$X$5:$X$14,vantHoff_EOS!$Y$5:$Y$14,vantHoff_EOS!$Z$5:$Z$14,vantHoff_EOS!$AE$5:$AN$14,'Reaction Progress'!$AB48-273.15,'Reaction Progress'!$AC48*1000000,'Reaction Progress'!$G48:$P48),\"-\")","v":2.1564273053996224},{"$f":"IF(H48<>\" - \",Phi_i_NS_Tci_Pci_wi_kijm_TinC_PinPa_yi(S$8,vantHoff_EOS!$N$19,vantHoff_EOS!$X$5:$X$14,vantHoff_EOS!$Y$5:$Y$14,vantHoff_EOS!$Z$5:$Z$14,vantHoff_EOS!$AE$5:$AN$14,'Reaction Progress'!$AB48-273.15,'Reaction Progress'!$AC48*1000000,'Reaction Progress'!$G48:$P48),\"-\")","v":2.9131302940152937},{"$f":"IF(I48<>\" - \",Phi_i_NS_Tci_Pci_wi_kijm_TinC_PinPa_yi(T$8,vantHoff_EOS!$N$19,vantHoff_EOS!$X$5:$X$14,vantHoff_EOS!$Y$5:$Y$14,vantHoff_EOS!$Z$5:$Z$14,vantHoff_EOS!$AE$5:$AN$14,'Reaction Progress'!$AB48-273.15,'Reaction Progress'!$AC48*1000000,'Reaction Progress'!$G48:$P48),\"-\")","v":0.27785741828064064},{"$f":"IF(J48<>\" - \",Phi_i_NS_Tci_Pci_wi_kijm_TinC_PinPa_yi(U$8,vantHoff_EOS!$N$19,vantHoff_EOS!$X$5:$X$14,vantHoff_EOS!$Y$5:$Y$14,vantHoff_EOS!$Z$5:$Z$14,vantHoff_EOS!$AE$5:$AN$14,'Reaction Progress'!$AB48-273.15,'Reaction Progress'!$AC48*1000000,'Reaction Progress'!$G48:$P48),\"-\")","v":3.3367196043914082E-2},{"$f":"IF(K48<>\" - \",Phi_i_NS_Tci_Pci_wi_kijm_TinC_PinPa_yi(V$8,vantHoff_EOS!$N$19,vantHoff_EOS!$X$5:$X$14,vantHoff_EOS!$Y$5:$Y$14,vantHoff_EOS!$Z$5:$Z$14,vantHoff_EOS!$AE$5:$AN$14,'Reaction Progress'!$AB48-273.15,'Reaction Progress'!$AC48*1000000,'Reaction Progress'!$G48:$P48),\"-\")","v":0.65952224947255833},{"$f":"IF(L48<>\" - \",Phi_i_NS_Tci_Pci_wi_kijm_TinC_PinPa_yi(W$8,vantHoff_EOS!$N$19,vantHoff_EOS!$X$5:$X$14,vantHoff_EOS!$Y$5:$Y$14,vantHoff_EOS!$Z$5:$Z$14,vantHoff_EOS!$AE$5:$AN$14,'Reaction Progress'!$AB48-273.15,'Reaction Progress'!$AC48*1000000,'Reaction Progress'!$G48:$P48),\"-\")","v":"-"},{"$f":"IF(M48<>\" - \",Phi_i_NS_Tci_Pci_wi_kijm_TinC_PinPa_yi(X$8,vantHoff_EOS!$N$19,vantHoff_EOS!$X$5:$X$14,vantHoff_EOS!$Y$5:$Y$14,vantHoff_EOS!$Z$5:$Z$14,vantHoff_EOS!$AE$5:$AN$14,'Reaction Progress'!$AB48-273.15,'Reaction Progress'!$AC48*1000000,'Reaction Progress'!$G48:$P48),\"-\")","v":"-"},{"$f":"IF(N48<>\" - \",Phi_i_NS_Tci_Pci_wi_kijm_TinC_PinPa_yi(Y$8,vantHoff_EOS!$N$19,vantHoff_EOS!$X$5:$X$14,vantHoff_EOS!$Y$5:$Y$14,vantHoff_EOS!$Z$5:$Z$14,vantHoff_EOS!$AE$5:$AN$14,'Reaction Progress'!$AB48-273.15,'Reaction Progress'!$AC48*1000000,'Reaction Progress'!$G48:$P48),\"-\")","v":"-"},{"$f":"IF(O48<>\" - \",Phi_i_NS_Tci_Pci_wi_kijm_TinC_PinPa_yi(Z$8,vantHoff_EOS!$N$19,vantHoff_EOS!$X$5:$X$14,vantHoff_EOS!$Y$5:$Y$14,vantHoff_EOS!$Z$5:$Z$14,vantHoff_EOS!$AE$5:$AN$14,'Reaction Progress'!$AB48-273.15,'Reaction Progress'!$AC48*1000000,'Reaction Progress'!$G48:$P48),\"-\")","v":"-"},{"$f":"IF(P48<>\" - \",Phi_i_NS_Tci_Pci_wi_kijm_TinC_PinPa_yi(AA$8,vantHoff_EOS!$N$19,vantHoff_EOS!$X$5:$X$14,vantHoff_EOS!$Y$5:$Y$14,vantHoff_EOS!$Z$5:$Z$14,vantHoff_EOS!$AE$5:$AN$14,'Reaction Progress'!$AB48-273.15,'Reaction Progress'!$AC48*1000000,'Reaction Progress'!$G48:$P48),\"-\")","v":"-"},349.69605822663999,12.911950428329519,94.300624159239121,1.0604383681611346E-2,477.2460603309089]
[null,null,null,41,0.80000000000000038,{"$f":"nT_NS_n0i_vi_X(vantHoff_EOS!$N$19,vantHoff_EOS!$O$31:$X$31,vantHoff_EOS!$O$23:$X$23,'Reaction Progress'!E49)","v":8.7399999999999984},{"$f":"IF(G$8<=vantHoff_EOS!$N$19,nouti_i_n0i_vi_X(G$8,vantHoff_EOS!$O$31:$X$31,vantHoff_EOS!$O$23:$X$23,'Reaction Progress'!$E49)/'Reaction Progress'!$F49,\" - \")","v":2.288329519450797E-2},{"$f":"IF(H$8<=vantHoff_EOS!$N$19,nouti_i_n0i_vi_X(H$8,vantHoff_EOS!$O$31:$X$31,vantHoff_EOS!$O$23:$X$23,'Reaction Progress'!$E49)/'Reaction Progress'!$F49,\" - \")","v":2.288329519450797E-2},{"$f":"IF(I$8<=vantHoff_EOS!$N$19,nouti_i_n0i_vi_X(I$8,vantHoff_EOS!$O$31:$X$31,vantHoff_EOS!$O$23:$X$23,'Reaction Progress'!$E49)/'Reaction Progress'!$F49,\" - \")","v":2.288329519450797E-2},{"$f":"IF(J$8<=vantHoff_EOS!$N$19,nouti_i_n0i_vi_X(J$8,vantHoff_EOS!$O$31:$X$31,vantHoff_EOS!$O$23:$X$23,'Reaction Progress'!$E49)/'Reaction Progress'!$F49,\" - \")","v":9.1533180778032103E-2},{"$f":"IF(K$8<=vantHoff_EOS!$N$19,nouti_i_n0i_vi_X(K$8,vantHoff_EOS!$O$31:$X$31,vantHoff_EOS!$O$23:$X$23,'Reaction Progress'!$E49)/'Reaction Progress'!$F49,\" - \")","v":0.83981693363844412},{"$f":"IF(L$8<=vantHoff_EOS!$N$19,nouti_i_n0i_vi_X(L$8,vantHoff_EOS!$O$31:$X$31,vantHoff_EOS!$O$23:$X$23,'Reaction Progress'!$E49)/'Reaction Progress'!$F49,\" - \")","v":" - "},{"$f":"IF(M$8<=vantHoff_EOS!$N$19,nouti_i_n0i_vi_X(M$8,vantHoff_EOS!$O$31:$X$31,vantHoff_EOS!$O$23:$X$23,'Reaction Progress'!$E49)/'Reaction Progress'!$F49,\" - \")","v":" - "},{"$f":"IF(N$8<=vantHoff_EOS!$N$19,nouti_i_n0i_vi_X(N$8,vantHoff_EOS!$O$31:$X$31,vantHoff_EOS!$O$23:$X$23,'Reaction Progress'!$E49)/'Reaction Progress'!$F49,\" - \")","v":" - "},{"$f":"IF(O$8<=vantHoff_EOS!$N$19,nouti_i_n0i_vi_X(O$8,vantHoff_EOS!$O$31:$X$31,vantHoff_EOS!$O$23:$X$23,'Reaction Progress'!$E49)/'Reaction Progress'!$F49,\" - \")","v":" - "},{"$f":"IF(P$8<=vantHoff_EOS!$N$19,nouti_i_n0i_vi_X(P$8,vantHoff_EOS!$O$31:$X$31,vantHoff_EOS!$O$23:$X$23,'Reaction Progress'!$E49)/'Reaction Progress'!$F49,\" - \")","v":" - "},1.0000000000000002,{"$f":"IF(G49<>\" - \",Phi_i_NS_Tci_Pci_wi_kijm_TinC_PinPa_yi(R$8,vantHoff_EOS!$N$19,vantHoff_EOS!$X$5:$X$14,vantHoff_EOS!$Y$5:$Y$14,vantHoff_EOS!$Z$5:$Z$14,vantHoff_EOS!$AE$5:$AN$14,'Reaction Progress'!$AB49-273.15,'Reaction Progress'!$AC49*1000000,'Reaction Progress'!$G49:$P49),\"-\")","v":2.1672678762089488},{"$f":"IF(H49<>\" - \",Phi_i_NS_Tci_Pci_wi_kijm_TinC_PinPa_yi(S$8,vantHoff_EOS!$N$19,vantHoff_EOS!$X$5:$X$14,vantHoff_EOS!$Y$5:$Y$14,vantHoff_EOS!$Z$5:$Z$14,vantHoff_EOS!$AE$5:$AN$14,'Reaction Progress'!$AB49-273.15,'Reaction Progress'!$AC49*1000000,'Reaction Progress'!$G49:$P49),\"-\")","v":2.9181800820900046},{"$f":"IF(I49<>\" - \",Phi_i_NS_Tci_Pci_wi_kijm_TinC_PinPa_yi(T$8,vantHoff_EOS!$N$19,vantHoff_EOS!$X$5:$X$14,vantHoff_EOS!$Y$5:$Y$14,vantHoff_EOS!$Z$5:$Z$14,vantHoff_EOS!$AE$5:$AN$14,'Reaction Progress'!$AB49-273.15,'Reaction Progress'!$AC49*1000000,'Reaction Progress'!$G49:$P49),\"-\")","v":0.28222019854089359},{"$f":"IF(J49<>\" - \",Phi_i_NS_Tci_Pci_wi_kijm_TinC_PinPa_yi(U$8,vantHoff_EOS!$N$19,vantHoff_EOS!$X$5:$X$14,vantHoff_EOS!$Y$5:$Y$14,vantHoff_EOS!$Z$5:$Z$14,vantHoff_EOS!$AE$5:$AN$14,'Reaction Progress'!$AB49-273.15,'Reaction Progress'!$AC49*1000000,'Reaction Progress'!$G49:$P49),\"-\")","v":3.4319139302981895E-2},{"$f":"IF(K49<>\" - \",Phi_i_NS_Tci_Pci_wi_kijm_TinC_PinPa_yi(V$8,vantHoff_EOS!$N$19,vantHoff_EOS!$X$5:$X$14,vantHoff_EOS!$Y$5:$Y$14,vantHoff_EOS!$Z$5:$Z$14,vantHoff_EOS!$AE$5:$AN$14,'Reaction Progress'!$AB49-273.15,'Reaction Progress'!$AC49*1000000,'Reaction Progress'!$G49:$P49),\"-\")","v":0.66731461792483282},{"$f":"IF(L49<>\" - \",Phi_i_NS_Tci_Pci_wi_kijm_TinC_PinPa_yi(W$8,vantHoff_EOS!$N$19,vantHoff_EOS!$X$5:$X$14,vantHoff_EOS!$Y$5:$Y$14,vantHoff_EOS!$Z$5:$Z$14,vantHoff_EOS!$AE$5:$AN$14,'Reaction Progress'!$AB49-273.15,'Reaction Progress'!$AC49*1000000,'Reaction Progress'!$G49:$P49),\"-\")","v":"-"},{"$f":"IF(M49<>\" - \",Phi_i_NS_Tci_Pci_wi_kijm_TinC_PinPa_yi(X$8,vantHoff_EOS!$N$19,vantHoff_EOS!$X$5:$X$14,vantHoff_EOS!$Y$5:$Y$14,vantHoff_EOS!$Z$5:$Z$14,vantHoff_EOS!$AE$5:$AN$14,'Reaction Progress'!$AB49-273.15,'Reaction Progress'!$AC49*1000000,'Reaction Progress'!$G49:$P49),\"-\")","v":"-"},{"$f":"IF(N49<>\" - \",Phi_i_NS_Tci_Pci_wi_kijm_TinC_PinPa_yi(Y$8,vantHoff_EOS!$N$19,vantHoff_EOS!$X$5:$X$14,vantHoff_EOS!$Y$5:$Y$14,vantHoff_EOS!$Z$5:$Z$14,vantHoff_EOS!$AE$5:$AN$14,'Reaction Progress'!$AB49-273.15,'Reaction Progress'!$AC49*1000000,'Reaction Progress'!$G49:$P49),\"-\")","v":"-"},{"$f":"IF(O49<>\" - \",Phi_i_NS_Tci_Pci_wi_kijm_TinC_PinPa_yi(Z$8,vantHoff_EOS!$N$19,vantHoff_EOS!$X$5:$X$14,vantHoff_EOS!$Y$5:$Y$14,vantHoff_EOS!$Z$5:$Z$14,vantHoff_EOS!$AE$5:$AN$14,'Reaction Progress'!$AB49-273.15,'Reaction Progress'!$AC49*1000000,'Reaction Progress'!$G49:$P49),\"-\")","v":"-"},{"$f":"IF(P49<>\" - \",Phi_i_NS_Tci_Pci_wi_kijm_TinC_PinPa_yi(AA$8,vantHoff_EOS!$N$19,vantHoff_EOS!$X$5:$X$14,vantHoff_EOS!$Y$5:$Y$14,vantHoff_EOS!$Z$5:$Z$14,vantHoff_EOS!$AE$5:$AN$14,'Reaction Progress'!$AB49-273.15,'Reaction Progress'!$AC49*1000000,'Reaction Progress'!$G49:$P49),\"-\")","v":"-"},350.97883498982463,12.863932411781988,94.823019596097225,1.0545962407224991E-2,476.78899358991379]
[null,null,null,42,0.8200000000000004,{"$f":"nT_NS_n0i_vi_X(vantHoff_EOS!$N$19,vantHoff_EOS!$O$31:$X$31,vantHoff_EOS!$O$23:$X$23,'Reaction Progress'!E50)","v":8.6999999999999993},{"$f":"IF(G$8<=vantHoff_EOS!$N$19,nouti_i_n0i_vi_X(G$8,vantHoff_EOS!$O$31:$X$31,vantHoff_EOS!$O$23:$X$23,'Reaction Progress'!$E50)/'Reaction Progress'!$F50,\" - \")","v":2.0689655172413748E-2},{"$f":"IF(H$8<=vantHoff_EOS!$N$19,nouti_i_n0i_vi_X(H$8,vantHoff_EOS!$O$31:$X$31,vantHoff_EOS!$O$23:$X$23,'Reaction Progress'!$E50)/'Reaction Progress'!$F50,\" - \")","v":2.0689655172413748E-2},{"$f":"IF(I$8<=vantHoff_EOS!$N$19,nouti_i_n0i_vi_X(I$8,vantHoff_EOS!$O$31:$X$31,vantHoff_EOS!$O$23:$X$23,'Reaction Progress'!$E50)/'Reaction Progress'!$F50,\" - \")","v":2.0689655172413748E-2},{"$f":"IF(J$8<=vantHoff_EOS!$N$19,nouti_i_n0i_vi_X(J$8,vantHoff_EOS!$O$31:$X$31,vantHoff_EOS!$O$23:$X$23,'Reaction Progress'!$E50)/'Reaction Progress'!$F50,\" - \")","v":9.4252873563218445E-2},{"$f":"IF(K$8<=vantHoff_EOS!$N$19,nouti_i_n0i_vi_X(K$8,vantHoff_EOS!$O$31:$X$31,vantHoff_EOS!$O$23:$X$23,'Reaction Progress'!$E50)/'Reaction Progress'!$F50,\" - \")","v":0.84367816091954029},{"$f":"IF(L$8<=vantHoff_EOS!$N$19,nouti_i_n0i_vi_X(L$8,vantHoff_EOS!$O$31:$X$31,vantHoff_EOS!$O$23:$X$23,'Reaction Progress'!$E50)/'Reaction Progress'!$F50,\" - \")","v":" - "},{"$f":"IF(M$8<=vantHoff_EOS!$N$19,nouti_i_n0i_vi_X(M$8,vantHoff_EOS!$O$31:$X$31,vantHoff_EOS!$O$23:$X$23,'Reaction Progress'!$E50)/'Reaction Progress'!$F50,\" - \")","v":" - "},{"$f":"IF(N$8<=vantHoff_EOS!$N$19,nouti_i_n0i_vi_X(N$8,vantHoff_EOS!$O$31:$X$31,vantHoff_EOS!$O$23:$X$23,'Reaction Progress'!$E50)/'Reaction Progress'!$F50,\" - \")","v":" - "},{"$f":"IF(O$8<=vantHoff_EOS!$N$19,nouti_i_n0i_vi_X(O$8,vantHoff_EOS!$O$31:$X$31,vantHoff_EOS!$O$23:$X$23,'Reaction Progress'!$E50)/'Reaction Progress'!$F50,\" - \")","v":" - "},{"$f":"IF(P$8<=vantHoff_EOS!$N$19,nouti_i_n0i_vi_X(P$8,vantHoff_EOS!$O$31:$X$31,vantHoff_EOS!$O$23:$X$23,'Reaction Progress'!$E50)/'Reaction Progress'!$F50,\" - \")","v":" - "},1,{"$f":"IF(G50<>\" - \",Phi_i_NS_Tci_Pci_wi_kijm_TinC_PinPa_yi(R$8,vantHoff_EOS!$N$19,vantHoff_EOS!$X$5:$X$14,vantHoff_EOS!$Y$5:$Y$14,vantHoff_EOS!$Z$5:$Z$14,vantHoff_EOS!$AE$5:$AN$14,'Reaction Progress'!$AB50-273.15,'Reaction Progress'!$AC50*1000000,'Reaction Progress'!$G50:$P50),\"-\")","v":2.1780083864346222},{"$f":"IF(H50<>\" - \",Phi_i_NS_Tci_Pci_wi_kijm_TinC_PinPa_yi(S$8,vantHoff_EOS!$N$19,vantHoff_EOS!$X$5:$X$14,vantHoff_EOS!$Y$5:$Y$14,vantHoff_EOS!$Z$5:$Z$14,vantHoff_EOS!$AE$5:$AN$14,'Reaction Progress'!$AB50-273.15,'Reaction Progress'!$AC50*1000000,'Reaction Progress'!$G50:$P50),\"-\")","v":2.923025308937242},{"$f":"IF(I50<>\" - \",Phi_i_NS_Tci_Pci_wi_kijm_TinC_PinPa_yi(T$8,vantHoff_EOS!$N$19,vantHoff_EOS!$X$5:$X$14,vantHoff_EOS!$Y$5:$Y$14,vantHoff_EOS!$Z$5:$Z$14,vantHoff_EOS!$AE$5:$AN$14,'Reaction Progress'!$AB50-273.15,'Reaction Progress'!$AC50*1000000,'Reaction Progress'!$G50:$P50),\"-\")","v":0.28666476739955432},{"$f":"IF(J50<>\" - \",Phi_i_NS_Tci_Pci_wi_kijm_TinC_PinPa_yi(U$8,vantHoff_EOS!$N$19,vantHoff_EOS!$X$5:$X$14,vantHoff_EOS!$Y$5:$Y$14,vantHoff_EOS!$Z$5:$Z$14,vantHoff_EOS!$AE$5:$AN$14,'Reaction Progress'!$AB50-273.15,'Reaction Progress'!$AC50*1000000,'Reaction Progress'!$G50:$P50),\"-\")","v":3.5303547496706784E-2},{"$f":"IF(K50<>\" - \",Phi_i_NS_Tci_Pci_wi_kijm_TinC_PinPa_yi(V$8,vantHoff_EOS!$N$19,vantHoff_EOS!$X$5:$X$14,vantHoff_EOS!$Y$5:$Y$14,vantHoff_EOS!$Z$5:$Z$14,vantHoff_EOS!$AE$5:$AN$14,'Reaction Progress'!$AB50-273.15,'Reaction Progress'!$AC50*1000000,'Reaction Progress'!$G50:$P50),\"-\")","v":0.67520739205188873},{"$f":"IF(L50<>\" - \",Phi_i_NS_Tci_Pci_wi_kijm_TinC_PinPa_yi(W$8,vantHoff_EOS!$N$19,vantHoff_EOS!$X$5:$X$14,vantHoff_EOS!$Y$5:$Y$14,vantHoff_EOS!$Z$5:$Z$14,vantHoff_EOS!$AE$5:$AN$14,'Reaction Progress'!$AB50-273.15,'Reaction Progress'!$AC50*1000000,'Reaction Progress'!$G50:$P50),\"-\")","v":"-"},{"$f":"IF(M50<>\" - \",Phi_i_NS_Tci_Pci_wi_kijm_TinC_PinPa_yi(X$8,vantHoff_EOS!$N$19,vantHoff_EOS!$X$5:$X$14,vantHoff_EOS!$Y$5:$Y$14,vantHoff_EOS!$Z$5:$Z$14,vantHoff_EOS!$AE$5:$AN$14,'Reaction Progress'!$AB50-273.15,'Reaction Progress'!$AC50*1000000,'Reaction Progress'!$G50:$P50),\"-\")","v":"-"},{"$f":"IF(N50<>\" - \",Phi_i_NS_Tci_Pci_wi_kijm_TinC_PinPa_yi(Y$8,vantHoff_EOS!$N$19,vantHoff_EOS!$X$5:$X$14,vantHoff_EOS!$Y$5:$Y$14,vantHoff_EOS!$Z$5:$Z$14,vantHoff_EOS!$AE$5:$AN$14,'Reaction Progress'!$AB50-273.15,'Reaction Progress'!$AC50*1000000,'Reaction Progress'!$G50:$P50),\"-\")","v":"-"},{"$f":"IF(O50<>\" - \",Phi_i_NS_Tci_Pci_wi_kijm_TinC_PinPa_yi(Z$8,vantHoff_EOS!$N$19,vantHoff_EOS!$X$5:$X$14,vantHoff_EOS!$Y$5:$Y$14,vantHoff_EOS!$Z$5:$Z$14,vantHoff_EOS!$AE$5:$AN$14,'Reaction Progress'!$AB50-273.15,'Reaction Progress'!$AC50*1000000,'Reaction Progress'!$G50:$P50),\"-\")","v":"-"},{"$f":"IF(P50<>\" - \",Phi_i_NS_Tci_Pci_wi_kijm_TinC_PinPa_yi(AA$8,vantHoff_EOS!$N$19,vantHoff_EOS!$X$5:$X$14,vantHoff_EOS!$Y$5:$Y$14,vantHoff_EOS!$Z$5:$Z$14,vantHoff_EOS!$AE$5:$AN$14,'Reaction Progress'!$AB50-273.15,'Reaction Progress'!$AC50*1000000,'Reaction Progress'!$G50:$P50),\"-\")","v":"-"},352.26956568420763,12.814872596746632,95.360000854968007,1.0486577087188675E-2,476.28393848995034]
[null,null,null,43,0.84000000000000041,{"$f":"nT_NS_n0i_vi_X(vantHoff_EOS!$N$19,vantHoff_EOS!$O$31:$X$31,vantHoff_EOS!$O$23:$X$23,'Reaction Progress'!E51)","v":8.6599999999999984},{"$f":"IF(G$8<=vantHoff_EOS!$N$19,nouti_i_n0i_vi_X(G$8,vantHoff_EOS!$O$31:$X$31,vantHoff_EOS!$O$23:$X$23,'Reaction Progress'!$E51)/'Reaction Progress'!$F51,\" - \")","v":1.847575057736716E-2},{"$f":"IF(H$8<=vantHoff_EOS!$N$19,nouti_i_n0i_vi_X(H$8,vantHoff_EOS!$O$31:$X$31,vantHoff_EOS!$O$23:$X$23,'Reaction Progress'!$E51)/'Reaction Progress'!$F51,\" - \")","v":1.847575057736716E-2},{"$f":"IF(I$8<=vantHoff_EOS!$N$19,nouti_i_n0i_vi_X(I$8,vantHoff_EOS!$O$31:$X$31,vantHoff_EOS!$O$23:$X$23,'Reaction Progress'!$E51)/'Reaction Progress'!$F51,\" - \")","v":1.847575057736716E-2},{"$f":"IF(J$8<=vantHoff_EOS!$N$19,nouti_i_n0i_vi_X(J$8,vantHoff_EOS!$O$31:$X$31,vantHoff_EOS!$O$23:$X$23,'Reaction Progress'!$E51)/'Reaction Progress'!$F51,\" - \")","v":9.6997690531177891E-2},{"$f":"IF(K$8<=vantHoff_EOS!$N$19,nouti_i_n0i_vi_X(K$8,vantHoff_EOS!$O$31:$X$31,vantHoff_EOS!$O$23:$X$23,'Reaction Progress'!$E51)/'Reaction Progress'!$F51,\" - \")","v":0.84757505773672071},{"$f":"IF(L$8<=vantHoff_EOS!$N$19,nouti_i_n0i_vi_X(L$8,vantHoff_EOS!$O$31:$X$31,vantHoff_EOS!$O$23:$X$23,'Reaction Progress'!$E51)/'Reaction Progress'!$F51,\" - \")","v":" - "},{"$f":"IF(M$8<=vantHoff_EOS!$N$19,nouti_i_n0i_vi_X(M$8,vantHoff_EOS!$O$31:$X$31,vantHoff_EOS!$O$23:$X$23,'Reaction Progress'!$E51)/'Reaction Progress'!$F51,\" - \")","v":" - "},{"$f":"IF(N$8<=vantHoff_EOS!$N$19,nouti_i_n0i_vi_X(N$8,vantHoff_EOS!$O$31:$X$31,vantHoff_EOS!$O$23:$X$23,'Reaction Progress'!$E51)/'Reaction Progress'!$F51,\" - \")","v":" - "},{"$f":"IF(O$8<=vantHoff_EOS!$N$19,nouti_i_n0i_vi_X(O$8,vantHoff_EOS!$O$31:$X$31,vantHoff_EOS!$O$23:$X$23,'Reaction Progress'!$E51)/'Reaction Progress'!$F51,\" - \")","v":" - "},{"$f":"IF(P$8<=vantHoff_EOS!$N$19,nouti_i_n0i_vi_X(P$8,vantHoff_EOS!$O$31:$X$31,vantHoff_EOS!$O$23:$X$23,'Reaction Progress'!$E51)/'Reaction Progress'!$F51,\" - \")","v":" - "},1,{"$f":"IF(G51<>\" - \",Phi_i_NS_Tci_Pci_wi_kijm_TinC_PinPa_yi(R$8,vantHoff_EOS!$N$19,vantHoff_EOS!$X$5:$X$14,vantHoff_EOS!$Y$5:$Y$14,vantHoff_EOS!$Z$5:$Z$14,vantHoff_EOS!$AE$5:$AN$14,'Reaction Progress'!$AB51-273.15,'Reaction Progress'!$AC51*1000000,'Reaction Progress'!$G51:$P51),\"-\")","v":2.1889386203332113},{"$f":"IF(H51<>\" - \",Phi_i_NS_Tci_Pci_wi_kijm_TinC_PinPa_yi(S$8,vantHoff_EOS!$N$19,vantHoff_EOS!$X$5:$X$14,vantHoff_EOS!$Y$5:$Y$14,vantHoff_EOS!$Z$5:$Z$14,vantHoff_EOS!$AE$5:$AN$14,'Reaction Progress'!$AB51-273.15,'Reaction Progress'!$AC51*1000000,'Reaction Progress'!$G51:$P51),\"-\")","v":2.9282115688969035},{"$f":"IF(I51<>\" - \",Phi_i_NS_Tci_Pci_wi_kijm_TinC_PinPa_yi(T$8,vantHoff_EOS!$N$19,vantHoff_EOS!$X$5:$X$14,vantHoff_EOS!$Y$5:$Y$14,vantHoff_EOS!$Z$5:$Z$14,vantHoff_EOS!$AE$5:$AN$14,'Reaction Progress'!$AB51-273.15,'Reaction Progress'!$AC51*1000000,'Reaction Progress'!$G51:$P51),\"-\")","v":0.29117892350349467},{"$f":"IF(J51<>\" - \",Phi_i_NS_Tci_Pci_wi_kijm_TinC_PinPa_yi(U$8,vantHoff_EOS!$N$19,vantHoff_EOS!$X$5:$X$14,vantHoff_EOS!$Y$5:$Y$14,vantHoff_EOS!$Z$5:$Z$14,vantHoff_EOS!$AE$5:$AN$14,'Reaction Progress'!$AB51-273.15,'Reaction Progress'!$AC51*1000000,'Reaction Progress'!$G51:$P51),\"-\")","v":3.6312112194517743E-2},{"$f":"IF(K51<>\" - \",Phi_i_NS_Tci_Pci_wi_kijm_TinC_PinPa_yi(V$8,vantHoff_EOS!$N$19,vantHoff_EOS!$X$5:$X$14,vantHoff_EOS!$Y$5:$Y$14,vantHoff_EOS!$Z$5:$Z$14,vantHoff_EOS!$AE$5:$AN$14,'Reaction Progress'!$AB51-273.15,'Reaction Progress'!$AC51*1000000,'Reaction Progress'!$G51:$P51),\"-\")","v":0.68322653929392085},{"$f":"IF(L51<>\" - \",Phi_i_NS_Tci_Pci_wi_kijm_TinC_PinPa_yi(W$8,vantHoff_EOS!$N$19,vantHoff_EOS!$X$5:$X$14,vantHoff_EOS!$Y$5:$Y$14,vantHoff_EOS!$Z$5:$Z$14,vantHoff_EOS!$AE$5:$AN$14,'Reaction Progress'!$AB51-273.15,'Reaction Progress'!$AC51*1000000,'Reaction Progress'!$G51:$P51),\"-\")","v":"-"},{"$f":"IF(M51<>\" - \",Phi_i_NS_Tci_Pci_wi_kijm_TinC_PinPa_yi(X$8,vantHoff_EOS!$N$19,vantHoff_EOS!$X$5:$X$14,vantHoff_EOS!$Y$5:$Y$14,vantHoff_EOS!$Z$5:$Z$14,vantHoff_EOS!$AE$5:$AN$14,'Reaction Progress'!$AB51-273.15,'Reaction Progress'!$AC51*1000000,'Reaction Progress'!$G51:$P51),\"-\")","v":"-"},{"$f":"IF(N51<>\" - \",Phi_i_NS_Tci_Pci_wi_kijm_TinC_PinPa_yi(Y$8,vantHoff_EOS!$N$19,vantHoff_EOS!$X$5:$X$14,vantHoff_EOS!$Y$5:$Y$14,vantHoff_EOS!$Z$5:$Z$14,vantHoff_EOS!$AE$5:$AN$14,'Reaction Progress'!$AB51-273.15,'Reaction Progress'!$AC51*1000000,'Reaction Progress'!$G51:$P51),\"-\")","v":"-"},{"$f":"IF(O51<>\" - \",Phi_i_NS_Tci_Pci_wi_kijm_TinC_PinPa_yi(Z$8,vantHoff_EOS!$N$19,vantHoff_EOS!$X$5:$X$14,vantHoff_EOS!$Y$5:$Y$14,vantHoff_EOS!$Z$5:$Z$14,vantHoff_EOS!$AE$5:$AN$14,'Reaction Progress'!$AB51-273.15,'Reaction Progress'!$AC51*1000000,'Reaction Progress'!$G51:$P51),\"-\")","v":"-"},{"$f":"IF(P51<>\" - \",Phi_i_NS_Tci_Pci_wi_kijm_TinC_PinPa_yi(AA$8,vantHoff_EOS!$N$19,vantHoff_EOS!$X$5:$X$14,vantHoff_EOS!$Y$5:$Y$14,vantHoff_EOS!$Z$5:$Z$14,vantHoff_EOS!$AE$5:$AN$14,'Reaction Progress'!$AB51-273.15,'Reaction Progress'!$AC51*1000000,'Reaction Progress'!$G51:$P51),\"-\")","v":"-"},353.55198880590109,12.76153903056872,95.911361819300552,1.0426293413329126E-2,475.73322746654009]
[null,null,null,44,0.86000000000000043,{"$f":"nT_NS_n0i_vi_X(vantHoff_EOS!$N$19,vantHoff_EOS!$O$31:$X$31,vantHoff_EOS!$O$23:$X$23,'Reaction Progress'!E52)","v":8.6199999999999992},{"$f":"IF(G$8<=vantHoff_EOS!$N$19,nouti_i_n0i_vi_X(G$8,vantHoff_EOS!$O$31:$X$31,vantHoff_EOS!$O$23:$X$23,'Reaction Progress'!$E52)/'Reaction Progress'!$F52,\" - \")","v":1.6241299303944266E-2},{"$f":"IF(H$8<=vantHoff_EOS!$N$19,nouti_i_n0i_vi_X(H$8,vantHoff_EOS!$O$31:$X$31,vantHoff_EOS!$O$23:$X$23,'Reaction Progress'!$E52)/'Reaction Progress'!$F52,\" - \")","v":1.6241299303944266E-2},{"$f":"IF(I$8<=vantHoff_EOS!$N$19,nouti_i_n0i_vi_X(I$8,vantHoff_EOS!$O$31:$X$31,vantHoff_EOS!$O$23:$X$23,'Reaction Progress'!$E52)/'Reaction Progress'!$F52,\" - \")","v":1.6241299303944266E-2},{"$f":"IF(J$8<=vantHoff_EOS!$N$19,nouti_i_n0i_vi_X(J$8,vantHoff_EOS!$O$31:$X$31,vantHoff_EOS!$O$23:$X$23,'Reaction Progress'!$E52)/'Reaction Progress'!$F52,\" - \")","v":9.9767981438515146E-2},{"$f":"IF(K$8<=vantHoff_EOS!$N$19,nouti_i_n0i_vi_X(K$8,vantHoff_EOS!$O$31:$X$31,vantHoff_EOS!$O$23:$X$23,'Reaction Progress'!$E52)/'Reaction Progress'!$F52,\" - \")","v":0.85150812064965198},{"$f":"IF(L$8<=vantHoff_EOS!$N$19,nouti_i_n0i_vi_X(L$8,vantHoff_EOS!$O$31:$X$31,vantHoff_EOS!$O$23:$X$23,'Reaction Progress'!$E52)/'Reaction Progress'!$F52,\" - \")","v":" - "},{"$f":"IF(M$8<=vantHoff_EOS!$N$19,nouti_i_n0i_vi_X(M$8,vantHoff_EOS!$O$31:$X$31,vantHoff_EOS!$O$23:$X$23,'Reaction Progress'!$E52)/'Reaction Progress'!$F52,\" - \")","v":" - "},{"$f":"IF(N$8<=vantHoff_EOS!$N$19,nouti_i_n0i_vi_X(N$8,vantHoff_EOS!$O$31:$X$31,vantHoff_EOS!$O$23:$X$23,'Reaction Progress'!$E52)/'Reaction Progress'!$F52,\" - \")","v":" - "},{"$f":"IF(O$8<=vantHoff_EOS!$N$19,nouti_i_n0i_vi_X(O$8,vantHoff_EOS!$O$31:$X$31,vantHoff_EOS!$O$23:$X$23,'Reaction Progress'!$E52)/'Reaction Progress'!$F52,\" - \")","v":" - "},{"$f":"IF(P$8<=vantHoff_EOS!$N$19,nouti_i_n0i_vi_X(P$8,vantHoff_EOS!$O$31:$X$31,vantHoff_EOS!$O$23:$X$23,'Reaction Progress'!$E52)/'Reaction Progress'!$F52,\" - \")","v":" - "},0.99999999999999989,{"$f":"IF(G52<>\" - \",Phi_i_NS_Tci_Pci_wi_kijm_TinC_PinPa_yi(R$8,vantHoff_EOS!$N$19,vantHoff_EOS!$X$5:$X$14,vantHoff_EOS!$Y$5:$Y$14,vantHoff_EOS!$Z$5:$Z$14,vantHoff_EOS!$AE$5:$AN$14,'Reaction Progress'!$AB52-273.15,'Reaction Progress'!$AC52*1000000,'Reaction Progress'!$G52:$P52),\"-\")","v":2.1998993442055452},{"$f":"IF(H52<>\" - \",Phi_i_NS_Tci_Pci_wi_kijm_TinC_PinPa_yi(S$8,vantHoff_EOS!$N$19,vantHoff_EOS!$X$5:$X$14,vantHoff_EOS!$Y$5:$Y$14,vantHoff_EOS!$Z$5:$Z$14,vantHoff_EOS!$AE$5:$AN$14,'Reaction Progress'!$AB52-273.15,'Reaction Progress'!$AC52*1000000,'Reaction Progress'!$G52:$P52),\"-\")","v":2.9334377802035361},{"$f":"IF(I52<>\" - \",Phi_i_NS_Tci_Pci_wi_kijm_TinC_PinPa_yi(T$8,vantHoff_EOS!$N$19,vantHoff_EOS!$X$5:$X$14,vantHoff_EOS!$Y$5:$Y$14,vantHoff_EOS!$Z$5:$Z$14,vantHoff_EOS!$AE$5:$AN$14,'Reaction Progress'!$AB52-273.15,'Reaction Progress'!$AC52*1000000,'Reaction Progress'!$G52:$P52),\"-\")","v":0.29577004274682445},{"$f":"IF(J52<>\" - \",Phi_i_NS_Tci_Pci_wi_kijm_TinC_PinPa_yi(U$8,vantHoff_EOS!$N$19,vantHoff_EOS!$X$5:$X$14,vantHoff_EOS!$Y$5:$Y$14,vantHoff_EOS!$Z$5:$Z$14,vantHoff_EOS!$AE$5:$AN$14,'Reaction Progress'!$AB52-273.15,'Reaction Progress'!$AC52*1000000,'Reaction Progress'!$G52:$P52),\"-\")","v":3.7350371513806421E-2},{"$f":"IF(K52<>\" - \",Phi_i_NS_Tci_Pci_wi_kijm_TinC_PinPa_yi(V$8,vantHoff_EOS!$N$19,vantHoff_EOS!$X$5:$X$14,vantHoff_EOS!$Y$5:$Y$14,vantHoff_EOS!$Z$5:$Z$14,vantHoff_EOS!$AE$5:$AN$14,'Reaction Progress'!$AB52-273.15,'Reaction Progress'!$AC52*1000000,'Reaction Progress'!$G52:$P52),\"-\")","v":0.69135693898037853},{"$f":"IF(L52<>\" - \",Phi_i_NS_Tci_Pci_wi_kijm_TinC_PinPa_yi(W$8,vantHoff_EOS!$N$19,vantHoff_EOS!$X$5:$X$14,vantHoff_EOS!$Y$5:$Y$14,vantHoff_EOS!$Z$5:$Z$14,vantHoff_EOS!$AE$5:$AN$14,'Reaction Progress'!$AB52-273.15,'Reaction Progress'!$AC52*1000000,'Reaction Progress'!$G52:$P52),\"-\")","v":"-"},{"$f":"IF(M52<>\" - \",Phi_i_NS_Tci_Pci_wi_kijm_TinC_PinPa_yi(X$8,vantHoff_EOS!$N$19,vantHoff_EOS!$X$5:$X$14,vantHoff_EOS!$Y$5:$Y$14,vantHoff_EOS!$Z$5:$Z$14,vantHoff_EOS!$AE$5:$AN$14,'Reaction Progress'!$AB52-273.15,'Reaction Progress'!$AC52*1000000,'Reaction Progress'!$G52:$P52),\"-\")","v":"-"},{"$f":"IF(N52<>\" - \",Phi_i_NS_Tci_Pci_wi_kijm_TinC_PinPa_yi(Y$8,vantHoff_EOS!$N$19,vantHoff_EOS!$X$5:$X$14,vantHoff_EOS!$Y$5:$Y$14,vantHoff_EOS!$Z$5:$Z$14,vantHoff_EOS!$AE$5:$AN$14,'Reaction Progress'!$AB52-273.15,'Reaction Progress'!$AC52*1000000,'Reaction Progress'!$G52:$P52),\"-\")","v":"-"},{"$f":"IF(O52<>\" - \",Phi_i_NS_Tci_Pci_wi_kijm_TinC_PinPa_yi(Z$8,vantHoff_EOS!$N$19,vantHoff_EOS!$X$5:$X$14,vantHoff_EOS!$Y$5:$Y$14,vantHoff_EOS!$Z$5:$Z$14,vantHoff_EOS!$AE$5:$AN$14,'Reaction Progress'!$AB52-273.15,'Reaction Progress'!$AC52*1000000,'Reaction Progress'!$G52:$P52),\"-\")","v":"-"},{"$f":"IF(P52<>\" - \",Phi_i_NS_Tci_Pci_wi_kijm_TinC_PinPa_yi(AA$8,vantHoff_EOS!$N$19,vantHoff_EOS!$X$5:$X$14,vantHoff_EOS!$Y$5:$Y$14,vantHoff_EOS!$Z$5:$Z$14,vantHoff_EOS!$AE$5:$AN$14,'Reaction Progress'!$AB52-273.15,'Reaction Progress'!$AC52*1000000,'Reaction Progress'!$G52:$P52),\"-\")","v":"-"},354.83543694802796,12.705945564344866,96.476925816288613,1.036517272434862E-2,475.13903670164768]
[null,null,null,45,0.88000000000000045,{"$f":"nT_NS_n0i_vi_X(vantHoff_EOS!$N$19,vantHoff_EOS!$O$31:$X$31,vantHoff_EOS!$O$23:$X$23,'Reaction Progress'!E53)","v":8.5799999999999983},{"$f":"IF(G$8<=vantHoff_EOS!$N$19,nouti_i_n0i_vi_X(G$8,vantHoff_EOS!$O$31:$X$31,vantHoff_EOS!$O$23:$X$23,'Reaction Progress'!$E53)/'Reaction Progress'!$F53,\" - \")","v":1.3986013986013936E-2},{"$f":"IF(H$8<=vantHoff_EOS!$N$19,nouti_i_n0i_vi_X(H$8,vantHoff_EOS!$O$31:$X$31,vantHoff_EOS!$O$23:$X$23,'Reaction Progress'!$E53)/'Reaction Progress'!$F53,\" - \")","v":1.3986013986013936E-2},{"$f":"IF(I$8<=vantHoff_EOS!$N$19,nouti_i_n0i_vi_X(I$8,vantHoff_EOS!$O$31:$X$31,vantHoff_EOS!$O$23:$X$23,'Reaction Progress'!$E53)/'Reaction Progress'!$F53,\" - \")","v":1.3986013986013936E-2},{"$f":"IF(J$8<=vantHoff_EOS!$N$19,nouti_i_n0i_vi_X(J$8,vantHoff_EOS!$O$31:$X$31,vantHoff_EOS!$O$23:$X$23,'Reaction Progress'!$E53)/'Reaction Progress'!$F53,\" - \")","v":0.10256410256410263},{"$f":"IF(K$8<=vantHoff_EOS!$N$19,nouti_i_n0i_vi_X(K$8,vantHoff_EOS!$O$31:$X$31,vantHoff_EOS!$O$23:$X$23,'Reaction Progress'!$E53)/'Reaction Progress'!$F53,\" - \")","v":0.8554778554778556},{"$f":"IF(L$8<=vantHoff_EOS!$N$19,nouti_i_n0i_vi_X(L$8,vantHoff_EOS!$O$31:$X$31,vantHoff_EOS!$O$23:$X$23,'Reaction Progress'!$E53)/'Reaction Progress'!$F53,\" - \")","v":" - "},{"$f":"IF(M$8<=vantHoff_EOS!$N$19,nouti_i_n0i_vi_X(M$8,vantHoff_EOS!$O$31:$X$31,vantHoff_EOS!$O$23:$X$23,'Reaction Progress'!$E53)/'Reaction Progress'!$F53,\" - \")","v":" - "},{"$f":"IF(N$8<=vantHoff_EOS!$N$19,nouti_i_n0i_vi_X(N$8,vantHoff_EOS!$O$31:$X$31,vantHoff_EOS!$O$23:$X$23,'Reaction Progress'!$E53)/'Reaction Progress'!$F53,\" - \")","v":" - "},{"$f":"IF(O$8<=vantHoff_EOS!$N$19,nouti_i_n0i_vi_X(O$8,vantHoff_EOS!$O$31:$X$31,vantHoff_EOS!$O$23:$X$23,'Reaction Progress'!$E53)/'Reaction Progress'!$F53,\" - \")","v":" - "},{"$f":"IF(P$8<=vantHoff_EOS!$N$19,nouti_i_n0i_vi_X(P$8,vantHoff_EOS!$O$31:$X$31,vantHoff_EOS!$O$23:$X$23,'Reaction Progress'!$E53)/'Reaction Progress'!$F53,\" - \")","v":" - "},1,{"$f":"IF(G53<>\" - \",Phi_i_NS_Tci_Pci_wi_kijm_TinC_PinPa_yi(R$8,vantHoff_EOS!$N$19,vantHoff_EOS!$X$5:$X$14,vantHoff_EOS!$Y$5:$Y$14,vantHoff_EOS!$Z$5:$Z$14,vantHoff_EOS!$AE$5:$AN$14,'Reaction Progress'!$AB53-273.15,'Reaction Progress'!$AC53*1000000,'Reaction Progress'!$G53:$P53),\"-\")","v":2.2108978883957935},{"$f":"IF(H53<>\" - \",Phi_i_NS_Tci_Pci_wi_kijm_TinC_PinPa_yi(S$8,vantHoff_EOS!$N$19,vantHoff_EOS!$X$5:$X$14,vantHoff_EOS!$Y$5:$Y$14,vantHoff_EOS!$Z$5:$Z$14,vantHoff_EOS!$AE$5:$AN$14,'Reaction Progress'!$AB53-273.15,'Reaction Progress'!$AC53*1000000,'Reaction Progress'!$G53:$P53),\"-\")","v":2.9387174686626754},{"$f":"IF(I53<>\" - \",Phi_i_NS_Tci_Pci_wi_kijm_TinC_PinPa_yi(T$8,vantHoff_EOS!$N$19,vantHoff_EOS!$X$5:$X$14,vantHoff_EOS!$Y$5:$Y$14,vantHoff_EOS!$Z$5:$Z$14,vantHoff_EOS!$AE$5:$AN$14,'Reaction Progress'!$AB53-273.15,'Reaction Progress'!$AC53*1000000,'Reaction Progress'!$G53:$P53),\"-\")","v":0.30043820684455513},{"$f":"IF(J53<>\" - \",Phi_i_NS_Tci_Pci_wi_kijm_TinC_PinPa_yi(U$8,vantHoff_EOS!$N$19,vantHoff_EOS!$X$5:$X$14,vantHoff_EOS!$Y$5:$Y$14,vantHoff_EOS!$Z$5:$Z$14,vantHoff_EOS!$AE$5:$AN$14,'Reaction Progress'!$AB53-273.15,'Reaction Progress'!$AC53*1000000,'Reaction Progress'!$G53:$P53),\"-\")","v":3.8418753738497811E-2},{"$f":"IF(K53<>\" - \",Phi_i_NS_Tci_Pci_wi_kijm_TinC_PinPa_yi(V$8,vantHoff_EOS!$N$19,vantHoff_EOS!$X$5:$X$14,vantHoff_EOS!$Y$5:$Y$14,vantHoff_EOS!$Z$5:$Z$14,vantHoff_EOS!$AE$5:$AN$14,'Reaction Progress'!$AB53-273.15,'Reaction Progress'!$AC53*1000000,'Reaction Progress'!$G53:$P53),\"-\")","v":0.69959865066160909},{"$f":"IF(L53<>\" - \",Phi_i_NS_Tci_Pci_wi_kijm_TinC_PinPa_yi(W$8,vantHoff_EOS!$N$19,vantHoff_EOS!$X$5:$X$14,vantHoff_EOS!$Y$5:$Y$14,vantHoff_EOS!$Z$5:$Z$14,vantHoff_EOS!$AE$5:$AN$14,'Reaction Progress'!$AB53-273.15,'Reaction Progress'!$AC53*1000000,'Reaction Progress'!$G53:$P53),\"-\")","v":"-"},{"$f":"IF(M53<>\" - \",Phi_i_NS_Tci_Pci_wi_kijm_TinC_PinPa_yi(X$8,vantHoff_EOS!$N$19,vantHoff_EOS!$X$5:$X$14,vantHoff_EOS!$Y$5:$Y$14,vantHoff_EOS!$Z$5:$Z$14,vantHoff_EOS!$AE$5:$AN$14,'Reaction Progress'!$AB53-273.15,'Reaction Progress'!$AC53*1000000,'Reaction Progress'!$G53:$P53),\"-\")","v":"-"},{"$f":"IF(N53<>\" - \",Phi_i_NS_Tci_Pci_wi_kijm_TinC_PinPa_yi(Y$8,vantHoff_EOS!$N$19,vantHoff_EOS!$X$5:$X$14,vantHoff_EOS!$Y$5:$Y$14,vantHoff_EOS!$Z$5:$Z$14,vantHoff_EOS!$AE$5:$AN$14,'Reaction Progress'!$AB53-273.15,'Reaction Progress'!$AC53*1000000,'Reaction Progress'!$G53:$P53),\"-\")","v":"-"},{"$f":"IF(O53<>\" - \",Phi_i_NS_Tci_Pci_wi_kijm_TinC_PinPa_yi(Z$8,vantHoff_EOS!$N$19,vantHoff_EOS!$X$5:$X$14,vantHoff_EOS!$Y$5:$Y$14,vantHoff_EOS!$Z$5:$Z$14,vantHoff_EOS!$AE$5:$AN$14,'Reaction Progress'!$AB53-273.15,'Reaction Progress'!$AC53*1000000,'Reaction Progress'!$G53:$P53),\"-\")","v":"-"},{"$f":"IF(P53<>\" - \",Phi_i_NS_Tci_Pci_wi_kijm_TinC_PinPa_yi(AA$8,vantHoff_EOS!$N$19,vantHoff_EOS!$X$5:$X$14,vantHoff_EOS!$Y$5:$Y$14,vantHoff_EOS!$Z$5:$Z$14,vantHoff_EOS!$AE$5:$AN$14,'Reaction Progress'!$AB53-273.15,'Reaction Progress'!$AC53*1000000,'Reaction Progress'!$G53:$P53),\"-\")","v":"-"},356.1197136414329,12.648144842505367,97.056531700289213,1.0303273592013386E-2,474.50345553118962]
[null,null,null,46,0.90000000000000047,{"$f":"nT_NS_n0i_vi_X(vantHoff_EOS!$N$19,vantHoff_EOS!$O$31:$X$31,vantHoff_EOS!$O$23:$X$23,'Reaction Progress'!E54)","v":8.5399999999999991},{"$f":"IF(G$8<=vantHoff_EOS!$N$19,nouti_i_n0i_vi_X(G$8,vantHoff_EOS!$O$31:$X$31,vantHoff_EOS!$O$23:$X$23,'Reaction Progress'!$E54)/'Reaction Progress'!$F54,\" - \")","v":1.1709601873536247E-2},{"$f":"IF(H$8<=vantHoff_EOS!$N$19,nouti_i_n0i_vi_X(H$8,vantHoff_EOS!$O$31:$X$31,vantHoff_EOS!$O$23:$X$23,'Reaction Progress'!$E54)/'Reaction Progress'!$F54,\" - \")","v":1.1709601873536247E-2},{"$f":"IF(I$8<=vantHoff_EOS!$N$19,nouti_i_n0i_vi_X(I$8,vantHoff_EOS!$O$31:$X$31,vantHoff_EOS!$O$23:$X$23,'Reaction Progress'!$E54)/'Reaction Progress'!$F54,\" - \")","v":1.1709601873536247E-2},{"$f":"IF(J$8<=vantHoff_EOS!$N$19,nouti_i_n0i_vi_X(J$8,vantHoff_EOS!$O$31:$X$31,vantHoff_EOS!$O$23:$X$23,'Reaction Progress'!$E54)/'Reaction Progress'!$F54,\" - \")","v":0.10538641686182676},{"$f":"IF(K$8<=vantHoff_EOS!$N$19,nouti_i_n0i_vi_X(K$8,vantHoff_EOS!$O$31:$X$31,vantHoff_EOS!$O$23:$X$23,'Reaction Progress'!$E54)/'Reaction Progress'!$F54,\" - \")","v":0.85948477751756447},{"$f":"IF(L$8<=vantHoff_EOS!$N$19,nouti_i_n0i_vi_X(L$8,vantHoff_EOS!$O$31:$X$31,vantHoff_EOS!$O$23:$X$23,'Reaction Progress'!$E54)/'Reaction Progress'!$F54,\" - \")","v":" - "},{"$f":"IF(M$8<=vantHoff_EOS!$N$19,nouti_i_n0i_vi_X(M$8,vantHoff_EOS!$O$31:$X$31,vantHoff_EOS!$O$23:$X$23,'Reaction Progress'!$E54)/'Reaction Progress'!$F54,\" - \")","v":" - "},{"$f":"IF(N$8<=vantHoff_EOS!$N$19,nouti_i_n0i_vi_X(N$8,vantHoff_EOS!$O$31:$X$31,vantHoff_EOS!$O$23:$X$23,'Reaction Progress'!$E54)/'Reaction Progress'!$F54,\" - \")","v":" - "},{"$f":"IF(O$8<=vantHoff_EOS!$N$19,nouti_i_n0i_vi_X(O$8,vantHoff_EOS!$O$31:$X$31,vantHoff_EOS!$O$23:$X$23,'Reaction Progress'!$E54)/'Reaction Progress'!$F54,\" - \")","v":" - "},{"$f":"IF(P$8<=vantHoff_EOS!$N$19,nouti_i_n0i_vi_X(P$8,vantHoff_EOS!$O$31:$X$31,vantHoff_EOS!$O$23:$X$23,'Reaction Progress'!$E54)/'Reaction Progress'!$F54,\" - \")","v":" - "},1,{"$f":"IF(G54<>\" - \",Phi_i_NS_Tci_Pci_wi_kijm_TinC_PinPa_yi(R$8,vantHoff_EOS!$N$19,vantHoff_EOS!$X$5:$X$14,vantHoff_EOS!$Y$5:$Y$14,vantHoff_EOS!$Z$5:$Z$14,vantHoff_EOS!$AE$5:$AN$14,'Reaction Progress'!$AB54-273.15,'Reaction Progress'!$AC54*1000000,'Reaction Progress'!$G54:$P54),\"-\")","v":2.2219416986167198},{"$f":"IF(H54<>\" - \",Phi_i_NS_Tci_Pci_wi_kijm_TinC_PinPa_yi(S$8,vantHoff_EOS!$N$19,vantHoff_EOS!$X$5:$X$14,vantHoff_EOS!$Y$5:$Y$14,vantHoff_EOS!$Z$5:$Z$14,vantHoff_EOS!$AE$5:$AN$14,'Reaction Progress'!$AB54-273.15,'Reaction Progress'!$AC54*1000000,'Reaction Progress'!$G54:$P54),\"-\")","v":2.9440639644625946},{"$f":"IF(I54<>\" - \",Phi_i_NS_Tci_Pci_wi_kijm_TinC_PinPa_yi(T$8,vantHoff_EOS!$N$19,vantHoff_EOS!$X$5:$X$14,vantHoff_EOS!$Y$5:$Y$14,vantHoff_EOS!$Z$5:$Z$14,vantHoff_EOS!$AE$5:$AN$14,'Reaction Progress'!$AB54-273.15,'Reaction Progress'!$AC54*1000000,'Reaction Progress'!$G54:$P54),\"-\")","v":0.30518357008420716},{"$f":"IF(J54<>\" - \",Phi_i_NS_Tci_Pci_wi_kijm_TinC_PinPa_yi(U$8,vantHoff_EOS!$N$19,vantHoff_EOS!$X$5:$X$14,vantHoff_EOS!$Y$5:$Y$14,vantHoff_EOS!$Z$5:$Z$14,vantHoff_EOS!$AE$5:$AN$14,'Reaction Progress'!$AB54-273.15,'Reaction Progress'!$AC54*1000000,'Reaction Progress'!$G54:$P54),\"-\")","v":3.9517696223003239E-2},{"$f":"IF(K54<>\" - \",Phi_i_NS_Tci_Pci_wi_kijm_TinC_PinPa_yi(V$8,vantHoff_EOS!$N$19,vantHoff_EOS!$X$5:$X$14,vantHoff_EOS!$Y$5:$Y$14,vantHoff_EOS!$Z$5:$Z$14,vantHoff_EOS!$AE$5:$AN$14,'Reaction Progress'!$AB54-273.15,'Reaction Progress'!$AC54*1000000,'Reaction Progress'!$G54:$P54),\"-\")","v":0.70795189684680071},{"$f":"IF(L54<>\" - \",Phi_i_NS_Tci_Pci_wi_kijm_TinC_PinPa_yi(W$8,vantHoff_EOS!$N$19,vantHoff_EOS!$X$5:$X$14,vantHoff_EOS!$Y$5:$Y$14,vantHoff_EOS!$Z$5:$Z$14,vantHoff_EOS!$AE$5:$AN$14,'Reaction Progress'!$AB54-273.15,'Reaction Progress'!$AC54*1000000,'Reaction Progress'!$G54:$P54),\"-\")","v":"-"},{"$f":"IF(M54<>\" - \",Phi_i_NS_Tci_Pci_wi_kijm_TinC_PinPa_yi(X$8,vantHoff_EOS!$N$19,vantHoff_EOS!$X$5:$X$14,vantHoff_EOS!$Y$5:$Y$14,vantHoff_EOS!$Z$5:$Z$14,vantHoff_EOS!$AE$5:$AN$14,'Reaction Progress'!$AB54-273.15,'Reaction Progress'!$AC54*1000000,'Reaction Progress'!$G54:$P54),\"-\")","v":"-"},{"$f":"IF(N54<>\" - \",Phi_i_NS_Tci_Pci_wi_kijm_TinC_PinPa_yi(Y$8,vantHoff_EOS!$N$19,vantHoff_EOS!$X$5:$X$14,vantHoff_EOS!$Y$5:$Y$14,vantHoff_EOS!$Z$5:$Z$14,vantHoff_EOS!$AE$5:$AN$14,'Reaction Progress'!$AB54-273.15,'Reaction Progress'!$AC54*1000000,'Reaction Progress'!$G54:$P54),\"-\")","v":"-"},{"$f":"IF(O54<>\" - \",Phi_i_NS_Tci_Pci_wi_kijm_TinC_PinPa_yi(Z$8,vantHoff_EOS!$N$19,vantHoff_EOS!$X$5:$X$14,vantHoff_EOS!$Y$5:$Y$14,vantHoff_EOS!$Z$5:$Z$14,vantHoff_EOS!$AE$5:$AN$14,'Reaction Progress'!$AB54-273.15,'Reaction Progress'!$AC54*1000000,'Reaction Progress'!$G54:$P54),\"-\")","v":"-"},{"$f":"IF(P54<>\" - \",Phi_i_NS_Tci_Pci_wi_kijm_TinC_PinPa_yi(AA$8,vantHoff_EOS!$N$19,vantHoff_EOS!$X$5:$X$14,vantHoff_EOS!$Y$5:$Y$14,vantHoff_EOS!$Z$5:$Z$14,vantHoff_EOS!$AE$5:$AN$14,'Reaction Progress'!$AB54-273.15,'Reaction Progress'!$AC54*1000000,'Reaction Progress'!$G54:$P54),\"-\")","v":"-"},357.40462274998259,12.588187291844605,97.650036387587008,1.024065158594367E-2,473.82847352815179]
[null,null,null,47,0.92000000000000048,{"$f":"nT_NS_n0i_vi_X(vantHoff_EOS!$N$19,vantHoff_EOS!$O$31:$X$31,vantHoff_EOS!$O$23:$X$23,'Reaction Progress'!E55)","v":8.4999999999999982},{"$f":"IF(G$8<=vantHoff_EOS!$N$19,nouti_i_n0i_vi_X(G$8,vantHoff_EOS!$O$31:$X$31,vantHoff_EOS!$O$23:$X$23,'Reaction Progress'!$E55)/'Reaction Progress'!$F55,\" - \")","v":9.4117647058822983E-3},{"$f":"IF(H$8<=vantHoff_EOS!$N$19,nouti_i_n0i_vi_X(H$8,vantHoff_EOS!$O$31:$X$31,vantHoff_EOS!$O$23:$X$23,'Reaction Progress'!$E55)/'Reaction Progress'!$F55,\" - \")","v":9.4117647058822983E-3},{"$f":"IF(I$8<=vantHoff_EOS!$N$19,nouti_i_n0i_vi_X(I$8,vantHoff_EOS!$O$31:$X$31,vantHoff_EOS!$O$23:$X$23,'Reaction Progress'!$E55)/'Reaction Progress'!$F55,\" - \")","v":9.4117647058822983E-3},{"$f":"IF(J$8<=vantHoff_EOS!$N$19,nouti_i_n0i_vi_X(J$8,vantHoff_EOS!$O$31:$X$31,vantHoff_EOS!$O$23:$X$23,'Reaction Progress'!$E55)/'Reaction Progress'!$F55,\" - \")","v":0.10823529411764714},{"$f":"IF(K$8<=vantHoff_EOS!$N$19,nouti_i_n0i_vi_X(K$8,vantHoff_EOS!$O$31:$X$31,vantHoff_EOS!$O$23:$X$23,'Reaction Progress'!$E55)/'Reaction Progress'!$F55,\" - \")","v":0.8635294117647061},{"$f":"IF(L$8<=vantHoff_EOS!$N$19,nouti_i_n0i_vi_X(L$8,vantHoff_EOS!$O$31:$X$31,vantHoff_EOS!$O$23:$X$23,'Reaction Progress'!$E55)/'Reaction Progress'!$F55,\" - \")","v":" - "},{"$f":"IF(M$8<=vantHoff_EOS!$N$19,nouti_i_n0i_vi_X(M$8,vantHoff_EOS!$O$31:$X$31,vantHoff_EOS!$O$23:$X$23,'Reaction Progress'!$E55)/'Reaction Progress'!$F55,\" - \")","v":" - "},{"$f":"IF(N$8<=vantHoff_EOS!$N$19,nouti_i_n0i_vi_X(N$8,vantHoff_EOS!$O$31:$X$31,vantHoff_EOS!$O$23:$X$23,'Reaction Progress'!$E55)/'Reaction Progress'!$F55,\" - \")","v":" - "},{"$f":"IF(O$8<=vantHoff_EOS!$N$19,nouti_i_n0i_vi_X(O$8,vantHoff_EOS!$O$31:$X$31,vantHoff_EOS!$O$23:$X$23,'Reaction Progress'!$E55)/'Reaction Progress'!$F55,\" - \")","v":" - "},{"$f":"IF(P$8<=vantHoff_EOS!$N$19,nouti_i_n0i_vi_X(P$8,vantHoff_EOS!$O$31:$X$31,vantHoff_EOS!$O$23:$X$23,'Reaction Progress'!$E55)/'Reaction Progress'!$F55,\" - \")","v":" - "},1.0000000000000002,{"$f":"IF(G55<>\" - \",Phi_i_NS_Tci_Pci_wi_kijm_TinC_PinPa_yi(R$8,vantHoff_EOS!$N$19,vantHoff_EOS!$X$5:$X$14,vantHoff_EOS!$Y$5:$Y$14,vantHoff_EOS!$Z$5:$Z$14,vantHoff_EOS!$AE$5:$AN$14,'Reaction Progress'!$AB55-273.15,'Reaction Progress'!$AC55*1000000,'Reaction Progress'!$G55:$P55),\"-\")","v":2.2330383355141912},{"$f":"IF(H55<>\" - \",Phi_i_NS_Tci_Pci_wi_kijm_TinC_PinPa_yi(S$8,vantHoff_EOS!$N$19,vantHoff_EOS!$X$5:$X$14,vantHoff_EOS!$Y$5:$Y$14,vantHoff_EOS!$Z$5:$Z$14,vantHoff_EOS!$AE$5:$AN$14,'Reaction Progress'!$AB55-273.15,'Reaction Progress'!$AC55*1000000,'Reaction Progress'!$G55:$P55),\"-\")","v":2.9494904084853886},{"$f":"IF(I55<>\" - \",Phi_i_NS_Tci_Pci_wi_kijm_TinC_PinPa_yi(T$8,vantHoff_EOS!$N$19,vantHoff_EOS!$X$5:$X$14,vantHoff_EOS!$Y$5:$Y$14,vantHoff_EOS!$Z$5:$Z$14,vantHoff_EOS!$AE$5:$AN$14,'Reaction Progress'!$AB55-273.15,'Reaction Progress'!$AC55*1000000,'Reaction Progress'!$G55:$P55),\"-\")","v":0.3100063611719634},{"$f":"IF(J55<>\" - \",Phi_i_NS_Tci_Pci_wi_kijm_TinC_PinPa_yi(U$8,vantHoff_EOS!$N$19,vantHoff_EOS!$X$5:$X$14,vantHoff_EOS!$Y$5:$Y$14,vantHoff_EOS!$Z$5:$Z$14,vantHoff_EOS!$AE$5:$AN$14,'Reaction Progress'!$AB55-273.15,'Reaction Progress'!$AC55*1000000,'Reaction Progress'!$G55:$P55),\"-\")","v":4.0647645997326086E-2},{"$f":"IF(K55<>\" - \",Phi_i_NS_Tci_Pci_wi_kijm_TinC_PinPa_yi(V$8,vantHoff_EOS!$N$19,vantHoff_EOS!$X$5:$X$14,vantHoff_EOS!$Y$5:$Y$14,vantHoff_EOS!$Z$5:$Z$14,vantHoff_EOS!$AE$5:$AN$14,'Reaction Progress'!$AB55-273.15,'Reaction Progress'!$AC55*1000000,'Reaction Progress'!$G55:$P55),\"-\")","v":0.71641706395231941},{"$f":"IF(L55<>\" - \",Phi_i_NS_Tci_Pci_wi_kijm_TinC_PinPa_yi(W$8,vantHoff_EOS!$N$19,vantHoff_EOS!$X$5:$X$14,vantHoff_EOS!$Y$5:$Y$14,vantHoff_EOS!$Z$5:$Z$14,vantHoff_EOS!$AE$5:$AN$14,'Reaction Progress'!$AB55-273.15,'Reaction Progress'!$AC55*1000000,'Reaction Progress'!$G55:$P55),\"-\")","v":"-"},{"$f":"IF(M55<>\" - \",Phi_i_NS_Tci_Pci_wi_kijm_TinC_PinPa_yi(X$8,vantHoff_EOS!$N$19,vantHoff_EOS!$X$5:$X$14,vantHoff_EOS!$Y$5:$Y$14,vantHoff_EOS!$Z$5:$Z$14,vantHoff_EOS!$AE$5:$AN$14,'Reaction Progress'!$AB55-273.15,'Reaction Progress'!$AC55*1000000,'Reaction Progress'!$G55:$P55),\"-\")","v":"-"},{"$f":"IF(N55<>\" - \",Phi_i_NS_Tci_Pci_wi_kijm_TinC_PinPa_yi(Y$8,vantHoff_EOS!$N$19,vantHoff_EOS!$X$5:$X$14,vantHoff_EOS!$Y$5:$Y$14,vantHoff_EOS!$Z$5:$Z$14,vantHoff_EOS!$AE$5:$AN$14,'Reaction Progress'!$AB55-273.15,'Reaction Progress'!$AC55*1000000,'Reaction Progress'!$G55:$P55),\"-\")","v":"-"},{"$f":"IF(O55<>\" - \",Phi_i_NS_Tci_Pci_wi_kijm_TinC_PinPa_yi(Z$8,vantHoff_EOS!$N$19,vantHoff_EOS!$X$5:$X$14,vantHoff_EOS!$Y$5:$Y$14,vantHoff_EOS!$Z$5:$Z$14,vantHoff_EOS!$AE$5:$AN$14,'Reaction Progress'!$AB55-273.15,'Reaction Progress'!$AC55*1000000,'Reaction Progress'!$G55:$P55),\"-\")","v":"-"},{"$f":"IF(P55<>\" - \",Phi_i_NS_Tci_Pci_wi_kijm_TinC_PinPa_yi(AA$8,vantHoff_EOS!$N$19,vantHoff_EOS!$X$5:$X$14,vantHoff_EOS!$Y$5:$Y$14,vantHoff_EOS!$Z$5:$Z$14,vantHoff_EOS!$AE$5:$AN$14,'Reaction Progress'!$AB55-273.15,'Reaction Progress'!$AC55*1000000,'Reaction Progress'!$G55:$P55),\"-\")","v":"-"},358.68996934182951,12.526121390335881,98.25731375534896,1.0177359443083307E-2,473.11598603337836]
[null,null,null,48,0.9400000000000005,{"$f":"nT_NS_n0i_vi_X(vantHoff_EOS!$N$19,vantHoff_EOS!$O$31:$X$31,vantHoff_EOS!$O$23:$X$23,'Reaction Progress'!E56)","v":8.4599999999999991},{"$f":"IF(G$8<=vantHoff_EOS!$N$19,nouti_i_n0i_vi_X(G$8,vantHoff_EOS!$O$31:$X$31,vantHoff_EOS!$O$23:$X$23,'Reaction Progress'!$E56)/'Reaction Progress'!$F56,\" - \")","v":7.0921985815602254E-3},{"$f":"IF(H$8<=vantHoff_EOS!$N$19,nouti_i_n0i_vi_X(H$8,vantHoff_EOS!$O$31:$X$31,vantHoff_EOS!$O$23:$X$23,'Reaction Progress'!$E56)/'Reaction Progress'!$F56,\" - \")","v":7.0921985815602254E-3},{"$f":"IF(I$8<=vantHoff_EOS!$N$19,nouti_i_n0i_vi_X(I$8,vantHoff_EOS!$O$31:$X$31,vantHoff_EOS!$O$23:$X$23,'Reaction Progress'!$E56)/'Reaction Progress'!$F56,\" - \")","v":7.0921985815602254E-3},{"$f":"IF(J$8<=vantHoff_EOS!$N$19,nouti_i_n0i_vi_X(J$8,vantHoff_EOS!$O$31:$X$31,vantHoff_EOS!$O$23:$X$23,'Reaction Progress'!$E56)/'Reaction Progress'!$F56,\" - \")","v":0.11111111111111119},{"$f":"IF(K$8<=vantHoff_EOS!$N$19,nouti_i_n0i_vi_X(K$8,vantHoff_EOS!$O$31:$X$31,vantHoff_EOS!$O$23:$X$23,'Reaction Progress'!$E56)/'Reaction Progress'!$F56,\" - \")","v":0.86761229314420807},{"$f":"IF(L$8<=vantHoff_EOS!$N$19,nouti_i_n0i_vi_X(L$8,vantHoff_EOS!$O$31:$X$31,vantHoff_EOS!$O$23:$X$23,'Reaction Progress'!$E56)/'Reaction Progress'!$F56,\" - \")","v":" - "},{"$f":"IF(M$8<=vantHoff_EOS!$N$19,nouti_i_n0i_vi_X(M$8,vantHoff_EOS!$O$31:$X$31,vantHoff_EOS!$O$23:$X$23,'Reaction Progress'!$E56)/'Reaction Progress'!$F56,\" - \")","v":" - "},{"$f":"IF(N$8<=vantHoff_EOS!$N$19,nouti_i_n0i_vi_X(N$8,vantHoff_EOS!$O$31:$X$31,vantHoff_EOS!$O$23:$X$23,'Reaction Progress'!$E56)/'Reaction Progress'!$F56,\" - \")","v":" - "},{"$f":"IF(O$8<=vantHoff_EOS!$N$19,nouti_i_n0i_vi_X(O$8,vantHoff_EOS!$O$31:$X$31,vantHoff_EOS!$O$23:$X$23,'Reaction Progress'!$E56)/'Reaction Progress'!$F56,\" - \")","v":" - "},{"$f":"IF(P$8<=vantHoff_EOS!$N$19,nouti_i_n0i_vi_X(P$8,vantHoff_EOS!$O$31:$X$31,vantHoff_EOS!$O$23:$X$23,'Reaction Progress'!$E56)/'Reaction Progress'!$F56,\" - \")","v":" - "},1,{"$f":"IF(G56<>\" - \",Phi_i_NS_Tci_Pci_wi_kijm_TinC_PinPa_yi(R$8,vantHoff_EOS!$N$19,vantHoff_EOS!$X$5:$X$14,vantHoff_EOS!$Y$5:$Y$14,vantHoff_EOS!$Z$5:$Z$14,vantHoff_EOS!$AE$5:$AN$14,'Reaction Progress'!$AB56-273.15,'Reaction Progress'!$AC56*1000000,'Reaction Progress'!$G56:$P56),\"-\")","v":2.2441954750948616},{"$f":"IF(H56<>\" - \",Phi_i_NS_Tci_Pci_wi_kijm_TinC_PinPa_yi(S$8,vantHoff_EOS!$N$19,vantHoff_EOS!$X$5:$X$14,vantHoff_EOS!$Y$5:$Y$14,vantHoff_EOS!$Z$5:$Z$14,vantHoff_EOS!$AE$5:$AN$14,'Reaction Progress'!$AB56-273.15,'Reaction Progress'!$AC56*1000000,'Reaction Progress'!$G56:$P56),\"-\")","v":2.9550097603360235},{"$f":"IF(I56<>\" - \",Phi_i_NS_Tci_Pci_wi_kijm_TinC_PinPa_yi(T$8,vantHoff_EOS!$N$19,vantHoff_EOS!$X$5:$X$14,vantHoff_EOS!$Y$5:$Y$14,vantHoff_EOS!$Z$5:$Z$14,vantHoff_EOS!$AE$5:$AN$14,'Reaction Progress'!$AB56-273.15,'Reaction Progress'!$AC56*1000000,'Reaction Progress'!$G56:$P56),\"-\")","v":0.31490688519646848},{"$f":"IF(J56<>\" - \",Phi_i_NS_Tci_Pci_wi_kijm_TinC_PinPa_yi(U$8,vantHoff_EOS!$N$19,vantHoff_EOS!$X$5:$X$14,vantHoff_EOS!$Y$5:$Y$14,vantHoff_EOS!$Z$5:$Z$14,vantHoff_EOS!$AE$5:$AN$14,'Reaction Progress'!$AB56-273.15,'Reaction Progress'!$AC56*1000000,'Reaction Progress'!$G56:$P56),\"-\")","v":4.1809060445750473E-2},{"$f":"IF(K56<>\" - \",Phi_i_NS_Tci_Pci_wi_kijm_TinC_PinPa_yi(V$8,vantHoff_EOS!$N$19,vantHoff_EOS!$X$5:$X$14,vantHoff_EOS!$Y$5:$Y$14,vantHoff_EOS!$Z$5:$Z$14,vantHoff_EOS!$AE$5:$AN$14,'Reaction Progress'!$AB56-273.15,'Reaction Progress'!$AC56*1000000,'Reaction Progress'!$G56:$P56),\"-\")","v":0.72499470348189388},{"$f":"IF(L56<>\" - \",Phi_i_NS_Tci_Pci_wi_kijm_TinC_PinPa_yi(W$8,vantHoff_EOS!$N$19,vantHoff_EOS!$X$5:$X$14,vantHoff_EOS!$Y$5:$Y$14,vantHoff_EOS!$Z$5:$Z$14,vantHoff_EOS!$AE$5:$AN$14,'Reaction Progress'!$AB56-273.15,'Reaction Progress'!$AC56*1000000,'Reaction Progress'!$G56:$P56),\"-\")","v":"-"},{"$f":"IF(M56<>\" - \",Phi_i_NS_Tci_Pci_wi_kijm_TinC_PinPa_yi(X$8,vantHoff_EOS!$N$19,vantHoff_EOS!$X$5:$X$14,vantHoff_EOS!$Y$5:$Y$14,vantHoff_EOS!$Z$5:$Z$14,vantHoff_EOS!$AE$5:$AN$14,'Reaction Progress'!$AB56-273.15,'Reaction Progress'!$AC56*1000000,'Reaction Progress'!$G56:$P56),\"-\")","v":"-"},{"$f":"IF(N56<>\" - \",Phi_i_NS_Tci_Pci_wi_kijm_TinC_PinPa_yi(Y$8,vantHoff_EOS!$N$19,vantHoff_EOS!$X$5:$X$14,vantHoff_EOS!$Y$5:$Y$14,vantHoff_EOS!$Z$5:$Z$14,vantHoff_EOS!$AE$5:$AN$14,'Reaction Progress'!$AB56-273.15,'Reaction Progress'!$AC56*1000000,'Reaction Progress'!$G56:$P56),\"-\")","v":"-"},{"$f":"IF(O56<>\" - \",Phi_i_NS_Tci_Pci_wi_kijm_TinC_PinPa_yi(Z$8,vantHoff_EOS!$N$19,vantHoff_EOS!$X$5:$X$14,vantHoff_EOS!$Y$5:$Y$14,vantHoff_EOS!$Z$5:$Z$14,vantHoff_EOS!$AE$5:$AN$14,'Reaction Progress'!$AB56-273.15,'Reaction Progress'!$AC56*1000000,'Reaction Progress'!$G56:$P56),\"-\")","v":"-"},{"$f":"IF(P56<>\" - \",Phi_i_NS_Tci_Pci_wi_kijm_TinC_PinPa_yi(AA$8,vantHoff_EOS!$N$19,vantHoff_EOS!$X$5:$X$14,vantHoff_EOS!$Y$5:$Y$14,vantHoff_EOS!$Z$5:$Z$14,vantHoff_EOS!$AE$5:$AN$14,'Reaction Progress'!$AB56-273.15,'Reaction Progress'!$AC56*1000000,'Reaction Progress'!$G56:$P56),\"-\")","v":"-"},359.97556045673156,12.461993908438394,98.878253637434653,1.0113447226392019E-2,472.36779933988578]
[null,null,null,49,0.96000000000000052,{"$f":"nT_NS_n0i_vi_X(vantHoff_EOS!$N$19,vantHoff_EOS!$O$31:$X$31,vantHoff_EOS!$O$23:$X$23,'Reaction Progress'!E57)","v":8.4199999999999982},{"$f":"IF(G$8<=vantHoff_EOS!$N$19,nouti_i_n0i_vi_X(G$8,vantHoff_EOS!$O$31:$X$31,vantHoff_EOS!$O$23:$X$23,'Reaction Progress'!$E57)/'Reaction Progress'!$F57,\" - \")","v":4.750593824227968E-3},{"$f":"IF(H$8<=vantHoff_EOS!$N$19,nouti_i_n0i_vi_X(H$8,vantHoff_EOS!$O$31:$X$31,vantHoff_EOS!$O$23:$X$23,'Reaction Progress'!$E57)/'Reaction Progress'!$F57,\" - \")","v":4.750593824227968E-3},{"$f":"IF(I$8<=vantHoff_EOS!$N$19,nouti_i_n0i_vi_X(I$8,vantHoff_EOS!$O$31:$X$31,vantHoff_EOS!$O$23:$X$23,'Reaction Progress'!$E57)/'Reaction Progress'!$F57,\" - \")","v":4.750593824227968E-3},{"$f":"IF(J$8<=vantHoff_EOS!$N$19,nouti_i_n0i_vi_X(J$8,vantHoff_EOS!$O$31:$X$31,vantHoff_EOS!$O$23:$X$23,'Reaction Progress'!$E57)/'Reaction Progress'!$F57,\" - \")","v":0.11401425178147277},{"$f":"IF(K$8<=vantHoff_EOS!$N$19,nouti_i_n0i_vi_X(K$8,vantHoff_EOS!$O$31:$X$31,vantHoff_EOS!$O$23:$X$23,'Reaction Progress'!$E57)/'Reaction Progress'!$F57,\" - \")","v":0.87173396674584336},{"$f":"IF(L$8<=vantHoff_EOS!$N$19,nouti_i_n0i_vi_X(L$8,vantHoff_EOS!$O$31:$X$31,vantHoff_EOS!$O$23:$X$23,'Reaction Progress'!$E57)/'Reaction Progress'!$F57,\" - \")","v":" - "},{"$f":"IF(M$8<=vantHoff_EOS!$N$19,nouti_i_n0i_vi_X(M$8,vantHoff_EOS!$O$31:$X$31,vantHoff_EOS!$O$23:$X$23,'Reaction Progress'!$E57)/'Reaction Progress'!$F57,\" - \")","v":" - "},{"$f":"IF(N$8<=vantHoff_EOS!$N$19,nouti_i_n0i_vi_X(N$8,vantHoff_EOS!$O$31:$X$31,vantHoff_EOS!$O$23:$X$23,'Reaction Progress'!$E57)/'Reaction Progress'!$F57,\" - \")","v":" - "},{"$f":"IF(O$8<=vantHoff_EOS!$N$19,nouti_i_n0i_vi_X(O$8,vantHoff_EOS!$O$31:$X$31,vantHoff_EOS!$O$23:$X$23,'Reaction Progress'!$E57)/'Reaction Progress'!$F57,\" - \")","v":" - "},{"$f":"IF(P$8<=vantHoff_EOS!$N$19,nouti_i_n0i_vi_X(P$8,vantHoff_EOS!$O$31:$X$31,vantHoff_EOS!$O$23:$X$23,'Reaction Progress'!$E57)/'Reaction Progress'!$F57,\" - \")","v":" - "},1,{"$f":"IF(G57<>\" - \",Phi_i_NS_Tci_Pci_wi_kijm_TinC_PinPa_yi(R$8,vantHoff_EOS!$N$19,vantHoff_EOS!$X$5:$X$14,vantHoff_EOS!$Y$5:$Y$14,vantHoff_EOS!$Z$5:$Z$14,vantHoff_EOS!$AE$5:$AN$14,'Reaction Progress'!$AB57-273.15,'Reaction Progress'!$AC57*1000000,'Reaction Progress'!$G57:$P57),\"-\")","v":2.2554205316235825},{"$f":"IF(H57<>\" - \",Phi_i_NS_Tci_Pci_wi_kijm_TinC_PinPa_yi(S$8,vantHoff_EOS!$N$19,vantHoff_EOS!$X$5:$X$14,vantHoff_EOS!$Y$5:$Y$14,vantHoff_EOS!$Z$5:$Z$14,vantHoff_EOS!$AE$5:$AN$14,'Reaction Progress'!$AB57-273.15,'Reaction Progress'!$AC57*1000000,'Reaction Progress'!$G57:$P57),\"-\")","v":2.9606342027004322},{"$f":"IF(I57<>\" - \",Phi_i_NS_Tci_Pci_wi_kijm_TinC_PinPa_yi(T$8,vantHoff_EOS!$N$19,vantHoff_EOS!$X$5:$X$14,vantHoff_EOS!$Y$5:$Y$14,vantHoff_EOS!$Z$5:$Z$14,vantHoff_EOS!$AE$5:$AN$14,'Reaction Progress'!$AB57-273.15,'Reaction Progress'!$AC57*1000000,'Reaction Progress'!$G57:$P57),\"-\")","v":0.31988560423505547},{"$f":"IF(J57<>\" - \",Phi_i_NS_Tci_Pci_wi_kijm_TinC_PinPa_yi(U$8,vantHoff_EOS!$N$19,vantHoff_EOS!$X$5:$X$14,vantHoff_EOS!$Y$5:$Y$14,vantHoff_EOS!$Z$5:$Z$14,vantHoff_EOS!$AE$5:$AN$14,'Reaction Progress'!$AB57-273.15,'Reaction Progress'!$AC57*1000000,'Reaction Progress'!$G57:$P57),\"-\")","v":4.3002435592109499E-2},{"$f":"IF(K57<>\" - \",Phi_i_NS_Tci_Pci_wi_kijm_TinC_PinPa_yi(V$8,vantHoff_EOS!$N$19,vantHoff_EOS!$X$5:$X$14,vantHoff_EOS!$Y$5:$Y$14,vantHoff_EOS!$Z$5:$Z$14,vantHoff_EOS!$AE$5:$AN$14,'Reaction Progress'!$AB57-273.15,'Reaction Progress'!$AC57*1000000,'Reaction Progress'!$G57:$P57),\"-\")","v":0.73368562944197768},{"$f":"IF(L57<>\" - \",Phi_i_NS_Tci_Pci_wi_kijm_TinC_PinPa_yi(W$8,vantHoff_EOS!$N$19,vantHoff_EOS!$X$5:$X$14,vantHoff_EOS!$Y$5:$Y$14,vantHoff_EOS!$Z$5:$Z$14,vantHoff_EOS!$AE$5:$AN$14,'Reaction Progress'!$AB57-273.15,'Reaction Progress'!$AC57*1000000,'Reaction Progress'!$G57:$P57),\"-\")","v":"-"},{"$f":"IF(M57<>\" - \",Phi_i_NS_Tci_Pci_wi_kijm_TinC_PinPa_yi(X$8,vantHoff_EOS!$N$19,vantHoff_EOS!$X$5:$X$14,vantHoff_EOS!$Y$5:$Y$14,vantHoff_EOS!$Z$5:$Z$14,vantHoff_EOS!$AE$5:$AN$14,'Reaction Progress'!$AB57-273.15,'Reaction Progress'!$AC57*1000000,'Reaction Progress'!$G57:$P57),\"-\")","v":"-"},{"$f":"IF(N57<>\" - \",Phi_i_NS_Tci_Pci_wi_kijm_TinC_PinPa_yi(Y$8,vantHoff_EOS!$N$19,vantHoff_EOS!$X$5:$X$14,vantHoff_EOS!$Y$5:$Y$14,vantHoff_EOS!$Z$5:$Z$14,vantHoff_EOS!$AE$5:$AN$14,'Reaction Progress'!$AB57-273.15,'Reaction Progress'!$AC57*1000000,'Reaction Progress'!$G57:$P57),\"-\")","v":"-"},{"$f":"IF(O57<>\" - \",Phi_i_NS_Tci_Pci_wi_kijm_TinC_PinPa_yi(Z$8,vantHoff_EOS!$N$19,vantHoff_EOS!$X$5:$X$14,vantHoff_EOS!$Y$5:$Y$14,vantHoff_EOS!$Z$5:$Z$14,vantHoff_EOS!$AE$5:$AN$14,'Reaction Progress'!$AB57-273.15,'Reaction Progress'!$AC57*1000000,'Reaction Progress'!$G57:$P57),\"-\")","v":"-"},{"$f":"IF(P57<>\" - \",Phi_i_NS_Tci_Pci_wi_kijm_TinC_PinPa_yi(AA$8,vantHoff_EOS!$N$19,vantHoff_EOS!$X$5:$X$14,vantHoff_EOS!$Y$5:$Y$14,vantHoff_EOS!$Z$5:$Z$14,vantHoff_EOS!$AE$5:$AN$14,'Reaction Progress'!$AB57-273.15,'Reaction Progress'!$AC57*1000000,'Reaction Progress'!$G57:$P57),\"-\")","v":"-"},361.2612057898354,12.395846204368226,99.512794221543743,1.0048959109455975E-2,471.58547768338224]
[null,null,null,50,0.98000000000000054,{"$f":"nT_NS_n0i_vi_X(vantHoff_EOS!$N$19,vantHoff_EOS!$O$31:$X$31,vantHoff_EOS!$O$23:$X$23,'Reaction Progress'!E58)","v":8.379999999999999},{"$f":"IF(G$8<=vantHoff_EOS!$N$19,nouti_i_n0i_vi_X(G$8,vantHoff_EOS!$O$31:$X$31,vantHoff_EOS!$O$23:$X$23,'Reaction Progress'!$E58)/'Reaction Progress'!$F58,\" - \")","v":2.3866348448686714E-3},{"$f":"IF(H$8<=vantHoff_EOS!$N$19,nouti_i_n0i_vi_X(H$8,vantHoff_EOS!$O$31:$X$31,vantHoff_EOS!$O$23:$X$23,'Reaction Progress'!$E58)/'Reaction Progress'!$F58,\" - \")","v":2.3866348448686714E-3},{"$f":"IF(I$8<=vantHoff_EOS!$N$19,nouti_i_n0i_vi_X(I$8,vantHoff_EOS!$O$31:$X$31,vantHoff_EOS!$O$23:$X$23,'Reaction Progress'!$E58)/'Reaction Progress'!$F58,\" - \")","v":2.3866348448686714E-3},{"$f":"IF(J$8<=vantHoff_EOS!$N$19,nouti_i_n0i_vi_X(J$8,vantHoff_EOS!$O$31:$X$31,vantHoff_EOS!$O$23:$X$23,'Reaction Progress'!$E58)/'Reaction Progress'!$F58,\" - \")","v":0.1169451073985681},{"$f":"IF(K$8<=vantHoff_EOS!$N$19,nouti_i_n0i_vi_X(K$8,vantHoff_EOS!$O$31:$X$31,vantHoff_EOS!$O$23:$X$23,'Reaction Progress'!$E58)/'Reaction Progress'!$F58,\" - \")","v":0.87589498806682586},{"$f":"IF(L$8<=vantHoff_EOS!$N$19,nouti_i_n0i_vi_X(L$8,vantHoff_EOS!$O$31:$X$31,vantHoff_EOS!$O$23:$X$23,'Reaction Progress'!$E58)/'Reaction Progress'!$F58,\" - \")","v":" - "},{"$f":"IF(M$8<=vantHoff_EOS!$N$19,nouti_i_n0i_vi_X(M$8,vantHoff_EOS!$O$31:$X$31,vantHoff_EOS!$O$23:$X$23,'Reaction Progress'!$E58)/'Reaction Progress'!$F58,\" - \")","v":" - "},{"$f":"IF(N$8<=vantHoff_EOS!$N$19,nouti_i_n0i_vi_X(N$8,vantHoff_EOS!$O$31:$X$31,vantHoff_EOS!$O$23:$X$23,'Reaction Progress'!$E58)/'Reaction Progress'!$F58,\" - \")","v":" - "},{"$f":"IF(O$8<=vantHoff_EOS!$N$19,nouti_i_n0i_vi_X(O$8,vantHoff_EOS!$O$31:$X$31,vantHoff_EOS!$O$23:$X$23,'Reaction Progress'!$E58)/'Reaction Progress'!$F58,\" - \")","v":" - "},{"$f":"IF(P$8<=vantHoff_EOS!$N$19,nouti_i_n0i_vi_X(P$8,vantHoff_EOS!$O$31:$X$31,vantHoff_EOS!$O$23:$X$23,'Reaction Progress'!$E58)/'Reaction Progress'!$F58,\" - \")","v":" - "},1,{"$f":"IF(G58<>\" - \",Phi_i_NS_Tci_Pci_wi_kijm_TinC_PinPa_yi(R$8,vantHoff_EOS!$N$19,vantHoff_EOS!$X$5:$X$14,vantHoff_EOS!$Y$5:$Y$14,vantHoff_EOS!$Z$5:$Z$14,vantHoff_EOS!$AE$5:$AN$14,'Reaction Progress'!$AB58-273.15,'Reaction Progress'!$AC58*1000000,'Reaction Progress'!$G58:$P58),\"-\")","v":2.2667221451513937},{"$f":"IF(H58<>\" - \",Phi_i_NS_Tci_Pci_wi_kijm_TinC_PinPa_yi(S$8,vantHoff_EOS!$N$19,vantHoff_EOS!$X$5:$X$14,vantHoff_EOS!$Y$5:$Y$14,vantHoff_EOS!$Z$5:$Z$14,vantHoff_EOS!$AE$5:$AN$14,'Reaction Progress'!$AB58-273.15,'Reaction Progress'!$AC58*1000000,'Reaction Progress'!$G58:$P58),\"-\")","v":2.9663775331001832},{"$f":"IF(I58<>\" - \",Phi_i_NS_Tci_Pci_wi_kijm_TinC_PinPa_yi(T$8,vantHoff_EOS!$N$19,vantHoff_EOS!$X$5:$X$14,vantHoff_EOS!$Y$5:$Y$14,vantHoff_EOS!$Z$5:$Z$14,vantHoff_EOS!$AE$5:$AN$14,'Reaction Progress'!$AB58-273.15,'Reaction Progress'!$AC58*1000000,'Reaction Progress'!$G58:$P58),\"-\")","v":0.32494282983842421},{"$f":"IF(J58<>\" - \",Phi_i_NS_Tci_Pci_wi_kijm_TinC_PinPa_yi(U$8,vantHoff_EOS!$N$19,vantHoff_EOS!$X$5:$X$14,vantHoff_EOS!$Y$5:$Y$14,vantHoff_EOS!$Z$5:$Z$14,vantHoff_EOS!$AE$5:$AN$14,'Reaction Progress'!$AB58-273.15,'Reaction Progress'!$AC58*1000000,'Reaction Progress'!$G58:$P58),\"-\")","v":4.4228198893742826E-2},{"$f":"IF(K58<>\" - \",Phi_i_NS_Tci_Pci_wi_kijm_TinC_PinPa_yi(V$8,vantHoff_EOS!$N$19,vantHoff_EOS!$X$5:$X$14,vantHoff_EOS!$Y$5:$Y$14,vantHoff_EOS!$Z$5:$Z$14,vantHoff_EOS!$AE$5:$AN$14,'Reaction Progress'!$AB58-273.15,'Reaction Progress'!$AC58*1000000,'Reaction Progress'!$G58:$P58),\"-\")","v":0.74249053951927912},{"$f":"IF(L58<>\" - \",Phi_i_NS_Tci_Pci_wi_kijm_TinC_PinPa_yi(W$8,vantHoff_EOS!$N$19,vantHoff_EOS!$X$5:$X$14,vantHoff_EOS!$Y$5:$Y$14,vantHoff_EOS!$Z$5:$Z$14,vantHoff_EOS!$AE$5:$AN$14,'Reaction Progress'!$AB58-273.15,'Reaction Progress'!$AC58*1000000,'Reaction Progress'!$G58:$P58),\"-\")","v":"-"},{"$f":"IF(M58<>\" - \",Phi_i_NS_Tci_Pci_wi_kijm_TinC_PinPa_yi(X$8,vantHoff_EOS!$N$19,vantHoff_EOS!$X$5:$X$14,vantHoff_EOS!$Y$5:$Y$14,vantHoff_EOS!$Z$5:$Z$14,vantHoff_EOS!$AE$5:$AN$14,'Reaction Progress'!$AB58-273.15,'Reaction Progress'!$AC58*1000000,'Reaction Progress'!$G58:$P58),\"-\")","v":"-"},{"$f":"IF(N58<>\" - \",Phi_i_NS_Tci_Pci_wi_kijm_TinC_PinPa_yi(Y$8,vantHoff_EOS!$N$19,vantHoff_EOS!$X$5:$X$14,vantHoff_EOS!$Y$5:$Y$14,vantHoff_EOS!$Z$5:$Z$14,vantHoff_EOS!$AE$5:$AN$14,'Reaction Progress'!$AB58-273.15,'Reaction Progress'!$AC58*1000000,'Reaction Progress'!$G58:$P58),\"-\")","v":"-"},{"$f":"IF(O58<>\" - \",Phi_i_NS_Tci_Pci_wi_kijm_TinC_PinPa_yi(Z$8,vantHoff_EOS!$N$19,vantHoff_EOS!$X$5:$X$14,vantHoff_EOS!$Y$5:$Y$14,vantHoff_EOS!$Z$5:$Z$14,vantHoff_EOS!$AE$5:$AN$14,'Reaction Progress'!$AB58-273.15,'Reaction Progress'!$AC58*1000000,'Reaction Progress'!$G58:$P58),\"-\")","v":"-"},{"$f":"IF(P58<>\" - \",Phi_i_NS_Tci_Pci_wi_kijm_TinC_PinPa_yi(AA$8,vantHoff_EOS!$N$19,vantHoff_EOS!$X$5:$X$14,vantHoff_EOS!$Y$5:$Y$14,vantHoff_EOS!$Z$5:$Z$14,vantHoff_EOS!$AE$5:$AN$14,'Reaction Progress'!$AB58-273.15,'Reaction Progress'!$AC58*1000000,'Reaction Progress'!$G58:$P58),\"-\")","v":"-"},362.54671828174003,12.327729948253015,100.16079001447235,9.9839468104785199E-3,470.7709709154185]
[null,null,null,51,1.0000000000000004,{"$f":"nT_NS_n0i_vi_X(vantHoff_EOS!$N$19,vantHoff_EOS!$O$31:$X$31,vantHoff_EOS!$O$23:$X$23,'Reaction Progress'!E59)","v":8.34},{"$f":"IF(G$8<=vantHoff_EOS!$N$19,nouti_i_n0i_vi_X(G$8,vantHoff_EOS!$O$31:$X$31,vantHoff_EOS!$O$23:$X$23,'Reaction Progress'!$E59)/'Reaction Progress'!$F59,\" - \")","v":-5.3248106696650196E-17},{"$f":"IF(H$8<=vantHoff_EOS!$N$19,nouti_i_n0i_vi_X(H$8,vantHoff_EOS!$O$31:$X$31,vantHoff_EOS!$O$23:$X$23,'Reaction Progress'!$E59)/'Reaction Progress'!$F59,\" - \")","v":-5.3248106696650196E-17},{"$f":"IF(I$8<=vantHoff_EOS!$N$19,nouti_i_n0i_vi_X(I$8,vantHoff_EOS!$O$31:$X$31,vantHoff_EOS!$O$23:$X$23,'Reaction Progress'!$E59)/'Reaction Progress'!$F59,\" - \")","v":-5.3248106696650196E-17},{"$f":"IF(J$8<=vantHoff_EOS!$N$19,nouti_i_n0i_vi_X(J$8,vantHoff_EOS!$O$31:$X$31,vantHoff_EOS!$O$23:$X$23,'Reaction Progress'!$E59)/'Reaction Progress'!$F59,\" - \")","v":0.11990407673860917},{"$f":"IF(K$8<=vantHoff_EOS!$N$19,nouti_i_n0i_vi_X(K$8,vantHoff_EOS!$O$31:$X$31,vantHoff_EOS!$O$23:$X$23,'Reaction Progress'!$E59)/'Reaction Progress'!$F59,\" - \")","v":0.88009592326139086},{"$f":"IF(L$8<=vantHoff_EOS!$N$19,nouti_i_n0i_vi_X(L$8,vantHoff_EOS!$O$31:$X$31,vantHoff_EOS!$O$23:$X$23,'Reaction Progress'!$E59)/'Reaction Progress'!$F59,\" - \")","v":" - "},{"$f":"IF(M$8<=vantHoff_EOS!$N$19,nouti_i_n0i_vi_X(M$8,vantHoff_EOS!$O$31:$X$31,vantHoff_EOS!$O$23:$X$23,'Reaction Progress'!$E59)/'Reaction Progress'!$F59,\" - \")","v":" - "},{"$f":"IF(N$8<=vantHoff_EOS!$N$19,nouti_i_n0i_vi_X(N$8,vantHoff_EOS!$O$31:$X$31,vantHoff_EOS!$O$23:$X$23,'Reaction Progress'!$E59)/'Reaction Progress'!$F59,\" - \")","v":" - "},{"$f":"IF(O$8<=vantHoff_EOS!$N$19,nouti_i_n0i_vi_X(O$8,vantHoff_EOS!$O$31:$X$31,vantHoff_EOS!$O$23:$X$23,'Reaction Progress'!$E59)/'Reaction Progress'!$F59,\" - \")","v":" - "},{"$f":"IF(P$8<=vantHoff_EOS!$N$19,nouti_i_n0i_vi_X(P$8,vantHoff_EOS!$O$31:$X$31,vantHoff_EOS!$O$23:$X$23,'Reaction Progress'!$E59)/'Reaction Progress'!$F59,\" - \")","v":" - "},0.99999999999999989,{"$f":"IF(G59<>\" - \",Phi_i_NS_Tci_Pci_wi_kijm_TinC_PinPa_yi(R$8,vantHoff_EOS!$N$19,vantHoff_EOS!$X$5:$X$14,vantHoff_EOS!$Y$5:$Y$14,vantHoff_EOS!$Z$5:$Z$14,vantHoff_EOS!$AE$5:$AN$14,'Reaction Progress'!$AB59-273.15,'Reaction Progress'!$AC59*1000000,'Reaction Progress'!$G59:$P59),\"-\")","v":2.2781198679840031},{"$f":"IF(H59<>\" - \",Phi_i_NS_Tci_Pci_wi_kijm_TinC_PinPa_yi(S$8,vantHoff_EOS!$N$19,vantHoff_EOS!$X$5:$X$14,vantHoff_EOS!$Y$5:$Y$14,vantHoff_EOS!$Z$5:$Z$14,vantHoff_EOS!$AE$5:$AN$14,'Reaction Progress'!$AB59-273.15,'Reaction Progress'!$AC59*1000000,'Reaction Progress'!$G59:$P59),\"-\")","v":2.972272500226294},{"$f":"IF(I59<>\" - \",Phi_i_NS_Tci_Pci_wi_kijm_TinC_PinPa_yi(T$8,vantHoff_EOS!$N$19,vantHoff_EOS!$X$5:$X$14,vantHoff_EOS!$Y$5:$Y$14,vantHoff_EOS!$Z$5:$Z$14,vantHoff_EOS!$AE$5:$AN$14,'Reaction Progress'!$AB59-273.15,'Reaction Progress'!$AC59*1000000,'Reaction Progress'!$G59:$P59),\"-\")","v":0.33007880091067193},{"$f":"IF(J59<>\" - \",Phi_i_NS_Tci_Pci_wi_kijm_TinC_PinPa_yi(U$8,vantHoff_EOS!$N$19,vantHoff_EOS!$X$5:$X$14,vantHoff_EOS!$Y$5:$Y$14,vantHoff_EOS!$Z$5:$Z$14,vantHoff_EOS!$AE$5:$AN$14,'Reaction Progress'!$AB59-273.15,'Reaction Progress'!$AC59*1000000,'Reaction Progress'!$G59:$P59),\"-\")","v":4.5486476157375472E-2},{"$f":"IF(K59<>\" - \",Phi_i_NS_Tci_Pci_wi_kijm_TinC_PinPa_yi(V$8,vantHoff_EOS!$N$19,vantHoff_EOS!$X$5:$X$14,vantHoff_EOS!$Y$5:$Y$14,vantHoff_EOS!$Z$5:$Z$14,vantHoff_EOS!$AE$5:$AN$14,'Reaction Progress'!$AB59-273.15,'Reaction Progress'!$AC59*1000000,'Reaction Progress'!$G59:$P59),\"-\")","v":0.75141191156436171},{"$f":"IF(L59<>\" - \",Phi_i_NS_Tci_Pci_wi_kijm_TinC_PinPa_yi(W$8,vantHoff_EOS!$N$19,vantHoff_EOS!$X$5:$X$14,vantHoff_EOS!$Y$5:$Y$14,vantHoff_EOS!$Z$5:$Z$14,vantHoff_EOS!$AE$5:$AN$14,'Reaction Progress'!$AB59-273.15,'Reaction Progress'!$AC59*1000000,'Reaction Progress'!$G59:$P59),\"-\")","v":"-"},{"$f":"IF(M59<>\" - \",Phi_i_NS_Tci_Pci_wi_kijm_TinC_PinPa_yi(X$8,vantHoff_EOS!$N$19,vantHoff_EOS!$X$5:$X$14,vantHoff_EOS!$Y$5:$Y$14,vantHoff_EOS!$Z$5:$Z$14,vantHoff_EOS!$AE$5:$AN$14,'Reaction Progress'!$AB59-273.15,'Reaction Progress'!$AC59*1000000,'Reaction Progress'!$G59:$P59),\"-\")","v":"-"},{"$f":"IF(N59<>\" - \",Phi_i_NS_Tci_Pci_wi_kijm_TinC_PinPa_yi(Y$8,vantHoff_EOS!$N$19,vantHoff_EOS!$X$5:$X$14,vantHoff_EOS!$Y$5:$Y$14,vantHoff_EOS!$Z$5:$Z$14,vantHoff_EOS!$AE$5:$AN$14,'Reaction Progress'!$AB59-273.15,'Reaction Progress'!$AC59*1000000,'Reaction Progress'!$G59:$P59),\"-\")","v":"-"},{"$f":"IF(O59<>\" - \",Phi_i_NS_Tci_Pci_wi_kijm_TinC_PinPa_yi(Z$8,vantHoff_EOS!$N$19,vantHoff_EOS!$X$5:$X$14,vantHoff_EOS!$Y$5:$Y$14,vantHoff_EOS!$Z$5:$Z$14,vantHoff_EOS!$AE$5:$AN$14,'Reaction Progress'!$AB59-273.15,'Reaction Progress'!$AC59*1000000,'Reaction Progress'!$G59:$P59),\"-\")","v":"-"},{"$f":"IF(P59<>\" - \",Phi_i_NS_Tci_Pci_wi_kijm_TinC_PinPa_yi(AA$8,vantHoff_EOS!$N$19,vantHoff_EOS!$X$5:$X$14,vantHoff_EOS!$Y$5:$Y$14,vantHoff_EOS!$Z$5:$Z$14,vantHoff_EOS!$AE$5:$AN$14,'Reaction Progress'!$AB59-273.15,'Reaction Progress'!$AC59*1000000,'Reaction Progress'!$G59:$P59),\"-\")","v":"-"},363.83131921601114,12.257573057411527,100.82216737887337,9.918453709115E-3,469.92587122316365]

{"sheet":"Thermochemical Database","index":5,"n_rows":24,"n_cols":17,"rows_kept":24,"cut":false,"hidden":false,"merged":[]}
[]
[]
[]
[]
[null,null,null,null,null,"Chemical species list and thermophysical properties",null,null,null,null,null,null,null,null,"Properties for the equation of state"]
[null,null,null,null,null,null,null,"Cp [J/mol K]"]
[null,null,null,"Substance","Formula","a","b","c","d","e","DHo [J/mol]","DGo  [J/mol]",null,"Mw","Tc [K]","Pc [Pa]","w [-]"]
[null,null,null,"anisole ","C7H8O ",-46.091999999999999,0.64927000000000001,-4.3634000000000001E-4,1.1822999999999999E-7,-3.1868000000000001E-12,-68000,22630,null,108.14,641.65,4175000,0.36899999999999999]
[null,null,null,"water ","H2O ",33.933,-8.4186E-3,2.9906000000000001E-5,-1.7824999999999999E-8,3.6934000000000004E-12,-241800,-228600,null,18.015000000000001,647.13,22055000,0.34499999999999997]
[null,null,null,"phenol ","C6H6O ",4.4080000000000004,0.36337999999999998,-6.0417000000000001E-5,-1.2793999999999999E-7,5.5286999999999997E-11,-96360,-32890,null,94.113,694.25,6130000,0.42599999999999999]
[null,null,null,"diphenyl carbonate","C13H10O3",-44.980000000000004,1.0278,-6.0650000000000005E-4,1.0825999999999998E-7,0,-401592,-175870,null,214.21669999999997,806.6,3424000,0.67600000000000005]
[null,null,null,"carbon monoxide ","CO ",29.556000000000001,-6.5807000000000001E-3,2.0129999999999999E-5,-1.2226999999999999E-8,2.2616999999999999E-12,-110500,-137200,null,28.01,132.91999999999999,3499000,6.6000000000000003E-2]
[null,null,null,"propylene ","C3H6 ",31.297999999999998,7.2449E-2,1.9481000000000001E-4,-2.1582000000000001E-7,6.2973999999999999E-11,20420,62720,null,42.081000000000003,364.76,4613000,0.14199999999999999]
[null,null,null,"n-butyraldehyde ","C4H8O ",64.373999999999995,6.4776E-2,3.5143000000000001E-4,-3.5371000000000001E-7,1.0081999999999999E-10,-205020,-114770,null,72.106999999999999,525,4000000,0.34499999999999997]
[null,null,null,"carbon dioxide ","CO2 ",27.437000000000001,4.2314999999999998E-2,-1.9555000000000002E-5,3.9968000000000001E-9,-2.9872000000000001E-13,-393500,-394400,null,44.01,304.19,7382000,0.22800000000000001]
[null,null,null,"dimethyl ether ","C2H6O ",34.667999999999999,7.0292999999999994E-2,1.6530000000000001E-4,-1.7674999999999999E-7,4.9313000000000002E-11,-184050,-112930,null,46.069000000000003,400.1,5370000,0.20399999999999999]
[null,null,null,"methane ","CH4 ",34.942,-3.9956999999999999E-2,1.9184000000000001E-4,-1.5302999999999999E-7,3.9321000000000002E-11,-74850,-50840,null,16.042999999999999,190.58,4604000,1.0999999999999999E-2]
[null,null,null,"ethanol ","C2H6O ",27.091000000000001,0.11055,1.0957E-4,-1.5046000000000001E-7,4.6601000000000001E-11,-234810,-168280,null,46.069000000000003,516.25,6384000,0.63700000000000001]
[null,null,null,"acetaldehyde ","C2H4O ",34.14,4.002E-2,1.5634000000000001E-4,-1.6444999999999999E-7,4.7248000000000001E-11,-166360,-133300,null,44.052999999999997,461,5550000,0.317]
[null,null,null,"diethyl ether ","C4H10O ",35.978999999999999,0.28444000000000003,-1.2672999999999999E-6,-1.0128E-7,3.4529E-11,-252210,-122340,null,74.123000000000005,466.7,3638000,0.28499999999999998]
[null,null,null,"ethylene ","C2H4 ",32.082999999999998,-1.4831E-2,2.4773999999999998E-4,-2.3766E-7,6.8273999999999996E-11,52300,68120,null,28.053999999999998,282.36,5032000,8.5000000000000006E-2]
[null,null,null,"Nitrogen","N2",29.341999999999999,-3.5395000000000001E-3,1.0076E-5,-4.3115999999999999E-9,2.5935E-13,0,0,null,28.013999999999999,126.2,3398000,3.6999999999999998E-2]
[null,null,null,"Hydrogen","H2",25.399000000000001,2.0178000000000001E-2,-3.8549E-5,3.1879999999999998E-8,-8.7585000000000007E-12,0,0,null,2.016,32.979999999999997,1293000,-0.217]
[null,null,null,"Ammonia","NH3",33.573,-1.2581E-2,8.8906000000000006E-5,-7.1783000000000002E-8,1.8569000000000001E-11,-45900,-16400,null,17.030999999999999,405.4,11353000,0.25700000000000001]

{"sheet":"Function List","index":6,"n_rows":42,"n_cols":2,"rows_kept":42,"cut":false,"hidden":false,"merged":[]}
[]
[]
[]
[]
[]
[]
[]
[]
[]
[]
[null,"Tadiabatic_NS_vi_n0i_dHfi_dGfi_TrefinC_da_db_dc_dd_de_Cpai_Cpbi_Cpci_Cpdi_Cpei_Tci_Pci_wi_kijm_ReactorInletTinC_PinPa_Tguesslow_Tguesshigh"]
[null,"MolarExtentX_NS_vi_n0i_dHfi_dGfi_TrefinC_da_db_dc_dd_de_Tci_Pci_wi_kijm_TinC_PinPa"]
[null,"dHrxnT_Tref_dHrxnref_TinC_da_db_dc_dd_de"]
[null,"lnKaT_Tref_lnKaTref_dHTref_da_db_dc_dd_de_TinC"]
[null,"lnKaTref_Tref_dG"]
[null,"dHrxnTref_NS_vi_dHfi"]
[null,"nT_NS_n0i_vi_X"]
[null,"nouti_i_n0i_vi_X"]
[null,"IntniCpi_NS_n0i_vi_Cpai_Cpbi_Cpci_Cpdi_Cpei_X_TINinC_TOUTinC"]
[null,"IntCp_TINinC_TOUTinC_a_b_c_d_e"]
[null,"dGrxn0_NS_vi_dGfi"]
[null,"dGrxnT_Tref_lnKaTref_dHTref_da_db_dc_dd_de_TinC"]
[null,"daCp_NS_vi_ai"]
[null,"dbCp_NS_vi_bi"]
[null,"dcCp_NS_vi_ci"]
[null,"ddCp_NS_vi_di"]
[null,"deCp_NS_vi_ei"]
[null,"Cp_TinC_a_b_c_d_e"]
[null,"Xlimiting_NS_n0i_vi"]
[null,"y_iindex_NS_n0i_vi_X"]
[null,"Ky_NS_vi_yi"]
[null,"Ky_NS_n0i_vi_X"]
[null,"Kp_NS_vi_PinPa"]
[null,"Kphi_NS_n0i_vi_X_Tci_Pci_wi_kijm_TinC_PinPa"]
[null,"Kphi_NS_vi_Phii"]
[null,"Phi_i_NS_Tci_Pci_wi_kijm_TinC_PinPa_yi"]
[null,"VGPR_TinC_PinPa_aalpha_b"]
[null,"amix_NS_Tci_Pci_wi_TK_yi_kijm"]
[null,"Sumjyaij_i_NS_Tci_Pci_wi_TK_yi_kijm"]
[null,"bmix_NS_Tci_Pci_yi"]
[null,"alpha_w_TK_TcK"]
[null,"bi_i_Tci_Pci"]